Workbook
Name _20030502_daicho_saishin: #REF!
Name _20030502_daicho_saishin: #REF!
Name _20030502_daicho_saishin: #REF!

Sheet 平均工賃（月額）
A1: 令和６年度各事業所種別平均工賃（賃金）一覧（月額）
A3: 都道府県 A | B3: 就労継続 支援Ａ型 （雇用型） B | C3: 就労継続 支援Ａ型 （非雇用型） C | D3: 就労継続 支援Ｂ型 D
A5: =施設数!A6 -> 千葉 | B5: ='就労Ａ型（雇用型）'!J168 -> 85290.091 | C5: ='就労A型（非雇用型）'!M10 -> 23763.71 | D5: =就労B型!M590 -> 23645.854

Sheet 平均賃金（時間額）
A1: 令和６年度各事業所種別平均賃金一覧（時間額）
A3: 都道府県 A | B3: 就労継続 支援Ａ型 （雇用型） B | C3: 全事業所 C
A5: 千葉 | B5: ='就労Ａ型（雇用型）'!M168 -> 1125.1003 | C5: ='就労Ａ型（雇用型）'!L168/'就労Ａ型（雇用型）'!K168 -> 1125.1003

Sheet 施設数
A1: 「事業所数」シート
A3: 都道府県名 A | B3: 事業所数 | I3: 共同受注窓口
B4: 就労継続 支援Ａ型 B | D4: 就労継続 支援Ｂ型 C | F4: 回収状況 D | I4: 各都道府県における 共同受注窓口数 E
B5: 報告 事業所数 | C5: 報告対象事業所数 | D5: 報告 事業所数 | E5: 報告対象 事業所数 | F5: 報告 事業所数 | G5: 報告対象 事業所数 | H5: 回収率
A6: 千葉 | B6: 161 | C6: 163 | D6: 569 | E6: 584 | F6: =B6+D6 -> 730 | G6: =C6+E6 -> 747 | H6: =F6/G6 -> 0.9772423 | I6: 1

Sheet 就労Ａ型（雇用型）
A1: 「就労継続支援A型（雇用型）」シート
A2: ①都道府県名 | B2: ②No. | C2: ③法人種別 | D2: ④法人番号 | E2: ⑤法人名 | F2: ⑥事業所名 | G2: 令和６年度 | N2: ⑭新設 | O2: ⑮備考 | P2: サービスの提供状況
H3: 月額 | K3: 時間額 | P3: 農福連携 | S3: 水福連携 | V3: 林福連携 | Y3: 在宅利用
G4: ⑦定員 | H4: ⑧対象者延人数 | I4: ⑨賃金支払総額 | J4: ⑩賃金平均額 | K4: ⑪対象者延人数 | L4: ⑫賃金支払総額 | M4: ⑬賃金平均額 | P4: ⑯実施状況 | Q4: ⑰新規実施 | R4: ⑱収入の割合（％） | S4: ⑲実施状況 | T4: ⑳新規実施 | U4: ㉑収入の割合（％） | V4: ㉒実施状況 | W4: ㉓新規実施 | X4: ㉔収入の割合（％） | Y4: ㉕実施状況 | Z4: ㉖利用者の割合（％）
A5: 千葉 | B5: 1 | C5: 4 | D5: 4040001090891 | E5: Life SS 株式会社 | F5: ライフ | G5: 20 | H5: 377 | I5: 25056761 | J5: =IF(AND(H5>0,I5>0),I5/H5,0) -> 66463.557 | K5: 23156 | L5: 25056761 | M5: =IF(AND(K5>0,L5>0),L5/K5,0) -> 1082.085 | P5: ○ | R5: 0.05 | U5: 0 | X5: 0 | Z5: 0 | AA5: 1 | AB5: 社会福祉協議会
A6: 千葉 | B6: 2 | C6: 4 | D6: 4040001090891 | E6: Life SS 株式会社 | F6: リライフ | G6: 20 | H6: 293 | I6: 18464011 | J6: =IF(AND(H6>0,I6>0),I6/H6,0) -> 63017.102 | K6: 17212 | L6: 18464011 | M6: =IF(AND(K6>0,L6>0),L6/K6,0) -> 1072.7406 | P6: ○ | R6: 0.06 | U6: 0 | X6: 0 | Z6: 0
A7: 千葉 | B7: 3 | C7: 5 | D7: 4040005019433 | E7: ＮＰＯ法人Village | F7: Blue international | G7: 20 | H7: 289 | I7: 28416035 | J7: =IF(AND(H7>0,I7>0),I7/H7,0) -> 98325.381 | K7: 26391 | L7: 28416035 | M7: =IF(AND(K7>0,L7>0),L7/K7,0) -> 1076.732 | R7: 0 | U7: 0 | X7: 0 | Y7: ○ | Z7: 0.05
A8: 千葉 | B8: 4 | C8: 4 | D8: 7040003008261 | E8: アイコニック合同会社 | F8: さくら事業所 | G8: 20 | H8: 207 | I8: 18505169 | J8: =IF(AND(H8>0,I8>0),I8/H8,0) -> 89396.952 | K8: 16779 | L8: 18505169 | M8: =IF(AND(K8>0,L8>0),L8/K8,0) -> 1102.8768 | R8: 0 | U8: 0 | X8: 0 | Z8: 0
A9: 千葉 | B9: 5 | C9: 4 | D9: 6021001046818 | E9: サンファースト福祉グループ株式会社 | F9: aigamo松戸オフィス | G9: 20 | H9: 239 | I9: 16240540 | J9: =IF(AND(H9>0,I9>0),I9/H9,0) -> 67952.05 | K9: 15040 | L9: 16240540 | M9: =IF(AND(K9>0,L9>0),L9/K9,0) -> 1079.8231 | R9: 0 | U9: 0 | X9: 0 | Z9: 0
A10: 千葉 | B10: 6 | C10: 4 | D10: 6011801030749 | E10: ジョブクリエイション株式会社 | F10: マインドセット南行徳 | G10: 20 | H10: 383 | I10: 38121691 | J10: =IF(AND(H10>0,I10>0),I10/H10,0) -> 99534.441 | K10: 34884 | L10: 38121691 | M10: =IF(AND(K10>0,L10>0),L10/K10,0) -> 1092.8131 | R10: 0 | U10: 0 | X10: 0 | Y10: ○ | Z10: 0.1
A11: 千葉 | B11: 7 | C11: 6 | D11: 7040005020009 | E11: 一般社団法人EmGaWa | F11: ワンネス市川 | G11: 20 | H11: 187 | I11: 20699964 | J11: =IF(AND(H11>0,I11>0),I11/H11,0) -> 110694.99 | K11: 18579 | L11: 20699964 | M11: =IF(AND(K11>0,L11>0),L11/K11,0) -> 1114.1592 | R11: 0 | U11: 0 | X11: 0 | Y11: ○ | Z11: 0.05
A12: 千葉 | B12: 8 | C12: 4 | D12: 5040001085296 | E12: 株式会社 あらた | F12: あらた京成佐倉事業所 | G12: 20 | H12: 386 | I12: 33540348 | J12: =IF(AND(H12>0,I12>0),I12/H12,0) -> 86892.093 | K12: 27904 | L12: 33540348 | M12: =IF(AND(K12>0,L12>0),L12/K12,0) -> 1201.9907 | R12: 0 | U12: 0 | X12: 0 | Z12: 0
A13: 千葉 | B13: 9 | C13: 4 | D13: 2040001094837 | E13: 株式会社 一新 | F13: harbor | G13: 20 | H13: 330 | I13: 30983359 | J13: =IF(AND(H13>0,I13>0),I13/H13,0) -> 93888.967 | K13: 27339 | L13: 30983359 | M13: =IF(AND(K13>0,L13>0),L13/K13,0) -> 1133.3026 | R13: 0 | U13: 0 | X13: 0 | Y13: ○ | Z13: 0.03
A14: 千葉 | B14: 10 | C14: 4 | D14: 7040001115183 | E14: 株式会社ＡＣＳ | F14: みらいず 馬橋 | G14: 17 | H14: 379 | I14: 27855724 | J14: =IF(AND(H14>0,I14>0),I14/H14,0) -> 73497.953 | K14: 25864 | L14: 27855724 | M14: =IF(AND(K14>0,L14>0),L14/K14,0) -> 1077.0076 | R14: 0 | U14: 0 | X14: 0 | Z14: 0
A15: 千葉 | B15: 11 | C15: 4 | D15: 4040001076742 | E15: 株式会社CBS | F15: 株式会社CBS | G15: 20 | H15: 539 | I15: 46763973 | J15: =IF(AND(H15>0,I15>0),I15/H15,0) -> 86760.618 | K15: 43780 | L15: 46763973 | M15: =IF(AND(K15>0,L15>0),L15/K15,0) -> 1068.1584 | P15: ○ | R15: 0.19 | U15: 0 | X15: 0 | Y15: ○ | Z15: 0.15
A16: 千葉 | B16: 12 | C16: 4 | D16: 6040001101151 | E16: 株式会社ＣＬＡＮＮ | F16: ＬＩＧ五香 | G16: 20 | H16: 442 | I16: 36430073 | J16: =IF(AND(H16>0,I16>0),I16/H16,0) -> 82420.98 | K16: 34568 | L16: 36430073 | M16: =IF(AND(K16>0,L16>0),L16/K16,0) -> 1053.867 | R16: 0 | U16: 0 | X16: 0 | Z16: 0
A17: 千葉 | B17: 13 | C17: 4 | D17: 6040001101151 | E17: 株式会社ＣＬＡＮＮ | F17: ＬＩＧ南流山 | G17: 20 | H17: 242 | I17: 18381605 | J17: =IF(AND(H17>0,I17>0),I17/H17,0) -> 75957.045 | K17: 17476 | L17: 18381605 | M17: =IF(AND(K17>0,L17>0),L17/K17,0) -> 1051.8199 | R17: 0 | U17: 0 | X17: 0 | Z17: 0
A18: 千葉 | B18: 14 | C18: 4 | D18: 3040001110576 | E18: 株式会社Ｈｉｇｈ－Ａ | F18: ＡＲＣＯ常盤平 | G18: 15 | H18: 373 | I18: 23272334 | J18: =IF(AND(H18>0,I18>0),I18/H18,0) -> 62392.316 | K18: 21527 | L18: 23272334 | M18: =IF(AND(K18>0,L18>0),L18/K18,0) -> 1081.0765 | R18: 0 | U18: 0 | X18: 0 | Y18: ○ | Z18: 0.25
A19: 千葉 | B19: 15 | C19: 4 | D19: 5040001110574 | E19: 株式会社LTSホールディングス | F19: みらいず 北小金 | G19: 20 | H19: 460 | I19: 31961275 | J19: =IF(AND(H19>0,I19>0),I19/H19,0) -> 69481.033 | K19: 28543 | L19: 31961275 | M19: =IF(AND(K19>0,L19>0),L19/K19,0) -> 1119.7588 | R19: 0 | U19: 0 | X19: 0 | Y19: ○ | Z19: 0.16
A20: 千葉 | B20: 16 | C20: 4 | D20: 3040001095818 | E20: 株式会社NO LIMIT | F20: ノーリミット | G20: 20 | H20: 150 | I20: 11828713 | J20: =IF(AND(H20>0,I20>0),I20/H20,0) -> 78858.087 | K20: 10852 | L20: 11828713 | M20: =IF(AND(K20>0,L20>0),L20/K20,0) -> 1090.003 | R20: 0 | U20: 0 | X20: 0 | Z20: 0
A21: 千葉 | B21: 17 | C21: 4 | D21: 3011801025405 | E21: 株式会社アースプロテクト | F21: 株式会社アースプロテクト | G21: 20 | H21: 410 | I21: 44539240 | J21: =IF(AND(H21>0,I21>0),I21/H21,0) -> 108632.29 | K21: 42013 | L21: 44539240 | M21: =IF(AND(K21>0,L21>0),L21/K21,0) -> 1060.13 | R21: 0 | U21: 0 | X21: 0 | Y21: ○ | Z21: 0.05
A22: 千葉 | B22: 18 | C22: 4 | D22: 3011801025405 | E22: 株式会社アースプロテクト | F22: 株式会社アースプロテクト 潤井戸支社 | G22: 15 | H22: 89 | I22: 9918671 | J22: =IF(AND(H22>0,I22>0),I22/H22,0) -> 111445.74 | K22: 9378 | L22: 9918671 | M22: =IF(AND(K22>0,L22>0),L22/K22,0) -> 1057.6531 | R22: 0 | U22: 0 | X22: 0 | Y22: ○ | Z22: 0.05
A23: 千葉 | B23: 19 | C23: 4 | D23: 5040001085296 | E23: 株式会社あらた | F23: あらた | G23: 20 | H23: 413 | I23: 37125648 | J23: =IF(AND(H23>0,I23>0),I23/H23,0) -> 89892.61 | K23: 30609 | L23: 37125648 | M23: =IF(AND(K23>0,L23>0),L23/K23,0) -> 1212.8997 | R23: 0 | U23: 0 | X23: 0 | Z23: 0
A24: 千葉 | B24: 20 | C24: 4 | D24: 5040001085296 | E24: 株式会社あらた | F24: あらた松戸事業所 | G24: 20 | H24: 506 | I24: 42545297 | J24: =IF(AND(H24>0,I24>0),I24/H24,0) -> 84081.615 | K24: 35341 | L24: 42545297 | M24: =IF(AND(K24>0,L24>0),L24/K24,0) -> 1203.851 | R24: 0 | U24: 0 | X24: 0 | Z24: 0
A25: 千葉 | B25: 21 | C25: 4 | D25: 5040001085296 | E25: 株式会社あらた | F25: あらた八街事業所 | G25: 20 | H25: 415 | I25: 37178909 | J25: =IF(AND(H25>0,I25>0),I25/H25,0) -> 89587.733 | K25: 33154 | L25: 37178909 | M25: =IF(AND(K25>0,L25>0),L25/K25,0) -> 1121.4004 | R25: 0 | U25: 0 | X25: 0 | Z25: 0
A26: 千葉 | B26: 22 | C26: 4 | D26: 1040001103623 | E26: 株式会社うみぼうず | F26: アレッタ | G26: 19 | H26: 396 | I26: 35270579 | J26: =IF(AND(H26>0,I26>0),I26/H26,0) -> 89067.119 | K26: 31315 | L26: 35270579 | M26: =IF(AND(K26>0,L26>0),L26/K26,0) -> 1126.3158 | P26: ○ | R26: 0 | U26: 0 | X26: 0 | Z26: 0
A27: 千葉 | B27: 23 | C27: 4 | D27: 8040001085302 | E27: 株式会社グッドライフ | F27: クロスブリッジ東金 | G27: 20 | H27: 492 | I27: 42815861 | J27: =IF(AND(H27>0,I27>0),I27/H27,0) -> 87024.108 | K27: 40666 | L27: 42815861 | M27: =IF(AND(K27>0,L27>0),L27/K27,0) -> 1052.8663 | R27: 0 | U27: 0 | X27: 0 | Z27: 0
A28: 千葉 | B28: 24 | C28: 4 | D28: 8040001085302 | E28: 株式会社グッドライフ | F28: サニーロード八千代 | G28: 20 | H28: 464 | I28: 41237889 | J28: =IF(AND(H28>0,I28>0),I28/H28,0) -> 88874.761 | K28: 39048 | L28: 41237889 | M28: =IF(AND(K28>0,L28>0),L28/K28,0) -> 1056.082 | R28: 0 | U28: 0 | X28: 0 | Z28: 0
A29: 千葉 | B29: 25 | C29: 4 | D29: 9040001098039 | E29: 株式会社ドリーム＆ループ | F29: ドリカムサポート新松戸 | G29: 20 | H29: 434 | I29: 28946119 | J29: =IF(AND(H29>0,I29>0),I29/H29,0) -> 66696.127 | K29: 25681 | L29: 28946119 | M29: =IF(AND(K29>0,L29>0),L29/K29,0) -> 1127.1414 | R29: 0 | U29: 0 | X29: 0 | Y29: ○ | Z29: 0.14
A30: 千葉 | B30: 26 | C30: 4 | D30: 9040001098039 | E30: 株式会社ドリーム＆ループ | F30: ドリカムサポート新松戸第二支店 | G30: 19 | H30: 379 | I30: 26322860 | J30: =IF(AND(H30>0,I30>0),I30/H30,0) -> 69453.456 | K30: 24431 | L30: 26322860 | M30: =IF(AND(K30>0,L30>0),L30/K30,0) -> 1077.4369 | R30: 0 | U30: 0 | X30: 0 | Y30: ○ | Z30: 0.13
A31: 千葉 | B31: 27 | C31: 4 | D31: 4120101055316 | E31: 株式会社はるもけあ | F31: ライフスクエア五香 | G31: 10 | H31: 150 | I31: 13212366 | J31: =IF(AND(H31>0,I31>0),I31/H31,0) -> 88082.44 | K31: 12499 | L31: 13212366 | M31: =IF(AND(K31>0,L31>0),L31/K31,0) -> 1057.0738 | R31: 0 | U31: 0 | X31: 0 | Y31: ○ | Z31: 0.14
A32: 千葉 | B32: 28 | C32: 4 | D32: 6040001112768 | E32: 株式会社ピアてらす | F32: ピアてらす | G32: 20 | H32: 226 | I32: 18148682 | J32: =IF(AND(H32>0,I32>0),I32/H32,0) -> 80303.903 | K32: 15807 | L32: 18148682 | M32: =IF(AND(K32>0,L32>0),L32/K32,0) -> 1148.1421 | R32: 0 | U32: 0 | X32: 0 | Z32: 0
A33: 千葉 | B33: 29 | C33: 4 | D33: 9040001087396 | E33: 株式会社ホップ | F33: ファーストステップ事業所 | G33: 20 | H33: 385 | I33: 32300219 | J33: =IF(AND(H33>0,I33>0),I33/H33,0) -> 83896.673 | K33: 28440 | L33: 32300219 | M33: =IF(AND(K33>0,L33>0),L33/K33,0) -> 1135.732 | R33: 0 | U33: 0 | X33: 0 | Y33: ○ | Z33: 0.15
A34: 千葉 | B34: 30 | C34: 4 | D34: 9040001087396 | E34: 株式会社ホップ | F34: 株式会社ホップ | G34: 20 | H34: 380 | I34: 30945650 | J34: =IF(AND(H34>0,I34>0),I34/H34,0) -> 81435.921 | K34: 26843 | L34: 30945650 | M34: =IF(AND(K34>0,L34>0),L34/K34,0) -> 1152.8387 | R34: 0 | U34: 0 | X34: 0 | Y34: ○ | Z34: 0.18
A35: 千葉 | B35: 31 | C35: 4 | D35: 1040001103268 | E35: 株式会社ミナアス | F35: リンクアップ津田沼 | G35: 11 | H35: 249 | I35: 20642187 | J35: =IF(AND(H35>0,I35>0),I35/H35,0) -> 82900.349 | K35: 19153 | L35: 20642187 | M35: =IF(AND(K35>0,L35>0),L35/K35,0) -> 1077.7522 | R35: 0 | U35: 0 | X35: 0 | Z35: 0
A36: 千葉 | B36: 32 | C36: 4 | D36: 1040001112962 | E36: 株式会社ユーズ | F36: ユーズ | G36: 20 | H36: 228 | I36: 19081868 | J36: =IF(AND(H36>0,I36>0),I36/H36,0) -> 83692.404 | K36: 17729 | L36: 19081868 | M36: =IF(AND(K36>0,L36>0),L36/K36,0) -> 1076.3082 | R36: 0 | U36: 0 | X36: 0 | Y36: ○ | Z36: 0.05
A37: 千葉 | B37: 33 | C37: 4 | D37: 1040001070608 | E37: 株式会社ラインアロー | F37: ハッピーアベニュー | G37: 20 | H37: 364 | I37: 31669610 | J37: =IF(AND(H37>0,I37>0),I37/H37,0) -> 87004.423 | K37: 30100 | L37: 31669610 | M37: =IF(AND(K37>0,L37>0),L37/K37,0) -> 1052.1465 | R37: 0 | U37: 0 | X37: 0 | Y37: ○ | Z37: 0.03
A38: 千葉 | B38: 34 | C38: 4 | D38: 1040001070608 | E38: 株式会社ラインアロー | F38: ハッピーストリート | G38: 20 | H38: 423 | I38: 37281945 | J38: =IF(AND(H38>0,I38>0),I38/H38,0) -> 88136.986 | K38: 34894 | L38: 37281945 | M38: =IF(AND(K38>0,L38>0),L38/K38,0) -> 1068.4343 | R38: 0 | U38: 0 | X38: 0 | Y38: ○ | Z38: 0.05
A39: 千葉 | B39: 35 | C39: 4 | D39: 4340001006818 | E39: 株式会社ワークステージつばさ | F39: ひだまり | G39: 10 | H39: 60 | I39: 7937401 | J39: =IF(AND(H39>0,I39>0),I39/H39,0) -> 132290.02 | K39: 7702 | L39: 7937401 | M39: =IF(AND(K39>0,L39>0),L39/K39,0) -> 1030.5636 | R39: 0 | U39: 0 | X39: 0 | Z39: 0
A40: 千葉 | B40: 36 | C40: 4 | D40: 2040001076736 | E40: 株式会社一休堂 | F40: 19工房/きのこ栽培農園 | G40: 20 | H40: 425 | I40: 46036374 | J40: =IF(AND(H40>0,I40>0),I40/H40,0) -> 108320.88 | K40: 42756 | L40: 46036374 | M40: =IF(AND(K40>0,L40>0),L40/K40,0) -> 1076.7231 | P40: ○ | R40: 0.58 | U40: 0 | X40: 0 | Y40: ○ | Z40: 0.03
...

Sheet 就労A型（非雇用型）
A1: 「就労継続支援A型（非雇用型）」シート
A2: ①都道府県名 | B2: ②No. | C2: ③法人種別 | D2: ④法人番号 | E2: ⑤法人名 | F2: ⑥事業所名 | G2: 令和６年度 | N2: ⑭新設 | O2: ⑮備考 | P2: サービスの提供状況
H3: 月額 | P3: 農福連携 | S3: 水福連携 | V3: 林福連携 | Y3: 在宅利用
G4: ⑦定員 | H4: ⑧工賃支払総額 | I4: ⑨利用者延人数 | J4: ⑩年間開所日数 | K4: ⑪１日の平均 利用者数 | L4: ⑫年間開所月数 | M4: ⑬工賃平均額 | P4: ⑯実施状況 | Q4: ⑰新規実施 | R4: ⑱収入の割合（％） | S4: ⑲実施状況 | T4: ⑳新規実施 | U4: ㉑収入の割合（％） | V4: ㉒実施状況 | W4: ㉓新規実施 | X4: ㉔収入の割合（％） | Y4: ㉕実施状況 | Z4: ㉖利用者の割合（％）
A5: 千葉 | B5: 非雇用1 | C5: 4 | D5: 4040001090891 | E5: Life SS 株式会社 | F5: ライフ | G5: 20 | H5: 283751 | I5: 386 | J5: 249 | K5: =ROUNDUP(I5/J5,1) -> 1.6 | L5: 12 | M5: =IF(AND(H5>0,K5>0,L5>0),H5/K5/L5,0) -> 14778.698 | AA5: 1 | AB5: 社会福祉協議会 | AD5: 1 | AE5: 就労継続支援Ｂ型サービス費（Ⅰ）又は就労継続支援Ｂ型サービス費（Ⅱ）
A6: 千葉 | B6: 非雇用2 | C6: 4 | D6: 4040001090891 | E6: Life SS 株式会社 | F6: リライフ | G6: 20 | H6: 1360850 | I6: 1688 | J6: 249 | K6: =ROUNDUP(I6/J6,1) -> 6.8 | L6: 12 | M6: =IF(AND(H6>0,K6>0,L6>0),H6/K6/L6,0) -> 16677.083 | AA6: 2 | AB6: 社会福祉法人（社会福祉協議会以外） | AD6: 2 | AE6: 就労継続支援Ｂ型サービス費（Ⅲ）又は就労継続支援Ｂ型サービス費（Ⅳ）
A7: 千葉 | B7: 非雇用3 | C7: 2 | D7: 5040005001976 | E7: 社会福祉法人パルネット | F7: PAL稲毛 | G7: 7 | H7: 291964 | I7: 1198 | J7: 246 | K7: =ROUNDUP(I7/J7,1) -> 4.9 | L7: 12 | M7: =IF(AND(H7>0,K7>0,L7>0),H7/K7/L7,0) -> 4965.3741 | Y7: ○ | Z7: 0.2 | AA7: 3 | AB7: 医療法人
A8: 千葉 | B8: 非雇用4 | C8: 5 | D8: 2040005002250 | E8: 特定非営利活動法人 はぁもにぃ | F8: 就労継続支援はぁもにぃ | G8: 5 | H8: 3994857 | I8: 1873 | J8: 249 | K8: =ROUNDUP(I8/J8,1) -> 7.6 | L8: 12 | M8: =IF(AND(H8>0,K8>0,L8>0),H8/K8/L8,0) -> 43803.257 | P8: ○ | R8: 0.79 | AA8: 4 | AB8: 株式・合名・合資・合同会社
A9: 事業所数 | C9: =COUNTIF(C5:C8,1) -> 0 | F9: =COUNTA(F5:F8) -> 4 | G9: =SUM(G5:G8) -> 52 | H9: =SUM(H5:H8) -> 5931422 | I9: =SUM(I5:I8) -> 5145 | J9: =AVERAGEIF(J6:J8,">0") -> 248 | K9: =ROUNDUP(I9/J10,1) -> 20.8 | L9: =AVERAGEIF(L5:L8,">0") -> 12
C10: =COUNTIF(C5:C8,2) -> 1 | J10: =ROUND(J9,1) -> 248 | L10: =ROUND(L9,1) -> 12 | M10: =IF(AND(H9>0,K9>0,L10>0),H9/K9/L10,0) -> 23763.71 | P10: =COUNTA(P5:P8) -> 1 | Y10: =COUNTA(Y5:Y8) -> 1
C11: =COUNTIF(C6:C8,3) -> 0 | G11: =COUNTA(G5:G8) -> 4
C12: =COUNTIF(C5:C8,4) -> 2
C13: =COUNTIF(C5:C8,5) -> 1
C14: =COUNTIF(C6:C8,6) -> 0
A15: 合計 | C15: =SUM(C9:C14) -> 4

Sheet 就労B型
A1: 「就労継続支援B型」シート
A2: ①都道府県名 | B2: ②No. | C2: ③法人種別 | D2: ④法人番号 | E2: ⑤法人名 | F2: ⑥事業所名 | G2: 令和６年度 | N2: ⑭新設 | O2: ⑮備考 | P2: サービスの提供状況
H3: 月額 | P3: 農福連携 | S3: 水福連携 | V3: 林福連携 | Y3: 在宅利用
G4: ⑦定員 | H4: ⑧工賃支払総額 | I4: ⑨利用者延人数 | J4: ⑩年間開所日数 | K4: ⑪１日の平均 利用者数 | L4: ⑫年間開所月数 | M4: ⑬工賃平均額 | P4: ⑯実施状況 | Q4: ⑰新規実施 | R4: ⑱収入の割合（％） | S4: ⑲実施状況 | T4: ⑳新規実施 | U4: ㉑収入の割合（％） | V4: ㉒実施状況 | W4: ㉓新規実施 | X4: ㉔収入の割合（％） | Y4: ㉕実施状況 | Z4: ㉖利用者の割合（％）
A5: 千葉 | B5: 1 | C5: 4 | D5: 5122001037616 | E5: 株式会社SunRise（旧：ＦａｎｄＳ株式会社） | F5: サンライズ（旧：羽の郷） | G5: 20 | H5: 903802 | I5: 1342 | J5: 83 | K5: =ROUNDUP(I5/J5,1) -> 16.2 | L5: 4 | M5: =IF(AND(H5>0,K5>0,L5>0),H5/K5/L5,0) -> 13947.562 | N5: ○ | P5: ○ | Q5: ○ | R5: 0.36 | U5: 0 | X5: 0 | Z5: 0 | AA5: 1 | AB5: 社会福祉協議会 | AD5: 1 | AE5: 就労継続支援Ｂ型サービス費（Ⅰ）又は就労継続支援Ｂ型サービス費（Ⅱ）
A6: 千葉 | B6: 2 | C6: 4 | D6: 5122001037616 | E6: 株式会社SunRise（旧：ＦａｎｄＳ株式会社） | F6: サンライズ野田（旧：羽の郷野田） | G6: 20 | H6: 707157 | I6: 1576 | J6: 212 | K6: =ROUNDUP(I6/J6,1) -> 7.5 | L6: 10 | M6: =IF(AND(H6>0,K6>0,L6>0),H6/K6/L6,0) -> 9428.76 | N6: ○ | R6: 0 | U6: 0 | X6: 0 | Z6: 0 | AA6: 2 | AB6: 社会福祉法人（社会福祉協議会以外） | AD6: 2 | AE6: 就労継続支援Ｂ型サービス費（Ⅲ）又は就労継続支援Ｂ型サービス費（Ⅳ）
A7: 千葉 | B7: 3 | C7: 5 | D7: 5040005017329 | E7: ＮＰＯ法人ＡlonＡlon | F7: ＡlonＡlonオーキッドガーデン | G7: 20 | H7: 11075474 | I7: 3690 | J7: 237 | K7: =ROUNDUP(I7/J7,1) -> 15.6 | L7: 12 | M7: =IF(AND(H7>0,K7>0,L7>0),H7/K7/L7,0) -> 59163.857 | N7: ○ | P7: ○ | R7: 0.52 | U7: 0 | X7: 0 | Z7: 0 | AA7: 3 | AB7: 医療法人
A8: 千葉 | B8: 4 | C8: 5 | D8: 7040005010703 | E8: ＮＰＯ法人さんさん味工房 | F8: さんさんBe | G8: 20 | H8: 1961058 | I8: 4186 | J8: 265 | K8: =ROUNDUP(I8/J8,1) -> 15.8 | L8: 12 | M8: =IF(AND(H8>0,K8>0,L8>0),H8/K8/L8,0) -> 10343.133 | R8: 0 | U8: 0 | X8: 0 | Z8: 0 | AA8: 4 | AB8: 株式・合名・合資・合同会社
A9: 千葉 | B9: 5 | C9: 5 | D9: 6040005014291 | E9: ＮＰＯ法人ハートネットあびこ | F9: ウイング | G9: 20 | H9: 5160640 | I9: 4629 | J9: 295 | K9: =ROUNDUP(I9/J9,1) -> 15.7 | L9: 12 | M9: =IF(AND(H9>0,K9>0,L9>0),H9/K9/L9,0) -> 27391.932 | R9: 0 | U9: 0 | X9: 0 | Z9: 0 | AA9: 5 | AB9: 特定非営利活動法人（NPO）
A10: 千葉 | B10: 6 | C10: 5 | D10: 9040005011518 | E10: ＮＰＯ法人ひびき | F10: ふれあい広場ひびき | G10: 20 | H10: 3818288 | I10: 3700 | J10: 236 | K10: =ROUNDUP(I10/J10,1) -> 15.7 | L10: 12 | M10: =IF(AND(H10>0,K10>0,L10>0),H10/K10/L10,0) -> 20266.921 | R10: 0 | U10: 0 | X10: 0 | Z10: 0 | AA10: 6 | AB10: その他（社団・財団・農協・生協等
A11: 千葉 | B11: 7 | C11: 5 | D11: 2040005013561 | E11: ＮＰＯ法人みんなの希望 | F11: 障がい者活動支援センター 通所部 | G11: 20 | H11: 2403800 | I11: 3767 | J11: 269 | K11: =ROUNDUP(I11/J11,1) -> 14.1 | L11: 12 | M11: =IF(AND(H11>0,K11>0,L11>0),H11/K11/L11,0) -> 14206.856 | R11: 0 | U11: 0 | X11: 0 | Z11: 0
A12: 千葉 | B12: 8 | C12: 5 | D12: 5040005019993 | E12: ＮＰＯ法人ライジング | F12: ライジング | G12: 20 | H12: 3197500 | I12: 2208 | J12: 251 | K12: =ROUNDUP(I12/J12,1) -> 8.8 | L12: 12 | M12: =IF(AND(H12>0,K12>0,L12>0),H12/K12/L12,0) -> 30279.356 | R12: 0 | U12: 0 | X12: 0 | Z12: 0
A13: 千葉 | B13: 9 | C13: 5 | D13: 6040005017740 | E13: ＮＰＯ法人鎌ケ谷市手をつなぐ親の会 | F13: あっぷる | G13: 20 | H13: 1038395 | I13: 1843 | J13: 241 | K13: =ROUNDUP(I13/J13,1) -> 7.7 | L13: 12 | M13: =IF(AND(H13>0,K13>0,L13>0),H13/K13/L13,0) -> 11238.041 | R13: 0 | U13: 0 | X13: 0 | Z13: 0
A14: 千葉 | B14: 10 | C14: 5 | D14: 5040005002578 | E14: ＮＰＯ法人希望の虹 | F14: ぽんぽこりん | G14: 40 | H14: 11655999 | I14: 7804 | J14: 284 | K14: =ROUNDUP(I14/J14,1) -> 27.5 | L14: 12 | M14: =IF(AND(H14>0,K14>0,L14>0),H14/K14/L14,0) -> 35321.209 | R14: 0 | U14: 0 | X14: 0 | Y14: ○ | Z14: 0.06
A15: 千葉 | B15: 11 | C15: 5 | D15: 6040005013525 | E15: NPO法人香取の地域福祉を考える会 | F15: 就労支援事業所ワークおみがわ | G15: 20 | H15: 2715409 | I15: 2510 | J15: 252 | K15: =ROUNDUP(I15/J15,1) -> 10 | L15: 12 | M15: =IF(AND(H15>0,K15>0,L15>0),H15/K15/L15,0) -> 22628.408 | P15: ○ | Q15: ○ | R15: 0.03 | U15: 0 | X15: 0 | Z15: 0
A16: 千葉 | B16: 12 | C16: 4 | D16: 9010401121542 | E16: アイル株式会社 | F16: Kai | G16: 20 | H16: 4079882 | I16: 3256 | J16: 243 | K16: =ROUNDUP(I16/J16,1) -> 13.4 | L16: 12 | M16: =IF(AND(H16>0,K16>0,L16>0),H16/K16/L16,0) -> 25372.4 | R16: 0 | U16: 0 | X16: 0 | Z16: 0
A17: 千葉 | B17: 13 | C17: 4 | D17: 2040003010503 | E17: ファミリースマイルそら合同会社 | F17: あおぞら事業所 | G17: 20 | H17: 3579188 | I17: 3773 | J17: 269 | K17: =ROUNDUP(I17/J17,1) -> 14.1 | L17: 12 | M17: =IF(AND(H17>0,K17>0,L17>0),H17/K17/L17,0) -> 21153.593 | R17: 0 | U17: 0 | X17: 0 | Z17: 0
A18: 千葉 | B18: 14 | C18: 4 | D18: 3040001076677 | E18: ゆり庵株式会社 | F18: わたつみ | G18: 20 | H18: 4116446 | I18: 3679 | J18: 269 | K18: =ROUNDUP(I18/J18,1) -> 13.7 | L18: 12 | M18: =IF(AND(H18>0,K18>0,L18>0),H18/K18/L18,0) -> 25039.209 | R18: 0 | U18: 0 | X18: 0 | Z18: 0
A19: 千葉 | B19: 15 | C19: 3 | D19: 5040005006884 | E19: 医療法人社団透光会 | F19: 医療法人社団透光会ひだまり | G19: 14 | H19: 4907246 | I19: 2405 | J19: 244 | K19: =ROUNDUP(I19/J19,1) -> 9.9 | L19: 12 | M19: =IF(AND(H19>0,K19>0,L19>0),H19/K19/L19,0) -> 41306.785 | P19: ○ | R19: 0.03 | U19: 0 | X19: 0 | Z19: 0
A20: 千葉 | B20: 16 | C20: 3 | D20: 3040005009939 | E20: 医療法人静和会 | F20: 多機能型 就労支援事業所 SUNFLOWER | G20: 20 | H20: 7107216 | I20: 4940 | J20: 243 | K20: =ROUNDUP(I20/J20,1) -> 20.4 | L20: 12 | M20: =IF(AND(H20>0,K20>0,L20>0),H20/K20/L20,0) -> 29032.745 | R20: 0 | U20: 0 | X20: 0 | Z20: 0
A21: 千葉 | B21: 17 | C21: 3 | D21: 2040005004338 | E21: 医療法人梨香会 | F21: あきもとふぁーまーず | G21: 20 | H21: 2847570 | I21: 2710 | J21: 293 | K21: =ROUNDUP(I21/J21,1) -> 9.3 | L21: 12 | M21: =IF(AND(H21>0,K21>0,L21>0),H21/K21/L21,0) -> 25515.86 | R21: 0 | U21: 0 | X21: 0 | Z21: 0
A22: 千葉 | B22: 18 | C22: 6 | D22: 5010905003496 | E22: 一般社団法人 ＳＨＩＯＮ | F22: 四恩の杜まつど | G22: 20 | H22: 905046 | I22: 1512 | J22: 304 | K22: =ROUNDUP(I22/J22,1) -> 5 | L22: 12 | M22: =IF(AND(H22>0,K22>0,L22>0),H22/K22/L22,0) -> 15084.1 | R22: 0 | U22: 0 | X22: 0 | Z22: 0
A23: 千葉 | B23: 19 | C23: 6 | D23: 3040005019178 | E23: 一般社団法人 岬やよい会 | F23: くつろぎ処 やよい | G23: 14 | H23: 1557183 | I23: 2069 | J23: 256 | K23: =ROUNDUP(I23/J23,1) -> 8.1 | L23: 12 | M23: =IF(AND(H23>0,K23>0,L23>0),H23/K23/L23,0) -> 16020.401 | P23: ○ | R23: 0.15 | U23: 0 | X23: 0 | Z23: 0
A24: 千葉 | B24: 20 | C24: 6 | D24: 1040005020303 | E24: 一般社団法人ＢＯＮＤＳ | F24: 就労継続支援Ｂ型事業所 ナイン | G24: 20 | H24: 2327890 | I24: 3517 | J24: 241 | K24: =ROUNDUP(I24/J24,1) -> 14.6 | L24: 12 | M24: =IF(AND(H24>0,K24>0,L24>0),H24/K24/L24,0) -> 13287.043 | R24: 0 | U24: 0 | X24: 0 | Z24: 0
A25: 千葉 | B25: 21 | C25: 6 | D25: 1040005017737 | E25: 一般社団法人happy choice | F25: ハッピーワーク松戸 | G25: 20 | H25: 2186575 | I25: 2835 | J25: 314 | K25: =ROUNDUP(I25/J25,1) -> 9.1 | L25: 12 | M25: =IF(AND(H25>0,K25>0,L25>0),H25/K25/L25,0) -> 20023.581 | R25: 0 | U25: 0 | X25: 0 | Y25: ○ | Z25: 0.25
A26: 千葉 | B26: 22 | C26: 6 | D26: 7040005018481 | E26: 一般社団法人あいのて | F26: ONE&Only Cafe ユーカリが丘 | G26: 20 | H26: 1668253 | I26: 1657 | J26: 243 | K26: =ROUNDUP(I26/J26,1) -> 6.9 | L26: 12 | M26: =IF(AND(H26>0,K26>0,L26>0),H26/K26/L26,0) -> 20147.983 | R26: 0 | U26: 0 | X26: 0 | Y26: ○ | Z26: 0.85
A27: 千葉 | B27: 23 | C27: 6 | D27: 7040005018481 | E27: 一般社団法人あいのて | F27: 就労センターあけぼの園 | G27: 14 | H27: 3427180 | I27: 3589 | J27: 293 | K27: =ROUNDUP(I27/J27,1) -> 12.3 | L27: 12 | M27: =IF(AND(H27>0,K27>0,L27>0),H27/K27/L27,0) -> 23219.377 | R27: 0 | U27: 0 | X27: 0 | Z27: 0
A28: 千葉 | B28: 24 | C28: 6 | D28: 6040005021081 | E28: 一般社団法人シンシアティ | F28: シンシアティ 第一かずさ | G28: 20 | H28: 11750000 | I28: 5280 | J28: 264 | K28: =ROUNDUP(I28/J28,1) -> 20 | L28: 12 | M28: =IF(AND(H28>0,K28>0,L28>0),H28/K28/L28,0) -> 48958.333 | P28: ○ | R28: 0.93 | U28: 0 | X28: 0 | Z28: 0
A29: 千葉 | B29: 25 | C29: 6 | D29: 4040005019912 | E29: 一般社団法人ロッタリンクス | F29: メロディーフラッグ | G29: 40 | H29: 3896439 | I29: 6249 | J29: 243 | K29: =ROUNDUP(I29/J29,1) -> 25.8 | L29: 12 | M29: =IF(AND(H29>0,K29>0,L29>0),H29/K29/L29,0) -> 12585.397 | R29: 0 | U29: 0 | X29: 0 | Y29: ○ | Z29: 0.35
A30: 千葉 | B30: 26 | C30: 6 | D30: 9040005019313 | E30: 一般社団法人紫宝会 | F30: クロス・スピリット | G30: 15 | H30: 3660060 | I30: 3572 | J30: 269 | K30: =ROUNDUP(I30/J30,1) -> 13.3 | L30: 12 | M30: =IF(AND(H30>0,K30>0,L30>0),H30/K30/L30,0) -> 22932.707 | P30: ○ | Q30: ○ | R30: 0.04 | U30: 0 | X30: 0 | Z30: 0
A31: 千葉 | B31: 27 | C31: 6 | D31: 5040005018681 | E31: 一般社団法人櫻会 | F31: 希望の橋 | G31: 10 | H31: 630187 | I31: 1854 | J31: 258 | K31: =ROUNDUP(I31/J31,1) -> 7.2 | L31: 12 | M31: =IF(AND(H31>0,K31>0,L31>0),H31/K31/L31,0) -> 7293.831 | R31: 0 | U31: 0 | X31: 0 | Z31: 0
A32: 千葉 | B32: 28 | C32: 2 | D32: 7010905000814 | E32: 社会福祉法人敬心福祉会 | F32: 浦安市障がい者福祉センター | G32: 45 | H32: 13826530 | I32: 9245 | J32: 243 | K32: =ROUNDUP(I32/J32,1) -> 38.1 | L32: 12 | M32: =IF(AND(H32>0,K32>0,L32>0),H32/K32/L32,0) -> 30241.754 | R32: 0 | U32: 0 | X32: 0 | Z32: 0
A33: 千葉 | B33: 29 | C33: 4 | D33: 1040001094648 | E33: 株式会社 dearmilieus | F33: 就労継続支援Ｂ型 レリＢ | G33: 20 | H33: 1860654 | I33: 5389 | J33: 261 | K33: =ROUNDUP(I33/J33,1) -> 20.7 | L33: 12 | M33: =IF(AND(H33>0,K33>0,L33>0),H33/K33/L33,0) -> 7490.5556 | R33: 0 | U33: 0 | X33: 0 | Y33: ○ | Z33: 0.37
A34: 千葉 | B34: 30 | C34: 4 | D34: 4010001038415 | E34: 株式会社 エヌ・ケー・アド | F34: プライアップ | G34: 20 | H34: 2480000 | I34: 2550 | J34: 257 | K34: =ROUNDUP(I34/J34,1) -> 10 | L34: 12 | M34: =IF(AND(H34>0,K34>0,L34>0),H34/K34/L34,0) -> 20666.667 | R34: 0 | U34: 0 | X34: 0 | Z34: 0
A35: 千葉 | B35: 31 | C35: 4 | D35: 1040001089796 | E35: 株式会社 ジャストオンアース | F35: ＦＡＣＴＯＲＹ | G35: 20 | H35: 1423025 | I35: 3233 | J35: 316 | K35: =ROUNDUP(I35/J35,1) -> 10.3 | L35: 12 | M35: =IF(AND(H35>0,K35>0,L35>0),H35/K35/L35,0) -> 11513.147 | R35: 0 | U35: 0 | X35: 0 | Y35: ○ | Z35: 0.05
A36: 千葉 | B36: 32 | C36: 4 | D36: 7040001036198 | E36: 株式会社 テクノハウス久我 | F36: ふれあいサロンさくら | G36: 20 | H36: 1668869 | I36: 1689 | J36: 251 | K36: =ROUNDUP(I36/J36,1) -> 6.8 | L36: 12 | M36: =IF(AND(H36>0,K36>0,L36>0),H36/K36/L36,0) -> 20451.826 | R36: 0 | U36: 0 | X36: 0 | Y36: ○ | Z36: 0.01
A37: 千葉 | B37: 33 | C37: 4 | D37: 9040001090169 | E37: 株式会社 プラスアップ | F37: ミラクル | G37: 20 | H37: 1621203 | I37: 1628 | J37: 246 | K37: =ROUNDUP(I37/J37,1) -> 6.7 | L37: 12 | M37: =IF(AND(H37>0,K37>0,L37>0),H37/K37/L37,0) -> 20164.216 | R37: 0 | U37: 0 | X37: 0 | Z37: 0
A38: 千葉 | B38: 34 | C38: 4 | D38: 3040001079639 | E38: 株式会社 楽笑会 | F38: 約束の樹きのこ村(旧：袖ケ浦きのこ村） | G38: 20 | H38: 3972255 | I38: 3505 | J38: 257 | K38: =ROUNDUP(I38/J38,1) -> 13.7 | L38: 12 | M38: =IF(AND(H38>0,K38>0,L38>0),H38/K38/L38,0) -> 24162.135 | P38: ○ | R38: 1 | U38: 0 | X38: 0 | Z38: 0
A39: 千葉 | B39: 35 | C39: 4 | D39: 1040001107120 | E39: 株式会社 彰栄 | F39: ステップアップ | G39: 20 | H39: 2411928 | I39: 4634 | J39: 290 | K39: =ROUNDUP(I39/J39,1) -> 16 | L39: 12 | M39: =IF(AND(H39>0,K39>0,L39>0),H39/K39/L39,0) -> 12562.125 | R39: 0 | U39: 0 | X39: 0 | Z39: 0
A40: 千葉 | B40: 36 | C40: 4 | D40: 7040001093776 | E40: 株式会社 未来夢 | F40: ファインドリーム | G40: 20 | H40: 4894096 | I40: 4132 | J40: 240 | K40: =ROUNDUP(I40/J40,1) -> 17.3 | L40: 12 | M40: =IF(AND(H40>0,K40>0,L40>0),H40/K40/L40,0) -> 23574.644 | R40: 0 | U40: 0 | X40: 0 | Y40: ○ | Z40: 0.1
...
