Workbook
Name _20030502_daicho_saishin: #REF!
Name _20030502_daicho_saishin: #REF!
Name _20030502_daicho_saishin: #REF!

Sheet 平均工賃（月額）
A1: 令和６年度各事業所種別平均工賃（賃金）一覧（月額）
A3: 都道府県 A | B3: 就労継続 支援Ａ型 （雇用型） B | C3: 就労継続 支援Ａ型 （非雇用型） C | D3: 就労継続 支援Ｂ型 D
A5: =施設数!A6 -> 千葉 | B5: ='就労Ａ型（雇用型）'!J168 -> 85290.091 | C5: ='就労A型（非雇用型）'!M10 -> 23763.71 | D5: =就労B型!M590 -> 23645.854

Sheet 平均賃金（時間額）
A1: 令和６年度各事業所種別平均賃金一覧（時間額）
A3: 都道府県 A | B3: 就労継続 支援Ａ型 （雇用型） B | C3: 全事業所 C
A5: 千葉 | B5: ='就労Ａ型（雇用型）'!M168 -> 1125.1003 | C5: ='就労Ａ型（雇用型）'!L168/'就労Ａ型（雇用型）'!K168 -> 1125.1003

Sheet 施設数
A1: 「事業所数」シート
A3: 都道府県名 A | B3: 事業所数 | I3: 共同受注窓口
B4: 就労継続 支援Ａ型 B | D4: 就労継続 支援Ｂ型 C | F4: 回収状況 D | I4: 各都道府県における 共同受注窓口数 E
B5: 報告 事業所数 | C5: 報告対象事業所数 | D5: 報告 事業所数 | E5: 報告対象 事業所数 | F5: 報告 事業所数 | G5: 報告対象 事業所数 | H5: 回収率
A6: 千葉 | B6: 161 | C6: 163 | D6: 569 | E6: 584 | F6: =B6+D6 -> 730 | G6: =C6+E6 -> 747 | H6: =F6/G6 -> 0.9772423 | I6: 1

Sheet 就労Ａ型（雇用型）
A1: 「就労継続支援A型（雇用型）」シート
A2: ①都道府県名 | B2: ②No. | C2: ③法人種別 | D2: ④法人番号 | E2: ⑤法人名 | F2: ⑥事業所名 | G2: 令和６年度 | N2: ⑭新設 | O2: ⑮備考 | P2: サービスの提供状況
H3: 月額 | K3: 時間額 | P3: 農福連携 | S3: 水福連携 | V3: 林福連携 | Y3: 在宅利用
G4: ⑦定員 | H4: ⑧対象者延人数 | I4: ⑨賃金支払総額 | J4: ⑩賃金平均額 | K4: ⑪対象者延人数 | L4: ⑫賃金支払総額 | M4: ⑬賃金平均額 | P4: ⑯実施状況 | Q4: ⑰新規実施 | R4: ⑱収入の割合（％） | S4: ⑲実施状況 | T4: ⑳新規実施 | U4: ㉑収入の割合（％） | V4: ㉒実施状況 | W4: ㉓新規実施 | X4: ㉔収入の割合（％） | Y4: ㉕実施状況 | Z4: ㉖利用者の割合（％）
A5: 千葉 | B5: 1 | C5: 4 | D5: 4040001090891 | E5: Life SS 株式会社 | F5: ライフ | G5: 20 | H5: 377 | I5: 25056761 | J5: =IF(AND(H5>0,I5>0),I5/H5,0) -> 66463.557 | K5: 23156 | L5: 25056761 | M5: =IF(AND(K5>0,L5>0),L5/K5,0) -> 1082.085 | P5: ○ | R5: 0.05 | U5: 0 | X5: 0 | Z5: 0 | AA5: 1 | AB5: 社会福祉協議会
A6: 千葉 | B6: 2 | C6: 4 | D6: 4040001090891 | E6: Life SS 株式会社 | F6: リライフ | G6: 20 | H6: 293 | I6: 18464011 | J6: =IF(AND(H6>0,I6>0),I6/H6,0) -> 63017.102 | K6: 17212 | L6: 18464011 | M6: =IF(AND(K6>0,L6>0),L6/K6,0) -> 1072.7406 | P6: ○ | R6: 0.06 | U6: 0 | X6: 0 | Z6: 0
A7: 千葉 | B7: 3 | C7: 5 | D7: 4040005019433 | E7: ＮＰＯ法人Village | F7: Blue international | G7: 20 | H7: 289 | I7: 28416035 | J7: =IF(AND(H7>0,I7>0),I7/H7,0) -> 98325.381 | K7: 26391 | L7: 28416035 | M7: =IF(AND(K7>0,L7>0),L7/K7,0) -> 1076.732 | R7: 0 | U7: 0 | X7: 0 | Y7: ○ | Z7: 0.05
A8: 千葉 | B8: 4 | C8: 4 | D8: 7040003008261 | E8: アイコニック合同会社 | F8: さくら事業所 | G8: 20 | H8: 207 | I8: 18505169 | J8: =IF(AND(H8>0,I8>0),I8/H8,0) -> 89396.952 | K8: 16779 | L8: 18505169 | M8: =IF(AND(K8>0,L8>0),L8/K8,0) -> 1102.8768 | R8: 0 | U8: 0 | X8: 0 | Z8: 0
A9: 千葉 | B9: 5 | C9: 4 | D9: 6021001046818 | E9: サンファースト福祉グループ株式会社 | F9: aigamo松戸オフィス | G9: 20 | H9: 239 | I9: 16240540 | J9: =IF(AND(H9>0,I9>0),I9/H9,0) -> 67952.05 | K9: 15040 | L9: 16240540 | M9: =IF(AND(K9>0,L9>0),L9/K9,0) -> 1079.8231 | R9: 0 | U9: 0 | X9: 0 | Z9: 0
A10: 千葉 | B10: 6 | C10: 4 | D10: 6011801030749 | E10: ジョブクリエイション株式会社 | F10: マインドセット南行徳 | G10: 20 | H10: 383 | I10: 38121691 | J10: =IF(AND(H10>0,I10>0),I10/H10,0) -> 99534.441 | K10: 34884 | L10: 38121691 | M10: =IF(AND(K10>0,L10>0),L10/K10,0) -> 1092.8131 | R10: 0 | U10: 0 | X10: 0 | Y10: ○ | Z10: 0.1
A11: 千葉 | B11: 7 | C11: 6 | D11: 7040005020009 | E11: 一般社団法人EmGaWa | F11: ワンネス市川 | G11: 20 | H11: 187 | I11: 20699964 | J11: =IF(AND(H11>0,I11>0),I11/H11,0) -> 110694.99 | K11: 18579 | L11: 20699964 | M11: =IF(AND(K11>0,L11>0),L11/K11,0) -> 1114.1592 | R11: 0 | U11: 0 | X11: 0 | Y11: ○ | Z11: 0.05
A12: 千葉 | B12: 8 | C12: 4 | D12: 5040001085296 | E12: 株式会社 あらた | F12: あらた京成佐倉事業所 | G12: 20 | H12: 386 | I12: 33540348 | J12: =IF(AND(H12>0,I12>0),I12/H12,0) -> 86892.093 | K12: 27904 | L12: 33540348 | M12: =IF(AND(K12>0,L12>0),L12/K12,0) -> 1201.9907 | R12: 0 | U12: 0 | X12: 0 | Z12: 0
A13: 千葉 | B13: 9 | C13: 4 | D13: 2040001094837 | E13: 株式会社 一新 | F13: harbor | G13: 20 | H13: 330 | I13: 30983359 | J13: =IF(AND(H13>0,I13>0),I13/H13,0) -> 93888.967 | K13: 27339 | L13: 30983359 | M13: =IF(AND(K13>0,L13>0),L13/K13,0) -> 1133.3026 | R13: 0 | U13: 0 | X13: 0 | Y13: ○ | Z13: 0.03
A14: 千葉 | B14: 10 | C14: 4 | D14: 7040001115183 | E14: 株式会社ＡＣＳ | F14: みらいず 馬橋 | G14: 17 | H14: 379 | I14: 27855724 | J14: =IF(AND(H14>0,I14>0),I14/H14,0) -> 73497.953 | K14: 25864 | L14: 27855724 | M14: =IF(AND(K14>0,L14>0),L14/K14,0) -> 1077.0076 | R14: 0 | U14: 0 | X14: 0 | Z14: 0
A15: 千葉 | B15: 11 | C15: 4 | D15: 4040001076742 | E15: 株式会社CBS | F15: 株式会社CBS | G15: 20 | H15: 539 | I15: 46763973 | J15: =IF(AND(H15>0,I15>0),I15/H15,0) -> 86760.618 | K15: 43780 | L15: 46763973 | M15: =IF(AND(K15>0,L15>0),L15/K15,0) -> 1068.1584 | P15: ○ | R15: 0.19 | U15: 0 | X15: 0 | Y15: ○ | Z15: 0.15
A16: 千葉 | B16: 12 | C16: 4 | D16: 6040001101151 | E16: 株式会社ＣＬＡＮＮ | F16: ＬＩＧ五香 | G16: 20 | H16: 442 | I16: 36430073 | J16: =IF(AND(H16>0,I16>0),I16/H16,0) -> 82420.98 | K16: 34568 | L16: 36430073 | M16: =IF(AND(K16>0,L16>0),L16/K16,0) -> 1053.867 | R16: 0 | U16: 0 | X16: 0 | Z16: 0
A17: 千葉 | B17: 13 | C17: 4 | D17: 6040001101151 | E17: 株式会社ＣＬＡＮＮ | F17: ＬＩＧ南流山 | G17: 20 | H17: 242 | I17: 18381605 | J17: =IF(AND(H17>0,I17>0),I17/H17,0) -> 75957.045 | K17: 17476 | L17: 18381605 | M17: =IF(AND(K17>0,L17>0),L17/K17,0) -> 1051.8199 | R17: 0 | U17: 0 | X17: 0 | Z17: 0
A18: 千葉 | B18: 14 | C18: 4 | D18: 3040001110576 | E18: 株式会社Ｈｉｇｈ－Ａ | F18: ＡＲＣＯ常盤平 | G18: 15 | H18: 373 | I18: 23272334 | J18: =IF(AND(H18>0,I18>0),I18/H18,0) -> 62392.316 | K18: 21527 | L18: 23272334 | M18: =IF(AND(K18>0,L18>0),L18/K18,0) -> 1081.0765 | R18: 0 | U18: 0 | X18: 0 | Y18: ○ | Z18: 0.25
A19: 千葉 | B19: 15 | C19: 4 | D19: 5040001110574 | E19: 株式会社LTSホールディングス | F19: みらいず 北小金 | G19: 20 | H19: 460 | I19: 31961275 | J19: =IF(AND(H19>0,I19>0),I19/H19,0) -> 69481.033 | K19: 28543 | L19: 31961275 | M19: =IF(AND(K19>0,L19>0),L19/K19,0) -> 1119.7588 | R19: 0 | U19: 0 | X19: 0 | Y19: ○ | Z19: 0.16
A20: 千葉 | B20: 16 | C20: 4 | D20: 3040001095818 | E20: 株式会社NO LIMIT | F20: ノーリミット | G20: 20 | H20: 150 | I20: 11828713 | J20: =IF(AND(H20>0,I20>0),I20/H20,0) -> 78858.087 | K20: 10852 | L20: 11828713 | M20: =IF(AND(K20>0,L20>0),L20/K20,0) -> 1090.003 | R20: 0 | U20: 0 | X20: 0 | Z20: 0
A21: 千葉 | B21: 17 | C21: 4 | D21: 3011801025405 | E21: 株式会社アースプロテクト | F21: 株式会社アースプロテクト | G21: 20 | H21: 410 | I21: 44539240 | J21: =IF(AND(H21>0,I21>0),I21/H21,0) -> 108632.29 | K21: 42013 | L21: 44539240 | M21: =IF(AND(K21>0,L21>0),L21/K21,0) -> 1060.13 | R21: 0 | U21: 0 | X21: 0 | Y21: ○ | Z21: 0.05
A22: 千葉 | B22: 18 | C22: 4 | D22: 3011801025405 | E22: 株式会社アースプロテクト | F22: 株式会社アースプロテクト 潤井戸支社 | G22: 15 | H22: 89 | I22: 9918671 | J22: =IF(AND(H22>0,I22>0),I22/H22,0) -> 111445.74 | K22: 9378 | L22: 9918671 | M22: =IF(AND(K22>0,L22>0),L22/K22,0) -> 1057.6531 | R22: 0 | U22: 0 | X22: 0 | Y22: ○ | Z22: 0.05
A23: 千葉 | B23: 19 | C23: 4 | D23: 5040001085296 | E23: 株式会社あらた | F23: あらた | G23: 20 | H23: 413 | I23: 37125648 | J23: =IF(AND(H23>0,I23>0),I23/H23,0) -> 89892.61 | K23: 30609 | L23: 37125648 | M23: =IF(AND(K23>0,L23>0),L23/K23,0) -> 1212.8997 | R23: 0 | U23: 0 | X23: 0 | Z23: 0
A24: 千葉 | B24: 20 | C24: 4 | D24: 5040001085296 | E24: 株式会社あらた | F24: あらた松戸事業所 | G24: 20 | H24: 506 | I24: 42545297 | J24: =IF(AND(H24>0,I24>0),I24/H24,0) -> 84081.615 | K24: 35341 | L24: 42545297 | M24: =IF(AND(K24>0,L24>0),L24/K24,0) -> 1203.851 | R24: 0 | U24: 0 | X24: 0 | Z24: 0
A25: 千葉 | B25: 21 | C25: 4 | D25: 5040001085296 | E25: 株式会社あらた | F25: あらた八街事業所 | G25: 20 | H25: 415 | I25: 37178909 | J25: =IF(AND(H25>0,I25>0),I25/H25,0) -> 89587.733 | K25: 33154 | L25: 37178909 | M25: =IF(AND(K25>0,L25>0),L25/K25,0) -> 1121.4004 | R25: 0 | U25: 0 | X25: 0 | Z25: 0
A26: 千葉 | B26: 22 | C26: 4 | D26: 1040001103623 | E26: 株式会社うみぼうず | F26: アレッタ | G26: 19 | H26: 396 | I26: 35270579 | J26: =IF(AND(H26>0,I26>0),I26/H26,0) -> 89067.119 | K26: 31315 | L26: 35270579 | M26: =IF(AND(K26>0,L26>0),L26/K26,0) -> 1126.3158 | P26: ○ | R26: 0 | U26: 0 | X26: 0 | Z26: 0
A27: 千葉 | B27: 23 | C27: 4 | D27: 8040001085302 | E27: 株式会社グッドライフ | F27: クロスブリッジ東金 | G27: 20 | H27: 492 | I27: 42815861 | J27: =IF(AND(H27>0,I27>0),I27/H27,0) -> 87024.108 | K27: 40666 | L27: 42815861 | M27: =IF(AND(K27>0,L27>0),L27/K27,0) -> 1052.8663 | R27: 0 | U27: 0 | X27: 0 | Z27: 0
A28: 千葉 | B28: 24 | C28: 4 | D28: 8040001085302 | E28: 株式会社グッドライフ | F28: サニーロード八千代 | G28: 20 | H28: 464 | I28: 41237889 | J28: =IF(AND(H28>0,I28>0),I28/H28,0) -> 88874.761 | K28: 39048 | L28: 41237889 | M28: =IF(AND(K28>0,L28>0),L28/K28,0) -> 1056.082 | R28: 0 | U28: 0 | X28: 0 | Z28: 0
A29: 千葉 | B29: 25 | C29: 4 | D29: 9040001098039 | E29: 株式会社ドリーム＆ループ | F29: ドリカムサポート新松戸 | G29: 20 | H29: 434 | I29: 28946119 | J29: =IF(AND(H29>0,I29>0),I29/H29,0) -> 66696.127 | K29: 25681 | L29: 28946119 | M29: =IF(AND(K29>0,L29>0),L29/K29,0) -> 1127.1414 | R29: 0 | U29: 0 | X29: 0 | Y29: ○ | Z29: 0.14
A30: 千葉 | B30: 26 | C30: 4 | D30: 9040001098039 | E30: 株式会社ドリーム＆ループ | F30: ドリカムサポート新松戸第二支店 | G30: 19 | H30: 379 | I30: 26322860 | J30: =IF(AND(H30>0,I30>0),I30/H30,0) -> 69453.456 | K30: 24431 | L30: 26322860 | M30: =IF(AND(K30>0,L30>0),L30/K30,0) -> 1077.4369 | R30: 0 | U30: 0 | X30: 0 | Y30: ○ | Z30: 0.13
A31: 千葉 | B31: 27 | C31: 4 | D31: 4120101055316 | E31: 株式会社はるもけあ | F31: ライフスクエア五香 | G31: 10 | H31: 150 | I31: 13212366 | J31: =IF(AND(H31>0,I31>0),I31/H31,0) -> 88082.44 | K31: 12499 | L31: 13212366 | M31: =IF(AND(K31>0,L31>0),L31/K31,0) -> 1057.0738 | R31: 0 | U31: 0 | X31: 0 | Y31: ○ | Z31: 0.14
A32: 千葉 | B32: 28 | C32: 4 | D32: 6040001112768 | E32: 株式会社ピアてらす | F32: ピアてらす | G32: 20 | H32: 226 | I32: 18148682 | J32: =IF(AND(H32>0,I32>0),I32/H32,0) -> 80303.903 | K32: 15807 | L32: 18148682 | M32: =IF(AND(K32>0,L32>0),L32/K32,0) -> 1148.1421 | R32: 0 | U32: 0 | X32: 0 | Z32: 0
A33: 千葉 | B33: 29 | C33: 4 | D33: 9040001087396 | E33: 株式会社ホップ | F33: ファーストステップ事業所 | G33: 20 | H33: 385 | I33: 32300219 | J33: =IF(AND(H33>0,I33>0),I33/H33,0) -> 83896.673 | K33: 28440 | L33: 32300219 | M33: =IF(AND(K33>0,L33>0),L33/K33,0) -> 1135.732 | R33: 0 | U33: 0 | X33: 0 | Y33: ○ | Z33: 0.15
A34: 千葉 | B34: 30 | C34: 4 | D34: 9040001087396 | E34: 株式会社ホップ | F34: 株式会社ホップ | G34: 20 | H34: 380 | I34: 30945650 | J34: =IF(AND(H34>0,I34>0),I34/H34,0) -> 81435.921 | K34: 26843 | L34: 30945650 | M34: =IF(AND(K34>0,L34>0),L34/K34,0) -> 1152.8387 | R34: 0 | U34: 0 | X34: 0 | Y34: ○ | Z34: 0.18
A35: 千葉 | B35: 31 | C35: 4 | D35: 1040001103268 | E35: 株式会社ミナアス | F35: リンクアップ津田沼 | G35: 11 | H35: 249 | I35: 20642187 | J35: =IF(AND(H35>0,I35>0),I35/H35,0) -> 82900.349 | K35: 19153 | L35: 20642187 | M35: =IF(AND(K35>0,L35>0),L35/K35,0) -> 1077.7522 | R35: 0 | U35: 0 | X35: 0 | Z35: 0
A36: 千葉 | B36: 32 | C36: 4 | D36: 1040001112962 | E36: 株式会社ユーズ | F36: ユーズ | G36: 20 | H36: 228 | I36: 19081868 | J36: =IF(AND(H36>0,I36>0),I36/H36,0) -> 83692.404 | K36: 17729 | L36: 19081868 | M36: =IF(AND(K36>0,L36>0),L36/K36,0) -> 1076.3082 | R36: 0 | U36: 0 | X36: 0 | Y36: ○ | Z36: 0.05
A37: 千葉 | B37: 33 | C37: 4 | D37: 1040001070608 | E37: 株式会社ラインアロー | F37: ハッピーアベニュー | G37: 20 | H37: 364 | I37: 31669610 | J37: =IF(AND(H37>0,I37>0),I37/H37,0) -> 87004.423 | K37: 30100 | L37: 31669610 | M37: =IF(AND(K37>0,L37>0),L37/K37,0) -> 1052.1465 | R37: 0 | U37: 0 | X37: 0 | Y37: ○ | Z37: 0.03
A38: 千葉 | B38: 34 | C38: 4 | D38: 1040001070608 | E38: 株式会社ラインアロー | F38: ハッピーストリート | G38: 20 | H38: 423 | I38: 37281945 | J38: =IF(AND(H38>0,I38>0),I38/H38,0) -> 88136.986 | K38: 34894 | L38: 37281945 | M38: =IF(AND(K38>0,L38>0),L38/K38,0) -> 1068.4343 | R38: 0 | U38: 0 | X38: 0 | Y38: ○ | Z38: 0.05
A39: 千葉 | B39: 35 | C39: 4 | D39: 4340001006818 | E39: 株式会社ワークステージつばさ | F39: ひだまり | G39: 10 | H39: 60 | I39: 7937401 | J39: =IF(AND(H39>0,I39>0),I39/H39,0) -> 132290.02 | K39: 7702 | L39: 7937401 | M39: =IF(AND(K39>0,L39>0),L39/K39,0) -> 1030.5636 | R39: 0 | U39: 0 | X39: 0 | Z39: 0
A40: 千葉 | B40: 36 | C40: 4 | D40: 2040001076736 | E40: 株式会社一休堂 | F40: 19工房/きのこ栽培農園 | G40: 20 | H40: 425 | I40: 46036374 | J40: =IF(AND(H40>0,I40>0),I40/H40,0) -> 108320.88 | K40: 42756 | L40: 46036374 | M40: =IF(AND(K40>0,L40>0),L40/K40,0) -> 1076.7231 | P40: ○ | R40: 0.58 | U40: 0 | X40: 0 | Y40: ○ | Z40: 0.03
A41: 千葉 | B41: 37 | C41: 4 | D41: 8040001078504 | E41: 株式会社三星 | F41: ユアポート | G41: 20 | H41: 301 | I41: 24639505 | J41: =IF(AND(H41>0,I41>0),I41/H41,0) -> 81858.821 | K41: 23514 | L41: 24639505 | M41: =IF(AND(K41>0,L41>0),L41/K41,0) -> 1047.8653 | R41: 0 | U41: 0 | X41: 0 | Z41: 0
A42: 千葉 | B42: 38 | C42: 4 | D42: 7040001098767 | E42: 株式会社徳久 | F42: パレット浦安駅前 | G42: 20 | H42: 244 | I42: 18830593 | J42: =IF(AND(H42>0,I42>0),I42/H42,0) -> 77174.561 | K42: 17515 | L42: 18830593 | M42: =IF(AND(K42>0,L42>0),L42/K42,0) -> 1075.1124 | R42: 0 | U42: 0 | X42: 0 | Z42: 0
A43: 千葉 | B43: 39 | C43: 4 | D43: 6040001083514 | E43: 株式会社徳正 | F43: パレット | G43: 20 | H43: 323 | I43: 29293553 | J43: =IF(AND(H43>0,I43>0),I43/H43,0) -> 90692.115 | K43: 27202 | L43: 29293553 | M43: =IF(AND(K43>0,L43>0),L43/K43,0) -> 1076.8897 | R43: 0 | U43: 0 | X43: 0 | Z43: 0
A44: 千葉 | B44: 40 | C44: 4 | D44: 6040001083514 | E44: 株式会社徳正 | F44: パレット行徳 | G44: 20 | H44: 218 | I44: 18617117 | J44: =IF(AND(H44>0,I44>0),I44/H44,0) -> 85399.619 | K44: 17277 | L44: 18617117 | M44: =IF(AND(K44>0,L44>0),L44/K44,0) -> 1077.5665 | R44: 0 | U44: 0 | X44: 0 | Y44: ○ | Z44: 0.05
A45: 千葉 | B45: 41 | C45: 4 | D45: 4040003008421 | E45: 合同会社 イシイ | F45: アナベル | G45: 29 | H45: 395 | I45: 21514260 | J45: =IF(AND(H45>0,I45>0),I45/H45,0) -> 54466.481 | K45: 20691 | L45: 21514260 | M45: =IF(AND(K45>0,L45>0),L45/K45,0) -> 1039.7883 | R45: 0 | U45: 0 | X45: 0 | Z45: 0
A46: 千葉 | B46: 42 | C46: 4 | D46: 8040003007469 | E46: 合同会社 ツツジ | F46: ツツジ | G46: 20 | H46: 338 | I46: 27470811 | J46: =IF(AND(H46>0,I46>0),I46/H46,0) -> 81274.589 | K46: 24852 | L46: 27470811 | M46: =IF(AND(K46>0,L46>0),L46/K46,0) -> 1105.3763 | R46: 0 | U46: 0 | X46: 0 | Z46: 0
A47: 千葉 | B47: 43 | C47: 4 | D47: 8040003009440 | E47: 合同会社アークリンク | F47: ワークスタジオ 松戸 | G47: 20 | H47: 272 | I47: 26451424 | J47: =IF(AND(H47>0,I47>0),I47/H47,0) -> 97247.882 | K47: 24069 | L47: 26451424 | M47: =IF(AND(K47>0,L47>0),L47/K47,0) -> 1098.9831 | R47: 0 | U47: 0 | X47: 0 | Y47: ○ | Z47: 0.01
A48: 千葉 | B48: 44 | C48: 4 | D48: 4040003013116 | E48: 合同会社ここから | F48: ふろーむひあ・ボンド | G48: 20 | H48: 182 | I48: 16644638 | J48: =IF(AND(H48>0,I48>0),I48/H48,0) -> 91454.055 | K48: 15392 | L48: 16644638 | M48: =IF(AND(K48>0,L48>0),L48/K48,0) -> 1081.3824 | R48: 0 | U48: 0 | X48: 0 | Z48: 0
A49: 千葉 | B49: 45 | C49: 4 | D49: 4030003008686 | E49: 合同会社フラワーシード | F49: フラワー | G49: 20 | H49: 368 | I49: 30529873 | J49: =IF(AND(H49>0,I49>0),I49/H49,0) -> 82961.611 | K49: 28837 | L49: 30529873 | M49: =IF(AND(K49>0,L49>0),L49/K49,0) -> 1058.7049 | R49: 0 | U49: 0 | X49: 0 | Z49: 0
A50: 千葉 | B50: 46 | C50: 4 | D50: 1040001087940 | E50: 自立の株式会社 | F50: ヒカリエ | G50: 20 | H50: 455 | I50: 64890832 | J50: =IF(AND(H50>0,I50>0),I50/H50,0) -> 142617.21 | K50: 37444 | L50: 64890832 | M50: =IF(AND(K50>0,L50>0),L50/K50,0) -> 1733.0101 | R50: 0 | U50: 0 | X50: 0 | Y50: ○ | Z50: 0.25
A51: 千葉 | B51: 47 | C51: 2 | D51: 2040005018973 | E51: 社会福祉法人フラット | F51: フラットヴィレッジ | G51: 10 | H51: 105 | I51: 10030626 | J51: =IF(AND(H51>0,I51>0),I51/H51,0) -> 95529.771 | K51: 9443 | L51: 10030626 | M51: =IF(AND(K51>0,L51>0),L51/K51,0) -> 1062.2287 | R51: 0 | U51: 0 | X51: 0 | Z51: 0
A52: 千葉 | B52: 48 | C52: 2 | D52: 1040005007036 | E52: 社会福祉法人まごころ | F52: ビーアンビシャス | G52: 10 | H52: 36 | I52: 5850308 | J52: =IF(AND(H52>0,I52>0),I52/H52,0) -> 162508.56 | K52: 4560 | L52: 5850308 | M52: =IF(AND(K52>0,L52>0),L52/K52,0) -> 1282.9623 | R52: 0 | U52: 0 | X52: 0 | Z52: 0
A53: 千葉 | B53: 49 | C53: 2 | D53: 1040005013430 | E53: 社会福祉法人福祉楽団 | F53: 就労継続支援A型事業所栗源協働支援センター | G53: 20 | H53: 346 | I53: 30949381 | J53: =IF(AND(H53>0,I53>0),I53/H53,0) -> 89449.078 | K53: 26265 | L53: 30949381 | M53: =IF(AND(K53>0,L53>0),L53/K53,0) -> 1178.3507 | R53: 0 | U53: 0 | X53: 0 | Z53: 0
A54: 千葉 | B54: 50 | C54: 5 | D54: 1040005015963 | E54: 特定非営利活動法人しゃくやく会 | F54: セットアップ | G54: 20 | H54: 205 | I54: 19670625 | J54: =IF(AND(H54>0,I54>0),I54/H54,0) -> 95954.268 | K54: 18202 | L54: 19670625 | M54: =IF(AND(K54>0,L54>0),L54/K54,0) -> 1080.6848 | R54: 0 | U54: 0 | X54: 0 | Z54: 0
A55: 千葉 | B55: 51 | C55: 5 | D55: 9040005020080 | E55: 特定非営利活動法人やさしい心 | F55: やさしい心 | G55: 20 | H55: 428 | I55: 29363344 | J55: =IF(AND(H55>0,I55>0),I55/H55,0) -> 68605.944 | K55: 27762 | L55: 29363344 | M55: =IF(AND(K55>0,L55>0),L55/K55,0) -> 1057.6811 | P55: ○ | Q55: ○ | R55: 0.01 | U55: 0 | X55: 0 | Y55: ○ | Z55: 0.02
A56: 千葉 | B56: 52 | C56: 5 | D56: 7040005005364 | E56: 特定非営利活動法人松戸市身体障害者福祉会 | F56: 就労継続支援Ａ型「接続草」（スギナ） | G56: 11 | H56: 156 | I56: 19857448 | J56: =IF(AND(H56>0,I56>0),I56/H56,0) -> 127291.33 | K56: 15637 | L56: 19857448 | M56: =IF(AND(K56>0,L56>0),L56/K56,0) -> 1269.9014 | R56: 0 | U56: 0 | X56: 0 | Z56: 0
A57: 千葉 | B57: 53 | C57: 4 | D57: 5040002098248 | E57: 有限会社 文堅堂 | F57: サンライズ | G57: 20 | H57: 176 | I57: 14319000 | J57: =IF(AND(H57>0,I57>0),I57/H57,0) -> 81357.955 | K57: 13265 | L57: 14319000 | M57: =IF(AND(K57>0,L57>0),L57/K57,0) -> 1079.4572 | R57: 0 | U57: 0 | X57: 0 | Z57: 0
A58: 千葉 | B58: 54 | C58: 5 | D58: 9040005020080 | E58: 特定非営利活動法人やさしい心 | F58: やさしい心 さくら | G58: 20 | H58: 471 | I58: 38245113 | J58: =IF(AND(H58>0,I58>0),I58/H58,0) -> 81199.815 | K58: 33550 | L58: 38245113 | M58: =IF(AND(K58>0,L58>0),L58/K58,0) -> 1139.9438 | R58: 0 | U58: 0 | X58: 0 | Y58: ○ | Z58: 0.03
A59: 千葉 | B59: 55 | C59: 2 | D59: 204000501401 | E59: 社会福祉法人よつば | F59: かるのこ | G59: 20 | H59: 227 | I59: 15064149 | J59: =IF(AND(H59>0,I59>0),I59/H59,0) -> 66361.89 | K59: 14110 | L59: 15064149 | M59: =IF(AND(K59>0,L59>0),L59/K59,0) -> 1067.6222 | R59: 0 | U59: 0 | X59: 0 | Z59: 0
A60: 千葉 | B60: 56 | C60: 4 | D60: 1040001070608 | E60: 株式会社ラインアロー | F60: ハッピーウエーイ | G60: 20 | H60: 365 | I60: 33273134 | J60: =IF(AND(H60>0,I60>0),I60/H60,0) -> 91159.271 | K60: 30611 | L60: 33273134 | M60: =IF(AND(K60>0,L60>0),L60/K60,0) -> 1086.9666 | R60: 0 | U60: 0 | X60: 0 | Z60: 0
A61: 千葉 | B61: 57 | C61: 4 | D61: 5040001110574 | E61: 株式会社LTSホールディングス | F61: みらいず南柏 | G61: 18 | H61: 403 | I61: 29786932 | J61: =IF(AND(H61>0,I61>0),I61/H61,0) -> 73912.983 | K61: 26610 | L61: 29786932 | M61: =IF(AND(K61>0,L61>0),L61/K61,0) -> 1119.3887 | P61: ○ | R61: 0.08 | U61: 0 | X61: 0 | Z61: 0
A62: 千葉 | B62: 58 | C62: 4 | D62: 2010901023154 | E62: 株式会社レクサ | F62: レクサ | G62: 20 | H62: 284 | I62: 24872851 | J62: =IF(AND(H62>0,I62>0),I62/H62,0) -> 87580.461 | K62: 23534 | L62: 24872851 | M62: =IF(AND(K62>0,L62>0),L62/K62,0) -> 1056.8901 | R62: 0 | U62: 0 | X62: 0 | Z62: 0
A63: 千葉 | B63: 59 | C63: 4 | D63: 6040003014525 | E63: 合同会社ルナ | F63: AILE | G63: 10 | H63: 205 | I63: 15722676 | J63: =IF(AND(H63>0,I63>0),I63/H63,0) -> 76695.98 | K63: 14122 | L63: 15722676 | M63: =IF(AND(K63>0,L63>0),L63/K63,0) -> 1113.3463 | R63: 0 | U63: 0 | X63: 0 | Y63: ○ | Z63: 0.06
A64: 千葉 | B64: 60 | C64: 4 | D64: 2040003002087 | E64: 合同会社SKY | F64: スカイ西船橋 | G64: 20 | H64: 331 | I64: 27700723 | J64: =IF(AND(H64>0,I64>0),I64/H64,0) -> 83687.985 | K64: 26372 | L64: 27700723 | M64: =IF(AND(K64>0,L64>0),L64/K64,0) -> 1050.3839 | R64: 0 | U64: 0 | X64: 0 | Z64: 0
A65: 千葉 | B65: 61 | C65: 4 | D65: 2040001060574 | E65: 株式会社EOSファーム | F65: EOSファーム船橋 | G65: 20 | H65: 369 | I65: 38228518 | J65: =IF(AND(H65>0,I65>0),I65/H65,0) -> 103600.32 | K65: 35711 | L65: 38228518 | M65: =IF(AND(K65>0,L65>0),L65/K65,0) -> 1070.497 | R65: 0 | U65: 0 | X65: 0 | Y65: ○ | Z65: 0.16
A66: 千葉 | B66: 62 | C66: 6 | D66: 8040005018258 | E66: 一般社団法人honeybee | F66: こむはにぃ | G66: 10 | H66: 143 | I66: 12944408 | J66: =IF(AND(H66>0,I66>0),I66/H66,0) -> 90520.336 | K66: 11812 | L66: 12944408 | M66: =IF(AND(K66>0,L66>0),L66/K66,0) -> 1095.8693 | R66: 0 | U66: 0 | X66: 0 | Z66: 0
A67: 千葉 | B67: 63 | C67: 4 | D67: 1040003009265 | E67: 合同会社夢工場 | F67: 夢工場 | G67: 20 | H67: 583 | I67: 42376125 | J67: =IF(AND(H67>0,I67>0),I67/H67,0) -> 72686.321 | K67: 38729 | L67: 42376125 | M67: =IF(AND(K67>0,L67>0),L67/K67,0) -> 1094.1704 | R67: 0 | U67: 0 | X67: 0 | Y67: ○ | Z67: 0.04
A68: 千葉 | B68: 64 | C68: 4 | D68: 6040001083514 | E68: 株式会社徳正 | F68: パレット西船橋 | G68: 20 | H68: 371 | I68: 31990689 | J68: =IF(AND(H68>0,I68>0),I68/H68,0) -> 86228.272 | K68: 29676 | L68: 31990689 | M68: =IF(AND(K68>0,L68>0),L68/K68,0) -> 1077.9987 | R68: 0 | U68: 0 | X68: 0 | Z68: 0
A69: 千葉 | B69: 65 | C69: 4 | D69: 8040001073372 | E69: 株式会社サンファーム | F69: サークル | G69: 20 | H69: 111 | I69: 10993308 | J69: =IF(AND(H69>0,I69>0),I69/H69,0) -> 99038.811 | K69: 9961.75 | L69: 10993308 | M69: =IF(AND(K69>0,L69>0),L69/K69,0) -> 1103.5519 | R69: 0 | U69: 0 | X69: 0 | Z69: 0
A70: 千葉 | B70: 66 | C70: 4 | D70: 7040001117543 | E70: 株式会社結ぶ | F70: むすぶ | G70: 20 | H70: 242 | I70: 20135554 | J70: =IF(AND(H70>0,I70>0),I70/H70,0) -> 83204.769 | K70: 18819 | L70: 20135554 | M70: =IF(AND(K70>0,L70>0),L70/K70,0) -> 1069.9588 | R70: 0 | U70: 0 | X70: 0 | Y70: ○ | Z70: 0.5
A71: 千葉 | B71: 67 | C71: 4 | D71: 7040001084239 | E71: 株式会社ヒューモニー | F71: グローアップ船橋 | G71: 20 | H71: 458 | I71: 38533500 | J71: =IF(AND(H71>0,I71>0),I71/H71,0) -> 84134.279 | K71: 35496 | L71: 38533500 | M71: =IF(AND(K71>0,L71>0),L71/K71,0) -> 1085.573 | R71: 0 | U71: 0 | X71: 0 | Y71: ○ | Z71: 0.02
A72: 千葉 | B72: 68 | C72: 4 | D72: 7040001084239 | E72: 株式会社ヒューモニー | F72: グローアップ前原 | G72: 20 | H72: 390 | I72: 35356292 | J72: =IF(AND(H72>0,I72>0),I72/H72,0) -> 90657.159 | K72: 32480 | L72: 35356292 | M72: =IF(AND(K72>0,L72>0),L72/K72,0) -> 1088.5558 | R72: 0 | U72: 0 | X72: 0 | Z72: 0
A73: 千葉 | B73: 69 | C73: 4 | D73: 6040001117759 | E73: 障がい者ワークスデザインラボ株式会社 | F73: ワークスデザインラボ薬園台 | G73: 20 | H73: 290 | I73: 25896313 | J73: =IF(AND(H73>0,I73>0),I73/H73,0) -> 89297.631 | K73: 22622 | L73: 25896313 | M73: =IF(AND(K73>0,L73>0),L73/K73,0) -> 1144.7402 | R73: 0 | U73: 0 | X73: 0 | Y73: ○ | Z73: 0.65
A74: 千葉 | B74: 70 | C74: 4 | D74: 7040003011579 | E74: 合同会社アークサポート | F74: アークサポート | G74: 20 | H74: 497 | I74: 48574012 | J74: =IF(AND(H74>0,I74>0),I74/H74,0) -> 97734.431 | K74: 45836 | L74: 48574012 | M74: =IF(AND(K74>0,L74>0),L74/K74,0) -> 1059.735 | R74: 0 | U74: 0 | X74: 0 | Z74: 0
A75: 千葉 | B75: 71 | C75: 2 | D75: 5040005001976 | E75: 社会福祉法人パルネット | F75: PAL稲毛 | G75: 10 | H75: 102 | I75: 4908322 | J75: =IF(AND(H75>0,I75>0),I75/H75,0) -> 48120.804 | K75: 8552 | L75: 4908322 | M75: =IF(AND(K75>0,L75>0),L75/K75,0) -> 573.93849 | R75: 0 | U75: 0 | X75: 0 | Z75: 0
A76: 千葉 | B76: 72 | C76: 4 | D76: 6040001114748 | E76: 株式会社Ｓｔｅｐ Ｗａｙ | F76: 就労継続支援A型事業所スマートリンク（旧：Step Way） | G76: 20 | H76: 269 | I76: 24550214 | J76: =IF(AND(H76>0,I76>0),I76/H76,0) -> 91264.736 | K76: 22314 | L76: 24550214 | M76: =IF(AND(K76>0,L76>0),L76/K76,0) -> 1100.2157 | R76: 0 | U76: 0 | X76: 0 | Y76: ○ | Z76: 0.1
A77: 千葉 | B77: 73 | C77: 4 | D77: 9040001107699 | E77: ＷＩＢ ＪＡＰＡＮ株式会社 | F77: あらた稲毛海岸事業所 | G77: 20 | H77: 481 | I77: 41429958 | J77: =IF(AND(H77>0,I77>0),I77/H77,0) -> 86132.969 | K77: 37006 | L77: 41429958 | M77: =IF(AND(K77>0,L77>0),L77/K77,0) -> 1119.547 | R77: 0 | U77: 0 | X77: 0 | Z77: 0
A78: 千葉 | B78: 74 | C78: 4 | D78: 9040001107699 | E78: ＷＩＢ ＪＡＰＡＮ株式会社 | F78: あらたSOGABASE | G78: 20 | H78: 497 | I78: 41682386 | J78: =IF(AND(H78>0,I78>0),I78/H78,0) -> 83867.98 | K78: 37362 | L78: 41682386 | M78: =IF(AND(K78>0,L78>0),L78/K78,0) -> 1115.6358 | R78: 0 | U78: 0 | X78: 0 | Z78: 0
A79: 千葉 | B79: 75 | C79: 2 | D79: 4040005001564 | E79: 社会福祉法人オリーブの樹 | F79: オリーブ轟 | G79: 20 | H79: 228 | I79: 27795766 | J79: =IF(AND(H79>0,I79>0),I79/H79,0) -> 121911.25 | K79: 25869 | L79: 27795766 | M79: =IF(AND(K79>0,L79>0),L79/K79,0) -> 1074.4817 | R79: 0 | U79: 0 | X79: 0 | Z79: 0
A80: 千葉 | B80: 76 | C80: 4 | D80: 7040001084239 | E80: 株式会社ヒューモニー | F80: グローアップ千葉 | G80: 20 | H80: 407 | I80: 35613028 | J80: =IF(AND(H80>0,I80>0),I80/H80,0) -> 87501.297 | K80: 32172 | L80: 35613028 | M80: =IF(AND(K80>0,L80>0),L80/K80,0) -> 1106.9572 | R80: 0 | U80: 0 | X80: 0 | Y80: ○ | Z80: 0.03
A81: 千葉 | B81: 77 | C81: 4 | D81: 6020001100683 | E81: 株式会社千手 | F81: ミレリア | G81: 20 | H81: 551 | I81: 50535784 | J81: =IF(AND(H81>0,I81>0),I81/H81,0) -> 91716.486 | K81: 38561 | L81: 50535784 | M81: =IF(AND(K81>0,L81>0),L81/K81,0) -> 1310.5413 | R81: 0 | U81: 0 | X81: 0 | Z81: 0
A82: 千葉 | B82: 78 | C82: 4 | D82: 6020001100683 | E82: 株式会社千手 | F82: マリン | G82: 20 | H82: 510 | I82: 48898129 | J82: =IF(AND(H82>0,I82>0),I82/H82,0) -> 95878.684 | K82: 36885 | L82: 48898129 | M82: =IF(AND(K82>0,L82>0),L82/K82,0) -> 1325.6914 | R82: 0 | U82: 0 | X82: 0 | Z82: 0
A83: 千葉 | B83: 79 | C83: 4 | D83: 6020001100683 | E83: 株式会社千手 | F83: トラット | G83: 20 | H83: 705 | I83: 78282348 | J83: =IF(AND(H83>0,I83>0),I83/H83,0) -> 111038.79 | K83: 57203 | L83: 78282348 | M83: =IF(AND(K83>0,L83>0),L83/K83,0) -> 1368.5007 | R83: 0 | U83: 0 | X83: 0 | Z83: 0
A84: 千葉 | B84: 80 | C84: 4 | D84: 6020001100683 | E84: 株式会社千手 | F84: オネット | G84: 20 | H84: 682 | I84: 73004439 | J84: =IF(AND(H84>0,I84>0),I84/H84,0) -> 107044.63 | K84: 54724 | L84: 73004439 | M84: =IF(AND(K84>0,L84>0),L84/K84,0) -> 1334.0479 | R84: 0 | U84: 0 | X84: 0 | Z84: 0
A85: 千葉 | B85: 81 | C85: 5 | D85: 2040005002250 | E85: 特定非営利活動法人 はぁもにぃ | F85: 就労継続支援はぁもにぃ | G85: 10 | H85: 145 | I85: 13575189 | J85: =IF(AND(H85>0,I85>0),I85/H85,0) -> 93621.993 | K85: 12570 | L85: 13575189 | M85: =IF(AND(K85>0,L85>0),L85/K85,0) -> 1079.9673 | P85: ○ | R85: 0.2 | U85: 0 | X85: 0 | Y85: ○ | Z85: 0.1
A86: 千葉 | B86: 82 | C86: 4 | D86: 8040003009787 | E86: 合同会社ＳＫＹ | F86: スカイ 千葉 | G86: 20 | H86: 401 | I86: 33886844 | J86: =IF(AND(H86>0,I86>0),I86/H86,0) -> 84505.845 | K86: 32244 | L86: 33886844 | M86: =IF(AND(K86>0,L86>0),L86/K86,0) -> 1050.9504 | R86: 0 | U86: 0 | X86: 0 | Z86: 0
A87: 千葉 | B87: 83 | C87: 4 | D87: 5040003017289 | E87: 合同会社ノーマライゼーション未来 | F87: ノーマライゼーション未来 | G87: 20 | H87: 508 | I87: 45078867 | J87: =IF(AND(H87>0,I87>0),I87/H87,0) -> 88737.927 | K87: 41647 | L87: 45078867 | M87: =IF(AND(K87>0,L87>0),L87/K87,0) -> 1082.4037 | R87: 0 | U87: 0 | X87: 0 | Z87: 0
A88: 千葉 | B88: 84 | C88: 4 | D88: 7040001098767 | E88: 株式会社徳久 | F88: パレット新検見川 | G88: 20 | H88: 264 | I88: 19440617 | J88: =IF(AND(H88>0,I88>0),I88/H88,0) -> 73638.701 | K88: 17310 | L88: 19440617 | M88: =IF(AND(K88>0,L88>0),L88/K88,0) -> 1123.0859 | R88: 0 | U88: 0 | X88: 0 | Z88: 0
A89: 千葉 | B89: 85 | C89: 5 | D89: 9040005021087 | E89: 特定非営利活動法人尚真会 | F89: キラリ | G89: 10 | H89: 87 | I89: 7379465 | J89: =IF(AND(H89>0,I89>0),I89/H89,0) -> 84821.437 | K89: 6882 | L89: 7379465 | M89: =IF(AND(K89>0,L89>0),L89/K89,0) -> 1072.2849 | R89: 0 | U89: 0 | X89: 0 | Z89: 0
A90: 千葉 | B90: 86 | C90: 4 | D90: 7040003018021 | E90: ユナイト合同会社 | F90: ユナイト弁当 | G90: 40 | H90: 187 | I90: 18457913 | J90: =IF(AND(H90>0,I90>0),I90/H90,0) -> 98705.417 | K90: 16290 | L90: 18457913 | M90: =IF(AND(K90>0,L90>0),L90/K90,0) -> 1133.0824 | R90: 0 | U90: 0 | X90: 0 | Y90: ○ | Z90: 0.5
A91: 千葉 | B91: 87 | C91: 4 | D91: 6030003011572 | E91: ＮＥＸＴａｂｓｏｌｕｔｅ合同会社 | F91: みらいず行徳 | G91: 20 | H91: 410 | I91: 26446058 | J91: =IF(AND(H91>0,I91>0),I91/H91,0) -> 64502.58 | K91: 21375 | L91: 26446058 | M91: =IF(AND(K91>0,L91>0),L91/K91,0) -> 1237.2425 | R91: 0 | U91: 0 | X91: 0 | Z91: 0
A92: 千葉 | B92: 88 | C92: 4 | D92: 9040003017616 | E92: 合同会社なが田 | F92: エバーユアーズ（旧：鈴屋） | G92: 20 | H92: 415 | I92: 22174859 | J92: =IF(AND(H92>0,I92>0),I92/H92,0) -> 53433.395 | K92: 24551 | L92: 22174859 | M92: =IF(AND(K92>0,L92>0),L92/K92,0) -> 903.21612 | R92: 0 | U92: 0 | X92: 0 | Z92: 0
A93: 千葉 | B93: 89 | C93: 4 | D93: 1040003015197 | E93: 合同会社All lead 44 | F93: All lead 44 | G93: 20 | H93: 329 | I93: 25520000 | J93: =IF(AND(H93>0,I93>0),I93/H93,0) -> 77568.389 | K93: 22602.91 | L93: 25520000 | M93: =IF(AND(K93>0,L93>0),L93/K93,0) -> 1129.0582 | R93: 0 | U93: 0 | X93: 0 | Y93: ○ | Z93: 0.05
A94: 千葉 | B94: 90 | C94: 4 | D94: 6040003019210 | E94: 合同会社縁人 | F94: 流山初石事業所 | G94: 20 | H94: 541 | I94: 46075630 | J94: =IF(AND(H94>0,I94>0),I94/H94,0) -> 85167.523 | K94: 40634 | L94: 46075630 | M94: =IF(AND(K94>0,L94>0),L94/K94,0) -> 1133.9181 | R94: 0 | U94: 0 | X94: 0 | Z94: 0
A95: 千葉 | B95: 91 | C95: 4 | D95: 2040001121921 | E95: 徳光ライフサポート株式会社 | F95: ワカバ南行徳 | G95: 20 | H95: 427 | I95: 33384524 | J95: =IF(AND(H95>0,I95>0),I95/H95,0) -> 78183.897 | K95: 29679 | L95: 33384524 | M95: =IF(AND(K95>0,L95>0),L95/K95,0) -> 1124.8534 | R95: 0 | U95: 0 | X95: 0 | Y95: ○ | Z95: 0.01
A96: 千葉 | B96: 92 | C96: 4 | D96: 8040003010935 | E96: 合同会社CRT | F96: 就労継続支援A型 Mstyle柏 | G96: 20 | H96: 261 | I96: 24316572 | J96: =IF(AND(H96>0,I96>0),I96/H96,0) -> 93166.943 | K96: 22481 | L96: 24316572 | M96: =IF(AND(K96>0,L96>0),L96/K96,0) -> 1081.6499 | R96: 0 | U96: 0 | X96: 0 | Y96: ○ | Z96: 0.34
A97: 千葉 | B97: 93 | C97: 4 | D97: 1040003018919 | E97: 合同会社千喜 | F97: 館山南房総のお弁当 庄もとデリバリー | G97: 20 | H97: 224 | I97: 17805252 | J97: =IF(AND(H97>0,I97>0),I97/H97,0) -> 79487.732 | K97: 16600 | L97: 17805252 | M97: =IF(AND(K97>0,L97>0),L97/K97,0) -> 1072.6055 | R97: 0 | U97: 0 | X97: 0 | Z97: 0
A98: 千葉 | B98: 94 | C98: 4 | D98: 2040003017218 | E98: 合同会社UFA | F98: 就労継続支援A型事業所うおへい | G98: 20 | H98: 390 | I98: 37144629 | J98: =IF(AND(H98>0,I98>0),I98/H98,0) -> 95242.638 | K98: 33150 | L98: 37144629 | M98: =IF(AND(K98>0,L98>0),L98/K98,0) -> 1120.5016 | R98: 0 | U98: 0 | X98: 0 | Z98: 0
A99: 千葉 | B99: 95 | C99: 6 | D99: 1040005021425 | E99: 一般社団法人eN-YuKaRi. | F99: Cocco Neil. | G99: 19 | H99: 442 | I99: 28422357 | J99: =IF(AND(H99>0,I99>0),I99/H99,0) -> 64303.975 | K99: 26341 | L99: 28422357 | M99: =IF(AND(K99>0,L99>0),L99/K99,0) -> 1079.0159 | R99: 0 | U99: 0 | X99: 0 | Y99: ○ | Z99: 0.26
A100: 千葉 | B100: 96 | C100: 4 | D100: 2040001116145 | E100: 株式会社KANAME | F100: KANAMESAKURA | G100: 20 | H100: 556 | I100: 31333925 | J100: =IF(AND(H100>0,I100>0),I100/H100,0) -> 56355.98 | K100: 26700 | L100: 31333925 | M100: =IF(AND(K100>0,L100>0),L100/K100,0) -> 1173.5552 | R100: 0 | U100: 0 | X100: 0 | Z100: 0
...

Sheet 就労A型（非雇用型）
A1: 「就労継続支援A型（非雇用型）」シート
A2: ①都道府県名 | B2: ②No. | C2: ③法人種別 | D2: ④法人番号 | E2: ⑤法人名 | F2: ⑥事業所名 | G2: 令和６年度 | N2: ⑭新設 | O2: ⑮備考 | P2: サービスの提供状況
H3: 月額 | P3: 農福連携 | S3: 水福連携 | V3: 林福連携 | Y3: 在宅利用
G4: ⑦定員 | H4: ⑧工賃支払総額 | I4: ⑨利用者延人数 | J4: ⑩年間開所日数 | K4: ⑪１日の平均 利用者数 | L4: ⑫年間開所月数 | M4: ⑬工賃平均額 | P4: ⑯実施状況 | Q4: ⑰新規実施 | R4: ⑱収入の割合（％） | S4: ⑲実施状況 | T4: ⑳新規実施 | U4: ㉑収入の割合（％） | V4: ㉒実施状況 | W4: ㉓新規実施 | X4: ㉔収入の割合（％） | Y4: ㉕実施状況 | Z4: ㉖利用者の割合（％）
A5: 千葉 | B5: 非雇用1 | C5: 4 | D5: 4040001090891 | E5: Life SS 株式会社 | F5: ライフ | G5: 20 | H5: 283751 | I5: 386 | J5: 249 | K5: =ROUNDUP(I5/J5,1) -> 1.6 | L5: 12 | M5: =IF(AND(H5>0,K5>0,L5>0),H5/K5/L5,0) -> 14778.698 | AA5: 1 | AB5: 社会福祉協議会 | AD5: 1 | AE5: 就労継続支援Ｂ型サービス費（Ⅰ）又は就労継続支援Ｂ型サービス費（Ⅱ）
A6: 千葉 | B6: 非雇用2 | C6: 4 | D6: 4040001090891 | E6: Life SS 株式会社 | F6: リライフ | G6: 20 | H6: 1360850 | I6: 1688 | J6: 249 | K6: =ROUNDUP(I6/J6,1) -> 6.8 | L6: 12 | M6: =IF(AND(H6>0,K6>0,L6>0),H6/K6/L6,0) -> 16677.083 | AA6: 2 | AB6: 社会福祉法人（社会福祉協議会以外） | AD6: 2 | AE6: 就労継続支援Ｂ型サービス費（Ⅲ）又は就労継続支援Ｂ型サービス費（Ⅳ）
A7: 千葉 | B7: 非雇用3 | C7: 2 | D7: 5040005001976 | E7: 社会福祉法人パルネット | F7: PAL稲毛 | G7: 7 | H7: 291964 | I7: 1198 | J7: 246 | K7: =ROUNDUP(I7/J7,1) -> 4.9 | L7: 12 | M7: =IF(AND(H7>0,K7>0,L7>0),H7/K7/L7,0) -> 4965.3741 | Y7: ○ | Z7: 0.2 | AA7: 3 | AB7: 医療法人
A8: 千葉 | B8: 非雇用4 | C8: 5 | D8: 2040005002250 | E8: 特定非営利活動法人 はぁもにぃ | F8: 就労継続支援はぁもにぃ | G8: 5 | H8: 3994857 | I8: 1873 | J8: 249 | K8: =ROUNDUP(I8/J8,1) -> 7.6 | L8: 12 | M8: =IF(AND(H8>0,K8>0,L8>0),H8/K8/L8,0) -> 43803.257 | P8: ○ | R8: 0.79 | AA8: 4 | AB8: 株式・合名・合資・合同会社
A9: 事業所数 | C9: =COUNTIF(C5:C8,1) -> 0 | F9: =COUNTA(F5:F8) -> 4 | G9: =SUM(G5:G8) -> 52 | H9: =SUM(H5:H8) -> 5931422 | I9: =SUM(I5:I8) -> 5145 | J9: =AVERAGEIF(J6:J8,">0") -> 248 | K9: =ROUNDUP(I9/J10,1) -> 20.8 | L9: =AVERAGEIF(L5:L8,">0") -> 12
C10: =COUNTIF(C5:C8,2) -> 1 | J10: =ROUND(J9,1) -> 248 | L10: =ROUND(L9,1) -> 12 | M10: =IF(AND(H9>0,K9>0,L10>0),H9/K9/L10,0) -> 23763.71 | P10: =COUNTA(P5:P8) -> 1 | Y10: =COUNTA(Y5:Y8) -> 1
C11: =COUNTIF(C6:C8,3) -> 0 | G11: =COUNTA(G5:G8) -> 4
C12: =COUNTIF(C5:C8,4) -> 2
C13: =COUNTIF(C5:C8,5) -> 1
C14: =COUNTIF(C6:C8,6) -> 0
A15: 合計 | C15: =SUM(C9:C14) -> 4

Sheet 就労B型
A1: 「就労継続支援B型」シート
A2: ①都道府県名 | B2: ②No. | C2: ③法人種別 | D2: ④法人番号 | E2: ⑤法人名 | F2: ⑥事業所名 | G2: 令和６年度 | N2: ⑭新設 | O2: ⑮備考 | P2: サービスの提供状況
H3: 月額 | P3: 農福連携 | S3: 水福連携 | V3: 林福連携 | Y3: 在宅利用
G4: ⑦定員 | H4: ⑧工賃支払総額 | I4: ⑨利用者延人数 | J4: ⑩年間開所日数 | K4: ⑪１日の平均 利用者数 | L4: ⑫年間開所月数 | M4: ⑬工賃平均額 | P4: ⑯実施状況 | Q4: ⑰新規実施 | R4: ⑱収入の割合（％） | S4: ⑲実施状況 | T4: ⑳新規実施 | U4: ㉑収入の割合（％） | V4: ㉒実施状況 | W4: ㉓新規実施 | X4: ㉔収入の割合（％） | Y4: ㉕実施状況 | Z4: ㉖利用者の割合（％）
A5: 千葉 | B5: 1 | C5: 4 | D5: 5122001037616 | E5: 株式会社SunRise（旧：ＦａｎｄＳ株式会社） | F5: サンライズ（旧：羽の郷） | G5: 20 | H5: 903802 | I5: 1342 | J5: 83 | K5: =ROUNDUP(I5/J5,1) -> 16.2 | L5: 4 | M5: =IF(AND(H5>0,K5>0,L5>0),H5/K5/L5,0) -> 13947.562 | N5: ○ | P5: ○ | Q5: ○ | R5: 0.36 | U5: 0 | X5: 0 | Z5: 0 | AA5: 1 | AB5: 社会福祉協議会 | AD5: 1 | AE5: 就労継続支援Ｂ型サービス費（Ⅰ）又は就労継続支援Ｂ型サービス費（Ⅱ）
A6: 千葉 | B6: 2 | C6: 4 | D6: 5122001037616 | E6: 株式会社SunRise（旧：ＦａｎｄＳ株式会社） | F6: サンライズ野田（旧：羽の郷野田） | G6: 20 | H6: 707157 | I6: 1576 | J6: 212 | K6: =ROUNDUP(I6/J6,1) -> 7.5 | L6: 10 | M6: =IF(AND(H6>0,K6>0,L6>0),H6/K6/L6,0) -> 9428.76 | N6: ○ | R6: 0 | U6: 0 | X6: 0 | Z6: 0 | AA6: 2 | AB6: 社会福祉法人（社会福祉協議会以外） | AD6: 2 | AE6: 就労継続支援Ｂ型サービス費（Ⅲ）又は就労継続支援Ｂ型サービス費（Ⅳ）
A7: 千葉 | B7: 3 | C7: 5 | D7: 5040005017329 | E7: ＮＰＯ法人ＡlonＡlon | F7: ＡlonＡlonオーキッドガーデン | G7: 20 | H7: 11075474 | I7: 3690 | J7: 237 | K7: =ROUNDUP(I7/J7,1) -> 15.6 | L7: 12 | M7: =IF(AND(H7>0,K7>0,L7>0),H7/K7/L7,0) -> 59163.857 | N7: ○ | P7: ○ | R7: 0.52 | U7: 0 | X7: 0 | Z7: 0 | AA7: 3 | AB7: 医療法人
A8: 千葉 | B8: 4 | C8: 5 | D8: 7040005010703 | E8: ＮＰＯ法人さんさん味工房 | F8: さんさんBe | G8: 20 | H8: 1961058 | I8: 4186 | J8: 265 | K8: =ROUNDUP(I8/J8,1) -> 15.8 | L8: 12 | M8: =IF(AND(H8>0,K8>0,L8>0),H8/K8/L8,0) -> 10343.133 | R8: 0 | U8: 0 | X8: 0 | Z8: 0 | AA8: 4 | AB8: 株式・合名・合資・合同会社
A9: 千葉 | B9: 5 | C9: 5 | D9: 6040005014291 | E9: ＮＰＯ法人ハートネットあびこ | F9: ウイング | G9: 20 | H9: 5160640 | I9: 4629 | J9: 295 | K9: =ROUNDUP(I9/J9,1) -> 15.7 | L9: 12 | M9: =IF(AND(H9>0,K9>0,L9>0),H9/K9/L9,0) -> 27391.932 | R9: 0 | U9: 0 | X9: 0 | Z9: 0 | AA9: 5 | AB9: 特定非営利活動法人（NPO）
A10: 千葉 | B10: 6 | C10: 5 | D10: 9040005011518 | E10: ＮＰＯ法人ひびき | F10: ふれあい広場ひびき | G10: 20 | H10: 3818288 | I10: 3700 | J10: 236 | K10: =ROUNDUP(I10/J10,1) -> 15.7 | L10: 12 | M10: =IF(AND(H10>0,K10>0,L10>0),H10/K10/L10,0) -> 20266.921 | R10: 0 | U10: 0 | X10: 0 | Z10: 0 | AA10: 6 | AB10: その他（社団・財団・農協・生協等
A11: 千葉 | B11: 7 | C11: 5 | D11: 2040005013561 | E11: ＮＰＯ法人みんなの希望 | F11: 障がい者活動支援センター 通所部 | G11: 20 | H11: 2403800 | I11: 3767 | J11: 269 | K11: =ROUNDUP(I11/J11,1) -> 14.1 | L11: 12 | M11: =IF(AND(H11>0,K11>0,L11>0),H11/K11/L11,0) -> 14206.856 | R11: 0 | U11: 0 | X11: 0 | Z11: 0
A12: 千葉 | B12: 8 | C12: 5 | D12: 5040005019993 | E12: ＮＰＯ法人ライジング | F12: ライジング | G12: 20 | H12: 3197500 | I12: 2208 | J12: 251 | K12: =ROUNDUP(I12/J12,1) -> 8.8 | L12: 12 | M12: =IF(AND(H12>0,K12>0,L12>0),H12/K12/L12,0) -> 30279.356 | R12: 0 | U12: 0 | X12: 0 | Z12: 0
A13: 千葉 | B13: 9 | C13: 5 | D13: 6040005017740 | E13: ＮＰＯ法人鎌ケ谷市手をつなぐ親の会 | F13: あっぷる | G13: 20 | H13: 1038395 | I13: 1843 | J13: 241 | K13: =ROUNDUP(I13/J13,1) -> 7.7 | L13: 12 | M13: =IF(AND(H13>0,K13>0,L13>0),H13/K13/L13,0) -> 11238.041 | R13: 0 | U13: 0 | X13: 0 | Z13: 0
A14: 千葉 | B14: 10 | C14: 5 | D14: 5040005002578 | E14: ＮＰＯ法人希望の虹 | F14: ぽんぽこりん | G14: 40 | H14: 11655999 | I14: 7804 | J14: 284 | K14: =ROUNDUP(I14/J14,1) -> 27.5 | L14: 12 | M14: =IF(AND(H14>0,K14>0,L14>0),H14/K14/L14,0) -> 35321.209 | R14: 0 | U14: 0 | X14: 0 | Y14: ○ | Z14: 0.06
A15: 千葉 | B15: 11 | C15: 5 | D15: 6040005013525 | E15: NPO法人香取の地域福祉を考える会 | F15: 就労支援事業所ワークおみがわ | G15: 20 | H15: 2715409 | I15: 2510 | J15: 252 | K15: =ROUNDUP(I15/J15,1) -> 10 | L15: 12 | M15: =IF(AND(H15>0,K15>0,L15>0),H15/K15/L15,0) -> 22628.408 | P15: ○ | Q15: ○ | R15: 0.03 | U15: 0 | X15: 0 | Z15: 0
A16: 千葉 | B16: 12 | C16: 4 | D16: 9010401121542 | E16: アイル株式会社 | F16: Kai | G16: 20 | H16: 4079882 | I16: 3256 | J16: 243 | K16: =ROUNDUP(I16/J16,1) -> 13.4 | L16: 12 | M16: =IF(AND(H16>0,K16>0,L16>0),H16/K16/L16,0) -> 25372.4 | R16: 0 | U16: 0 | X16: 0 | Z16: 0
A17: 千葉 | B17: 13 | C17: 4 | D17: 2040003010503 | E17: ファミリースマイルそら合同会社 | F17: あおぞら事業所 | G17: 20 | H17: 3579188 | I17: 3773 | J17: 269 | K17: =ROUNDUP(I17/J17,1) -> 14.1 | L17: 12 | M17: =IF(AND(H17>0,K17>0,L17>0),H17/K17/L17,0) -> 21153.593 | R17: 0 | U17: 0 | X17: 0 | Z17: 0
A18: 千葉 | B18: 14 | C18: 4 | D18: 3040001076677 | E18: ゆり庵株式会社 | F18: わたつみ | G18: 20 | H18: 4116446 | I18: 3679 | J18: 269 | K18: =ROUNDUP(I18/J18,1) -> 13.7 | L18: 12 | M18: =IF(AND(H18>0,K18>0,L18>0),H18/K18/L18,0) -> 25039.209 | R18: 0 | U18: 0 | X18: 0 | Z18: 0
A19: 千葉 | B19: 15 | C19: 3 | D19: 5040005006884 | E19: 医療法人社団透光会 | F19: 医療法人社団透光会ひだまり | G19: 14 | H19: 4907246 | I19: 2405 | J19: 244 | K19: =ROUNDUP(I19/J19,1) -> 9.9 | L19: 12 | M19: =IF(AND(H19>0,K19>0,L19>0),H19/K19/L19,0) -> 41306.785 | P19: ○ | R19: 0.03 | U19: 0 | X19: 0 | Z19: 0
A20: 千葉 | B20: 16 | C20: 3 | D20: 3040005009939 | E20: 医療法人静和会 | F20: 多機能型 就労支援事業所 SUNFLOWER | G20: 20 | H20: 7107216 | I20: 4940 | J20: 243 | K20: =ROUNDUP(I20/J20,1) -> 20.4 | L20: 12 | M20: =IF(AND(H20>0,K20>0,L20>0),H20/K20/L20,0) -> 29032.745 | R20: 0 | U20: 0 | X20: 0 | Z20: 0
A21: 千葉 | B21: 17 | C21: 3 | D21: 2040005004338 | E21: 医療法人梨香会 | F21: あきもとふぁーまーず | G21: 20 | H21: 2847570 | I21: 2710 | J21: 293 | K21: =ROUNDUP(I21/J21,1) -> 9.3 | L21: 12 | M21: =IF(AND(H21>0,K21>0,L21>0),H21/K21/L21,0) -> 25515.86 | R21: 0 | U21: 0 | X21: 0 | Z21: 0
A22: 千葉 | B22: 18 | C22: 6 | D22: 5010905003496 | E22: 一般社団法人 ＳＨＩＯＮ | F22: 四恩の杜まつど | G22: 20 | H22: 905046 | I22: 1512 | J22: 304 | K22: =ROUNDUP(I22/J22,1) -> 5 | L22: 12 | M22: =IF(AND(H22>0,K22>0,L22>0),H22/K22/L22,0) -> 15084.1 | R22: 0 | U22: 0 | X22: 0 | Z22: 0
A23: 千葉 | B23: 19 | C23: 6 | D23: 3040005019178 | E23: 一般社団法人 岬やよい会 | F23: くつろぎ処 やよい | G23: 14 | H23: 1557183 | I23: 2069 | J23: 256 | K23: =ROUNDUP(I23/J23,1) -> 8.1 | L23: 12 | M23: =IF(AND(H23>0,K23>0,L23>0),H23/K23/L23,0) -> 16020.401 | P23: ○ | R23: 0.15 | U23: 0 | X23: 0 | Z23: 0
A24: 千葉 | B24: 20 | C24: 6 | D24: 1040005020303 | E24: 一般社団法人ＢＯＮＤＳ | F24: 就労継続支援Ｂ型事業所 ナイン | G24: 20 | H24: 2327890 | I24: 3517 | J24: 241 | K24: =ROUNDUP(I24/J24,1) -> 14.6 | L24: 12 | M24: =IF(AND(H24>0,K24>0,L24>0),H24/K24/L24,0) -> 13287.043 | R24: 0 | U24: 0 | X24: 0 | Z24: 0
A25: 千葉 | B25: 21 | C25: 6 | D25: 1040005017737 | E25: 一般社団法人happy choice | F25: ハッピーワーク松戸 | G25: 20 | H25: 2186575 | I25: 2835 | J25: 314 | K25: =ROUNDUP(I25/J25,1) -> 9.1 | L25: 12 | M25: =IF(AND(H25>0,K25>0,L25>0),H25/K25/L25,0) -> 20023.581 | R25: 0 | U25: 0 | X25: 0 | Y25: ○ | Z25: 0.25
A26: 千葉 | B26: 22 | C26: 6 | D26: 7040005018481 | E26: 一般社団法人あいのて | F26: ONE&Only Cafe ユーカリが丘 | G26: 20 | H26: 1668253 | I26: 1657 | J26: 243 | K26: =ROUNDUP(I26/J26,1) -> 6.9 | L26: 12 | M26: =IF(AND(H26>0,K26>0,L26>0),H26/K26/L26,0) -> 20147.983 | R26: 0 | U26: 0 | X26: 0 | Y26: ○ | Z26: 0.85
A27: 千葉 | B27: 23 | C27: 6 | D27: 7040005018481 | E27: 一般社団法人あいのて | F27: 就労センターあけぼの園 | G27: 14 | H27: 3427180 | I27: 3589 | J27: 293 | K27: =ROUNDUP(I27/J27,1) -> 12.3 | L27: 12 | M27: =IF(AND(H27>0,K27>0,L27>0),H27/K27/L27,0) -> 23219.377 | R27: 0 | U27: 0 | X27: 0 | Z27: 0
A28: 千葉 | B28: 24 | C28: 6 | D28: 6040005021081 | E28: 一般社団法人シンシアティ | F28: シンシアティ 第一かずさ | G28: 20 | H28: 11750000 | I28: 5280 | J28: 264 | K28: =ROUNDUP(I28/J28,1) -> 20 | L28: 12 | M28: =IF(AND(H28>0,K28>0,L28>0),H28/K28/L28,0) -> 48958.333 | P28: ○ | R28: 0.93 | U28: 0 | X28: 0 | Z28: 0
A29: 千葉 | B29: 25 | C29: 6 | D29: 4040005019912 | E29: 一般社団法人ロッタリンクス | F29: メロディーフラッグ | G29: 40 | H29: 3896439 | I29: 6249 | J29: 243 | K29: =ROUNDUP(I29/J29,1) -> 25.8 | L29: 12 | M29: =IF(AND(H29>0,K29>0,L29>0),H29/K29/L29,0) -> 12585.397 | R29: 0 | U29: 0 | X29: 0 | Y29: ○ | Z29: 0.35
A30: 千葉 | B30: 26 | C30: 6 | D30: 9040005019313 | E30: 一般社団法人紫宝会 | F30: クロス・スピリット | G30: 15 | H30: 3660060 | I30: 3572 | J30: 269 | K30: =ROUNDUP(I30/J30,1) -> 13.3 | L30: 12 | M30: =IF(AND(H30>0,K30>0,L30>0),H30/K30/L30,0) -> 22932.707 | P30: ○ | Q30: ○ | R30: 0.04 | U30: 0 | X30: 0 | Z30: 0
A31: 千葉 | B31: 27 | C31: 6 | D31: 5040005018681 | E31: 一般社団法人櫻会 | F31: 希望の橋 | G31: 10 | H31: 630187 | I31: 1854 | J31: 258 | K31: =ROUNDUP(I31/J31,1) -> 7.2 | L31: 12 | M31: =IF(AND(H31>0,K31>0,L31>0),H31/K31/L31,0) -> 7293.831 | R31: 0 | U31: 0 | X31: 0 | Z31: 0
A32: 千葉 | B32: 28 | C32: 2 | D32: 7010905000814 | E32: 社会福祉法人敬心福祉会 | F32: 浦安市障がい者福祉センター | G32: 45 | H32: 13826530 | I32: 9245 | J32: 243 | K32: =ROUNDUP(I32/J32,1) -> 38.1 | L32: 12 | M32: =IF(AND(H32>0,K32>0,L32>0),H32/K32/L32,0) -> 30241.754 | R32: 0 | U32: 0 | X32: 0 | Z32: 0
A33: 千葉 | B33: 29 | C33: 4 | D33: 1040001094648 | E33: 株式会社 dearmilieus | F33: 就労継続支援Ｂ型 レリＢ | G33: 20 | H33: 1860654 | I33: 5389 | J33: 261 | K33: =ROUNDUP(I33/J33,1) -> 20.7 | L33: 12 | M33: =IF(AND(H33>0,K33>0,L33>0),H33/K33/L33,0) -> 7490.5556 | R33: 0 | U33: 0 | X33: 0 | Y33: ○ | Z33: 0.37
A34: 千葉 | B34: 30 | C34: 4 | D34: 4010001038415 | E34: 株式会社 エヌ・ケー・アド | F34: プライアップ | G34: 20 | H34: 2480000 | I34: 2550 | J34: 257 | K34: =ROUNDUP(I34/J34,1) -> 10 | L34: 12 | M34: =IF(AND(H34>0,K34>0,L34>0),H34/K34/L34,0) -> 20666.667 | R34: 0 | U34: 0 | X34: 0 | Z34: 0
A35: 千葉 | B35: 31 | C35: 4 | D35: 1040001089796 | E35: 株式会社 ジャストオンアース | F35: ＦＡＣＴＯＲＹ | G35: 20 | H35: 1423025 | I35: 3233 | J35: 316 | K35: =ROUNDUP(I35/J35,1) -> 10.3 | L35: 12 | M35: =IF(AND(H35>0,K35>0,L35>0),H35/K35/L35,0) -> 11513.147 | R35: 0 | U35: 0 | X35: 0 | Y35: ○ | Z35: 0.05
A36: 千葉 | B36: 32 | C36: 4 | D36: 7040001036198 | E36: 株式会社 テクノハウス久我 | F36: ふれあいサロンさくら | G36: 20 | H36: 1668869 | I36: 1689 | J36: 251 | K36: =ROUNDUP(I36/J36,1) -> 6.8 | L36: 12 | M36: =IF(AND(H36>0,K36>0,L36>0),H36/K36/L36,0) -> 20451.826 | R36: 0 | U36: 0 | X36: 0 | Y36: ○ | Z36: 0.01
A37: 千葉 | B37: 33 | C37: 4 | D37: 9040001090169 | E37: 株式会社 プラスアップ | F37: ミラクル | G37: 20 | H37: 1621203 | I37: 1628 | J37: 246 | K37: =ROUNDUP(I37/J37,1) -> 6.7 | L37: 12 | M37: =IF(AND(H37>0,K37>0,L37>0),H37/K37/L37,0) -> 20164.216 | R37: 0 | U37: 0 | X37: 0 | Z37: 0
A38: 千葉 | B38: 34 | C38: 4 | D38: 3040001079639 | E38: 株式会社 楽笑会 | F38: 約束の樹きのこ村(旧：袖ケ浦きのこ村） | G38: 20 | H38: 3972255 | I38: 3505 | J38: 257 | K38: =ROUNDUP(I38/J38,1) -> 13.7 | L38: 12 | M38: =IF(AND(H38>0,K38>0,L38>0),H38/K38/L38,0) -> 24162.135 | P38: ○ | R38: 1 | U38: 0 | X38: 0 | Z38: 0
A39: 千葉 | B39: 35 | C39: 4 | D39: 1040001107120 | E39: 株式会社 彰栄 | F39: ステップアップ | G39: 20 | H39: 2411928 | I39: 4634 | J39: 290 | K39: =ROUNDUP(I39/J39,1) -> 16 | L39: 12 | M39: =IF(AND(H39>0,K39>0,L39>0),H39/K39/L39,0) -> 12562.125 | R39: 0 | U39: 0 | X39: 0 | Z39: 0
A40: 千葉 | B40: 36 | C40: 4 | D40: 7040001093776 | E40: 株式会社 未来夢 | F40: ファインドリーム | G40: 20 | H40: 4894096 | I40: 4132 | J40: 240 | K40: =ROUNDUP(I40/J40,1) -> 17.3 | L40: 12 | M40: =IF(AND(H40>0,K40>0,L40>0),H40/K40/L40,0) -> 23574.644 | R40: 0 | U40: 0 | X40: 0 | Y40: ○ | Z40: 0.1
A41: 千葉 | B41: 37 | C41: 4 | D41: 3040001110287 | E41: 株式会社Ｂ－ＡＣＴＩＶＥ | F41: 総活躍 君津 | G41: 20 | H41: 3049521 | I41: 3670 | J41: 240 | K41: =ROUNDUP(I41/J41,1) -> 15.3 | L41: 12 | M41: =IF(AND(H41>0,K41>0,L41>0),H41/K41/L41,0) -> 16609.592 | R41: 0 | U41: 0 | X41: 0 | Y41: ○ | Z41: 0.1
A42: 千葉 | B42: 38 | C42: 4 | D42: 8040001107816 | E42: 株式会社Ｂ－ＣＲＥＡＴＥ | F42: 総活躍 八千代 | G42: 20 | H42: 3952144 | I42: 4758 | J42: 240 | K42: =ROUNDUP(I42/J42,1) -> 19.9 | L42: 12 | M42: =IF(AND(H42>0,K42>0,L42>0),H42/K42/L42,0) -> 16550.017 | R42: 0 | U42: 0 | X42: 0 | Y42: ○ | Z42: 0.1
A43: 千葉 | B43: 39 | C43: 4 | D43: 6020001124229 | E43: 株式会社Ｂ－ＧＲＯＷ | F43: 総活躍 市原 | G43: 40 | H43: 6829632 | I43: 8287 | J43: 240 | K43: =ROUNDUP(I43/J43,1) -> 34.6 | L43: 12 | M43: =IF(AND(H43>0,K43>0,L43>0),H43/K43/L43,0) -> 16449.017 | R43: 0 | U43: 0 | X43: 0 | Y43: ○ | Z43: 0.22
A44: 千葉 | B44: 40 | C44: 4 | D44: 6020001124229 | E44: 株式会社Ｂ－ＧＲＯＷ | F44: 総活躍 袖ケ浦 | G44: 20 | H44: 2500760 | I44: 3143 | J44: 240 | K44: =ROUNDUP(I44/J44,1) -> 13.1 | L44: 12 | M44: =IF(AND(H44>0,K44>0,L44>0),H44/K44/L44,0) -> 15908.142 | R44: 0 | U44: 0 | X44: 0 | Y44: ○ | Z44: 0.25
A45: 千葉 | B45: 41 | C45: 4 | D45: 1040001106725 | E45: 株式会社Ｂ－ＳＴＥＰ | F45: 総活躍 鎌ヶ谷 | G45: 20 | H45: 3048034 | I45: 3898 | J45: 240 | K45: =ROUNDUP(I45/J45,1) -> 16.3 | L45: 12 | M45: =IF(AND(H45>0,K45>0,L45>0),H45/K45/L45,0) -> 15582.996 | R45: 0 | U45: 0 | X45: 0 | Y45: ○ | Z45: 0.25
A46: 千葉 | B46: 42 | C46: 4 | D46: 8040001104326 | E46: 株式会社Ｂ－ＷＩＮＧ | F46: 総活躍 松戸 | G46: 20 | H46: 3644501 | I46: 4507 | J46: 240 | K46: =ROUNDUP(I46/J46,1) -> 18.8 | L46: 12 | M46: =IF(AND(H46>0,K46>0,L46>0),H46/K46/L46,0) -> 16154.703 | R46: 0 | U46: 0 | X46: 0 | Y46: ○ | Z46: 0.12
A47: 千葉 | B47: 43 | C47: 4 | D47: 7040001105127 | E47: 株式会社Clover Life | F47: シロツメクサ | G47: 20 | H47: 5500367 | I47: 3622 | J47: 256 | K47: =ROUNDUP(I47/J47,1) -> 14.2 | L47: 12 | M47: =IF(AND(H47>0,K47>0,L47>0),H47/K47/L47,0) -> 32279.149 | R47: 0 | U47: 0 | X47: 0 | Z47: 0
A48: 千葉 | B48: 44 | C48: 4 | D48: 1040001094648 | E48: 株式会社dear milieus | F48: レリゴ 京成大久保 | G48: 20 | H48: 1523927 | I48: 4336 | J48: 260 | K48: =ROUNDUP(I48/J48,1) -> 16.7 | L48: 12 | M48: =IF(AND(H48>0,K48>0,L48>0),H48/K48/L48,0) -> 7604.4261 | R48: 0 | U48: 0 | X48: 0 | Y48: ○ | Z48: 0.2
A49: 千葉 | B49: 45 | C49: 4 | D49: 1040001083576 | E49: 株式会社ＨＡＬ | F49: はる | G49: 20 | H49: 2033425 | I49: 3351 | J49: 255 | K49: =ROUNDUP(I49/J49,1) -> 13.2 | L49: 12 | M49: =IF(AND(H49>0,K49>0,L49>0),H49/K49/L49,0) -> 12837.279 | R49: 0 | U49: 0 | X49: 0 | Z49: 0
A50: 千葉 | B50: 46 | C50: 4 | D50: 2010601037859 | E50: 株式会社MARS | F50: 就労継続支援B型事業所 TERRA | G50: 20 | H50: 5616475 | I50: 4269 | J50: 278 | K50: =ROUNDUP(I50/J50,1) -> 15.4 | L50: 12 | M50: =IF(AND(H50>0,K50>0,L50>0),H50/K50/L50,0) -> 30392.181 | R50: 0 | U50: 0 | X50: 0 | Z50: 0
A51: 千葉 | B51: 47 | C51: 4 | D51: 2010601037859 | E51: 株式会社ＭＡＲＳ | F51: 多機能型事業所 マーレ | G51: 14 | H51: 6249037 | I51: 5455 | J51: 303 | K51: =ROUNDUP(I51/J51,1) -> 18.1 | L51: 12 | M51: =IF(AND(H51>0,K51>0,L51>0),H51/K51/L51,0) -> 28770.889 | R51: 0 | U51: 0 | X51: 0 | Z51: 0
A52: 千葉 | B52: 48 | C52: 4 | D52: 3040001117084 | E52: 株式会社TRY | F52: 就労継続支援B型事業所「大丈夫」 | G52: 20 | H52: 5978442 | I52: 8716 | J52: 341 | K52: =ROUNDUP(I52/J52,1) -> 25.6 | L52: 12 | M52: =IF(AND(H52>0,K52>0,L52>0),H52/K52/L52,0) -> 19461.074 | P52: ○ | R52: 0.31 | U52: 0 | X52: 0 | Y52: ○ | Z52: 0.18
A53: 千葉 | B53: 49 | C53: 4 | D53: 7040001082077 | E53: 株式会社WARP | F53: 就労継続支援B型WARP | G53: 40 | H53: 2817710 | I53: 10743 | J53: 276 | K53: =ROUNDUP(I53/J53,1) -> 39 | L53: 12 | M53: =IF(AND(H53>0,K53>0,L53>0),H53/K53/L53,0) -> 6020.7479 | R53: 0 | U53: 0 | X53: 0 | Z53: 0
A54: 千葉 | B54: 50 | C54: 4 | D54: 3011801025405 | E54: 株式会社アースプロテクト | F54: 株式会社アースプロテクト 潤井戸支社 | G54: 20 | H54: 11882852 | I54: 5025 | J54: 283 | K54: =ROUNDUP(I54/J54,1) -> 17.8 | L54: 12 | M54: =IF(AND(H54>0,K54>0,L54>0),H54/K54/L54,0) -> 55631.33 | R54: 0 | U54: 0 | X54: 0 | Y54: ○ | Z54: 0.02
A55: 千葉 | B55: 51 | C55: 4 | D55: 5040001089636 | E55: 株式会社アウル | F55: アウル | G55: 20 | H55: 1799548 | I55: 2822 | J55: 246 | K55: =ROUNDUP(I55/J55,1) -> 11.5 | L55: 12 | M55: =IF(AND(H55>0,K55>0,L55>0),H55/K55/L55,0) -> 13040.203 | R55: 0 | U55: 0 | X55: 0 | Y55: ○ | Z55: 0.15
A56: 千葉 | B56: 52 | C56: 4 | D56: 9040001081473 | E56: 株式会社あさひサポート | F56: 就労継続支援B型事業所 あさひ工房 | G56: 20 | H56: 3616197 | I56: 3942 | J56: 239 | K56: =ROUNDUP(I56/J56,1) -> 16.5 | L56: 12 | M56: =IF(AND(H56>0,K56>0,L56>0),H56/K56/L56,0) -> 18263.621 | P56: ○ | R56: 0.73 | U56: 0 | X56: 0 | Z56: 0
A57: 千葉 | B57: 53 | C57: 4 | D57: 5040001037314 | E57: 株式会社イサカエンタープライズ | F57: 福祉事業部「結」 | G57: 20 | H57: 12577800 | I57: 4751 | J57: 255 | K57: =ROUNDUP(I57/J57,1) -> 18.7 | L57: 12 | M57: =IF(AND(H57>0,K57>0,L57>0),H57/K57/L57,0) -> 56050.802 | R57: 0 | U57: 0 | X57: 0 | Z57: 0
A58: 千葉 | B58: 54 | C58: 4 | D58: 6040001081492 | E58: 株式会社おおえどポカポカファーム | F58: おおえどの里 | G58: 20 | H58: 2210526 | I58: 1918 | J58: 254 | K58: =ROUNDUP(I58/J58,1) -> 7.6 | L58: 12 | M58: =IF(AND(H58>0,K58>0,L58>0),H58/K58/L58,0) -> 24238.224 | P58: ○ | R58: 0.29 | U58: 0 | X58: 0 | Z58: 0
A59: 千葉 | B59: 55 | C59: 4 | D59: 4040001050409 | E59: 株式会社オーノ | F59: メンタルステーションオーノ | G59: 20 | H59: 2911284 | I59: 2040 | J59: 253 | K59: =ROUNDUP(I59/J59,1) -> 8.1 | L59: 12 | M59: =IF(AND(H59>0,K59>0,L59>0),H59/K59/L59,0) -> 29951.481 | R59: 0 | U59: 0 | X59: 0 | Z59: 0
A60: 千葉 | B60: 56 | C60: 4 | D60: 7050001022825 | E60: 株式会社グッドライフ | F60: グッドライフ香取（みはる園） | G60: 14 | H60: 2341965 | I60: 3264 | J60: 310 | K60: =ROUNDUP(I60/J60,1) -> 10.6 | L60: 12 | M60: =IF(AND(H60>0,K60>0,L60>0),H60/K60/L60,0) -> 18411.675 | R60: 0 | U60: 0 | X60: 0 | Z60: 0
A61: 千葉 | B61: 57 | C61: 4 | D61: 7050001022825 | E61: 株式会社グッドライフ | F61: クロスロード東金 | G61: 20 | H61: 4771474 | I61: 4824 | J61: 269 | K61: =ROUNDUP(I61/J61,1) -> 18 | L61: 12 | M61: =IF(AND(H61>0,K61>0,L61>0),H61/K61/L61,0) -> 22090.157 | R61: 0 | U61: 0 | X61: 0 | Z61: 0
A62: 千葉 | B62: 58 | C62: 4 | D62: 2040001103374 | E62: 株式会社ここ | F62: 就労移行支援事業所 ここ | G62: 10 | H62: 1061605 | I62: 1236 | J62: 254 | K62: =ROUNDUP(I62/J62,1) -> 4.9 | L62: 12 | M62: =IF(AND(H62>0,K62>0,L62>0),H62/K62/L62,0) -> 18054.507 | P62: ○ | R62: 0.02 | U62: 0 | X62: 0 | Z62: 0
A63: 千葉 | B63: 59 | C63: 4 | D63: 7040001053334 | E63: 株式会社コッペ | F63: 多機能型事業所コッペ | G63: 40 | H63: 6342032 | I63: 7666 | J63: 239 | K63: =ROUNDUP(I63/J63,1) -> 32.1 | L63: 12 | M63: =IF(AND(H63>0,K63>0,L63>0),H63/K63/L63,0) -> 16464.258 | R63: 0 | U63: 0 | X63: 0 | Y63: ○ | Z63: 0.02
A64: 千葉 | B64: 60 | C64: 4 | D64: 1040001098302 | E64: 株式会社チバマリア | F64: マリア就労支援事業所 | G64: 40 | H64: 4974200 | I64: 10320 | J64: 258 | K64: =ROUNDUP(I64/J64,1) -> 40 | L64: 12 | M64: =IF(AND(H64>0,K64>0,L64>0),H64/K64/L64,0) -> 10362.917 | R64: 0 | U64: 0 | X64: 0 | Z64: 0
A65: 千葉 | B65: 61 | C65: 4 | D65: 2030001119462 | E65: 株式会社ちばらく | F65: カレッジ | K65: =ROUNDUP(I65/J65,1) -> #DIV/0! | M65: =IF(AND(H65>0,K65>0,L65>0),H65/K65/L65,0) -> #DIV/0! | R65: 0 | U65: 0 | X65: 0 | Z65: 0
A66: 千葉 | B66: 62 | C66: 4 | D66: 5040001062717 | E66: 株式会社ひばり | F66: ヒバリワークショップ | G66: 20 | H66: 1482474 | I66: 3383 | J66: 255 | K66: =ROUNDUP(I66/J66,1) -> 13.3 | L66: 12 | M66: =IF(AND(H66>0,K66>0,L66>0),H66/K66/L66,0) -> 9288.6842 | R66: 0 | U66: 0 | X66: 0 | Z66: 0
A67: 千葉 | B67: 63 | C67: 4 | D67: 3040001099100 | E67: 株式会社みらい | F67: 黄色いハンカチ | G67: 10 | H67: 5998300 | I67: 3391 | J67: 255 | K67: =ROUNDUP(I67/J67,1) -> 13.3 | L67: 12 | M67: =IF(AND(H67>0,K67>0,L67>0),H67/K67/L67,0) -> 37583.333 | R67: 0 | U67: 0 | X67: 0 | Z67: 0
A68: 千葉 | B68: 64 | C68: 4 | D68: 9040001099227 | E68: 株式会社北千葉みらいホールディングス | F68: みらいキャリアサポート印西牧の原 | G68: 20 | H68: 6627760 | I68: 3781 | J68: 278 | K68: =ROUNDUP(I68/J68,1) -> 13.7 | L68: 12 | M68: =IF(AND(H68>0,K68>0,L68>0),H68/K68/L68,0) -> 40314.842 | R68: 0 | U68: 0 | X68: 0 | Z68: 0
A69: 千葉 | B69: 65 | C69: 4 | D69: 2040001081661 | E69: 株式会社むうと | F69: むうと | G69: 20 | H69: 1387862 | I69: 2226 | J69: 246 | K69: =ROUNDUP(I69/J69,1) -> 9.1 | L69: 12 | M69: =IF(AND(H69>0,K69>0,L69>0),H69/K69/L69,0) -> 12709.359 | R69: 0 | U69: 0 | X69: 0 | Z69: 0
A70: 千葉 | B70: 66 | C70: 4 | D70: 9410001010262 | E70: 株式会社ライフサポートピュアジャパン | F70: 安房かつやま弁当 | G70: 20 | H70: 1663439 | I70: 1752 | J70: 245 | K70: =ROUNDUP(I70/J70,1) -> 7.2 | L70: 12 | M70: =IF(AND(H70>0,K70>0,L70>0),H70/K70/L70,0) -> 19252.766 | P70: ○ | R70: 0.01 | U70: 0 | X70: 0 | Z70: 0
A71: 千葉 | B71: 67 | C71: 4 | D71: 4040001107183 | E71: 株式会社ラブレ | F71: クレール佐倉 | G71: 20 | H71: 2666855 | I71: 3004 | J71: 240 | K71: =ROUNDUP(I71/J71,1) -> 12.6 | L71: 12 | M71: =IF(AND(H71>0,K71>0,L71>0),H71/K71/L71,0) -> 17637.93 | P71: ○ | R71: 0.03 | U71: 0 | X71: 0 | Z71: 0
A72: 千葉 | B72: 68 | C72: 4 | D72: 7040001106488 | E72: 株式会社りんくあっぷ | F72: 直売所りんくあっぷ | G72: 20 | H72: 2317749 | I72: 2461 | J72: 308 | K72: =ROUNDUP(I72/J72,1) -> 8 | L72: 12 | M72: =IF(AND(H72>0,K72>0,L72>0),H72/K72/L72,0) -> 24143.219 | P72: ○ | R72: 0.14 | U72: 0 | X72: 0 | Z72: 0
A73: 千葉 | B73: 69 | C73: 4 | D73: 4340001006818 | E73: 株式会社ワークステージつばさ | F73: ひだまり | G73: 30 | H73: 12917019 | I73: 8219 | J73: 310 | K73: =ROUNDUP(I73/J73,1) -> 26.6 | L73: 12 | M73: =IF(AND(H73>0,K73>0,L73>0),H73/K73/L73,0) -> 40466.852 | R73: 0 | U73: 0 | X73: 0 | Z73: 0
A74: 千葉 | B74: 70 | C74: 4 | D74: 8040001078504 | E74: 株式会社三星 | F74: ゆあぽーと | G74: 20 | H74: 1985607 | I74: 3020 | J74: 249 | K74: =ROUNDUP(I74/J74,1) -> 12.2 | L74: 12 | M74: =IF(AND(H74>0,K74>0,L74>0),H74/K74/L74,0) -> 13562.889 | R74: 0 | U74: 0 | X74: 0 | Z74: 0
A75: 千葉 | B75: 71 | C75: 4 | D75: 6040001083514 | E75: 株式会社徳正 | F75: sora-cafe | G75: 20 | H75: 4239429 | I75: 1943 | J75: 251 | K75: =ROUNDUP(I75/J75,1) -> 7.8 | L75: 12 | M75: =IF(AND(H75>0,K75>0,L75>0),H75/K75/L75,0) -> 45293.045 | R75: 0 | U75: 0 | X75: 0 | Z75: 0
A76: 千葉 | B76: 72 | C76: 4 | D76: 6040001090782 | E76: 株式会社美能 | F76: 美能 | G76: 20 | H76: 4361770 | I76: 3923 | J76: 239 | K76: =ROUNDUP(I76/J76,1) -> 16.5 | L76: 12 | M76: =IF(AND(H76>0,K76>0,L76>0),H76/K76/L76,0) -> 22029.141 | R76: 0 | U76: 0 | X76: 0 | Z76: 0
A77: 千葉 | B77: 73 | C77: 4 | D77: 3040001094142 | E77: 株式会社夢のカタチ | F77: ブドウの実 | G77: 20 | H77: 5910420 | I77: 3394 | J77: 253 | K77: =ROUNDUP(I77/J77,1) -> 13.5 | L77: 12 | M77: =IF(AND(H77>0,K77>0,L77>0),H77/K77/L77,0) -> 36484.074 | P77: ○ | R77: 0.52 | U77: 0 | X77: 0 | Z77: 0
A78: 千葉 | B78: 74 | C78: 4 | D78: 7040001058787 | E78: 株式会社和光 | F78: たま工房 | G78: 20 | H78: 4157750 | I78: 5719 | J78: 269 | K78: =ROUNDUP(I78/J78,1) -> 21.3 | L78: 12 | M78: =IF(AND(H78>0,K78>0,L78>0),H78/K78/L78,0) -> 16266.628 | R78: 0 | U78: 0 | X78: 0 | Z78: 0
A79: 千葉 | B79: 75 | C79: 4 | D79: 7040001058787 | E79: 株式会社和光 | F79: とようみ工房 | G79: 10 | H79: 3396450 | I79: 4554 | J79: 269 | K79: =ROUNDUP(I79/J79,1) -> 17 | L79: 12 | M79: =IF(AND(H79>0,K79>0,L79>0),H79/K79/L79,0) -> 16649.265 | R79: 0 | U79: 0 | X79: 0 | Z79: 0
A80: 千葉 | B80: 76 | C80: 4 | D80: 7040001058787 | E80: 株式会社和光 | F80: フレンズ東金 | G80: 20 | H80: 4283210 | I80: 5780 | J80: 269 | K80: =ROUNDUP(I80/J80,1) -> 21.5 | L80: 12 | M80: =IF(AND(H80>0,K80>0,L80>0),H80/K80/L80,0) -> 16601.589 | R80: 0 | U80: 0 | X80: 0 | Z80: 0
A81: 千葉 | B81: 77 | C81: 4 | D81: 1040005019436 | E81: 企業組合とも | F81: 多機能型事業所 さいわい | G81: 10 | H81: 865240 | I81: 2250 | J81: 250 | K81: =ROUNDUP(I81/J81,1) -> 9 | L81: 12 | M81: =IF(AND(H81>0,K81>0,L81>0),H81/K81/L81,0) -> 8011.4815 | R81: 0 | U81: 0 | X81: 0 | Z81: 0
A82: 千葉 | B82: 78 | C82: 6 | D82: 5040005014771 | E82: 企業組合ワーカーズ・コレクティブ紙ふうせん | F82: 就労継続支援Ｂ型「紙ふうせん」 | G82: 20 | H82: 2641048 | I82: 3343 | J82: 241 | K82: =ROUNDUP(I82/J82,1) -> 13.9 | L82: 12 | M82: =IF(AND(H82>0,K82>0,L82>0),H82/K82/L82,0) -> 15833.621 | R82: 0 | U82: 0 | X82: 0 | Z82: 0
A83: 千葉 | B83: 79 | C83: 6 | D83: 6013305000633 | E83: 労働者協同組合労協センター事業団 | F83: 松戸地域福祉事業所 多機能型訓練事業所あじさい | G83: 14 | H83: 1424742 | I83: 2245 | J83: 256 | K83: =ROUNDUP(I83/J83,1) -> 8.8 | L83: 12 | M83: =IF(AND(H83>0,K83>0,L83>0),H83/K83/L83,0) -> 13491.875 | R83: 0 | U83: 0 | X83: 0 | Z83: 0
A84: 千葉 | B84: 80 | C84: 4 | D84: 2040003014578 | E84: 合同会社スリ－アップ | F84: 君津市福祉作業所ミツバ園 | G84: 20 | H84: 3328839 | I84: 3656 | J84: 242 | K84: =ROUNDUP(I84/J84,1) -> 15.2 | L84: 12 | M84: =IF(AND(H84>0,K84>0,L84>0),H84/K84/L84,0) -> 18250.214 | R84: 0 | U84: 0 | X84: 0 | Z84: 0
A85: 千葉 | B85: 81 | C85: 6 | D85: 4040005013304 | E85: 公益財団法人和泉福祉会 | F85: 多機能型事業所 いずみの家 | G85: 20 | H85: 1738350 | I85: 2031 | J85: 239 | K85: =ROUNDUP(I85/J85,1) -> 8.5 | L85: 12 | M85: =IF(AND(H85>0,K85>0,L85>0),H85/K85/L85,0) -> 17042.647 | R85: 0 | U85: 0 | X85: 0 | Z85: 0
A86: 千葉 | B86: 82 | C86: 4 | D86: 8040003002866 | E86: 合資会社もてぎ | F86: 地域作業所 和楽 | G86: 20 | H86: 1200854 | I86: 2443 | J86: 302 | K86: =ROUNDUP(I86/J86,1) -> 8.1 | L86: 12 | M86: =IF(AND(H86>0,K86>0,L86>0),H86/K86/L86,0) -> 12354.465 | R86: 0 | U86: 0 | X86: 0 | Z86: 0
A87: 千葉 | B87: 83 | C87: 4 | D87: 9020003014400 | E87: 合同会社 影法師 | F87: 就労継続支援B型 BB団の箱 | G87: 20 | H87: 2930454 | I87: 4321 | J87: 256 | K87: =ROUNDUP(I87/J87,1) -> 16.9 | L87: 12 | M87: =IF(AND(H87>0,K87>0,L87>0),H87/K87/L87,0) -> 14449.97 | R87: 0 | U87: 0 | X87: 0 | Z87: 0.15
A88: 千葉 | B88: 84 | C88: 4 | D88: 8040003007064 | E88: 合同会社 三愛 | F88: 三愛ワークス | G88: 20 | H88: 5196500 | I88: 5574 | J88: 270 | K88: =ROUNDUP(I88/J88,1) -> 20.7 | L88: 12 | M88: =IF(AND(H88>0,K88>0,L88>0),H88/K88/L88,0) -> 20919.887 | P88: ○ | R88: 0.01 | U88: 0 | X88: 0 | Z88: 0
A89: 千葉 | B89: 85 | C89: 4 | D89: 6040003014038 | E89: 合同会社ＫＩＺＵＮＡ | F89: オフィス・キズナ | G89: 20 | H89: 1756404 | I89: 1300 | J89: 240 | K89: =ROUNDUP(I89/J89,1) -> 5.5 | L89: 12 | M89: =IF(AND(H89>0,K89>0,L89>0),H89/K89/L89,0) -> 26612.182 | R89: 0 | U89: 0 | X89: 0 | Y89: ○ | Z89: 0.05
A90: 千葉 | B90: 86 | C90: 4 | D90: 2040003011856 | E90: 合同会社Ｌ・Ｉ・Ｃ | F90: サポートセンター『ＢＩＲＤ』袖ヶ浦 | G90: 20 | H90: 3213082 | I90: 3227 | J90: 252 | K90: =ROUNDUP(I90/J90,1) -> 12.9 | L90: 12 | M90: =IF(AND(H90>0,K90>0,L90>0),H90/K90/L90,0) -> 20756.344 | P90: ○ | R90: 0.19 | U90: 0 | X90: 0 | Z90: 0
A91: 千葉 | B91: 87 | C91: 4 | D91: 6040003012603 | E91: 合同会社La vie | F91: 就労継続支援Ｂ型事業所 La vie＋ | G91: 20 | H91: 897491 | I91: 983 | J91: 237 | K91: =ROUNDUP(I91/J91,1) -> 4.2 | L91: 12 | M91: =IF(AND(H91>0,K91>0,L91>0),H91/K91/L91,0) -> 17807.361 | R91: 0 | U91: 0 | X91: 0 | Z91: 0
A92: 千葉 | B92: 88 | C92: 4 | D92: 3040003013934 | E92: 合同会社MTR | F92: 福祉作業所ほのぼの | G92: 20 | H92: 745650 | I92: 1291 | J92: 239 | K92: =ROUNDUP(I92/J92,1) -> 5.5 | L92: 12 | M92: =IF(AND(H92>0,K92>0,L92>0),H92/K92/L92,0) -> 11297.727 | R92: 0 | U92: 0 | X92: 0 | Z92: 0
A93: 千葉 | B93: 89 | C93: 4 | D93: 2040003015188 | E93: 合同会社ＯＮＥ ＨＥＡＲＴ松戸 | F93: ＯＮＥ ＨＥＡＲＴ松戸 | G93: 20 | H93: 3004793 | I93: 4610 | J93: 243 | K93: =ROUNDUP(I93/J93,1) -> 19 | L93: 12 | M93: =IF(AND(H93>0,K93>0,L93>0),H93/K93/L93,0) -> 13178.917 | R93: 0 | U93: 0 | X93: 0 | Z93: 0
A94: 千葉 | B94: 90 | C94: 4 | D94: 7040003012569 | E94: 合同会社アガタ | F94: アガタ | G94: 20 | H94: 1317571 | I94: 2429 | J94: 262 | K94: =ROUNDUP(I94/J94,1) -> 9.3 | L94: 12 | M94: =IF(AND(H94>0,K94>0,L94>0),H94/K94/L94,0) -> 11806.192 | P94: ○ | R94: 0.32 | U94: 0 | X94: 0 | Z94: 0
A95: 千葉 | B95: 91 | C95: 4 | D95: 5040003014369 | E95: 合同会社ウィズ | F95: 就労継続支援B型事業所フォロー | G95: 20 | H95: 6817300 | I95: 6211 | J95: 365 | K95: =ROUNDUP(I95/J95,1) -> 17.1 | L95: 12 | M95: =IF(AND(H95>0,K95>0,L95>0),H95/K95/L95,0) -> 33222.71 | R95: 0 | U95: 0 | X95: 0 | Z95: 0
A96: 千葉 | B96: 92 | C96: 4 | D96: 5040003014369 | E96: 合同会社ウィズ | F96: 就労継続支援B型事業所フォロー第２事業所 | G96: 20 | H96: 7010550 | I96: 6661 | J96: 365 | K96: =ROUNDUP(I96/J96,1) -> 18.3 | L96: 12 | M96: =IF(AND(H96>0,K96>0,L96>0),H96/K96/L96,0) -> 31924.18 | R96: 0 | U96: 0 | X96: 0 | Z96: 0
A97: 千葉 | B97: 93 | C97: 4 | D97: 5040003014369 | E97: 合同会社ウィズ | F97: 就労継続支援Ｂ型事業所フォロー第３事業所 | G97: 20 | H97: 7039550 | I97: 5913 | J97: 365 | K97: =ROUNDUP(I97/J97,1) -> 16.2 | L97: 12 | M97: =IF(AND(H97>0,K97>0,L97>0),H97/K97/L97,0) -> 36211.677 | R97: 0 | U97: 0 | X97: 0 | Z97: 0
A98: 千葉 | B98: 94 | C98: 4 | D98: 9040003014076 | E98: 合同会社グランツ | F98: グランツ | G98: 20 | H98: 1198200 | I98: 2162 | J98: 240 | K98: =ROUNDUP(I98/J98,1) -> 9.1 | L98: 12 | M98: =IF(AND(H98>0,K98>0,L98>0),H98/K98/L98,0) -> 10972.527 | R98: 0 | U98: 0 | X98: 0 | Y98: ○ | Z98: 0.02
A99: 千葉 | B99: 95 | C99: 4 | D99: 2040003014578 | E99: 合同会社スリーアップ | F99: 約束の樹 | G99: 20 | H99: 5893477 | I99: 5636 | J99: 268 | K99: =ROUNDUP(I99/J99,1) -> 21.1 | L99: 12 | M99: =IF(AND(H99>0,K99>0,L99>0),H99/K99/L99,0) -> 23275.976 | R99: 0 | U99: 0 | X99: 0 | Z99: 0
A100: 千葉 | B100: 96 | C100: 4 | D100: 2040003014578 | E100: 合同会社スリーアップ | F100: 約束の樹 久保店 | G100: 20 | H100: 6501053 | I100: 6321 | J100: 268 | K100: =ROUNDUP(I100/J100,1) -> 23.6 | L100: 12 | M100: =IF(AND(H100>0,K100>0,L100>0),H100/K100/L100,0) -> 22955.696 | R100: 0 | U100: 0 | X100: 0 | Z100: 0
...
