Workbook
Name \a: #REF!
Name \a: #REF!
Name \b: '[1]98'!#REF!
Name \b: '[1]98'!#REF!
Name \c: #REF!
Name \c: #REF!
Name \d: #N/A
Name a: '[1]117-120'!#REF!
Name a: '[1]117-120'!#REF!
Name aaa: #REF!
Name aaa: #REF!
Name TRIMEAN: '[1]205-208'!#REF!
Name TRIMEAN: '[1]205-208'!#REF!
Name TRRIMEAN: '[1]205-208'!#REF!
Name TRRIMEAN: '[1]205-208'!#REF!
Name あああ: #REF!
Name あああ: #REF!
Name 印刷\A: '[1]101'!#REF!
Name 印刷\A: '[1]101'!#REF!
Name 印刷\B: '[1]101'!#REF!
Name 印刷\B: '[1]101'!#REF!

Sheet 16(1)
J1: Ⅲ 国 勢 | K1: 調 査
J3: 16．国 勢 調 査 に よ る 大 字 別 | K3: 世 帯 数 及 び 人 口 (令和 2 年)
A5: この表は令和2年国勢調査による10月1日現在の数値である。
A6: 地 区 ･ 大 字 | B6: 世 帯 数 | C6: 人 口 | F6: 地 区 ･ 大 字 | G6: 世 帯 数 | H6: 人 口 | K6: 地 区 ･ 大 字 | L6: 世 帯 数 | M6: 人 口 | P6: 地 区 ･ 大 字 | Q6: 世 帯 数 | R6: 人 口
C7: 総 数 | D7: 男 | E7: 女 | H7: 総 数 | I7: 男 | J7: 女 | M7: 総 数 | N7: 男 | O7: 女 | R7: 総 数 | S7: 男 | T7: 女
A8: 総 数 | B8: 117997 | C8: 269524 | D8: 138438 | E8: 131086 | F8: 君 塚 | G8: - | H8: - | I8: - | J8: - | K8: 国分寺台中央六丁目 | L8: 224 | M8: 566 | N8: 266 | O8: 300 | P8: 若 宮 二 丁 目 | Q8: 313 | R8: 677 | S8: 324 | T8: 353
F9: 君 塚 一 丁 目 | G9: 648 | H9: 1354 | I9: 740 | J9: 614 | K9: 国分寺台中央七丁目 | L9: 303 | M9: 711 | N9: 354 | O9: 357 | P9: 若 宮 三 丁 目 | Q9: 262 | R9: 584 | S9: 277 | T9: 307
A10: 五 井 地 区 計 | B10: =SUM(B12:B66,G8:G34) -> 28382 | C10: =SUM(C12:C66,H8:H34) -> 60380 | D10: =SUM(D12:D66,I8:I34) -> 32205 | E10: =SUM(E12:E66,J8:J34) -> 28175 | F10: 君 塚 二 丁 目 | G10: 474 | H10: 893 | I10: 488 | J10: 405 | K10: 東国分寺台一丁目 | L10: 292 | M10: 662 | N10: 323 | O10: 339 | P10: 若 宮 四 丁 目 | Q10: 306 | R10: 664 | S10: 299 | T10: 365
F11: 君 塚 三 丁 目 | G11: 499 | H11: 960 | I11: 534 | J11: 426 | K11: 東国分寺台二丁目 | L11: 181 | M11: 390 | N11: 192 | O11: 198 | P11: 若 宮 五 丁 目 | Q11: 223 | R11: 544 | S11: 269 | T11: 275
A12: 千 種 海 岸 | B12: - | C12: - | D12: - | E12: - | F12: 君 塚 四 丁 目 | G12: 445 | H12: 864 | I12: 489 | J12: 375 | K12: 東国分寺台三丁目 | L12: 195 | M12: 455 | N12: 237 | O12: 218 | P12: 若 宮 六 丁 目 | Q12: 278 | R12: 665 | S12: 321 | T12: 344
A13: 五 井 南 海 岸 | B13: - | C13: - | D13: - | E13: - | F13: 君 塚 五 丁 目 | G13: 758 | H13: 1624 | I13: 817 | J13: 807 | K13: 東国分寺台四丁目 | L13: 185 | M13: 459 | N13: 243 | O13: 216 | P13: 若 宮 七 丁 目 | Q13: 70 | R13: 182 | S13: 87 | T13: 95
A14: 五 井 海 岸 | B14: - | C14: - | D14: - | E14: - | F14: 白金町一丁目 | G14: 176 | H14: 372 | I14: 222 | J14: 150 | K14: 東国分寺台五丁目 | L14: 186 | M14: 401 | N14: 211 | O14: 190
A15: 青 柳 | B15: 1353 | C15: 2936 | D15: 1585 | E15: 1351 | F15: 白金町二丁目 | G15: 203 | H15: 410 | I15: 240 | J15: 170 | K15: 南国分寺台一丁目 | L15: 162 | M15: 395 | N15: 204 | O15: 191 | P15: 姉 崎 地 区 計 | Q15: =SUM(Q17:Q41) -> 13571 | R15: =SUM(R17:R41) -> 28825 | S15: =SUM(S17:S41) -> 14975 | T15: =SUM(T17:T41) -> 13850
A16: 青 柳 一 丁 目 | B16: 155 | C16: 283 | D16: 165 | E16: 118 | F16: 白金町三丁目 | G16: 137 | H16: 288 | I16: 172 | J16: 116 | K16: 南国分寺台二丁目 | L16: 149 | M16: 353 | N16: 184 | O16: 169
A17: 青 柳 二 丁 目 | B17: 76 | C17: 153 | D17: 86 | E17: 67 | F17: 白金町四丁目 | G17: 278 | H17: 493 | I17: 282 | J17: 211 | K17: 南国分寺台三丁目 | L17: 178 | M17: 402 | N17: 177 | O17: 225 | P17: 姉 崎 海 岸 | Q17: X | R17: X | S17: X | T17: X
A18: 青 柳 三 丁 目 | B18: 142 | C18: 232 | D18: 131 | E18: 101 | F18: 白金町五丁目 | G18: 114 | H18: 198 | I18: 114 | J18: 84 | K18: 南国分寺台四丁目 | L18: 201 | M18: 397 | N18: 200 | O18: 197 | P18: 椎 津 | Q18: 1642 | R18: 3821 | S18: 1936 | T18: 1885
A19: 青柳北一丁目 | B19: - | C19: - | D19: - | E19: - | F19: 白金町六丁目 | G19: 82 | H19: 163 | I19: 90 | J19: 73 | K19: 南国分寺台五丁目 | L19: 230 | M19: 510 | N19: 254 | O19: 256 | P19: 姉 崎 | Q19: 5554 | R19: 11043 | S19: 5943 | T19: 5100
A20: 青柳北二丁目 | B20: X | C20: X | D20: X | E20: X | F20: 五井中央東一丁目 | G20: 337 | H20: 553 | I20: 285 | J20: 268 | K20: 西国分寺台一丁目 | L20: 350 | M20: 724 | N20: 373 | O20: 351 | P20: 畑 木 | Q20: 154 | R20: 287 | S20: 138 | T20: 149
A21: 青柳北三丁目 | B21: 17 | C21: 35 | D21: 21 | E21: 14 | F21: 五井中央東二丁目 | G21: 661 | H21: 987 | I21: 544 | J21: 443 | K21: 西国分寺台二丁目 | L21: 341 | M21: 803 | N21: 425 | O21: 378 | P21: 柏 原 | Q21: 80 | R21: 266 | S21: 110 | T21: 156
A22: 青柳北四丁目 | B22: 39 | C22: 75 | D22: 44 | E22: 31 | F22: 千 種 五 丁 目 | G22: 206 | H22: 533 | I22: 277 | J22: 256 | K22: 北国分寺台一丁目 | L22: 264 | M22: 610 | N22: 304 | O22: 306 | P22: 白 塚 | Q22: 279 | R22: 618 | S22: 302 | T22: 316
A23: 松 ケ 島 | B23: 379 | C23: 868 | D23: 472 | E23: 396 | F23: 千 種 六 丁 目 | G23: 105 | H23: 375 | I23: 197 | J23: 178 | K23: 北国分寺台二丁目 | L23: 251 | M23: 582 | N23: 289 | O23: 293 | P23: 今 津 朝 山 | Q23: 958 | R23: 1854 | S23: 1023 | T23: 831
A24: 松ケ島一丁目 | B24: 223 | C24: 538 | D24: 288 | E24: 250 | F24: 千 種 七 丁 目 | G24: 379 | H24: 915 | I24: 503 | J24: 412 | K24: 北国分寺台三丁目 | L24: 195 | M24: 475 | N24: 236 | O24: 239 | P24: 青葉台一丁目 | Q24: 389 | R24: 947 | S24: 457 | T24: 490
A25: 松ケ島二丁目 | B25: 375 | C25: 1013 | D25: 543 | E25: 470 | F25: 五井西一丁目 | G25: 187 | H25: 358 | I25: 197 | J25: 161 | K25: 北国分寺台四丁目 | L25: 469 | M25: 1086 | N25: 549 | O25: 537 | P25: 青葉台二丁目 | Q25: 476 | R25: 1072 | S25: 533 | T25: 539
A26: 松 ケ 島 西 | B26: 6 | C26: 6 | D26: 6 | E26: - | F26: 五井西二丁目 | G26: 546 | H26: 1206 | I26: 662 | J26: 544 | K26: 北国分寺台五丁目 | L26: 232 | M26: 571 | N26: 291 | O26: 280 | P26: 青葉台三丁目 | Q26: 483 | R26: 1054 | S26: 516 | T26: 538
A27: 岩 崎 | B27: 56 | C27: 123 | D27: 63 | E27: 60 | F27: 五井西三丁目 | G27: 233 | H27: 532 | I27: 291 | J27: 241 | K27: 諏 訪 一 丁 目 | L27: 207 | M27: 498 | N27: 256 | O27: 242 | P27: 青葉台四丁目 | Q27: 428 | R27: 1018 | S27: 501 | T27: 517
A28: 岩 崎 一 丁 目 | B28: 489 | C28: 1187 | D28: 628 | E28: 559 | F28: 五井西四丁目 | G28: 616 | H28: 1345 | I28: 719 | J28: 626 | K28: 諏 訪 二 丁 目 | L28: 188 | M28: 503 | N28: 255 | O28: 248 | P28: 青葉台五丁目 | Q28: 270 | R28: 639 | S28: 306 | T28: 333
A29: 岩 崎 二 丁 目 | B29: 131 | C29: 297 | D29: 162 | E29: 135 | F29: 五井西五丁目 | G29: 378 | H29: 800 | I29: 430 | J29: 370 | P29: 青葉台六丁目 | Q29: 393 | R29: 912 | S29: 430 | T29: 482
A30: 岩 崎 西 | B30: 34 | C30: 87 | D30: 45 | E30: 42 | F30: 五井西六丁目 | G30: 327 | H30: 796 | I30: 408 | J30: 388 | K30: 市 原 地 区 計 | L30: =SUM(L32:L66,Q8:Q13) -> 23451 | M30: =SUM(M32:M66,R8:R13) -> 50189 | N30: =SUM(N32:N66,S8:S13) -> 25740 | O30: =SUM(O32:O66,T8:T13) -> 24449 | P30: 青葉台七丁目 | Q30: 520 | R30: 1206 | S30: 581 | T30: 625
A31: 玉 前 | B31: 609 | C31: 1159 | D31: 636 | E31: 523 | F31: 五井西七丁目 | G31: 300 | H31: 713 | I31: 383 | J31: 330 | P31: 青葉台八丁目 | Q31: 189 | R31: 411 | S31: 209 | T31: 202
A32: 玉前西一丁目 | B32: 6 | C32: 13 | D32: 8 | E32: 5 | F32: 五井中央西一丁目 | G32: 444 | H32: 743 | I32: 394 | J32: 349 | K32: 八 幡 海 岸 通 | L32: 303 | M32: 426 | N32: 317 | O32: 109 | P32: 千 種 一 丁 目 | Q32: 137 | R32: 194 | S32: 141 | T32: 53
A33: 玉前西二丁目 | B33: 21 | C33: 48 | D33: 24 | E33: 24 | F33: 五井中央西二丁目 | G33: 283 | H33: 524 | I33: 249 | J33: 275 | K33: 八幡浦一丁目 | L33: X | M33: X | N33: X | O33: X | P33: 千 種 二 丁 目 | Q33: 228 | R33: 561 | S33: 282 | T33: 279
A34: 玉前西三丁目 | B34: - | C34: - | D34: - | E34: - | F34: 五井中央西三丁目 | G34: 100 | H34: 165 | I34: 92 | J34: 73 | K34: 八幡浦二丁目 | L34: - | M34: - | N34: - | O34: - | P34: 千 種 三 丁 目 | Q34: 233 | R34: 585 | S34: 295 | T34: 290
A35: 出 津 | B35: 306 | C35: 674 | D35: 350 | E35: 324 | K35: 八 幡 | L35: 6063 | M35: 12240 | N35: 6357 | O35: 5883 | P35: 千 種 四 丁 目 | Q35: 116 | R35: 352 | S35: 183 | T35: 169
A36: 出 津 西 | B36: X | C36: X | D36: X | E36: X | F36: 国分寺台地区 計 | G36: =SUM(G38:G66,L8:L28) -> 11167 | H36: =SUM(H38:H66,M8:M28) -> 25776 | I36: =SUM(I38:I66,N8:N28) -> 13073 | J36: =SUM(J38:J66,O8:O28) -> 12703 | K36: 八幡北町一丁目 | L36: 271 | M36: 379 | N36: 238 | O36: 141 | P36: 姉崎西一丁目 | Q36: 246 | R36: 395 | S36: 238 | T36: 157
A37: 飯 沼 | B37: 859 | C37: 1899 | D37: 997 | E37: 902 | K37: 八幡北町二丁目 | L37: 173 | M37: 344 | N37: 186 | O37: 158 | P37: 姉崎西二丁目 | Q37: 291 | R37: 517 | S37: 270 | T37: 247
A38: 島 野 | B38: 1452 | C38: 3160 | D38: 1723 | E38: 1437 | F38: 西 広 一 丁 目 | G38: 284 | H38: 727 | I38: 348 | J38: 379 | K38: 八幡北町三丁目 | L38: 124 | M38: 202 | N38: 118 | O38: 84 | P38: 姉崎西三丁目 | Q38: 236 | R38: 535 | S38: 296 | T38: 239
A39: 野 毛 | B39: 118 | C39: 300 | D39: 143 | E39: 157 | F39: 西 広 二 丁 目 | G39: 206 | H39: 512 | I39: 255 | J39: 257 | K39: 八幡石塚一丁目 | L39: 307 | M39: 648 | N39: 351 | O39: 297 | P39: 姉崎東一丁目 | Q39: 53 | R39: 106 | S39: 56 | T39: 50
A40: 廿 五 里 | B40: 211 | C40: 561 | D40: 284 | E40: 277 | F40: 西 広 三 丁 目 | G40: 175 | H40: 412 | I40: 200 | J40: 212 | K40: 八幡石塚二丁目 | L40: 364 | M40: 719 | N40: 390 | O40: 329 | P40: 姉崎東二丁目 | Q40: 138 | R40: 280 | S40: 144 | T40: 136
A41: 町 田 | B41: 44 | C41: 152 | D41: 66 | E41: 86 | F41: 西 広 四 丁 目 | G41: 173 | H41: 448 | I41: 216 | J41: 232 | K41: 五 所 | L41: 930 | M41: 1951 | N41: 1036 | O41: 915 | P41: 姉崎東三丁目 | Q41: 78 | R41: 152 | S41: 85 | T41: 67
A42: 海 保 | B42: 277 | C42: 711 | D42: 359 | E42: 352 | F42: 西 広 五 丁 目 | G42: 224 | H42: 572 | I42: 292 | J42: 280 | K42: 旭 五 所 | L42: 459 | M42: 956 | N42: 497 | O42: 459
...

Sheet 16(2)
J1: 16．国 勢 調 査 に よ る 大 字 別 | K1: 世 帯 数 及 び 人 口 (令和 2 年) (続)
A3: この表は令和2年国勢調査による10月1日現在の数値である。
A4: 地 区 ･ 大 字 | B4: 世 帯 数 | C4: 人 口 | F4: 地 区 ･ 大 字 | G4: 世 帯 数 | H4: 人 口 | K4: 地 区 ･ 大 字 | L4: 世 帯 数 | M4: 人 口 | P4: 地 区 ･ 大 字 | Q4: 世 帯 数 | R4: 人 口
C5: 総 数 | D5: 男 | E5: 女 | H5: 総 数 | I5: 男 | J5: 女 | M5: 総 数 | N5: 男 | O5: 女 | R5: 総 数 | S5: 男 | T5: 女
A6: 泉 台 五 丁 目 | B6: 179 | C6: 533 | D6: 265 | E6: 268 | F6: 神 崎 | G6: 83 | H6: 334 | I6: 130 | J6: 204 | K6: 山 口 | L6: 48 | M6: 120 | N6: 62 | O6: 58 | P6: ちはら台西五丁目 | Q6: 378 | R6: 786 | S6: 417 | T6: 369
F7: 山 之 郷 飛 地 | G7: 4 | H7: 12 | I7: 6 | J7: 6 | K7: 養 老 | L7: 93 | M7: 325 | N7: 142 | O7: 183 | P7: ちはら台西六丁目 | Q7: 700 | R7: 2502 | S7: 1178 | T7: 1324
A8: 三 和 地 区 計 | B8: =SUM(B10:B38) -> 5270 | C8: =SUM(C10:C38) -> 13607 | D8: =SUM(D10:D38) -> 6830 | E8: =SUM(E10:E38) -> 6777 | F8: うるいど南一丁目 | G8: 242 | H8: 628 | I8: 316 | J8: 312 | K8: 本 郷 | L8: 92 | M8: 216 | N8: 110 | O8: 106 | P8: ちはら台南一丁目 | Q8: 279 | R8: 757 | S8: 376 | T8: 381
F9: うるいど南二丁目 | G9: 219 | H9: 615 | I9: 324 | J9: 291 | K9: 高 滝 | L9: 78 | M9: 235 | N9: 108 | O9: 127 | P9: ちはら台南二丁目 | Q9: 391 | R9: 915 | S9: 477 | T9: 438
A10: 山 倉 | B10: 223 | C10: 486 | D10: 244 | E10: 242 | F10: うるいど南三丁目 | G10: 399 | H10: 1219 | I10: 627 | J10: 592 | K10: 大 和 田 | L10: 35 | M10: 91 | N10: 46 | O10: 45 | P10: ちはら台南三丁目 | Q10: 272 | R10: 658 | S10: 324 | T10: 334
A11: 福 増 | B11: 248 | C11: 709 | D11: 346 | E11: 363 | F11: うるいど南四丁目 | G11: - | H11: - | I11: - | J11: - | K11: 不 入 | L11: 45 | M11: 113 | N11: 53 | O11: 60 | P11: ちはら台南四丁目 | Q11: 311 | R11: 963 | S11: 482 | T11: 481
A12: 海 士 有 木 | B12: 453 | C12: 1115 | D12: 572 | E12: 543 | F12: うるいど南五丁目 | G12: - | H12: - | I12: - | J12: - | K12: 新 井 | L12: 21 | M12: 55 | N12: 27 | O12: 28 | P12: ちはら台南五丁目 | Q12: 772 | R12: 1927 | S12: 941 | T12: 986
A13: 大 坪 | B13: 214 | C13: 513 | D13: 274 | E13: 239 | F13: うるいど南六丁目 | G13: - | H13: - | I13: - | J13: - | K13: 吉 沢 | L13: 39 | M13: 164 | N13: 108 | O13: 56 | P13: ちはら台南六丁目 | Q13: 893 | R13: 2117 | S13: 1029 | T13: 1088
A14: 新 生 | B14: 75 | C14: 217 | D14: 108 | E14: 109 | F14: うるいど南七丁目 | G14: - | H14: - | I14: - | J14: - | K14: 古 敷 谷 | L14: 127 | M14: 292 | N14: 153 | O14: 139
A15: 権 現 堂 | B15: 77 | C15: 212 | D15: 102 | E15: 110 | K15: 小 谷 田 | L15: 53 | M15: 137 | N15: 70 | O15: 67 | P15: ( 再 掲 )
A16: 糸 久 | B16: 33 | C16: 87 | D16: 46 | E16: 41 | F16: 南 総 地 区 計 | G16: =SUM(G18:G57) -> 8665 | H16: =SUM(H18:H57) -> 20823 | I16: =SUM(I18:I57) -> 10404 | J16: =SUM(J18:J57) -> 10419 | K16: 平 野 | L16: 42 | M16: 102 | N16: 54 | O16: 48
A17: 宮 原 | B17: 95 | C17: 193 | D17: 105 | E17: 88 | K17: 大 戸 | L17: 33 | M17: 81 | N17: 44 | O17: 37 | P17: 総 数 | Q17: =SUM(Q19:Q39) -> 117997 | R17: =SUM(R19:R39) -> 269524 | S17: =SUM(S19:S39) -> 138438 | T17: =SUM(T19:T39) -> 131086
A18: 分 目 | B18: 73 | C18: 161 | D18: 79 | E18: 82 | F18: 風 戸 | G18: 13 | H18: 28 | I18: 17 | J18: 11 | K18: 飯 給 | L18: 80 | M18: 186 | N18: 88 | O18: 98
A19: 浅 井 小 向 | B19: 48 | C19: 131 | D19: 64 | E19: 67 | F19: 中 高 根 | G19: 1021 | H19: 2488 | I19: 1230 | J19: 1258 | K19: 万 田 野 | L19: 49 | M19: 271 | N19: 109 | O19: 162 | P19: 五 井 地 区 計 | Q19: ='16(1)'!B10 -> 28382 | R19: ='16(1)'!C10 -> 60380 | S19: ='16(1)'!D10 -> 32205 | T19: ='16(1)'!E10 -> 28175
A20: 相 川 | B20: 34 | C20: 77 | D20: 43 | E20: 34 | F20: 上 高 根 | G20: 687 | H20: 1617 | I20: 816 | J20: 801 | K20: 柿 木 台 | L20: 27 | M20: 73 | N20: 33 | O20: 40
A21: 新 堀 | B21: 186 | C21: 709 | D21: 311 | E21: 398 | F21: 馬 立 | G21: 1081 | H21: 2670 | I21: 1333 | J21: 1337 | K21: 徳 氏 | L21: 56 | M21: 146 | N21: 67 | O21: 79 | P21: 国分寺台地区 計 | Q21: ='16(1)'!G36 -> 11167 | R21: ='16(1)'!H36 -> 25776 | S21: ='16(1)'!I36 -> 13073 | T21: ='16(1)'!J36 -> 12703
A22: 武 士 | B22: 66 | C22: 179 | D22: 81 | E22: 98 | F22: 上 原 | G22: 49 | H22: 120 | I22: 62 | J22: 58 | K22: 田 淵 | L22: 84 | M22: 209 | N22: 106 | O22: 103
A23: 磯 ケ 谷 | B23: 412 | C23: 1237 | D23: 718 | E23: 519 | F23: 南 岩 崎 | G23: 363 | H23: 822 | I23: 398 | J23: 424 | K23: 月 出 | L23: 39 | M23: 87 | N23: 41 | O23: 46 | P23: 市 原 地 区 計 | Q23: ='16(1)'!L30 -> 23451 | R23: ='16(1)'!M30 -> 50189 | S23: ='16(1)'!N30 -> 25740 | T23: ='16(1)'!O30 -> 24449
A24: 松 崎 | B24: 121 | C24: 326 | D24: 164 | E24: 162 | F24: 寺 谷 | G24: 77 | H24: 204 | I24: 108 | J24: 96 | K24: 戸 面 | L24: 40 | M24: 108 | N24: 60 | O24: 48
A25: 大 桶 | B25: 69 | C25: 189 | D25: 85 | E25: 104 | F25: 栢 橋 | G25: 182 | H25: 456 | I25: 244 | J25: 212 | K25: 朝 生 原 | L25: 110 | M25: 244 | N25: 116 | O25: 128 | P25: 姉 崎 地 区 計 | Q25: ='16(1)'!Q15 -> 13571 | R25: ='16(1)'!R15 -> 28825 | S25: ='16(1)'!S15 -> 14975 | T25: ='16(1)'!T15 -> 13850
A26: 新 巻 | B26: 48 | C26: 121 | D26: 60 | E26: 61 | F26: 西 国 吉 | G26: 683 | H26: 1574 | I26: 819 | J26: 755 | K26: 石 神 | L26: 54 | M26: 120 | N26: 67 | O26: 53
A27: 川 在 | B27: 80 | C27: 211 | D27: 108 | E27: 103 | F27: 佐 是 | G27: 274 | H27: 679 | I27: 355 | J27: 324 | K27: 折 津 | L27: 42 | M27: 99 | N27: 51 | O27: 48 | P27: 有 秋 地 区 計 | Q27: ='16(1)'!Q43 -> 5614 | R27: ='16(1)'!R43 -> 13379 | S27: ='16(1)'!S43 -> 7019 | T27: ='16(1)'!T43 -> 6360
A28: 櫃 狭 | B28: 15 | C28: 40 | D28: 24 | E28: 16 | F28: 妙 香 | G28: 62 | H28: 146 | I28: 76 | J28: 70 | K28: 大 久 保 | L28: 34 | M28: 77 | N28: 38 | O28: 39
A29: 土 宇 | B29: 142 | C29: 402 | D29: 207 | E29: 195 | F29: 奉 免 | G29: 161 | H29: 397 | I29: 187 | J29: 210 | K29: 国 本 | L29: 38 | M29: 104 | N29: 49 | O29: 55 | P29: 三 和 地 区 計 | Q29: =B8 -> 5270 | R29: =C8 -> 13607 | S29: =D8 -> 6830 | T29: =E8 -> 6777
A30: 二 日 市 場 | B30: 80 | C30: 270 | D30: 113 | E30: 157 | F30: 牛 久 | G30: 757 | H30: 1643 | I30: 817 | J30: 826 | K30: 月 崎 | L30: 69 | M30: 167 | N30: 80 | O30: 87
A31: 山 田 | B31: 118 | C31: 296 | D31: 150 | E31: 146 | F31: 皆 吉 | G31: 615 | H31: 1413 | I31: 723 | J31: 690 | K31: 柳 川 | L31: 21 | M31: 54 | N31: 28 | O31: 26 | P31: 市 津 地 区 計 | Q31: =B40 -> 5446 | R31: =C40 -> 13341 | S31: =D40 -> 6621 | T31: =E40 -> 6720
A32: 安 須 | B32: 52 | C32: 164 | D32: 78 | E32: 86 | F32: 金 沢 | G32: 27 | H32: 65 | I32: 34 | J32: 31 | K32: 菅 野 | L32: 18 | M32: 39 | N32: 19 | O32: 20
A33: 高 坂 | B33: 39 | C33: 99 | D33: 51 | E33: 48 | F33: 大 蔵 | G33: 12 | H33: 33 | I33: 21 | J33: 12 | K33: 石 塚 | L33: 18 | M33: 40 | N33: 17 | O33: 23 | P33: 南 総 地 区 計 | Q33: =G16 -> 8665 | R33: =H16 -> 20823 | S33: =I16 -> 10404 | T33: =J16 -> 10419
A34: 光風台一丁目 | B34: 322 | C34: 848 | D34: 426 | E34: 422 | F34: 岩 | G34: 29 | H34: 74 | I34: 39 | J34: 35 | K34: 田 淵 旧 日 竹 | L34: 42 | M34: 120 | N34: 66 | O34: 54
A35: 光風台二丁目 | B35: 308 | C35: 731 | D35: 372 | E35: 359 | F35: 藪 | G35: 50 | H35: 135 | I35: 72 | J35: 63 | P35: 加 茂 地 区 計 | Q35: =G59 -> 1743 | R35: =H59 -> 4634 | S35: =I59 -> 2279 | T35: =J59 -> 2355
A36: 光風台三丁目 | B36: 572 | C36: 1288 | D36: 633 | E36: 655 | F36: 中 | G36: 355 | H36: 860 | I36: 432 | J36: 428 | K36: 辰巳台地区 計 | L36: =SUM(L38:L47) -> 4942 | M36: =SUM(M38:M47) -> 11277 | N36: =SUM(N38:N47) -> 5880 | O36: =SUM(O38:O47) -> 5397
A37: 光風台四丁目 | B37: 577 | C37: 1389 | D37: 684 | E37: 705 | F37: 安 久 谷 | G37: 75 | H37: 173 | I37: 81 | J37: 92 | P37: 辰巳台地区 計 | Q37: =L36 -> 4942 | R37: =M36 -> 11277 | S37: =N36 -> 5880 | T37: =O36 -> 5397
A38: 光風台五丁目 | B38: 490 | C38: 1207 | D38: 582 | E38: 625 | F38: 米 沢 | G38: 122 | H38: 307 | I38: 151 | J38: 156 | K38: 辰巳台東一丁目 | L38: 385 | M38: 1029 | N38: 529 | O38: 500
F39: 真 ケ 谷 | G39: 35 | H39: 101 | I39: 49 | J39: 52 | K39: 辰巳台東二丁目 | L39: 653 | M39: 1029 | N39: 503 | O39: 526 | P39: ちはら台地区 計 | Q39: =L49 -> 9746 | R39: =M49 -> 27293 | S39: =N49 -> 13412 | T39: =O49 -> 13881
A40: 市 津 地 区 計 | B40: =SUM(B42:B63,G6:G14) -> 5446 | C40: =SUM(C42:C63,H6:H14) -> 13341 | D40: =SUM(D42:D63,I6:I14) -> 6621 | E40: =SUM(E42:E63,J6:J14) -> 6720 | F40: 宿 | G40: 61 | H40: 171 | I40: 78 | J40: 93 | K40: 辰巳台東三丁目 | L40: 1134 | M40: 2741 | N40: 1441 | O40: 1300
F41: 島 田 | G41: 15 | H41: 35 | I41: 19 | J41: 16 | K41: 辰巳台東四丁目 | L41: 890 | M41: 2133 | N41: 1145 | O41: 988
...

Sheet 17
G1: 17．年 齢、男 女 別 人 口 | H1: (平成 27 年 ・ 令和 2 年)
A3: この表は国勢調査による各年10月１日現在の数値である。
A4: 年 齢 | B4: 平成 27 年 | E4: 令和 2 年 | H4: 年 齢 | I4: 平成 27 年 | L4: 令和 2 年
B5: 総 数 | C5: 男 | D5: 女 | E5: 総 数 | F5: 男 | G5: 女 | I5: 総 数 | J5: 男 | K5: 女 | L5: 総 数 | M5: 男 | N5: 女
A6: 総 数 | B6: 274656 | C6: 141134 | D6: 133522 | E6: 269524 | F6: 138438 | G6: 131086
A8: 0 ～ 4 歳 | B8: 9997 | C8: 5097 | D8: 4900 | E8: 8745 | F8: 4530 | G8: 4215 | H8: 45 ～49 歳 | I8: 18375 | J8: 9713 | K8: 8662 | L8: 21022 | M8: 11209 | N8: 9813
A9: 0 | B9: 1837 | C9: 917 | D9: 920 | E9: 1557 | F9: 809 | G9: 748 | H9: 45 | I9: 3942 | J9: 2120 | K9: 1822 | L9: 4007 | M9: 2158 | N9: 1849
A10: 1 | B10: 1924 | C10: 965 | D10: 959 | E10: 1655 | F10: 835 | G10: 820 | H10: 46 | I10: 3895 | J10: 2062 | K10: 1833 | L10: 4305 | M10: 2250 | N10: 2055
A11: 2 | B11: 2061 | C11: 1054 | D11: 1007 | E11: 1756 | F11: 919 | G11: 837 | H11: 47 | I11: 3828 | J11: 2039 | K11: 1789 | L11: 4235 | M11: 2344 | N11: 1891
A12: 3 | B12: 2027 | C12: 1043 | D12: 984 | E12: 1883 | F12: 981 | G12: 902 | H12: 48 | I12: 3886 | J12: 2052 | K12: 1834 | L12: 4330 | M12: 2263 | N12: 2067
A13: 4 | B13: 2148 | C13: 1118 | D13: 1030 | E13: 1894 | F13: 986 | G13: 908 | H13: 49 | I13: 2824 | J13: 1440 | K13: 1384 | L13: 4145 | M13: 2194 | N13: 1951
A15: 5 ～ 9 歳 | B15: 11036 | C15: 5661 | D15: 5375 | E15: 10164 | F15: 5189 | G15: 4975 | H15: 50 ～ 54 歳 | I15: 16658 | J15: 8607 | K15: 8051 | L15: 18108 | M15: 9532 | N15: 8576
A16: 5 | B16: 2160 | C16: 1076 | D16: 1084 | E16: 1910 | F16: 954 | G16: 956 | H16: 50 | I16: 3559 | J16: 1844 | K16: 1715 | L16: 3884 | M16: 2080 | N16: 1804
A17: 6 | B17: 2176 | C17: 1116 | D17: 1060 | E17: 1992 | F17: 1013 | G17: 979 | H17: 51 | I17: 3414 | J17: 1758 | K17: 1656 | L17: 3853 | M17: 2058 | N17: 1795
A18: 7 | B18: 2208 | C18: 1135 | D18: 1073 | E18: 2041 | F18: 1045 | G18: 996 | H18: 52 | I18: 3371 | J18: 1793 | K18: 1578 | L18: 3785 | M18: 1973 | N18: 1812
A19: 8 | B19: 2263 | C19: 1178 | D19: 1085 | E19: 2111 | F19: 1077 | G19: 1034 | H19: 53 | I19: 3175 | J19: 1623 | K19: 1552 | L19: 3837 | M19: 2014 | N19: 1823
A20: 9 | B20: 2229 | C20: 1156 | D20: 1073 | E20: 2110 | F20: 1100 | G20: 1010 | H20: 54 | I20: 3139 | J20: 1589 | K20: 1550 | L20: 2749 | M20: 1407 | N20: 1342
A22: 10 ～ 14 歳 | B22: 11943 | C22: 6153 | D22: 5790 | E22: 11137 | F22: 5741 | G22: 5396 | H22: 55 ～ 59 歳 | I22: 17077 | J22: 8808 | K22: 8269 | L22: 16307 | M22: 8427 | N22: 7880
A23: 10 | B23: 2160 | C23: 1104 | D23: 1056 | E23: 2181 | F23: 1111 | G23: 1070 | H23: 55 | I23: 3301 | J23: 1678 | K23: 1623 | L23: 3451 | M23: 1795 | N23: 1656
A24: 11 | B24: 2362 | C24: 1205 | D24: 1157 | E24: 2187 | F24: 1135 | G24: 1052 | H24: 56 | I24: 3367 | J24: 1752 | K24: 1615 | L24: 3371 | M24: 1741 | N24: 1630
A25: 12 | B25: 2460 | C25: 1285 | D25: 1175 | E25: 2233 | F25: 1144 | G25: 1089 | H25: 57 | I25: 3169 | J25: 1585 | K25: 1584 | L25: 3305 | M25: 1741 | N25: 1564
A26: 13 | B26: 2463 | C26: 1278 | D26: 1185 | E26: 2260 | F26: 1174 | G26: 1086 | H26: 58 | I26: 3463 | J26: 1781 | K26: 1682 | L26: 3112 | M26: 1609 | N26: 1503
A27: 14 | B27: 2498 | C27: 1281 | D27: 1217 | E27: 2276 | F27: 1177 | G27: 1099 | H27: 59 | I27: 3777 | J27: 2012 | K27: 1765 | L27: 3068 | M27: 1541 | N27: 1527
A29: 15 ～ 19 歳 | B29: 12987 | C29: 6654 | D29: 6333 | E29: 12093 | F29: 6294 | G29: 5799 | H29: 60 ～ 64 歳 | I29: 20657 | J29: 10807 | K29: 9850 | L29: 16561 | M29: 8468 | N29: 8093
A30: 15 | B30: 2531 | C30: 1257 | D30: 1274 | E30: 2153 | F30: 1113 | G30: 1040 | H30: 60 | I30: 3881 | J30: 1965 | K30: 1916 | L30: 3246 | M30: 1643 | N30: 1603
A31: 16 | B31: 2457 | C31: 1300 | D31: 1157 | E31: 2342 | F31: 1193 | G31: 1149 | H31: 61 | I31: 3762 | J31: 1995 | K31: 1767 | L31: 3284 | M31: 1708 | N31: 1576
A32: 17 | B32: 2567 | C32: 1302 | D32: 1265 | E32: 2400 | F32: 1247 | G32: 1153 | H32: 62 | I32: 4200 | J32: 2218 | K32: 1982 | L32: 3113 | M32: 1555 | N32: 1558
A33: 18 | B33: 2720 | C33: 1389 | D33: 1331 | E33: 2543 | F33: 1359 | G33: 1184 | H33: 63 | I33: 4382 | J33: 2297 | K33: 2085 | L33: 3282 | M33: 1659 | N33: 1623
A34: 19 | B34: 2712 | C34: 1406 | D34: 1306 | E34: 2655 | F34: 1382 | G34: 1273 | H34: 64 | I34: 4432 | J34: 2332 | K34: 2100 | L34: 3636 | M34: 1903 | N34: 1733
A36: 20 ～ 24 歳 | B36: 13354 | C36: 7292 | D36: 6062 | E36: 12313 | F36: 6515 | G36: 5798 | H36: 65 ～ 69 歳 | I36: 22702 | J36: 11384 | K36: 11318 | L36: 19660 | M36: 10134 | N36: 9526
A37: 20 | B37: 2713 | C37: 1432 | D37: 1281 | E37: 2588 | F37: 1298 | G37: 1290 | H37: 65 | I37: 4657 | J37: 2402 | K37: 2255 | L37: 3714 | M37: 1840 | N37: 1874
A38: 21 | B38: 2699 | C38: 1458 | D38: 1241 | E38: 2469 | F38: 1367 | G38: 1102 | H38: 66 | I38: 4913 | J38: 2444 | K38: 2469 | L38: 3596 | M38: 1873 | N38: 1723
A39: 22 | B39: 2656 | C39: 1472 | D39: 1184 | E39: 2441 | F39: 1308 | G39: 1133 | H39: 67 | I39: 5020 | J39: 2481 | K39: 2539 | L39: 3989 | M39: 2090 | N39: 1899
A40: 23 | B40: 2580 | C40: 1423 | D40: 1157 | E40: 2447 | F40: 1269 | G40: 1178 | H40: 68 | I40: 4971 | J40: 2489 | K40: 2482 | L40: 4161 | M40: 2165 | N40: 1996
A41: 24 | B41: 2706 | C41: 1507 | D41: 1199 | E41: 2368 | F41: 1273 | G41: 1095 | H41: 69 | I41: 3141 | J41: 1568 | K41: 1573 | L41: 4200 | M41: 2166 | N41: 2034
A43: 25 ～ 29 歳 | B43: 14410 | C43: 8036 | D43: 6374 | E43: 12677 | F43: 7191 | G43: 5486 | H43: 70 ～ 74 歳 | I43: 18625 | J43: 9220 | K43: 9405 | L43: 21171 | M43: 10408 | N43: 10763
A44: 25 | B44: 2830 | C44: 1573 | D44: 1257 | E44: 2548 | F44: 1421 | G44: 1127 | H44: 70 | I44: 3269 | J44: 1516 | K44: 1753 | L44: 4386 | M44: 2231 | N44: 2155
A45: 26 | B45: 2818 | C45: 1590 | D45: 1228 | E45: 2590 | F45: 1470 | G45: 1120 | H45: 71 | I45: 3949 | J45: 2000 | K45: 1949 | L45: 4614 | M45: 2259 | N45: 2355
A46: 27 | B46: 2859 | C46: 1615 | D46: 1244 | E46: 2574 | F46: 1455 | G46: 1119 | H46: 72 | I46: 3986 | J46: 2024 | K46: 1962 | L46: 4711 | M46: 2279 | N46: 2432
A47: 28 | B47: 2980 | C47: 1635 | D47: 1345 | E47: 2475 | F47: 1433 | G47: 1042 | H47: 73 | I47: 3818 | J47: 1934 | K47: 1884 | L47: 4563 | M47: 2225 | N47: 2338
...

Sheet 18
A1: 18．年 齢 階 級、配 偶 関 係、男 女 別 15 歳 以 上 人 口 (令和 2 年)
A3: この表は、令和2年国勢調査による10月1日現在の数値である。
A4: 年齢階級 | B4: 15 歳 以 上 総 人 口
B5: 総 数 | F5: 男 | I5: 女
A6: 総 数 | E6: 233302 | H6: 119143 | K6: 114159
A7: 15～19歳 | E7: 12093 | H7: 6294 | K7: 5799
A8: 20～24歳 | E8: 12313 | H8: 6515 | K8: 5798
A9: 25～29歳 | E9: 12677 | H9: 7191 | K9: 5486
A10: 30～34歳 | E10: 13476 | H10: 7475 | K10: 6001
A11: 35～39歳 | E11: 15108 | H11: 7998 | K11: 7110
A12: 40～44歳 | E12: 16976 | H12: 9110 | K12: 7866
A13: 45～49歳 | E13: 21022 | H13: 11209 | K13: 9813
A14: 50～54歳 | E14: 18108 | H14: 9532 | K14: 8576
A15: 55～59歳 | E15: 16307 | H15: 8427 | K15: 7880
A16: 60～64歳 | E16: 16561 | H16: 8468 | K16: 8093
A17: 65～69歳 | E17: 19660 | H17: 10134 | K17: 9526
... A21: 85歳以上 | E21: 10069 | H21: 3370 | K21: 6699
A23: 年齢階級 | B23: 男 | G23: 女
B24: 未 婚 | C24: 有 配 偶 | D24: 死 別 | E24: 離 別 | F24: 不 詳 | G24: 未 婚 | H24: 有 配 偶 | I24: 死 別 | J24: 離 別 | K24: 不 詳
A25: 総 数 | B25: 38196 | C25: 65822 | D25: 3380 | E25: 4790 | F25: 6955 | G25: 23902 | H25: 65762 | I25: 13959 | J25: 6408 | K25: 4128
A26: 15～19歳 | B26: 6191 | C26: 23 | D26: 0 | E26: 0 | F26: 80 | G26: 5757 | H26: 27 | I26: 1 | J26: 2 | K26: 12
A27: 20～24歳 | B27: 5729 | C27: 333 | D27: 0 | E27: 18 | F27: 435 | G27: 5096 | H27: 535 | I27: 1 | J27: 30 | K27: 136
A28: 25～29歳 | B28: 4927 | C28: 1520 | D28: 2 | E28: 69 | F28: 673 | G28: 3158 | H28: 1988 | I28: 2 | J28: 139 | K28: 199
A29: 30～34歳 | B29: 3685 | C29: 3040 | D29: 1 | E29: 140 | F29: 609 | G29: 2042 | H29: 3509 | I29: 14 | J29: 247 | K29: 189
A30: 35～39歳 | B30: 3000 | C30: 4263 | D30: 13 | E30: 203 | F30: 519 | G30: 1639 | H30: 4841 | I30: 17 | J30: 415 | K30: 198
A31: 40～44歳 | B31: 3029 | C31: 5180 | D31: 15 | E31: 314 | F31: 572 | G31: 1507 | H31: 5489 | I31: 46 | J31: 586 | K31: 238
A32: 45～49歳 | B32: 3390 | C32: 6492 | D32: 34 | E32: 552 | F32: 741 | G32: 1598 | H32: 6980 | I32: 95 | J32: 856 | K32: 284
A33: 50～54歳 | B33: 2576 | C33: 5630 | D33: 55 | E33: 621 | F33: 650 | G33: 1039 | H33: 6201 | I33: 206 | J33: 833 | K33: 297
A34: 55～59歳 | B34: 1782 | C34: 5456 | D34: 85 | E34: 618 | F34: 486 | G34: 641 | H34: 5969 | I34: 302 | J34: 741 | K34: 227
A35: 60～64歳 | B35: 1383 | C35: 5836 | D35: 152 | E35: 595 | F35: 502 | G35: 405 | H35: 6364 | I35: 524 | J35: 619 | K35: 181
A36: 65～69歳 | B36: 1244 | C36: 7497 | D36: 337 | E36: 573 | F36: 483 | G36: 329 | H36: 7391 | I36: 994 | J36: 566 | K36: 246
... A40: 85歳以上 | B40: 46 | C40: 2186 | D40: 902 | E40: 56 | F40: 180 | G40: 153 | H40: 1210 | I40: 4488 | J40: 167 | K40: 681
A41: 資料「令和2年国勢調査結果」(総務省)を基に政策マーケティング室で作成

Sheet 19,20
A1: 19．世 帯 の 種 類、世 帯 人 員 別 世 帯 数 及 び 世 帯 人 員 (令和 2 年)
A3: この表は、令和2年国勢調査による10月1日現在の数値である。
A4: 総 数 | E4: 施 設 等 の 世 帯 | G4: (再 掲) 核 家 族 世 帯 数
A5: 世 帯 数 | C5: 世 帯 人 員 | E5: 世 帯 数 | F5: 世帯人員 | G5: 総 数 | H5: 夫婦のみ の世帯 | I5: 親と子供から 成る世帯
B6: 117997 | D6: 269524 | E6: 413 | F6: 4730 | G6: 66683 | H6: 25030 | I6: 41653
A8: 一 般
A9: 世 帯 数 | I9: 世帯人員
A10: 総 数 | B10: 世帯人員 が1人 | C10: 2 人 | D10: 3 人 | E10: 4 人 | F10: 5 人 | G10: 6 人 | H10: 7 人 以 上
A11: 117584 | B11: 41788 | C11: 34539 | D11: 20031 | E11: 14776 | F11: 4665 | G11: 1279 | H11: 506 | I11: 264794
A12: 資料「令和2年国勢調査結果」(総務省)を基に政策マーケティング室で作成
A15: 20．世 帯 数 及 び 人 口 の 推 移 (昭和 50 年 ～ 令和 2 年)
A17: この表は、国勢調査による各年10月1日現在の数値である。
A18: 年 月 日 | C18: 世 帯 数 | D18: 人 口 | G18: 一世帯 あたり人員 | H18: 人 口 密 度 (1ｋ㎡あたり) | I18: 性 比 (女＝100)
D19: 総 数 | E19: 男 | F19: 女
A20: 昭和 | B20: 50.10.1 | C20: 49651 | D20: 194068 | E20: 102517 | F20: 91551 | G20: 3.9 | H20: 529.3 | I20: 112
B21: 55.10.1 | C21: 65027 | D21: 216394 | E21: 112127 | F21: 104267 | G21: 3.3 | H21: 590.1 | I21: 107.5
B22: 60.10.1 | C22: 72059 | D22: 237617 | E22: 122260 | F22: 115357 | G22: 3.3 | H22: 648 | I22: 106
A23: 平成 | B23: 2.10.1 | C23: 81668 | D23: 257716 | E23: 132601 | F23: 125115 | G23: 3.2 | H23: 700.5 | I23: 106
B24: 7.10.1 | C24: 94924 | D24: 277061 | E24: 143230 | F24: 133831 | G24: 2.9 | H24: 752.5 | I24: 107
B25: 12.10.1 | C25: 99745 | D25: 278218 | E25: 143073 | F25: 135145 | G25: 2.8 | H25: 755.6 | I25: 105.9
B26: 17.10.1 | C26: 105600 | D26: 280255 | E26: 143404 | F26: 136851 | G26: 2.7 | H26: 761.1 | I26: 104.8
B27: 22.10.1 | C27: 111973 | D27: 280416 | E27: 143338 | F27: 137078 | G27: 2.504318 | H27: 761.6 | I27: 104.56674
B28: 27.10.1 | C28: 113518 | D28: 274656 | E28: 141134 | F28: 133522 | G28: 2.4 | H28: 746 | I28: 105.7
A29: 令和 | B29: 2.10.1 | C29: 117997 | D29: 269524 | E29: 138438 | F29: 131086 | G29: 2.2841598 | H29: 732.1 | I29: 105.60853
A30: 資料「国勢調査結果」(総務省)を基に政策マーケティング室で作成

Sheet 21
A1: 21．年 齢 階 級 別 人 口 の 推 移 (平成 17 年 ～ 令和 2 年)
A3: この表は国勢調査による各年10月１日現在の数値である。
A4: 年 齢 階 級 | B4: 平成 17 年 | E4: 平成 22 年
B5: 総 数 | C5: 男 | D5: 女 | E5: 総 数 | F5: 男 | G5: 女
A6: 総 数 | B6: 280255 | C6: 143404 | D6: 136851 | E6: 280416 | F6: 143338 | G6: 137078
A7: 0 ～ 4 歳 | B7: 11901 | C7: 6101 | D7: 5800 | E7: 10859 | F7: 5548 | G7: 5311
A8: 5 ～ 9 歳 | B8: 13005 | C8: 6560 | D8: 6445 | E8: 12062 | F8: 6218 | G8: 5844
A9: 10 ～ 14 歳 | B9: 13631 | C9: 6942 | D9: 6689 | E9: 12830 | F9: 6459 | G9: 6371
A10: 15 ～ 19 歳 | B10: 15778 | C10: 8235 | D10: 7543 | E10: 13972 | F10: 7248 | G10: 6724
A11: 20 ～ 24 歳 | B11: 17035 | C11: 8941 | D11: 8094 | E11: 15105 | F11: 8135 | G11: 6970
A12: 25 ～ 29 歳 | B12: 17872 | C12: 9592 | D12: 8280 | E12: 16246 | F12: 8758 | G12: 7488
A13: 30 ～ 34 歳 | B13: 21738 | C13: 11506 | D13: 10232 | E13: 17302 | F13: 9234 | G13: 8068
A14: 35 ～ 39 歳 | B14: 19043 | C14: 10019 | D14: 9024 | E14: 21737 | F14: 11550 | G14: 10187
A15: 40 ～ 44 歳 | B15: 17243 | C15: 8922 | D15: 8321 | E15: 18891 | F15: 9898 | G15: 8993
A16: 45 ～ 49 歳 | B16: 17944 | C16: 9273 | D16: 8671 | E16: 17175 | F16: 8854 | G16: 8321
A17: 50 ～ 54 歳 | B17: 22088 | C17: 11709 | D17: 10379 | E17: 17673 | F17: 9144 | G17: 8529
... A24: 不 詳 | B24: 719 | C24: 480 | D24: 239 | E24: 2281 | F24: 1384 | G24: 897
A26: 年 齢 階 級 | B26: 平成 27 年 | E26: 令和 2 年
B27: 総 数 | C27: 男 | D27: 女 | E27: 総 数 | F27: 男 | G27: 女
A28: 総 数 | B28: 274656 | C28: 141134 | D28: 133522 | E28: 269524 | F28: 138438 | G28: 131086
A29: 0 ～ 4 歳 | B29: 9997 | C29: 5097 | D29: 4900 | E29: 8745 | F29: 4530 | G29: 4215
A30: 5 ～ 9 歳 | B30: 11036 | C30: 5661 | D30: 5375 | E30: 10164 | F30: 5189 | G30: 4975
A31: 10 ～ 14 歳 | B31: 11943 | C31: 6153 | D31: 5790 | E31: 11137 | F31: 5741 | G31: 5396
A32: 15 ～ 19 歳 | B32: 12987 | C32: 6654 | D32: 6333 | E32: 12093 | F32: 6294 | G32: 5799
A33: 20 ～ 24 歳 | B33: 13354 | C33: 7292 | D33: 6062 | E33: 12313 | F33: 6515 | G33: 5798
A34: 25 ～ 29 歳 | B34: 14410 | C34: 8036 | D34: 6374 | E34: 12677 | F34: 7191 | G34: 5486
A35: 30 ～ 34 歳 | B35: 15359 | C35: 8209 | D35: 7150 | E35: 13476 | F35: 7475 | G35: 6001
A36: 35 ～ 39 歳 | B36: 17061 | C36: 9146 | D36: 7915 | E36: 15108 | F36: 7998 | G36: 7110
A37: 40 ～ 44 歳 | B37: 21332 | C37: 11347 | D37: 9985 | E37: 16976 | F37: 9110 | G37: 7866
A38: 45 ～ 49 歳 | B38: 18375 | C38: 9713 | D38: 8662 | E38: 21022 | F38: 11209 | G38: 9813
A39: 50 ～ 54 歳 | B39: 16658 | C39: 8607 | D39: 8051 | E39: 18108 | F39: 9532 | G39: 8576
... A46: 不 詳 | B46: 3596 | C46: 2413 | D46: 1183 | E46: 6176 | F46: 3835 | G46: 2341
A47: 資料「国勢調査結果」(総務省)を基に政策マーケティング室で作成

Sheet 22
A1: 22．産 業 大 分 類、男 女 別 15歳 以 上 就 業 者 数 の 推 移 (平成 22 年 ～ 令和 2 年)
A3: この表は国勢調査による各年10月１日現在の数値である。
A4: 産 業 大 分 類 | B4: 平成 22 年 | E4: 平成 27 年
B5: 総 数 | C5: 男 | D5: 女 | E5: 総 数 | F5: 男 | G5: 女
A6: 総 数 | B6: 125292 | C6: 76559 | D6: 48733 | E6: 126496 | F6: 76081 | G6: 50415
A7: 農 業 | B7: 2195 | C7: 1347 | D7: 848 | E7: 2159 | F7: 1325 | G7: 834
A8: 林 業 | B8: 23 | C8: 20 | D8: 3 | E8: 28 | F8: 23 | G8: 5
A9: 漁 業 | B9: 11 | C9: 11 | D9: - | E9: 9 | F9: 6 | G9: 3
A10: 鉱業、採石業、砂利採取業 | B10: 35 | C10: 32 | D10: 3 | E10: 35 | F10: 32 | G10: 3
A11: 建 設 業 | B11: 12765 | C11: 10943 | D11: 1822 | E11: 13712 | F11: 11625 | G11: 2087
A12: 製 造 業 | B12: 21930 | C12: 18262 | D12: 3668 | E12: 22042 | F12: 18216 | G12: 3826
A13: 電気･ガス・熱供給･水道業 | B13: 890 | C13: 770 | D13: 120 | E13: 787 | F13: 683 | G13: 104
A14: 情 報 通 信 業 | B14: 2180 | C14: 1597 | D14: 583 | E14: 2282 | F14: 1686 | G14: 596
A15: 運 輸 業、郵 便 業 | B15: 8423 | C15: 6952 | D15: 1471 | E15: 8591 | F15: 7082 | G15: 1509
A16: 卸 売 業、小 売 業 | B16: 17854 | C16: 8052 | D16: 9802 | E16: 17935 | F16: 7800 | G16: 10135
A17: 金 融 業、保 険 業 | B17: 2332 | C17: 970 | D17: 1362 | E17: 2283 | F17: 944 | G17: 1339
A18: 不動産業、物品賃貸業 | B18: 2115 | C18: 1328 | D18: 787 | E18: 2364 | F18: 1462 | G18: 902
A19: 学術研究、専門・技術サービス業 | B19: 4768 | C19: 3506 | D19: 1262 | E19: 4161 | F19: 2964 | G19: 1197
A20: 宿泊業、飲食サービス業 | B20: 6481 | C20: 2094 | D20: 4387 | E20: 6361 | F20: 1988 | G20: 4373
A21: 生活関連サービス業、娯楽業 | B21: 5624 | C21: 2069 | D21: 3555 | E21: 5552 | F21: 2063 | G21: 3489
... A27: 分類不能の産業 | B27: 10767 | C27: 6296 | D27: 4471 | E27: 8414 | F27: 5008 | G27: 3406
A29: 産 業 大 分 類 | B29: 令和 2 年
B30: 総 数 | C30: 男 | D30: 女
A31: 総 数 | B31: 121438 | C31: 70902 | D31: 50536
A32: 農 業 | B32: 1931 | C32: 1231 | D32: 700
A33: 林 業 | B33: 29 | C33: 21 | D33: 8
A34: 漁 業 | B34: 3 | C34: 2 | D34: 1
A35: 鉱業、採石業、砂利採取業 | B35: 35 | C35: 33 | D35: 2
A36: 建 設 業 | B36: 13279 | C36: 11061 | D36: 2218
A37: 製 造 業 | B37: 20341 | C37: 16537 | D37: 3804
A38: 電気･ガス・熱供給･水道業 | B38: 739 | C38: 634 | D38: 105
A39: 情 報 通 信 業 | B39: 2240 | C39: 1608 | D39: 632
A40: 運 輸 業、郵 便 業 | B40: 8484 | C40: 6822 | D40: 1662
A41: 卸 売 業、小 売 業 | B41: 17053 | C41: 7244 | D41: 9809
A42: 金 融 業、保 険 業 | B42: 1983 | C42: 798 | D42: 1185
... A52: 分類不能の産業 | B52: 5727 | C52: 3267 | D52: 2460
A53: 注：平成22年より産業大分類の内訳が変更となっている。
A54: また、総数には「分類不能の産業」を含む。
A56: 資料「国勢調査結果」(総務省)を基に政策マーケティング室で作成

Sheet 23
M1: 23．産 業 大 分 類、年 齢 階 級、男 女 | N1: 別 15 歳 以 上 就 業 者 数 (令和 2 年)
A3: この表は、令和2年国勢調査による10月1日現在の数値である。
A4: 産 業 大 分 類 | B4: 総 数 | C4: 15～19 | D4: 20～24 | E4: 25～29 | F4: 30～34 | G4: 35～39 | H4: 40～44 | I4: 45～49 | J4: 50～54 | K4: 55～59 | L4: 60～64 | M4: 65歳 以上 | N4: 産 業 大 分 類 | O4: 総 数 | P4: 15～19 | Q4: 20～24 | R4: 25～29 | S4: 30～34 | T4: 35～39 | U4: 40～44 | V4: 45～49 | W4: 50～54 | X4: 55～59 | Y4: 60～64 | Z4: 65歳 以上
A5: 総 数 | B5: 121438 | C5: 2363 | D5: 7556 | E5: 9076 | F5: 9344 | G5: 10534 | H5: 12342 | I5: 15679 | J5: 13369 | K5: 11919 | L5: 10609 | M5: 18647 | N5: 女 | O5: 50536 | P5: 1117 | Q5: 3436 | R5: 3616 | S5: 3615 | T5: 4358 | U5: 5192 | V5: 6822 | W5: 5861 | X5: 5143 | Y5: 4314 | Z5: 7062
A7: 第 1 次 産 業 計 | B7: =SUM(B8:B9) -> 1963 | C7: =SUM(C8:C9) -> 6 | D7: =SUM(D8:D9) -> 57 | E7: =SUM(E8:E9) -> 60 | F7: =SUM(F8:F9) -> 65 | G7: =SUM(G8:G9) -> 84 | H7: =SUM(H8:H9) -> 85 | I7: =SUM(I8:I9) -> 112 | ... M7: =SUM(M8:M9) -> 1120 | N7: 第 1 次 産 業 計 | O7: =SUM(O8:O9) -> 709 | P7: =SUM(P8:P9) -> 2 | Q7: =SUM(Q8:Q9) -> 11 | R7: =SUM(R8:R9) -> 14 | S7: =SUM(S8:S9) -> 16 | T7: =SUM(T8:T9) -> 43 | U7: =SUM(U8:U9) -> 34 | V7: =SUM(V8:V9) -> 55 | ... Z7: =SUM(Z8:Z9) -> 381
A8: 農 業 、 林 業 | B8: 1960 | C8: 6 | D8: 57 | E8: 60 | F8: 65 | G8: 84 | H8: 85 | I8: 110 | J8: 101 | K8: 109 | L8: 163 | M8: 1120 | N8: 農 業 、 林 業 | O8: 708 | P8: 2 | Q8: 11 | R8: 14 | S8: 16 | T8: 43 | U8: 34 | V8: 54 | W8: 40 | X8: 47 | Y8: 66 | Z8: 381
A9: 漁 業 | B9: 3 | C9: - | D9: - | E9: - | F9: - | G9: - | H9: - | I9: 2 | J9: 1 | K9: - | L9: - | M9: - | N9: 漁 業 | O9: 1 | P9: - | Q9: - | R9: - | S9: - | T9: - | U9: - | V9: 1 | W9: - | X9: - | Y9: - | Z9: -
A11: 第 2 次 産 業 計 | B11: =SUM(B12:B14) -> 33655 | C11: =SUM(C12:C14) -> 489 | D11: =SUM(D12:D14) -> 1888 | E11: =SUM(E12:E14) -> 2845 | F11: =SUM(F12:F14) -> 2900 | G11: =SUM(G12:G14) -> 3080 | H11: =SUM(H12:H14) -> 3671 | I11: =SUM(I12:I14) -> 4924 | ... M11: =SUM(M12:M14) -> 3751 | N11: 第 2 次 産 業 計 | O11: =SUM(O12:O14) -> 6024 | P11: =SUM(P12:P14) -> 61 | Q11: =SUM(Q12:Q14) -> 299 | R11: =SUM(R12:R14) -> 418 | S11: =SUM(S12:S14) -> 401 | T11: =SUM(T12:T14) -> 495 | U11: =SUM(U12:U14) -> 723 | V11: =SUM(V12:V14) -> 1023 | ... Z11: =SUM(Z12:Z14) -> 667
A12: 鉱業、採石業、砂利採取業 | B12: 35 | C12: - | D12: 1 | E12: 1 | F12: - | G12: 6 | H12: 3 | I12: 3 | J12: 3 | K12: 9 | L12: 5 | M12: 4 | N12: 鉱業、採石業、砂利採取業 | O12: 2 | P12: - | Q12: - | R12: - | S12: - | T12: - | U12: - | V12: - | W12: - | X12: - | Y12: 1 | Z12: 1
A13: 建 設 業 | B13: 13279 | C13: 119 | D13: 572 | E13: 874 | F13: 925 | G13: 1143 | H13: 1382 | I13: 1909 | J13: 1582 | K13: 1243 | L13: 1158 | M13: 2372 | N13: 建 設 業 | O13: 2218 | P13: 11 | Q13: 85 | R13: 114 | S13: 146 | T13: 188 | U13: 247 | V13: 347 | W13: 309 | X13: 234 | Y13: 151 | Z13: 386
A14: 製 造 業 | B14: 20341 | C14: 370 | D14: 1315 | E14: 1970 | F14: 1975 | G14: 1931 | H14: 2286 | I14: 3012 | J14: 2411 | K14: 2121 | L14: 1575 | M14: 1375 | N14: 製 造 業 | O14: 3804 | P14: 50 | Q14: 214 | R14: 304 | S14: 255 | T14: 307 | U14: 476 | V14: 676 | W14: 531 | X14: 428 | Y14: 283 | Z14: 280
A16: 第 3 次 産 業 計 | B16: =SUM(B17:B30) -> 80093 | C16: =SUM(C17:C30) -> 1687 | D16: =SUM(D17:D30) -> 5188 | E16: =SUM(E17:E30) -> 5799 | F16: =SUM(F17:F30) -> 6068 | G16: =SUM(G17:G30) -> 7030 | H16: =SUM(H17:H30) -> 8220 | I16: =SUM(I17:I30) -> 10141 | ... M16: =SUM(M17:M30) -> 11685 | N16: 第 3 次 産 業 計 | O16: =SUM(O17:O30) -> 41343 | P16: =SUM(P17:P30) -> 968 | Q16: =SUM(Q17:Q30) -> 2965 | R16: =SUM(R17:R30) -> 3052 | S16: =SUM(S17:S30) -> 3073 | T16: =SUM(T17:T30) -> 3675 | U16: =SUM(U17:U30) -> 4301 | V16: =SUM(V17:V30) -> 5524 | ... Z16: =SUM(Z17:Z30) -> 5059
A17: 電気・ガス・熱供給・水事業 | B17: 739 | C17: 5 | D17: 43 | E17: 68 | F17: 55 | G17: 47 | H17: 90 | I17: 120 | J17: 108 | K17: 84 | L17: 78 | M17: 41 | N17: 電気・ガス・熱供給・水事業 | O17: 105 | P17: 2 | Q17: 5 | R17: 15 | S17: 8 | T17: 5 | U17: 10 | V17: 18 | W17: 16 | X17: 11 | Y17: 8 | Z17: 7
A18: 情 報 通 信 業 | B18: 2240 | C18: 12 | D18: 204 | E18: 258 | F18: 232 | G18: 215 | H18: 288 | I18: 305 | J18: 261 | K18: 215 | L18: 158 | M18: 92 | N18: 情 報 通 信 業 | O18: 632 | P18: 7 | Q18: 95 | R18: 85 | S18: 82 | T18: 76 | U18: 63 | V18: 79 | W18: 62 | X18: 36 | Y18: 32 | Z18: 15
A19: 運 輸 業、郵 便 業 | B19: 8484 | C19: 71 | D19: 291 | E19: 452 | F19: 518 | G19: 703 | H19: 949 | I19: 1332 | J19: 1229 | K19: 1023 | L19: 821 | M19: 1095 | N19: 運 輸 業、郵 便 業 | O19: 1662 | P19: 17 | Q19: 81 | R19: 117 | S19: 113 | T19: 162 | U19: 185 | V19: 286 | W19: 266 | X19: 176 | Y19: 134 | Z19: 125
A20: 卸 売 業、小 売 業 | B20: 17053 | C20: 611 | D20: 1295 | E20: 1212 | F20: 1340 | G20: 1455 | H20: 1795 | I20: 2205 | J20: 1872 | K20: 1681 | L20: 1431 | M20: 2156 | N20: 卸 売 業、小 売 業 | O20: 9809 | P20: 364 | Q20: 761 | R20: 670 | S20: 721 | T20: 811 | U20: 1014 | V20: 1352 | W20: 1176 | X20: 1031 | Y20: 854 | Z20: 1055
A21: 金 融 業、保 険 業 | B21: 1983 | C21: 1 | D21: 82 | E21: 158 | F21: 143 | G21: 193 | H21: 167 | I21: 263 | J21: 281 | K21: 290 | L21: 241 | M21: 164 | N21: 金 融 業、保 険 業 | O21: 1185 | P21: 1 | Q21: 59 | R21: 102 | S21: 98 | T21: 131 | U21: 114 | V21: 180 | W21: 166 | X21: 156 | Y21: 110 | Z21: 68
A22: 不動産業、物品賃貸業 | B22: 2414 | C22: 19 | D22: 98 | E22: 154 | F22: 134 | G22: 161 | H22: 192 | I22: 245 | J22: 193 | K22: 207 | L22: 247 | M22: 764 | N22: 不動産業、物品賃貸業 | O22: 951 | P22: 8 | Q22: 48 | R22: 73 | S22: 63 | T22: 78 | U22: 79 | V22: 102 | W22: 92 | X22: 86 | Y22: 82 | Z22: 240
A23: 学術研究、専門・技術サービス業 | B23: 4136 | C23: 18 | D23: 197 | E23: 391 | F23: 333 | G23: 374 | H23: 422 | I23: 536 | J23: 450 | K23: 408 | L23: 387 | M23: 620 | N23: 学術研究、専門・技術サービス業 | O23: 1269 | P23: 8 | Q23: 88 | R23: 122 | S23: 111 | T23: 128 | U23: 149 | V23: 206 | W23: 147 | X23: 130 | Y23: 84 | Z23: 96
A24: 宿泊業、飲食サービス業 | B24: 6173 | C24: 619 | D24: 686 | E24: 310 | F24: 342 | G24: 439 | H24: 558 | I24: 725 | J24: 527 | K24: 473 | L24: 457 | M24: 1037 | N24: 宿泊業、飲食サービス業 | O24: 4307 | P24: 369 | Q24: 380 | R24: 209 | S24: 233 | T24: 324 | U24: 418 | V24: 560 | W24: 412 | X24: 357 | Y24: 326 | Z24: 719
A25: 生活関連サービス業、娯楽業 | B25: 5311 | C25: 87 | D25: 413 | E25: 359 | F25: 364 | G25: 468 | H25: 460 | I25: 531 | J25: 530 | K25: 480 | L25: 458 | M25: 1161 | N25: 生活関連サービス業、娯楽業 | O25: 3303 | P25: 63 | Q25: 261 | R25: 238 | S25: 239 | T25: 303 | U25: 303 | V25: 350 | W25: 365 | X25: 321 | Y25: 284 | Z25: 576
A26: 教育、学習支援業 | B26: 4598 | C26: 94 | D26: 402 | E26: 422 | F26: 410 | G26: 398 | H26: 404 | I26: 448 | J26: 460 | K26: 565 | L26: 550 | M26: 445 | N26: 教育、学習支援業 | O26: 2787 | P26: 52 | Q26: 224 | R26: 249 | S26: 238 | T26: 246 | U26: 274 | V26: 322 | W26: 324 | X26: 356 | Y26: 296 | Z26: 206
A27: 医 療 、 福 祉 | B27: 14394 | C27: 67 | D27: 940 | E27: 1224 | F27: 1246 | G27: 1480 | H27: 1620 | I27: 1871 | J27: 1509 | K27: 1364 | L27: 1241 | M27: 1832 | N27: 医 療 、 福 祉 | O27: 11236 | P27: 48 | Q27: 768 | R27: 914 | S27: 887 | T27: 1111 | U27: 1307 | V27: 1533 | W27: 1270 | X27: 1147 | Y27: 999 | Z27: 1252
A28: 複合サービス事業 | B28: 672 | C28: 16 | D28: 43 | E28: 38 | F28: 61 | G28: 63 | H28: 81 | I28: 108 | J28: 87 | K28: 85 | L28: 69 | M28: 21 | N28: 複合サービス事業 | O28: 311 | P28: 13 | Q28: 30 | R28: 28 | S28: 23 | T28: 29 | U28: 29 | V28: 38 | W28: 40 | X28: 43 | Y28: 33 | Z28: 5
... A32: 分 類 不 能 の 産 業 | B32: 5727 | C32: 181 | D32: 423 | E32: 372 | F32: 311 | G32: 340 | H32: 366 | I32: 502 | J32: 431 | K32: 336 | L32: 374 | M32: 2091 | N32: 分 類 不 能 の 産 業 | O32: 2460 | P32: 86 | Q32: 161 | R32: 132 | S32: 125 | T32: 145 | U32: 134 | V32: 220 | W32: 185 | X32: 143 | Y32: 174 | Z32: 955
A34: 産 業 大 分 類 | B34: 総 数 | C34: 15～19 | D34: 20～24 | E34: 25～29 | F34: 30～34 | G34: 35～39 | H34: 40～44 | I34: 45～49 | J34: 50～54 | K34: 55～59 | L34: 60～64 | M34: 65歳 以上
A35: 男 | B35: 70902 | C35: 1246 | D35: 4120 | E35: 5460 | F35: 5729 | G35: 6176 | H35: 7150 | I35: 8857 | J35: 7508 | K35: 6776 | L35: 6295 | M35: 11585
A37: 第 1 次 産 業 計 | B37: =SUM(B38:B39) -> 1254 | C37: =SUM(C38:C39) -> 4 | D37: =SUM(D38:D39) -> 46 | E37: =SUM(E38:E39) -> 46 | F37: =SUM(F38:F39) -> 49 | G37: =SUM(G38:G39) -> 41 | H37: =SUM(H38:H39) -> 51 | I37: =SUM(I38:I39) -> 57 | ... M37: =SUM(M38:M39) -> 739
A38: 農 業 、 林 業 | B38: 1252 | C38: 4 | D38: 46 | E38: 46 | F38: 49 | G38: 41 | H38: 51 | I38: 56 | J38: 61 | K38: 62 | L38: 97 | M38: 739
A39: 漁 業 | B39: 2 | C39: - | D39: - | E39: - | F39: - | G39: - | H39: - | I39: 1 | J39: 1 | K39: - | L39: - | M39: -
A41: 第 2 次 産 業 計 | B41: =SUM(B42:B44) -> 27631 | C41: =SUM(C42:C44) -> 428 | D41: =SUM(D42:D44) -> 1589 | E41: =SUM(E42:E44) -> 2427 | F41: =SUM(F42:F44) -> 2499 | G41: =SUM(G42:G44) -> 2585 | H41: =SUM(H42:H44) -> 2948 | I41: =SUM(I42:I44) -> 3901 | ... M41: =SUM(M42:M44) -> 3084
A42: 鉱業、採石業、砂利採取業 | B42: 33 | C42: - | D42: 1 | E42: 1 | F42: - | G42: 6 | H42: 3 | I42: 3 | J42: 3 | K42: 9 | L42: 4 | M42: 3
A43: 建 設 業 | B43: 11061 | C43: 108 | D43: 487 | E43: 760 | F43: 779 | G43: 955 | H43: 1135 | I43: 1562 | J43: 1273 | K43: 1009 | L43: 1007 | M43: 1986
A44: 製 造 業 | B44: 16537 | C44: 320 | D44: 1101 | E44: 1666 | F44: 1720 | G44: 1624 | H44: 1810 | I44: 2336 | J44: 1880 | K44: 1693 | L44: 1292 | M44: 1095
A46: 第 3 次 産 業 計 | B46: =SUM(B47:B60) -> 38750 | C46: =SUM(C47:C60) -> 719 | D46: =SUM(D47:D60) -> 2223 | E46: =SUM(E47:E60) -> 2747 | F46: =SUM(F47:F60) -> 2995 | G46: =SUM(G47:G60) -> 3355 | H46: =SUM(H47:H60) -> 3919 | I46: =SUM(I47:I60) -> 4617 | ... M46: =SUM(M47:M60) -> 6626
A47: 電気・ガス・熱供給・水事業 | B47: 634 | C47: 3 | D47: 38 | E47: 53 | F47: 47 | G47: 42 | H47: 80 | I47: 102 | J47: 92 | K47: 73 | L47: 70 | M47: 34
A48: 情 報 通 信 業 | B48: 1608 | C48: 5 | D48: 109 | E48: 173 | F48: 150 | G48: 139 | H48: 225 | I48: 226 | J48: 199 | K48: 179 | L48: 126 | M48: 77
A49: 運 輸 業、郵 便 業 | B49: 6822 | C49: 54 | D49: 210 | E49: 335 | F49: 405 | G49: 541 | H49: 764 | I49: 1046 | J49: 963 | K49: 847 | L49: 687 | M49: 970
A50: 卸 売 業、小 売 業 | B50: 7244 | C50: 247 | D50: 534 | E50: 542 | F50: 619 | G50: 644 | H50: 781 | I50: 853 | J50: 696 | K50: 650 | L50: 577 | M50: 1101
A51: 金 融 業、保 険 業 | B51: 798 | C51: - | D51: 23 | E51: 56 | F51: 45 | G51: 62 | H51: 53 | I51: 83 | J51: 115 | K51: 134 | L51: 131 | M51: 96
...

Sheet 24
L1: 24．産 業 大 分 類、従 業 上 の 地 位、 | M1: 男 女 別 15 歳 以 上 就 業 者 数 (令和 2 年)
A3: この表は、令和2年国勢調査による10月1日現在の数値である。
A4: 産 業 大 分 類 | B4: 総 数 | C4: 雇 用 者 | G4: 役 員 | H4: 雇人の ある業主 | I4: 雇人の ない業主 | J4: 家族 従業者 | K4: 家庭 内職者 | L4: 不 詳 | M4: 産 業 大 分 類 | N4: 総 数 | O4: 雇 用 者 | S4: 役 員 | T4: 雇人の ある業主 | U4: 雇人の ない業主 | V4: 家族 従業者 | W4: 家庭 内職者 | X4: 不 詳
C5: 総 数 | D5: 正規の職員・従業員 | E5: 派遣社員 | F5: ﾊﾟｰﾄ・ｱﾙﾊﾞｲﾄ・その他 | O5: 総 数 | P5: 正規の職員・従業員 | Q5: 派遣社員 | R5: ﾊﾟｰﾄ・ｱﾙﾊﾞｲﾄ・その他
A6: 総 数 | B6: 121438 | C6: 102290 | D6: 66061 | E6: 3623 | F6: 32606 | G6: 6088 | H6: 1512 | I6: 5503 | J6: 1954 | K6: 106 | L6: 3985 | M6: 女 | N6: 50536 | O6: 44434 | P6: 18580 | Q6: 1896 | R6: 23958 | S6: 1285 | T6: 284 | U6: 1500 | V6: 1541 | W6: 86 | X6: 1406
A8: 第 1 次 産 業 計 | B8: 1963 | C8: =SUM(C9:C10) -> 668 | D8: =SUM(D9:D10) -> 277 | E8: =SUM(E9:E10) -> 10 | F8: =SUM(F9:F10) -> 381 | G8: =SUM(G9:G10) -> 41 | H8: =SUM(H9:H10) -> 70 | I8: =SUM(I9:I10) -> 733 | J8: =SUM(J9:J10) -> 435 | ... L8: =SUM(L9:L10) -> 16 | M8: 第 1 次 産 業 計 | N8: 709 | O8: =SUM(O9:O10) -> 287 | P8: =SUM(P9:P10) -> 66 | Q8: =SUM(Q9:Q10) -> 4 | R8: =SUM(R9:R10) -> 217 | S8: =SUM(S9:S10) -> 3 | T8: =SUM(T9:T10) -> 2 | U8: =SUM(U9:U10) -> 67 | V8: =SUM(V9:V10) -> 347 | ... X8: =SUM(X9:X10) -> 3
A9: 農 業 、 林 業 | B9: 1960 | C9: 665 | D9: 275 | E9: 9 | F9: 381 | G9: 41 | H9: 70 | I9: 733 | J9: 435 | K9: - | L9: 16 | M9: 農 業 、 林 業 | N9: 708 | O9: 286 | P9: 66 | Q9: 3 | R9: 217 | S9: 3 | T9: 2 | U9: 67 | V9: 347 | W9: - | X9: 3
A10: 漁 業 | B10: 3 | C10: 3 | D10: 2 | E10: 1 | F10: - | G10: - | H10: - | I10: - | J10: - | K10: - | L10: - | M10: 漁 業 | N10: 1 | O10: 1 | P10: - | Q10: 1 | R10: - | S10: - | T10: - | U10: - | V10: - | W10: - | X10: -
A12: 第 2 次 産 業 計 | B12: 33655 | C12: =SUM(C13:C15) -> 28558 | D12: =SUM(D13:D15) -> 24136 | E12: =SUM(E13:E15) -> 1261 | F12: =SUM(F13:F15) -> 3161 | G12: =SUM(G13:G15) -> 2765 | H12: =SUM(H13:H15) -> 395 | I12: =SUM(I13:I15) -> 1155 | J12: =SUM(J13:J15) -> 304 | ... L12: =SUM(L13:L15) -> 395 | M12: 第 2 次 産 業 計 | N12: 6024 | O12: =SUM(O13:O15) -> 5181 | P12: =SUM(P13:P15) -> 2834 | Q12: =SUM(Q13:Q15) -> 532 | R12: =SUM(R13:R15) -> 1815 | S12: =SUM(S13:S15) -> 480 | T12: =SUM(T13:T15) -> 9 | U12: =SUM(U13:U15) -> 44 | V12: =SUM(V13:V15) -> 200 | ... X12: =SUM(X13:X15) -> 43
A13: 鉱業、採石業、砂利採取業 | B13: 35 | C13: 31 | D13: 30 | E13: - | F13: 1 | G13: 3 | H13: - | I13: - | J13: - | K13: - | L13: 1 | M13: 鉱業、採石業、砂利採取業 | N13: 2 | O13: 2 | P13: 1 | Q13: - | R13: 1 | S13: - | T13: - | U13: - | V13: - | W13: - | X13: -
A14: 建 設 業 | B14: 13279 | C14: 9331 | D14: 8102 | E14: 193 | F14: 1036 | G14: 2166 | H14: 351 | I14: 1002 | J14: 253 | K14: - | L14: 176 | M14: 建 設 業 | N14: 2218 | O14: 1627 | P14: 1046 | Q14: 78 | R14: 503 | S14: 393 | T14: 6 | U14: 10 | V14: 169 | W14: - | X14: 13
A15: 製 造 業 | B15: 20341 | C15: 19196 | D15: 16004 | E15: 1068 | F15: 2124 | G15: 596 | H15: 44 | I15: 153 | J15: 51 | K15: 83 | L15: 218 | M15: 製 造 業 | N15: 3804 | O15: 3552 | P15: 1787 | Q15: 454 | R15: 1311 | S15: 87 | T15: 3 | U15: 34 | V15: 31 | W15: 67 | X15: 30
A17: 第 3 次 産 業 計 | B17: 80093 | C17: =SUM(C18:C31) -> 71033 | D17: =SUM(D18:D31) -> 40889 | E17: =SUM(E18:E31) -> 2019 | F17: =SUM(F18:F31) -> 28125 | G17: =SUM(G18:G31) -> 3217 | H17: =SUM(H18:H31) -> 996 | I17: =SUM(I18:I31) -> 2990 | J17: =SUM(J18:J31) -> 1017 | ... L17: =SUM(L18:L31) -> 817 | M17: 第 3 次 産 業 計 | N17: 41343 | O17: =SUM(O18:O31) -> 37905 | P17: =SUM(P18:P31) -> 15441 | Q17: =SUM(Q18:Q31) -> 1161 | R17: =SUM(R18:R31) -> 21303 | S17: =SUM(S18:S31) -> 783 | T17: =SUM(T18:T31) -> 262 | U17: =SUM(U18:U31) -> 1167 | V17: =SUM(V18:V31) -> 835 | ... X17: =SUM(X18:X31) -> 372
A18: 電気・ガス・熱供給・水事業 | B18: 739 | C18: 721 | D18: 661 | E18: 19 | F18: 41 | G18: 9 | H18: 1 | I18: 1 | J18: 2 | K18: - | L18: 5 | M18: 電気・ガス・熱供給・水事業 | N18: 105 | O18: 102 | P18: 67 | Q18: 11 | R18: 24 | S18: 1 | T18: - | U18: - | V18: 1 | W18: - | X18: 1
A19: 情 報 通 信 業 | B19: 2240 | C19: 1951 | D19: 1607 | E19: 141 | F19: 203 | G19: 144 | H19: 7 | I19: 112 | J19: 8 | K19: - | L19: 18 | M19: 情 報 通 信 業 | N19: 632 | O19: 576 | P19: 361 | Q19: 82 | R19: 133 | S19: 11 | T19: 2 | U19: 30 | V19: 7 | W19: - | X19: 6
A20: 運 輸 業、郵 便 業 | B20: 8484 | C20: 7836 | D20: 5916 | E20: 335 | F20: 1585 | G20: 323 | H20: 18 | I20: 172 | J20: 9 | K20: - | L20: 126 | M20: 運 輸 業、郵 便 業 | N20: 1662 | O20: 1574 | P20: 696 | Q20: 137 | R20: 741 | S20: 54 | T20: 1 | U20: 15 | V20: 6 | W20: - | X20: 12
A21: 卸 売 業、小 売 業 | B21: 17053 | C21: 15087 | D21: 6674 | E21: 282 | F21: 8131 | G21: 945 | H21: 180 | I21: 444 | J21: 227 | K21: - | L21: 170 | M21: 卸 売 業、小 売 業 | N21: 9809 | O21: 9108 | P21: 2382 | Q21: 176 | R21: 6550 | S21: 237 | T21: 33 | U21: 160 | V21: 186 | W21: - | X21: 85
A22: 金 融 業、保 険 業 | B22: 1983 | C22: 1830 | D22: 1379 | E22: 88 | F22: 363 | G22: 85 | H22: 11 | I22: 33 | J22: 4 | K22: - | L22: 20 | M22: 金 融 業、保 険 業 | N22: 1185 | O22: 1145 | P22: 754 | Q22: 69 | R22: 322 | S22: 11 | T22: 2 | U22: 11 | V22: 4 | W22: - | X22: 12
A23: 不動産業、物品賃貸業 | B23: 2414 | C23: 1725 | D23: 1117 | E23: 54 | F23: 554 | G23: 330 | H23: 40 | I23: 220 | J23: 86 | K23: - | L23: 13 | M23: 不動産業、物品賃貸業 | N23: 951 | O23: 697 | P23: 386 | Q23: 22 | R23: 289 | S23: 102 | T23: 12 | U23: 75 | V23: 63 | W23: - | X23: 2
A24: 学術研究、専門・技術サービス業 | B24: 4136 | C24: 3262 | D24: 2515 | E24: 242 | F24: 505 | G24: 269 | H24: 99 | I24: 387 | J24: 87 | K24: - | L24: 32 | M24: 学術研究、専門・技術サービス業 | N24: 1269 | O24: 1050 | P24: 594 | Q24: 121 | R24: 335 | S24: 41 | T24: 7 | U24: 86 | V24: 78 | W24: - | X24: 7
A25: 宿泊業、飲食サービス業 | B25: 6173 | C25: 5276 | D25: 1114 | E25: 51 | F25: 4111 | G25: 156 | H25: 222 | I25: 246 | J25: 225 | K25: - | L25: 48 | M25: 宿泊業、飲食サービス業 | N25: 4307 | O25: 3846 | P25: 487 | Q25: 28 | R25: 3331 | S25: 53 | T25: 67 | U25: 117 | V25: 186 | W25: - | X25: 38
A26: 生活関連サービス業、娯楽業 | B26: 5311 | C26: 4220 | D26: 1721 | E26: 74 | F26: 2425 | G26: 168 | H26: 152 | I26: 540 | J26: 167 | K26: - | L26: 64 | M26: 生活関連サービス業、娯楽業 | N26: 3303 | O26: 2688 | P26: 886 | Q26: 40 | R26: 1762 | S26: 54 | T26: 64 | U26: 322 | V26: 140 | W26: - | X26: 35
A27: 教育、学習支援業 | B27: 4598 | C27: 4166 | D27: 2579 | E27: 63 | F27: 1524 | G27: 63 | H27: 55 | I27: 251 | J27: 22 | K27: - | L27: 41 | M27: 教育、学習支援業 | N27: 2787 | O27: 2483 | P27: 1352 | Q27: 47 | R27: 1084 | S27: 23 | T27: 38 | U27: 201 | V27: 16 | W27: - | X27: 26
A28: 医 療 、 福 祉 | B28: 14394 | C28: 13570 | D28: 8052 | E28: 209 | F28: 5309 | G28: 274 | H28: 150 | I28: 158 | J28: 106 | K28: - | L28: 136 | M28: 医 療 、 福 祉 | N28: 11236 | O28: 10842 | P28: 5940 | Q28: 183 | R28: 4719 | S28: 109 | T28: 33 | U28: 48 | V28: 94 | W28: - | X28: 110
A29: 複合サービス事業 | B29: 672 | C29: 650 | D29: 445 | E29: 11 | F29: 194 | G29: 10 | H29: 1 | I29: - | J29: - | K29: - | L29: 11 | M29: 複合サービス事業 | N29: 311 | O29: 304 | P29: 162 | Q29: 7 | R29: 135 | S29: 1 | T29: - | U29: - | V29: - | W29: - | X29: 6
A30: ｻｰﾋﾞｽ業(他に分類されないもの) | B30: 8771 | C30: 7614 | D30: 4398 | E30: 408 | F30: 2808 | G30: 441 | H30: 60 | I30: 426 | J30: 74 | K30: 23 | L30: 133 | M30: ｻｰﾋﾞｽ業(他に分類されないもの) | N30: 2982 | O30: 2686 | P30: 869 | Q30: 204 | R30: 1613 | S30: 86 | T30: 3 | U30: 102 | V30: 54 | W30: 19 | X30: 32
A31: 公務(他に分類されるものを除く) | B31: 3125 | C31: 3125 | D31: 2711 | E31: 42 | F31: 372 | G31: - | H31: - | I31: - | J31: - | K31: - | L31: - | M31: 公務(他に分類されるものを除く) | N31: 804 | O31: 804 | P31: 505 | Q31: 34 | R31: 265 | S31: - | T31: - | U31: - | V31: - | W31: - | X31: -
A33: 分 類 不 能 の 産 業 | B33: 5727 | C33: 2031 | D33: 759 | E33: 333 | F33: 939 | G33: 65 | H33: 51 | I33: 625 | J33: 198 | K33: - | L33: 2757 | M33: 分 類 不 能 の 産 業 | N33: 2460 | O33: 1061 | P33: 239 | Q33: 199 | R33: 623 | S33: 19 | T33: 11 | U33: 222 | V33: 159 | W33: - | X33: 988
A35: 産 業 大 分 類 | B35: 総 数 | C35: 雇 用 者 | G35: 役 員 | H35: 雇人の ある業主 | I35: 雇人の ない業主 | J35: 家族 従業者 | K35: 家庭 内職者 | L35: 不 詳
D36: 正規の職員・従業員 | E36: 派遣社員 | F36: ﾊﾟｰﾄ・ｱﾙﾊﾞｲﾄ・その他
A37: 男 | B37: 70902 | C37: 57856 | D37: 47481 | E37: 1727 | F37: 8648 | G37: 4803 | H37: 1228 | I37: 4003 | J37: 413 | K37: 20 | L37: 2579
A39: 第 1 次 産 業 計 | B39: 1254 | C39: =SUM(C40:C41) -> 381 | D39: =SUM(D40:D41) -> 211 | E39: =SUM(E40:E41) -> 6 | F39: =SUM(F40:F41) -> 164 | G39: =SUM(G40:G41) -> 38 | H39: =SUM(H40:H41) -> 68 | I39: =SUM(I40:I41) -> 666 | J39: =SUM(J40:J41) -> 88 | ... L39: =SUM(L40:L41) -> 13
A40: 農 業 、 林 業 | B40: 1252 | C40: 379 | D40: 209 | E40: 6 | F40: 164 | G40: 38 | H40: 68 | I40: 666 | J40: 88 | K40: - | L40: 13
A41: 漁 業 | B41: 2 | C41: 2 | D41: 2 | E41: - | F41: - | G41: - | H41: - | I41: - | J41: - | K41: - | L41: -
A43: 第 2 次 産 業 計 | B43: 27631 | C43: =SUM(C44:C46) -> 23377 | D43: =SUM(D44:D46) -> 21302 | E43: =SUM(E44:E46) -> 729 | F43: =SUM(F44:F46) -> 1346 | G43: =SUM(G44:G46) -> 2285 | H43: =SUM(H44:H46) -> 386 | I43: =SUM(I44:I46) -> 1111 | J43: =SUM(J44:J46) -> 104 | ... L43: =SUM(L44:L46) -> 352
A44: 鉱業、採石業、砂利採取業 | B44: 33 | C44: 29 | D44: 29 | E44: - | F44: - | G44: 3 | H44: - | I44: - | J44: - | K44: - | L44: 1
A45: 建 設 業 | B45: 11061 | C45: 7704 | D45: 7056 | E45: 115 | F45: 533 | G45: 1773 | H45: 345 | I45: 992 | J45: 84 | K45: - | L45: 163
A46: 製 造 業 | B46: 16537 | C46: 15644 | D46: 14217 | E46: 614 | F46: 813 | G46: 509 | H46: 41 | I46: 119 | J46: 20 | K46: 16 | L46: 188
A48: 第 3 次 産 業 計 | B48: 38750 | C48: =SUM(C49:C62) -> 33128 | D48: =SUM(D49:D62) -> 25448 | E48: =SUM(E49:E62) -> 858 | F48: =SUM(F49:F62) -> 6822 | G48: =SUM(G49:G62) -> 2434 | H48: =SUM(H49:H62) -> 734 | I48: =SUM(I49:I62) -> 1823 | J48: =SUM(J49:J62) -> 182 | ... L48: =SUM(L49:L62) -> 445
A49: 電気・ガス・熱供給・水事業 | B49: 634 | C49: 619 | D49: 594 | E49: 8 | F49: 17 | G49: 8 | H49: 1 | I49: 1 | J49: 1 | K49: - | L49: 4
...

Sheet 25,26
A1: 25．昼 間 人 口 (平成 2 年 ～ 令和 2 年)
A3: この表は、国勢調査による各年10月1日現在の数値である。
A4: 年 | C4: Ａ 常 住 人 口 (夜 間 人 口) | D4: Ｂ 昼 間 人 口 | E4: Ｂ／Ａ 常住人口に対する 昼間人口の割合(％) | F4: Ｃ 流入人口 他市町村からの 通勤通学者 | G4: Ｄ 流出人口 他市区町村への 通勤通学者 | H4: Ｃ－Ｄ 流入超過数 (▲流出超過)
A5: 平成2 | B5: 年 | C5: 257350 | D5: 239442 | E5: 93 | F5: 31799 | G5: 49707 | H5: -17908
A6: 7 | C6: 276805 | D6: 257224 | E6: 92.9 | F6: 36659 | G6: 56240 | H6: -19581
A7: 12 | C7: 277978 | D7: 260485 | E7: 93.7 | F7: 35775 | G7: 53268 | H7: -17493
A8: 17 | C8: 279536 | D8: 260218 | E8: 93.089262 | F8: 36138 | G8: 55456 | H8: -19318
A9: 22 | C9: 280416 | D9: 265874 | E9: 94.814133 | F9: 35299 | G9: 56278 | H9: -20979
A10: 27 | C10: 274656 | D10: 257856 | E10: 93.883258 | F10: 35135 | G10: 51935 | H10: -16800
A11: 令和2 | B11: 年 | C11: 269524 | D11: 256438 | E11: =D11/C11*100 -> 95.144774 | F11: 35396 | G11: 48482 | H11: =F11-G11 -> -13086
A12: 資料「国勢調査結果」(総務省)を基に政策マーケティング室で作成
A15: 26．人 口 集 中 地 区 人 口 及 び 面 積 (平成 17 年 ～ 令和 2 年)
A17: この表は、国勢調査による各年10月1日現在の数値である。
A18: 年 | C18: 地 区 | D18: 人 口 | E18: 総人口に対する 人口の割合(％) | F18: 面 積 (ｋ㎡) | G18: 総面積に対する 面積の割合(％) | H18: 人口密度 (１ｋ㎡当たり)
A19: 平成17 | B19: 年 | C19: 計 | D19: 170244 | E19: 60.746106 | F19: 52.43 | G19: 14.239544 | H19: 3248.3
C20: Ⅰ ( 五井～八幡～姉崎 ) | D20: 88556 | E20: 31.598366 | F20: 41.28 | G20: 11.211298 | H20: 2145.3
C21: Ⅱ ( 国 分 寺 台 ) | D21: 26284 | E21: 9.3786016 | F21: 3.76 | G21: 1.0211841 | H21: 6990.4
C22: Ⅲ ( 辰 巳 台 ) | D22: 17571 | E22: 6.2696473 | F22: 2.22 | G22: 0.60293319 | H22: 7914.9
C23: Ⅳ ( ち は ら 台 ) | D23: 12811 | E23: 4.5711941 | F23: 1.3 | G23: 0.35306898 | H23: 9854.6
C24: Ⅴ ( 若 宮 ～ 門 前 ) | D24: 10608 | E24: 3.7851243 | F24: 1.76 | G24: 0.47800109 | H24: 6027.3
C25: Ⅵ ( 光 風 台 ) | D25: 9145 | E25: 3.2630997 | F25: 1.39 | G25: 0.37751222 | H25: 6579.1
C26: Ⅶ ( 桜台 ～ 椎の木台 ) | D26: 5269 | E26: 1.8800735 | F26: 0.72 | G26: 0.1955459 | H26: 7318.1
A28: 平成22 | B28: 年 | C28: 計 | D28: 176117 | E28: 62.841698 | F28: 53.43 | G28: 14.511135 | H28: 3296.2
C29: Ⅰ ( 五井～八幡～姉崎 ) | D29: 96183 | E29: 34.319816 | F29: 42.09 | G29: 11.431287 | H29: 2285.2
C30: Ⅱ ( 国 分 寺 台 ) | D30: 25925 | E30: 9.2 | F30: 3.76 | G30: 1.0211841 | H30: 6894.9
C31: Ⅲ ( ち は ら 台 ) | D31: 18449 | E31: 6.5829334 | F31: 2.27 | G31: 0.61651276 | H31: 8127.3
C32: Ⅳ ( 辰 巳 台 ) | D32: 16898 | E32: 6.0295088 | F32: 2.14 | G32: 0.58120587 | H32: 7896.3
C33: Ⅴ ( 若 宮 ～ 門 前 ) | D33: 10004 | E33: 3.5696063 | F33: 1.78 | G33: 0.48343292 | H33: 5620.2
C34: Ⅵ ( 光 風 台 ) | D34: 8658 | E34: 3.0893294 | F34: 1.39 | G34: 0.37751222 | H34: 6228.8
A36: 平成27 | B36: 年 | C36: 計 | D36: 177051 | E36: 64.462819 | F36: 53.61 | G36: 14.561208 | H36: 3302.6
C37: Ⅰ ( 五井～八幡～姉崎 ) | D37: 96115 | E37: 34.994684 | F37: 41.88 | G37: 11.37518 | H37: 2295
C38: Ⅱ (国分寺台～若宮～門前) | D38: 35500 | E38: 12.925259 | F38: 5.61 | G38: 1.5237526 | H38: 6328
C39: Ⅲ ( ち は ら 台 ) | D39: 21335 | E39: 7.7678988 | F39: 2.58 | G39: 0.70076323 | H39: 8269.4
C40: Ⅳ ( 辰 巳 台 ) | D40: 15980 | E40: 5.8181871 | F40: 2.16 | G40: 0.5866855 | H40: 7398.1
C41: Ⅴ ( 光 風 台 ) | D41: 8121 | E41: 2.9567896 | F41: 1.38 | G41: 0.37482685 | H41: 5884.8
A43: 令和2 | B43: 年 | C43: 計 | D43: 174608 | E43: 64.783841 | F43: 53.88 | G43: 14.634544 | H43: 3240.7
C44: Ⅰ ( 五井～八幡～姉崎 ) | D44: 86093 | E44: 31.94261 | F44: 40.83 | G44: 11.089986 | H44: 2108.6
C45: Ⅱ ( 国分寺台～門前 ) | D45: 28375 | E45: 10.527819 | F45: 4.52 | G45: 1.2276937 | H45: 6277.7
C46: Ⅲ ( ち は ら 台 ) | D46: 24709 | E46: 9.1676437 | F46: 3.23 | G46: 0.87731211 | H46: 7649.8
C47: Ⅳ ( 辰 巳 台 ) | D47: 15346 | E47: 5.6937416 | F47: 2.15 | G47: 0.58396936 | H47: 7137.7
...

Sheet 27,28
A1: 27．年 齢、労 働 力 状 態、男 女 別 15 歳 以 上 人 口 (令和 2 年)
A3: この表は、令和2年国勢調査による10月1日現在の数値である。
B4: 総 数 | C4: 労 働 力 人 口 | J4: 非 労 働 力 人 口 | N4: 不 詳 (注) | O4: 労働力率 (％)
C5: 総 数 | D5: 就 業 者 | I5: 完全 失業者 | J5: 総 数 | K5: うち 家事 | L5: うち 通学 | M5: その他
D6: 総 数 | E6: 主に 仕事 | F6: 家事の ほか 仕事 | G6: 通学のかたわら仕事 | H6: 休業者
A7: 総 数 | B7: 233302 | C7: 126257 | D7: 121438 | E7: 99220 | F7: 16298 | G7: 2511 | H7: 3409 | I7: 4819 | J7: 77676 | K7: 30194 | L7: 9842 | M7: 37640 | N7: 29369 | O7: 61.91102
A8: 15 ～ 64 歳 | B8: 154641 | C8: 106981 | D8: 102791 | E8: 86557 | F8: 11593 | G8: 2506 | H8: 2135 | I8: 4190 | J8: 27715 | K8: 13538 | L8: 9831 | M8: 4346 | N8: 19945 | O8: 79.42404
A9: 65 歳 以 上 | B9: 78661 | C9: 19276 | D9: 18647 | E9: 12663 | F9: 4705 | G9: 5 | H9: 1274 | I9: 629 | J9: 49961 | K9: 16656 | L9: 11 | M9: 33294 | N9: 9424 | O9: 27.84061
A11: 男 | B11: 119143 | C11: 74059 | D11: 70902 | E11: 66276 | F11: 1547 | G11: 1161 | H11: 1918 | I11: 3157 | J11: 28939 | K11: 3745 | L11: 5011 | M11: 20183 | N11: 16145 | O11: 71.90334
A12: 15 ～ 64 歳 | B12: 82219 | C12: 61947 | D12: 59317 | E12: 56734 | F12: 450 | G12: 1160 | H12: 973 | I12: 2630 | J12: 8623 | K12: 801 | L12: 5009 | M12: 2813 | N12: 11649 | O12: 87.78093
A13: 65 歳 以 上 | B13: 36924 | C13: 12112 | D13: 11585 | E13: 9542 | F13: 1097 | G13: 1 | H13: 945 | I13: 527 | J13: 20316 | K13: 2944 | L13: 2 | M13: 17370 | N13: 4496 | O13: 37.35044
A15: 女 | B15: 114159 | C15: 52198 | D15: 50536 | E15: 32944 | F15: 14751 | G15: 1350 | H15: 1491 | I15: 1662 | J15: 48737 | K15: 26449 | L15: 4831 | M15: 17457 | N15: 13224 | O15: 51.71447
A16: 15 ～ 64 歳 | B16: 72422 | C16: 45034 | D16: 43474 | E16: 29823 | F16: 11143 | G16: 1346 | H16: 1162 | I16: 1560 | J16: 19092 | K16: 12737 | L16: 4822 | M16: 1533 | N16: 8296 | O16: 70.22736
A17: 65 歳 以 上 | B17: 41737 | C17: 7164 | D17: 7062 | E17: 3121 | F17: 3608 | G17: 4 | H17: 329 | I17: 102 | J17: 29645 | K17: 13712 | L17: 9 | M17: 15924 | N17: 4928 | O17: 19.46263
A18: 注：労働力状態「不詳」については、総数には含むが労働力率には含まない。
A19: 資料「令和2年国勢調査結果」(総務省)を基に政策マーケティング室で作成
A22: 28．常 住 地 に よ る 職 業 ( 大 分 類 )、男 女 別 15 歳 以 上 就 業 者 数 ( 令和 2 年 )
A24: この表は、令和2年国勢調査による10月1日現在の数値である。
B25: 総 数 | E25: 自 宅 で 従 業 | H25: 自宅外の自市区町村で従業 | K25: 他 市 区 町 村 で 従 業 | N25: 不 詳
B26: 総 数 | C26: 男 | D26: 女 | E26: 総 数 | F26: 男 | G26: 女 | H26: 総 数 | I26: 男 | J26: 女 | K26: 総 数 | L26: 男 | M26: 女 | N26: 総 数 | O26: 男 | P26: 女
A27: 総 数 | B27: 121438 | C27: 70902 | D27: 50536 | E27: 8069 | F27: 4623 | G27: 3446 | H27: 64615 | I27: 35258 | J27: 29357 | K27: 43646 | L27: 27871 | M27: 15775 | N27: 5108 | O27: 3150 | P27: 1958
A28: 管理的 職業従事者 | B28: 1953 | C28: 1710 | D28: 243 | E28: 246 | F28: 194 | G28: 52 | H28: 1019 | I28: 867 | J28: 152 | K28: 640 | L28: 605 | M28: 35 | N28: 48 | O28: 44 | P28: 4
A29: 専門的・技術的職業従事者 | B29: 17757 | C29: 9227 | D29: 8530 | E29: 1228 | F29: 821 | G29: 407 | H29: 8620 | I29: 3827 | J29: 4793 | K29: 7696 | L29: 4483 | M29: 3213 | N29: 213 | O29: 96 | P29: 117
A30: 事務従事者 | B30: 22718 | C30: 9397 | D30: 13321 | E30: 1277 | F30: 303 | G30: 974 | H30: 10758 | I30: 3810 | J30: 6948 | K30: 10416 | L30: 5173 | M30: 5243 | N30: 267 | O30: 111 | P30: 156
A31: 販売従事者 | B31: 12590 | C31: 5902 | D31: 6688 | E31: 816 | F31: 488 | G31: 328 | H31: 6167 | I31: 2202 | J31: 3965 | K31: 5293 | L31: 3079 | M31: 2214 | N31: 314 | O31: 133 | P31: 181
A32: サービス 職業従事者 | B32: 14656 | C32: 3991 | D32: 10665 | E32: 880 | F32: 351 | G32: 529 | H32: 9218 | I32: 1978 | J32: 7240 | K32: 4099 | L32: 1528 | M32: 2571 | N32: 459 | O32: 134 | P32: 325
A33: 保安職業 従事者 | B33: 2341 | C33: 2217 | D33: 124 | E33: 27 | F33: 26 | G33: 1 | H33: 903 | I33: 868 | J33: 35 | K33: 1365 | L33: 1281 | M33: 84 | N33: 46 | O33: 42 | P33: 4
A34: 農林漁業 従事者 | B34: 2140 | C34: 1515 | D34: 625 | E34: 1090 | F34: 707 | G34: 383 | H34: 788 | I34: 627 | J34: 161 | K34: 243 | L34: 165 | M34: 78 | N34: 19 | O34: 16 | P34: 3
A35: 生産工程 従事者 | B35: 19170 | C35: 15969 | D35: 3201 | E35: 730 | F35: 539 | G35: 191 | H35: 12461 | I35: 10397 | J35: 2064 | K35: 5614 | L35: 4745 | M35: 869 | N35: 365 | O35: 288 | P35: 77
A36: 輸送・機械 運転従事者 | B36: 5918 | C36: 5614 | D36: 304 | E36: 123 | F36: 107 | G36: 16 | H36: 3251 | I36: 3069 | J36: 182 | K36: 2382 | L36: 2286 | M36: 96 | N36: 162 | O36: 152 | P36: 10
A37: 建設・採掘 従事者 | B37: 7562 | C37: 7387 | D37: 175 | E37: 642 | F37: 598 | G37: 44 | H37: 4307 | I37: 4226 | J37: 81 | K37: 2352 | L37: 2312 | M37: 40 | N37: 261 | O37: 251 | P37: 10
