Workbook

Sheet 2017_01
A1: 42736 | O1: ★★ 全地区合計 ★★ | Q1: =SUM(C98,J98,Q49,Q98,C147,J147,Q147,C196,J196,Q196) -> 124174 | R1: =SUM(D98,K98,R49,R98,D147,K147,R147,D196,K196,R196) -> 279093 | S1: =SUM(E98,L98,S49,S98,E147,L147,S147,E196,L196,S196) -> 143596 | T1: =SUM(F98,M98,T49,T98,F147,M147,T147,F196,M196,T196) -> 135497
A2: CD | B2: 大字名 | C2: 世帯数 | D2: 総数 | E2: 男 | F2: 女 | H2: CD | I2: 大字名 | J2: 世帯数 | K2: 総数 | L2: 男 | M2: 女 | O2: CD | P2: 大字名 | Q2: 世帯数 | R2: 総数 | S2: 男 | T2: 女
A3: 1655 | B3: 千種５丁目 | C3: 216 | D3: 556 | E3: 281 | F3: 275 | H3: 7900 | I3: 平田 | J3: 816 | K3: 1683 | L3: 836 | M3: 847 | O3: 30101 | P3: 国分寺台中央１丁目 | Q3: 309 | R3: 694 | S3: 356 | T3: 338
A4: 1656 | B4: 千種６丁目 | C4: 110 | D4: 398 | E4: 208 | F4: 190 | H4: 8000 | I4: 五井 | J4: 7957 | K4: 16868 | L4: 8899 | M4: 7969 | O4: 30102 | P4: 国分寺台中央２丁目 | Q4: 339 | R4: 786 | S4: 406 | T4: 380
A5: 1657 | B5: 千種７丁目 | C5: 368 | D5: 871 | E5: 463 | F5: 408 | H5: 8051 | I5: 五井中央東１丁目 | J5: 334 | K5: 585 | L5: 310 | M5: 275 | O5: 30103 | P5: 国分寺台中央３丁目 | Q5: 263 | R5: 531 | S5: 288 | T5: 243
A6: 4300 | B6: 千種海岸 | C6: 2 | D6: 2 | E6: 2 | F6: 0 | H6: 8052 | I6: 五井中央東２丁目 | J6: 461 | K6: 811 | L6: 437 | M6: 374 | O6: 30104 | P6: 国分寺台中央４丁目 | Q6: 237 | R6: 547 | S6: 283 | T6: 264
A7: 4400 | B7: 五井南海岸 | C7: 1 | D7: 3 | E7: 0 | F7: 3 | H7: 8061 | I7: 五井中央西１丁目 | J7: 386 | K7: 707 | L7: 386 | M7: 321 | O7: 30105 | P7: 国分寺台中央５丁目 | Q7: 253 | R7: 659 | S7: 353 | T7: 306
A8: 4500 | B8: 五井海岸 | C8: 1 | D8: 1 | E8: 1 | F8: 0 | H8: 8062 | I8: 五井中央西２丁目 | J8: 269 | K8: 530 | L8: 274 | M8: 256 | O8: 30106 | P8: 国分寺台中央６丁目 | Q8: 242 | R8: 625 | S8: 290 | T8: 335
A9: 4600 | B9: 青柳 | C9: 1307 | D9: 2796 | E9: 1492 | F9: 1304 | H9: 8063 | I9: 五井中央西３丁目 | J9: 69 | K9: 148 | L9: 76 | M9: 72 | O9: 30107 | P9: 国分寺台中央７丁目 | Q9: 318 | R9: 705 | S9: 353 | T9: 352
A10: 4651 | B10: 青柳１丁目 | C10: 145 | D10: 307 | E10: 164 | F10: 143 | H10: 8101 | I10: 五井東１丁目 | J10: 677 | K10: 1245 | L10: 658 | M10: 587 | O10: 30201 | P10: 東国分寺台１丁目 | Q10: 274 | R10: 627 | S10: 316 | T10: 311
A11: 4652 | B11: 青柳２丁目 | C11: 85 | D11: 173 | E11: 95 | F11: 78 | H11: 8102 | I11: 五井東２丁目 | J11: 391 | K11: 830 | L11: 438 | M11: 392 | O11: 30202 | P11: 東国分寺台２丁目 | Q11: 196 | R11: 455 | S11: 221 | T11: 234
A12: 4653 | B12: 青柳３丁目 | C12: 189 | D12: 229 | E12: 162 | F12: 67 | H12: 8103 | I12: 五井東３丁目 | J12: 531 | K12: 1054 | L12: 574 | M12: 480 | O12: 30203 | P12: 東国分寺台３丁目 | Q12: 184 | R12: 468 | S12: 235 | T12: 233
A13: 4702 | B13: 青柳北２丁目 | C13: 3 | D13: 8 | E13: 3 | F13: 5 | H13: 8111 | I13: 更級１丁目 | J13: 151 | K13: 280 | L13: 167 | M13: 113 | O13: 30204 | P13: 東国分寺台４丁目 | Q13: 180 | R13: 422 | S13: 213 | T13: 209
A14: 4703 | B14: 青柳北３丁目 | C14: 18 | D14: 34 | E14: 20 | F14: 14 | H14: 8112 | I14: 更級２丁目 | J14: 78 | K14: 172 | L14: 83 | M14: 89 | O14: 30205 | P14: 東国分寺台５丁目 | Q14: 209 | R14: 444 | S14: 233 | T14: 211
... A38: 6800 | B38: 神代 | C38: 48 | D38: 119 | E38: 64 | F38: 55 | H38: 8114 | I38: 更級４丁目 | J38: 0 | K38: 0 | L38: 0 | M38: 0 | O38: 30901 | P38: 惣社１丁目 | Q38: 205 | R38: 479 | S38: 245 | T38: 234
A39: 6900 | B39: 十五沢 | C39: 52 | D39: 130 | E39: 58 | F39: 72 | O39: 30902 | P39: 惣社２丁目 | Q39: 176 | R39: 411 | S39: 201 | T39: 210
A40: 7000 | B40: 小折 | C40: 34 | D40: 74 | E40: 32 | F40: 42 | O40: 30903 | P40: 惣社３丁目 | Q40: 235 | R40: 528 | S40: 270 | T40: 258
A41: 7100 | B41: 西野 | C41: 51 | D41: 128 | E41: 69 | F41: 59 | O41: 30904 | P41: 惣社４丁目 | Q41: 171 | R41: 426 | S41: 228 | T41: 198
A42: 7200 | B42: 柳原 | C42: 53 | D42: 126 | E42: 59 | F42: 67 | O42: 30905 | P42: 惣社５丁目 | Q42: 238 | R42: 662 | S42: 324 | T42: 338
A43: 7300 | B43: 村上 | C43: 633 | D43: 1434 | E43: 729 | F43: 705 | O43: 31001 | P43: 加茂１丁目 | Q43: 204 | R43: 460 | S43: 226 | T43: 234
A44: 7400 | B44: 西広 | C44: 47 | D44: 108 | E44: 57 | F44: 51 | O44: 31002 | P44: 加茂２丁目 | Q44: 157 | R44: 389 | S44: 194 | T44: 195
A45: 7500 | B45: 惣社 | C45: 331 | D45: 695 | E45: 355 | F45: 340 | O45: 31101 | P45: 根田１丁目 | Q45: 170 | R45: 386 | S45: 196 | T45: 190
A46: 7600 | B46: 加茂 | C46: 3 | D46: 7 | E46: 3 | F46: 4 | O46: 31102 | P46: 根田２丁目 | Q46: 117 | R46: 215 | S46: 128 | T46: 87
A47: 7700 | B47: 根田 | C47: 110 | D47: 240 | E47: 121 | F47: 119 | O47: 31103 | P47: 根田３丁目 | Q47: 268 | R47: 554 | S47: 291 | T47: 263
A48: 7800 | B48: 岩野見 | C48: 147 | D48: 341 | E48: 161 | F48: 180 | O48: 31104 | P48: 根田４丁目 | Q48: 160 | R48: 389 | S48: 192 | T48: 197
O49: 3 | P49: 五井地区_計 | Q49: 40152 | R49: 87622 | S49: 45912 | T49: 41710
A50: =A1 -> 42736
A51: CD | B51: 大字名 | C51: 世帯数 | D51: 総数 | E51: 男 | F51: 女 | H51: CD | I51: 大字名 | J51: 世帯数 | K51: 総数 | L51: 男 | M51: 女 | O51: CD | P51: 大字名 | Q51: 世帯数 | R51: 総数 | S51: 男 | T51: 女
A52: 100 | B52: 姉崎海岸 | C52: 32 | D52: 37 | E52: 33 | F52: 4 | H52: 1900 | I52: 八幡海岸通 | J52: 305 | K52: 447 | L52: 326 | M52: 121 | O52: 8400 | P52: 山倉 | Q52: 230 | R52: 483 | S52: 254 | T52: 229
A53: 200 | B53: 椎津 | C53: 1641 | D53: 3480 | E53: 1789 | F53: 1691 | H53: 2001 | I53: 八幡浦１丁目 | J53: 3 | K53: 3 | L53: 3 | M53: 0 | O53: 8500 | P53: 福増 | Q53: 300 | R53: 716 | S53: 367 | T53: 349
A54: 300 | B54: 姉崎 | C54: 6066 | D54: 12292 | E54: 6597 | F54: 5695 | H54: 2100 | I54: 八幡 | J54: 5498 | K54: 11274 | L54: 5865 | M54: 5409 | O54: 8600 | P54: 海士有木 | Q54: 527 | R54: 1237 | S54: 626 | T54: 611
A55: 321 | B55: 姉崎西１丁目 | C55: 204 | D55: 360 | E55: 228 | F55: 132 | H55: 2201 | I55: 八幡北町１丁目 | J55: 243 | K55: 344 | L55: 224 | M55: 120 | O55: 8700 | P55: 大坪 | Q55: 243 | R55: 565 | S55: 306 | T55: 259
A56: 322 | B56: 姉崎西２丁目 | C56: 258 | D56: 490 | E56: 263 | F56: 227 | H56: 2202 | I56: 八幡北町２丁目 | J56: 212 | K56: 384 | L56: 217 | M56: 167 | O56: 8800 | P56: 新生 | Q56: 90 | R56: 235 | S56: 130 | T56: 105
A57: 323 | B57: 姉崎西３丁目 | C57: 214 | D57: 470 | E57: 262 | F57: 208 | H57: 2203 | I57: 八幡北町３丁目 | J57: 134 | K57: 197 | L57: 123 | M57: 74 | O57: 8900 | P57: 権現堂 | Q57: 88 | R57: 226 | S57: 114 | T57: 112
A58: 1300 | B58: 畑木 | C58: 151 | D58: 276 | E58: 134 | F58: 142 | H58: 2301 | I58: 八幡石塚１丁目 | J58: 330 | K58: 692 | L58: 393 | M58: 299 | O58: 9000 | P58: 糸久 | Q58: 32 | R58: 87 | S58: 47 | T58: 40
A59: 1400 | B59: 柏原 | C59: 127 | D59: 254 | E59: 116 | F59: 138 | H59: 2302 | I59: 八幡石塚２丁目 | J59: 332 | K59: 697 | L59: 369 | M59: 328 | O59: 9100 | P59: 宮原 | Q59: 94 | R59: 190 | S59: 99 | T59: 91
A60: 1500 | B60: 白塚 | C60: 330 | D60: 718 | E60: 350 | F60: 368 | H60: 2400 | I60: 五所 | J60: 1354 | K60: 2971 | L60: 1546 | M60: 1425 | O60: 9200 | P60: 分目 | Q60: 79 | R60: 200 | S60: 98 | T60: 102
A61: 1600 | B61: 今津朝山 | C61: 996 | D61: 1945 | E61: 1074 | F61: 871 | H61: 2500 | I61: 旭五所 | J61: 474 | K61: 954 | L61: 510 | M61: 444 | O61: 9300 | P61: 浅井小向 | Q61: 56 | R61: 163 | S61: 73 | T61: 90
A62: 1651 | B62: 千種１丁目 | C62: 124 | D62: 198 | E62: 131 | F62: 67 | H62: 2600 | I62: 東五所 | J62: 1012 | K62: 1973 | L62: 1065 | M62: 908 | O62: 9400 | P62: 相川 | Q62: 41 | R62: 88 | S62: 48 | T62: 40
A63: 1652 | B63: 千種２丁目 | C63: 220 | D63: 535 | E63: 269 | F63: 266 | H63: 2700 | I63: 西五所 | J63: 863 | K63: 1654 | L63: 880 | M63: 774 | O63: 9500 | P63: 新堀 | Q63: 258 | R63: 556 | S63: 269 | T63: 287
...

Sheet 2017_02
A1: 42767 | O1: ★★ 全地区合計 ★★ | Q1: =SUM(C98,J98,Q49,Q98,C147,J147,Q147,C196,J196,Q196) -> 124173 | R1: =SUM(D98,K98,R49,R98,D147,K147,R147,D196,K196,R196) -> 278975 | S1: =SUM(E98,L98,S49,S98,E147,L147,S147,E196,L196,S196) -> 143532 | T1: =SUM(F98,M98,T49,T98,F147,M147,T147,F196,M196,T196) -> 135443
A2: CD | B2: 大字名 | C2: 世帯数 | D2: 総数 | E2: 男 | F2: 女 | H2: CD | I2: 大字名 | J2: 世帯数 | K2: 総数 | L2: 男 | M2: 女 | O2: CD | P2: 大字名 | Q2: 世帯数 | R2: 総数 | S2: 男 | T2: 女
A3: 1655 | B3: 千種５丁目 | C3: 215 | D3: 556 | E3: 281 | F3: 275 | H3: 7900 | I3: 平田 | J3: 819 | K3: 1681 | L3: 835 | M3: 846 | O3: 30101 | P3: 国分寺台中央１丁目 | Q3: 312 | R3: 701 | S3: 357 | T3: 344
A4: 1656 | B4: 千種６丁目 | C4: 110 | D4: 398 | E4: 208 | F4: 190 | H4: 8000 | I4: 五井 | J4: 7967 | K4: 16870 | L4: 8897 | M4: 7973 | O4: 30102 | P4: 国分寺台中央２丁目 | Q4: 337 | R4: 785 | S4: 406 | T4: 379
A5: 1657 | B5: 千種７丁目 | C5: 371 | D5: 873 | E5: 464 | F5: 409 | H5: 8051 | I5: 五井中央東１丁目 | J5: 337 | K5: 590 | L5: 313 | M5: 277 | O5: 30103 | P5: 国分寺台中央３丁目 | Q5: 266 | R5: 533 | S5: 289 | T5: 244
A6: 4300 | B6: 千種海岸 | C6: 2 | D6: 2 | E6: 2 | F6: 0 | H6: 8052 | I6: 五井中央東２丁目 | J6: 462 | K6: 814 | L6: 437 | M6: 377 | O6: 30104 | P6: 国分寺台中央４丁目 | Q6: 234 | R6: 543 | S6: 280 | T6: 263
A7: 4400 | B7: 五井南海岸 | C7: 1 | D7: 3 | E7: 0 | F7: 3 | H7: 8061 | I7: 五井中央西１丁目 | J7: 388 | K7: 711 | L7: 386 | M7: 325 | O7: 30105 | P7: 国分寺台中央５丁目 | Q7: 253 | R7: 657 | S7: 353 | T7: 304
A8: 4500 | B8: 五井海岸 | C8: 1 | D8: 1 | E8: 1 | F8: 0 | H8: 8062 | I8: 五井中央西２丁目 | J8: 267 | K8: 527 | L8: 273 | M8: 254 | O8: 30106 | P8: 国分寺台中央６丁目 | Q8: 241 | R8: 621 | S8: 288 | T8: 333
A9: 4600 | B9: 青柳 | C9: 1308 | D9: 2799 | E9: 1493 | F9: 1306 | H9: 8063 | I9: 五井中央西３丁目 | J9: 69 | K9: 146 | L9: 74 | M9: 72 | O9: 30107 | P9: 国分寺台中央７丁目 | Q9: 321 | R9: 713 | S9: 356 | T9: 357
A10: 4651 | B10: 青柳１丁目 | C10: 146 | D10: 304 | E10: 164 | F10: 140 | H10: 8101 | I10: 五井東１丁目 | J10: 675 | K10: 1241 | L10: 656 | M10: 585 | O10: 30201 | P10: 東国分寺台１丁目 | Q10: 271 | R10: 621 | S10: 312 | T10: 309
A11: 4652 | B11: 青柳２丁目 | C11: 85 | D11: 173 | E11: 95 | F11: 78 | H11: 8102 | I11: 五井東２丁目 | J11: 388 | K11: 827 | L11: 437 | M11: 390 | O11: 30202 | P11: 東国分寺台２丁目 | Q11: 196 | R11: 456 | S11: 220 | T11: 236
A12: 4653 | B12: 青柳３丁目 | C12: 193 | D12: 234 | E12: 167 | F12: 67 | H12: 8103 | I12: 五井東３丁目 | J12: 529 | K12: 1046 | L12: 569 | M12: 477 | O12: 30203 | P12: 東国分寺台３丁目 | Q12: 184 | R12: 467 | S12: 235 | T12: 232
A13: 4702 | B13: 青柳北２丁目 | C13: 3 | D13: 8 | E13: 3 | F13: 5 | H13: 8111 | I13: 更級１丁目 | J13: 152 | K13: 281 | L13: 167 | M13: 114 | O13: 30204 | P13: 東国分寺台４丁目 | Q13: 181 | R13: 427 | S13: 217 | T13: 210
A14: 4703 | B14: 青柳北３丁目 | C14: 18 | D14: 34 | E14: 20 | F14: 14 | H14: 8112 | I14: 更級２丁目 | J14: 81 | K14: 179 | L14: 87 | M14: 92 | O14: 30205 | P14: 東国分寺台５丁目 | Q14: 205 | R14: 438 | S14: 231 | T14: 207
... A38: 6800 | B38: 神代 | C38: 48 | D38: 118 | E38: 63 | F38: 55 | H38: 8114 | I38: 更級４丁目 | J38: 0 | K38: 0 | L38: 0 | M38: 0 | O38: 30901 | P38: 惣社１丁目 | Q38: 205 | R38: 480 | S38: 245 | T38: 235
A39: 6900 | B39: 十五沢 | C39: 52 | D39: 130 | E39: 58 | F39: 72 | O39: 30902 | P39: 惣社２丁目 | Q39: 174 | R39: 406 | S39: 199 | T39: 207
A40: 7000 | B40: 小折 | C40: 34 | D40: 74 | E40: 32 | F40: 42 | O40: 30903 | P40: 惣社３丁目 | Q40: 236 | R40: 529 | S40: 270 | T40: 259
A41: 7100 | B41: 西野 | C41: 51 | D41: 128 | E41: 69 | F41: 59 | O41: 30904 | P41: 惣社４丁目 | Q41: 171 | R41: 427 | S41: 228 | T41: 199
A42: 7200 | B42: 柳原 | C42: 53 | D42: 125 | E42: 58 | F42: 67 | O42: 30905 | P42: 惣社５丁目 | Q42: 238 | R42: 659 | S42: 322 | T42: 337
A43: 7300 | B43: 村上 | C43: 632 | D43: 1431 | E43: 728 | F43: 703 | O43: 31001 | P43: 加茂１丁目 | Q43: 205 | R43: 461 | S43: 227 | T43: 234
A44: 7400 | B44: 西広 | C44: 47 | D44: 107 | E44: 57 | F44: 50 | O44: 31002 | P44: 加茂２丁目 | Q44: 156 | R44: 388 | S44: 193 | T44: 195
A45: 7500 | B45: 惣社 | C45: 332 | D45: 694 | E45: 355 | F45: 339 | O45: 31101 | P45: 根田１丁目 | Q45: 170 | R45: 382 | S45: 194 | T45: 188
A46: 7600 | B46: 加茂 | C46: 3 | D46: 7 | E46: 3 | F46: 4 | O46: 31102 | P46: 根田２丁目 | Q46: 116 | R46: 215 | S46: 126 | T46: 89
A47: 7700 | B47: 根田 | C47: 111 | D47: 241 | E47: 122 | F47: 119 | O47: 31103 | P47: 根田３丁目 | Q47: 263 | R47: 545 | S47: 287 | T47: 258
A48: 7800 | B48: 岩野見 | C48: 146 | D48: 338 | E48: 161 | F48: 177 | O48: 31104 | P48: 根田４丁目 | Q48: 158 | R48: 387 | S48: 191 | T48: 196
O49: 3 | P49: 五井地区_計 | Q49: =SUM(C3:C48,J3:J48,Q3:Q48) -> 40166 | R49: =SUM(D3:D48,K3:K48,R3:R48) -> 87598 | S49: =SUM(E3:E48,L3:L48,S3:S48) -> 45891 | T49: =SUM(F3:F48,M3:M48,T3:T48) -> 41707
A50: =A1 -> 42767
A51: CD | B51: 大字名 | C51: 世帯数 | D51: 総数 | E51: 男 | F51: 女 | H51: CD | I51: 大字名 | J51: 世帯数 | K51: 総数 | L51: 男 | M51: 女 | O51: CD | P51: 大字名 | Q51: 世帯数 | R51: 総数 | S51: 男 | T51: 女
A52: 100 | B52: 姉崎海岸 | C52: 33 | D52: 38 | E52: 34 | F52: 4 | H52: 1900 | I52: 八幡海岸通 | J52: 299 | K52: 441 | L52: 320 | M52: 121 | O52: 8400 | P52: 山倉 | Q52: 232 | R52: 484 | S52: 256 | T52: 228
A53: 200 | B53: 椎津 | C53: 1639 | D53: 3474 | E53: 1788 | F53: 1686 | H53: 2001 | I53: 八幡浦１丁目 | J53: 3 | K53: 3 | L53: 3 | M53: 0 | O53: 8500 | P53: 福増 | Q53: 300 | R53: 716 | S53: 367 | T53: 349
A54: 300 | B54: 姉崎 | C54: 6053 | D54: 12251 | E54: 6568 | F54: 5683 | H54: 2100 | I54: 八幡 | J54: 5514 | K54: 11294 | L54: 5879 | M54: 5415 | O54: 8600 | P54: 海士有木 | Q54: 525 | R54: 1237 | S54: 625 | T54: 612
A55: 321 | B55: 姉崎西１丁目 | C55: 202 | D55: 360 | E55: 227 | F55: 133 | H55: 2201 | I55: 八幡北町１丁目 | J55: 241 | K55: 342 | L55: 221 | M55: 121 | O55: 8700 | P55: 大坪 | Q55: 243 | R55: 568 | S55: 308 | T55: 260
A56: 322 | B56: 姉崎西２丁目 | C56: 258 | D56: 492 | E56: 265 | F56: 227 | H56: 2202 | I56: 八幡北町２丁目 | J56: 206 | K56: 376 | L56: 213 | M56: 163 | O56: 8800 | P56: 新生 | Q56: 90 | R56: 236 | S56: 130 | T56: 106
A57: 323 | B57: 姉崎西３丁目 | C57: 219 | D57: 479 | E57: 266 | F57: 213 | H57: 2203 | I57: 八幡北町３丁目 | J57: 135 | K57: 199 | L57: 124 | M57: 75 | O57: 8900 | P57: 権現堂 | Q57: 88 | R57: 226 | S57: 114 | T57: 112
A58: 1300 | B58: 畑木 | C58: 152 | D58: 277 | E58: 135 | F58: 142 | H58: 2301 | I58: 八幡石塚１丁目 | J58: 328 | K58: 689 | L58: 389 | M58: 300 | O58: 9000 | P58: 糸久 | Q58: 32 | R58: 87 | S58: 47 | T58: 40
A59: 1400 | B59: 柏原 | C59: 125 | D59: 249 | E59: 114 | F59: 135 | H59: 2302 | I59: 八幡石塚２丁目 | J59: 329 | K59: 694 | L59: 369 | M59: 325 | O59: 9100 | P59: 宮原 | Q59: 95 | R59: 191 | S59: 100 | T59: 91
A60: 1500 | B60: 白塚 | C60: 330 | D60: 719 | E60: 351 | F60: 368 | H60: 2400 | I60: 五所 | J60: 1342 | K60: 2956 | L60: 1536 | M60: 1420 | O60: 9200 | P60: 分目 | Q60: 78 | R60: 199 | S60: 98 | T60: 101
A61: 1600 | B61: 今津朝山 | C61: 981 | D61: 1933 | E61: 1061 | F61: 872 | H61: 2500 | I61: 旭五所 | J61: 482 | K61: 963 | L61: 516 | M61: 447 | O61: 9300 | P61: 浅井小向 | Q61: 56 | R61: 163 | S61: 73 | T61: 90
A62: 1651 | B62: 千種１丁目 | C62: 124 | D62: 199 | E62: 132 | F62: 67 | H62: 2600 | I62: 東五所 | J62: 1011 | K62: 1973 | L62: 1068 | M62: 905 | O62: 9400 | P62: 相川 | Q62: 41 | R62: 88 | S62: 48 | T62: 40
A63: 1652 | B63: 千種２丁目 | C63: 220 | D63: 536 | E63: 269 | F63: 267 | H63: 2700 | I63: 西五所 | J63: 865 | K63: 1656 | L63: 878 | M63: 778 | O63: 9500 | P63: 新堀 | Q63: 258 | R63: 556 | S63: 269 | T63: 287
...

Sheet 2017_03
A1: 42795 | O1: ★★ 全地区合計 ★★ | Q1: =SUM(C98,J98,Q49,Q98,C147,J147,Q147,C196,J196,Q196) -> 124205 | R1: =SUM(D98,K98,R49,R98,D147,K147,R147,D196,K196,R196) -> 278861 | S1: =SUM(E98,L98,S49,S98,E147,L147,S147,E196,L196,S196) -> 143493 | T1: =SUM(F98,M98,T49,T98,F147,M147,T147,F196,M196,T196) -> 135368
A2: CD | B2: 大字名 | C2: 世帯数 | D2: 総数 | E2: 男 | F2: 女 | H2: CD | I2: 大字名 | J2: 世帯数 | K2: 総数 | L2: 男 | M2: 女 | O2: CD | P2: 大字名 | Q2: 世帯数 | R2: 総数 | S2: 男 | T2: 女
A3: 1655 | B3: 千種５丁目 | C3: 216 | D3: 554 | E3: 280 | F3: 274 | H3: 7900 | I3: 平田 | J3: 811 | K3: 1674 | L3: 834 | M3: 840 | O3: 30101 | P3: 国分寺台中央１丁目 | Q3: 311 | R3: 697 | S3: 354 | T3: 343
A4: 1656 | B4: 千種６丁目 | C4: 110 | D4: 396 | E4: 207 | F4: 189 | H4: 8000 | I4: 五井 | J4: 7973 | K4: 16872 | L4: 8900 | M4: 7972 | O4: 30102 | P4: 国分寺台中央２丁目 | Q4: 335 | R4: 780 | S4: 403 | T4: 377
A5: 1657 | B5: 千種７丁目 | C5: 374 | D5: 881 | E5: 468 | F5: 413 | H5: 8051 | I5: 五井中央東１丁目 | J5: 337 | K5: 592 | L5: 313 | M5: 279 | O5: 30103 | P5: 国分寺台中央３丁目 | Q5: 264 | R5: 531 | S5: 288 | T5: 243
A6: 4300 | B6: 千種海岸 | C6: 2 | D6: 2 | E6: 2 | F6: 0 | H6: 8052 | I6: 五井中央東２丁目 | J6: 460 | K6: 816 | L6: 439 | M6: 377 | O6: 30104 | P6: 国分寺台中央４丁目 | Q6: 234 | R6: 543 | S6: 281 | T6: 262
A7: 4400 | B7: 五井南海岸 | C7: 1 | D7: 3 | E7: 0 | F7: 3 | H7: 8061 | I7: 五井中央西１丁目 | J7: 392 | K7: 713 | L7: 386 | M7: 327 | O7: 30105 | P7: 国分寺台中央５丁目 | Q7: 254 | R7: 666 | S7: 358 | T7: 308
A8: 4500 | B8: 五井海岸 | C8: 1 | D8: 1 | E8: 1 | F8: 0 | H8: 8062 | I8: 五井中央西２丁目 | J8: 268 | K8: 529 | L8: 274 | M8: 255 | O8: 30106 | P8: 国分寺台中央６丁目 | Q8: 239 | R8: 615 | S8: 286 | T8: 329
A9: 4600 | B9: 青柳 | C9: 1315 | D9: 2809 | E9: 1500 | F9: 1309 | H9: 8063 | I9: 五井中央西３丁目 | J9: 68 | K9: 145 | L9: 74 | M9: 71 | O9: 30107 | P9: 国分寺台中央７丁目 | Q9: 321 | R9: 711 | S9: 354 | T9: 357
A10: 4651 | B10: 青柳１丁目 | C10: 143 | D10: 300 | E10: 162 | F10: 138 | H10: 8101 | I10: 五井東１丁目 | J10: 670 | K10: 1235 | L10: 652 | M10: 583 | O10: 30201 | P10: 東国分寺台１丁目 | Q10: 276 | R10: 636 | S10: 321 | T10: 315
A11: 4652 | B11: 青柳２丁目 | C11: 87 | D11: 175 | E11: 97 | F11: 78 | H11: 8102 | I11: 五井東２丁目 | J11: 390 | K11: 830 | L11: 439 | M11: 391 | O11: 30202 | P11: 東国分寺台２丁目 | Q11: 197 | R11: 459 | S11: 224 | T11: 235
A12: 4653 | B12: 青柳３丁目 | C12: 195 | D12: 236 | E12: 170 | F12: 66 | H12: 8103 | I12: 五井東３丁目 | J12: 534 | K12: 1056 | L12: 572 | M12: 484 | O12: 30203 | P12: 東国分寺台３丁目 | Q12: 185 | R12: 469 | S12: 237 | T12: 232
A13: 4702 | B13: 青柳北２丁目 | C13: 3 | D13: 8 | E13: 3 | F13: 5 | H13: 8111 | I13: 更級１丁目 | J13: 152 | K13: 280 | L13: 166 | M13: 114 | O13: 30204 | P13: 東国分寺台４丁目 | Q13: 182 | R13: 431 | S13: 219 | T13: 212
A14: 4703 | B14: 青柳北３丁目 | C14: 18 | D14: 34 | E14: 20 | F14: 14 | H14: 8112 | I14: 更級２丁目 | J14: 79 | K14: 175 | L14: 85 | M14: 90 | O14: 30205 | P14: 東国分寺台５丁目 | Q14: 206 | R14: 443 | S14: 235 | T14: 208
... A38: 6800 | B38: 神代 | C38: 48 | D38: 119 | E38: 64 | F38: 55 | H38: 8114 | I38: 更級４丁目 | J38: 0 | K38: 0 | L38: 0 | M38: 0 | O38: 30901 | P38: 惣社１丁目 | Q38: 203 | R38: 478 | S38: 240 | T38: 238
A39: 6900 | B39: 十五沢 | C39: 52 | D39: 129 | E39: 57 | F39: 72 | O39: 30902 | P39: 惣社２丁目 | Q39: 174 | R39: 405 | S39: 199 | T39: 206
A40: 7000 | B40: 小折 | C40: 34 | D40: 74 | E40: 33 | F40: 41 | O40: 30903 | P40: 惣社３丁目 | Q40: 234 | R40: 521 | S40: 267 | T40: 254
A41: 7100 | B41: 西野 | C41: 51 | D41: 127 | E41: 68 | F41: 59 | O41: 30904 | P41: 惣社４丁目 | Q41: 170 | R41: 424 | S41: 227 | T41: 197
A42: 7200 | B42: 柳原 | C42: 53 | D42: 125 | E42: 58 | F42: 67 | O42: 30905 | P42: 惣社５丁目 | Q42: 239 | R42: 662 | S42: 324 | T42: 338
A43: 7300 | B43: 村上 | C43: 629 | D43: 1420 | E43: 723 | F43: 697 | O43: 31001 | P43: 加茂１丁目 | Q43: 202 | R43: 455 | S43: 224 | T43: 231
A44: 7400 | B44: 西広 | C44: 45 | D44: 105 | E44: 55 | F44: 50 | O44: 31002 | P44: 加茂２丁目 | Q44: 158 | R44: 390 | S44: 195 | T44: 195
A45: 7500 | B45: 惣社 | C45: 331 | D45: 688 | E45: 355 | F45: 333 | O45: 31101 | P45: 根田１丁目 | Q45: 171 | R45: 387 | S45: 196 | T45: 191
A46: 7600 | B46: 加茂 | C46: 3 | D46: 7 | E46: 3 | F46: 4 | O46: 31102 | P46: 根田２丁目 | Q46: 115 | R46: 211 | S46: 123 | T46: 88
A47: 7700 | B47: 根田 | C47: 111 | D47: 241 | E47: 122 | F47: 119 | O47: 31103 | P47: 根田３丁目 | Q47: 264 | R47: 545 | S47: 289 | T47: 256
A48: 7800 | B48: 岩野見 | C48: 146 | D48: 337 | E48: 160 | F48: 177 | O48: 31104 | P48: 根田４丁目 | Q48: 158 | R48: 390 | S48: 191 | T48: 199
O49: 3 | P49: 五井地区_計 | Q49: 40156 | R49: 87585 | S49: 45899 | T49: 41686
A50: =A1 -> 42795
A51: CD | B51: 大字名 | C51: 世帯数 | D51: 総数 | E51: 男 | F51: 女 | H51: CD | I51: 大字名 | J51: 世帯数 | K51: 総数 | L51: 男 | M51: 女 | O51: CD | P51: 大字名 | Q51: 世帯数 | R51: 総数 | S51: 男 | T51: 女
A52: 100 | B52: 姉崎海岸 | C52: 33 | D52: 38 | E52: 34 | F52: 4 | H52: 1900 | I52: 八幡海岸通 | J52: 297 | K52: 442 | L52: 319 | M52: 123 | O52: 8400 | P52: 山倉 | Q52: 233 | R52: 485 | S52: 257 | T52: 228
A53: 200 | B53: 椎津 | C53: 1647 | D53: 3475 | E53: 1791 | F53: 1684 | H53: 2001 | I53: 八幡浦１丁目 | J53: 3 | K53: 3 | L53: 3 | M53: 0 | O53: 8500 | P53: 福増 | Q53: 301 | R53: 715 | S53: 367 | T53: 348
A54: 300 | B54: 姉崎 | C54: 6057 | D54: 12234 | E54: 6559 | F54: 5675 | H54: 2100 | I54: 八幡 | J54: 5538 | K54: 11311 | L54: 5885 | M54: 5426 | O54: 8600 | P54: 海士有木 | Q54: 523 | R54: 1233 | S54: 623 | T54: 610
A55: 321 | B55: 姉崎西１丁目 | C55: 204 | D55: 363 | E55: 230 | F55: 133 | H55: 2201 | I55: 八幡北町１丁目 | J55: 239 | K55: 340 | L55: 220 | M55: 120 | O55: 8700 | P55: 大坪 | Q55: 243 | R55: 569 | S55: 310 | T55: 259
A56: 322 | B56: 姉崎西２丁目 | C56: 257 | D56: 491 | E56: 263 | F56: 228 | H56: 2202 | I56: 八幡北町２丁目 | J56: 208 | K56: 381 | L56: 215 | M56: 166 | O56: 8800 | P56: 新生 | Q56: 89 | R56: 234 | S56: 128 | T56: 106
A57: 323 | B57: 姉崎西３丁目 | C57: 221 | D57: 487 | E57: 268 | F57: 219 | H57: 2203 | I57: 八幡北町３丁目 | J57: 133 | K57: 195 | L57: 121 | M57: 74 | O57: 8900 | P57: 権現堂 | Q57: 88 | R57: 225 | S57: 114 | T57: 111
A58: 1300 | B58: 畑木 | C58: 151 | D58: 275 | E58: 134 | F58: 141 | H58: 2301 | I58: 八幡石塚１丁目 | J58: 326 | K58: 686 | L58: 386 | M58: 300 | O58: 9000 | P58: 糸久 | Q58: 32 | R58: 87 | S58: 47 | T58: 40
A59: 1400 | B59: 柏原 | C59: 125 | D59: 249 | E59: 114 | F59: 135 | H59: 2302 | I59: 八幡石塚２丁目 | J59: 331 | K59: 697 | L59: 371 | M59: 326 | O59: 9100 | P59: 宮原 | Q59: 96 | R59: 192 | S59: 101 | T59: 91
A60: 1500 | B60: 白塚 | C60: 329 | D60: 719 | E60: 352 | F60: 367 | H60: 2400 | I60: 五所 | J60: 1348 | K60: 2965 | L60: 1539 | M60: 1426 | O60: 9200 | P60: 分目 | Q60: 77 | R60: 195 | S60: 98 | T60: 97
A61: 1600 | B61: 今津朝山 | C61: 991 | D61: 1939 | E61: 1058 | F61: 881 | H61: 2500 | I61: 旭五所 | J61: 480 | K61: 961 | L61: 511 | M61: 450 | O61: 9300 | P61: 浅井小向 | Q61: 56 | R61: 163 | S61: 73 | T61: 90
A62: 1651 | B62: 千種１丁目 | C62: 124 | D62: 199 | E62: 131 | F62: 68 | H62: 2600 | I62: 東五所 | J62: 1009 | K62: 1969 | L62: 1067 | M62: 902 | O62: 9400 | P62: 相川 | Q62: 41 | R62: 88 | S62: 48 | T62: 40
A63: 1652 | B63: 千種２丁目 | C63: 222 | D63: 534 | E63: 269 | F63: 265 | H63: 2700 | I63: 西五所 | J63: 867 | K63: 1653 | L63: 873 | M63: 780 | O63: 9500 | P63: 新堀 | Q63: 260 | R63: 559 | S63: 269 | T63: 290
...

Sheet 2017_04
A1: 平成29年4月1日現在 世帯数及び人口
A2: CD | B2: 大字名 | C2: 世帯数 | D2: 総数 | E2: 男 | F2: 女 | H2: CD | I2: 大字名 | J2: 世帯数 | K2: 総数 | L2: 男 | M2: 女 | O2: CD | P2: 大字名 | Q2: 世帯数 | R2: 総数 | S2: 男 | T2: 女
A3: 1655 | B3: 千種５丁目 | C3: 215 | D3: 545 | E3: 276 | F3: 269 | H3: 7900 | I3: 平田 | J3: 815 | K3: 1689 | L3: 845 | M3: 844 | O3: 30101 | P3: 国分寺台中央１丁目 | Q3: 312 | R3: 694 | S3: 353 | T3: 341
A4: 1656 | B4: 千種６丁目 | C4: 110 | D4: 396 | E4: 207 | F4: 189 | H4: 8000 | I4: 五井 | J4: 8043 | K4: 16910 | L4: 8935 | M4: 7975 | O4: 30102 | P4: 国分寺台中央２丁目 | Q4: 334 | R4: 777 | S4: 403 | T4: 374
A5: 1657 | B5: 千種７丁目 | C5: 378 | D5: 885 | E5: 469 | F5: 416 | H5: 8051 | I5: 五井中央東１丁目 | J5: 339 | K5: 592 | L5: 316 | M5: 276 | O5: 30103 | P5: 国分寺台中央３丁目 | Q5: 265 | R5: 532 | S5: 288 | T5: 244
A6: 4300 | B6: 千種海岸 | C6: 2 | D6: 2 | E6: 2 | F6: 0 | H6: 8052 | I6: 五井中央東２丁目 | J6: 476 | K6: 826 | L6: 444 | M6: 382 | O6: 30104 | P6: 国分寺台中央４丁目 | Q6: 236 | R6: 544 | S6: 282 | T6: 262
A7: 4400 | B7: 五井南海岸 | C7: 1 | D7: 3 | E7: 0 | F7: 3 | H7: 8061 | I7: 五井中央西１丁目 | J7: 400 | K7: 723 | L7: 391 | M7: 332 | O7: 30105 | P7: 国分寺台中央５丁目 | Q7: 256 | R7: 662 | S7: 357 | T7: 305
A8: 4500 | B8: 五井海岸 | C8: 1 | D8: 1 | E8: 1 | F8: 0 | H8: 8062 | I8: 五井中央西２丁目 | J8: 264 | K8: 516 | L8: 264 | M8: 252 | O8: 30106 | P8: 国分寺台中央６丁目 | Q8: 242 | R8: 623 | S8: 292 | T8: 331
A9: 4600 | B9: 青柳 | C9: 1316 | D9: 2812 | E9: 1499 | F9: 1313 | H9: 8063 | I9: 五井中央西３丁目 | J9: 67 | K9: 142 | L9: 73 | M9: 69 | O9: 30107 | P9: 国分寺台中央７丁目 | Q9: 321 | R9: 706 | S9: 353 | T9: 353
A10: 4651 | B10: 青柳１丁目 | C10: 141 | D10: 296 | E10: 161 | F10: 135 | H10: 8101 | I10: 五井東１丁目 | J10: 661 | K10: 1218 | L10: 643 | M10: 575 | O10: 30201 | P10: 東国分寺台１丁目 | Q10: 274 | R10: 634 | S10: 320 | T10: 314
A11: 4652 | B11: 青柳２丁目 | C11: 87 | D11: 175 | E11: 97 | F11: 78 | H11: 8102 | I11: 五井東２丁目 | J11: 392 | K11: 832 | L11: 439 | M11: 393 | O11: 30202 | P11: 東国分寺台２丁目 | Q11: 195 | R11: 457 | S11: 223 | T11: 234
A12: 4653 | B12: 青柳３丁目 | C12: 188 | D12: 229 | E12: 165 | F12: 64 | H12: 8103 | I12: 五井東３丁目 | J12: 534 | K12: 1050 | L12: 568 | M12: 482 | O12: 30203 | P12: 東国分寺台３丁目 | Q12: 184 | R12: 468 | S12: 239 | T12: 229
A13: 4702 | B13: 青柳北２丁目 | C13: 3 | D13: 8 | E13: 3 | F13: 5 | H13: 8111 | I13: 更級１丁目 | J13: 156 | K13: 286 | L13: 168 | M13: 118 | O13: 30204 | P13: 東国分寺台４丁目 | Q13: 183 | R13: 428 | S13: 220 | T13: 208
A14: 4703 | B14: 青柳北３丁目 | C14: 18 | D14: 33 | E14: 20 | F14: 13 | H14: 8112 | I14: 更級２丁目 | J14: 79 | K14: 175 | L14: 85 | M14: 90 | O14: 30205 | P14: 東国分寺台５丁目 | Q14: 202 | R14: 438 | S14: 230 | T14: 208
... A38: 6800 | B38: 神代 | C38: 48 | D38: 119 | E38: 64 | F38: 55 | H38: 8114 | I38: 更級４丁目 | J38: 0 | K38: 0 | L38: 0 | M38: 0 | O38: 30901 | P38: 惣社１丁目 | Q38: 202 | R38: 477 | S38: 241 | T38: 236
A39: 6900 | B39: 十五沢 | C39: 51 | D39: 126 | E39: 56 | F39: 70 | O39: 30902 | P39: 惣社２丁目 | Q39: 171 | R39: 401 | S39: 198 | T39: 203
A40: 7000 | B40: 小折 | C40: 34 | D40: 73 | E40: 32 | F40: 41 | O40: 30903 | P40: 惣社３丁目 | Q40: 228 | R40: 516 | S40: 264 | T40: 252
A41: 7100 | B41: 西野 | C41: 51 | D41: 127 | E41: 68 | F41: 59 | O41: 30904 | P41: 惣社４丁目 | Q41: 171 | R41: 423 | S41: 227 | T41: 196
A42: 7200 | B42: 柳原 | C42: 53 | D42: 125 | E42: 58 | F42: 67 | O42: 30905 | P42: 惣社５丁目 | Q42: 243 | R42: 667 | S42: 322 | T42: 345
A43: 7300 | B43: 村上 | C43: 630 | D43: 1423 | E43: 725 | F43: 698 | O43: 31001 | P43: 加茂１丁目 | Q43: 205 | R43: 457 | S43: 227 | T43: 230
A44: 7400 | B44: 西広 | C44: 45 | D44: 102 | E44: 54 | F44: 48 | O44: 31002 | P44: 加茂２丁目 | Q44: 158 | R44: 388 | S44: 194 | T44: 194
A45: 7500 | B45: 惣社 | C45: 330 | D45: 681 | E45: 351 | F45: 330 | O45: 31101 | P45: 根田１丁目 | Q45: 172 | R45: 390 | S45: 199 | T45: 191
A46: 7600 | B46: 加茂 | C46: 3 | D46: 7 | E46: 3 | F46: 4 | O46: 31102 | P46: 根田２丁目 | Q46: 114 | R46: 210 | S46: 123 | T46: 87
A47: 7700 | B47: 根田 | C47: 110 | D47: 238 | E47: 121 | F47: 117 | O47: 31103 | P47: 根田３丁目 | Q47: 273 | R47: 556 | S47: 298 | T47: 258
A48: 7800 | B48: 岩野見 | C48: 147 | D48: 338 | E48: 162 | F48: 176 | O48: 31104 | P48: 根田４丁目 | Q48: 162 | R48: 396 | S48: 195 | T48: 201
O49: 3 | P49: 五井地区_計 | Q49: 40256 | R49: 87497 | S49: 45884 | T49: 41613
A50: 平成29年4月1日現在 世帯数及び人口
A51: CD | B51: 大字名 | C51: 世帯数 | D51: 総数 | E51: 男 | F51: 女 | H51: CD | I51: 大字名 | J51: 世帯数 | K51: 総数 | L51: 男 | M51: 女 | O51: CD | P51: 大字名 | Q51: 世帯数 | R51: 総数 | S51: 男 | T51: 女
A52: 100 | B52: 姉崎海岸 | C52: 31 | D52: 35 | E52: 32 | F52: 3 | H52: 1900 | I52: 八幡海岸通 | J52: 305 | K52: 447 | L52: 325 | M52: 122 | O52: 8400 | P52: 山倉 | Q52: 236 | R52: 482 | S52: 257 | T52: 225
A53: 200 | B53: 椎津 | C53: 1654 | D53: 3486 | E53: 1798 | F53: 1688 | H53: 2001 | I53: 八幡浦１丁目 | J53: 3 | K53: 3 | L53: 3 | M53: 0 | O53: 8500 | P53: 福増 | Q53: 300 | R53: 711 | S53: 368 | T53: 343
A54: 300 | B54: 姉崎 | C54: 6065 | D54: 12189 | E54: 6545 | F54: 5644 | H54: 2100 | I54: 八幡 | J54: 5576 | K54: 11344 | L54: 5898 | M54: 5446 | O54: 8600 | P54: 海士有木 | Q54: 526 | R54: 1240 | S54: 627 | T54: 613
A55: 321 | B55: 姉崎西１丁目 | C55: 206 | D55: 364 | E55: 230 | F55: 134 | H55: 2201 | I55: 八幡北町１丁目 | J55: 242 | K55: 343 | L55: 221 | M55: 122 | O55: 8700 | P55: 大坪 | Q55: 245 | R55: 568 | S55: 311 | T55: 257
A56: 322 | B56: 姉崎西２丁目 | C56: 256 | D56: 484 | E56: 259 | F56: 225 | H56: 2202 | I56: 八幡北町２丁目 | J56: 209 | K56: 383 | L56: 216 | M56: 167 | O56: 8800 | P56: 新生 | Q56: 88 | R56: 233 | S56: 127 | T56: 106
A57: 323 | B57: 姉崎西３丁目 | C57: 223 | D57: 491 | E57: 271 | F57: 220 | H57: 2203 | I57: 八幡北町３丁目 | J57: 133 | K57: 195 | L57: 121 | M57: 74 | O57: 8900 | P57: 権現堂 | Q57: 88 | R57: 225 | S57: 114 | T57: 111
A58: 1300 | B58: 畑木 | C58: 156 | D58: 280 | E58: 137 | F58: 143 | H58: 2301 | I58: 八幡石塚１丁目 | J58: 326 | K58: 689 | L58: 388 | M58: 301 | O58: 9000 | P58: 糸久 | Q58: 32 | R58: 87 | S58: 47 | T58: 40
A59: 1400 | B59: 柏原 | C59: 125 | D59: 248 | E59: 113 | F59: 135 | H59: 2302 | I59: 八幡石塚２丁目 | J59: 332 | K59: 688 | L59: 367 | M59: 321 | O59: 9100 | P59: 宮原 | Q59: 96 | R59: 193 | S59: 102 | T59: 91
A60: 1500 | B60: 白塚 | C60: 329 | D60: 718 | E60: 350 | F60: 368 | H60: 2400 | I60: 五所 | J60: 1348 | K60: 2944 | L60: 1535 | M60: 1409 | O60: 9200 | P60: 分目 | Q60: 75 | R60: 189 | S60: 98 | T60: 91
A61: 1600 | B61: 今津朝山 | C61: 974 | D61: 1910 | E61: 1044 | F61: 866 | H61: 2500 | I61: 旭五所 | J61: 478 | K61: 953 | L61: 506 | M61: 447 | O61: 9300 | P61: 浅井小向 | Q61: 56 | R61: 160 | S61: 71 | T61: 89
A62: 1651 | B62: 千種１丁目 | C62: 122 | D62: 196 | E62: 129 | F62: 67 | H62: 2600 | I62: 東五所 | J62: 1020 | K62: 1976 | L62: 1074 | M62: 902 | O62: 9400 | P62: 相川 | Q62: 41 | R62: 88 | S62: 48 | T62: 40
A63: 1652 | B63: 千種２丁目 | C63: 220 | D63: 530 | E63: 265 | F63: 265 | H63: 2700 | I63: 西五所 | J63: 866 | K63: 1639 | L63: 865 | M63: 774 | O63: 9500 | P63: 新堀 | Q63: 260 | R63: 558 | S63: 267 | T63: 291
...

Sheet 2017_05
A1: 平成29年5月1日現在 世帯数及び人口
A2: CD | B2: 大字名 | C2: 世帯数 | D2: 総数 | E2: 男 | F2: 女 | H2: CD | I2: 大字名 | J2: 世帯数 | K2: 総数 | L2: 男 | M2: 女 | O2: CD | P2: 大字名 | Q2: 世帯数 | R2: 総数 | S2: 男 | T2: 女
A3: 1655 | B3: 千種５丁目 | C3: 213 | D3: 544 | E3: 275 | F3: 269 | H3: 7900 | I3: 平田 | J3: 819 | K3: 1696 | L3: 850 | M3: 846 | O3: 30101 | P3: 国分寺台中央１丁目 | Q3: 309 | R3: 685 | S3: 349 | T3: 336
A4: 1656 | B4: 千種６丁目 | C4: 110 | D4: 396 | E4: 207 | F4: 189 | H4: 8000 | I4: 五井 | J4: 8067 | K4: 16924 | L4: 8945 | M4: 7979 | O4: 30102 | P4: 国分寺台中央２丁目 | Q4: 334 | R4: 778 | S4: 403 | T4: 375
A5: 1657 | B5: 千種７丁目 | C5: 379 | D5: 890 | E5: 471 | F5: 419 | H5: 8051 | I5: 五井中央東１丁目 | J5: 340 | K5: 593 | L5: 315 | M5: 278 | O5: 30103 | P5: 国分寺台中央３丁目 | Q5: 263 | R5: 526 | S5: 285 | T5: 241
A6: 4300 | B6: 千種海岸 | C6: 2 | D6: 2 | E6: 2 | F6: 0 | H6: 8052 | I6: 五井中央東２丁目 | J6: 469 | K6: 820 | L6: 437 | M6: 383 | O6: 30104 | P6: 国分寺台中央４丁目 | Q6: 239 | R6: 545 | S6: 282 | T6: 263
A7: 4400 | B7: 五井南海岸 | C7: 1 | D7: 3 | E7: 0 | F7: 3 | H7: 8061 | I7: 五井中央西１丁目 | J7: 394 | K7: 713 | L7: 386 | M7: 327 | O7: 30105 | P7: 国分寺台中央５丁目 | Q7: 256 | R7: 654 | S7: 352 | T7: 302
A8: 4500 | B8: 五井海岸 | C8: 1 | D8: 1 | E8: 1 | F8: 0 | H8: 8062 | I8: 五井中央西２丁目 | J8: 267 | K8: 520 | L8: 268 | M8: 252 | O8: 30106 | P8: 国分寺台中央６丁目 | Q8: 242 | R8: 626 | S8: 294 | T8: 332
A9: 4600 | B9: 青柳 | C9: 1314 | D9: 2811 | E9: 1496 | F9: 1315 | H9: 8063 | I9: 五井中央西３丁目 | J9: 68 | K9: 143 | L9: 73 | M9: 70 | O9: 30107 | P9: 国分寺台中央７丁目 | Q9: 323 | R9: 710 | S9: 356 | T9: 354
A10: 4651 | B10: 青柳１丁目 | C10: 142 | D10: 298 | E10: 163 | F10: 135 | H10: 8101 | I10: 五井東１丁目 | J10: 658 | K10: 1219 | L10: 645 | M10: 574 | O10: 30201 | P10: 東国分寺台１丁目 | Q10: 273 | R10: 638 | S10: 321 | T10: 317
A11: 4652 | B11: 青柳２丁目 | C11: 86 | D11: 171 | E11: 95 | F11: 76 | H11: 8102 | I11: 五井東２丁目 | J11: 388 | K11: 822 | L11: 434 | M11: 388 | O11: 30202 | P11: 東国分寺台２丁目 | Q11: 196 | R11: 454 | S11: 223 | T11: 231
A12: 4653 | B12: 青柳３丁目 | C12: 192 | D12: 234 | E12: 167 | F12: 67 | H12: 8103 | I12: 五井東３丁目 | J12: 531 | K12: 1044 | L12: 563 | M12: 481 | O12: 30203 | P12: 東国分寺台３丁目 | Q12: 184 | R12: 467 | S12: 238 | T12: 229
A13: 4702 | B13: 青柳北２丁目 | C13: 3 | D13: 8 | E13: 3 | F13: 5 | H13: 8111 | I13: 更級１丁目 | J13: 157 | K13: 288 | L13: 169 | M13: 119 | O13: 30204 | P13: 東国分寺台４丁目 | Q13: 187 | R13: 441 | S13: 226 | T13: 215
A14: 4703 | B14: 青柳北３丁目 | C14: 18 | D14: 33 | E14: 20 | F14: 13 | H14: 8112 | I14: 更級２丁目 | J14: 78 | K14: 175 | L14: 85 | M14: 90 | O14: 30205 | P14: 東国分寺台５丁目 | Q14: 202 | R14: 437 | S14: 229 | T14: 208
... A38: 6800 | B38: 神代 | C38: 48 | D38: 119 | E38: 64 | F38: 55 | H38: 8114 | I38: 更級４丁目 | J38: 0 | K38: 0 | L38: 0 | M38: 0 | O38: 30901 | P38: 惣社１丁目 | Q38: 201 | R38: 472 | S38: 238 | T38: 234
A39: 6900 | B39: 十五沢 | C39: 51 | D39: 126 | E39: 56 | F39: 70 | O39: 30902 | P39: 惣社２丁目 | Q39: 169 | R39: 397 | S39: 194 | T39: 203
A40: 7000 | B40: 小折 | C40: 34 | D40: 74 | E40: 33 | F40: 41 | O40: 30903 | P40: 惣社３丁目 | Q40: 230 | R40: 519 | S40: 267 | T40: 252
A41: 7100 | B41: 西野 | C41: 52 | D41: 128 | E41: 69 | F41: 59 | O41: 30904 | P41: 惣社４丁目 | Q41: 172 | R41: 426 | S41: 228 | T41: 198
A42: 7200 | B42: 柳原 | C42: 52 | D42: 122 | E42: 56 | F42: 66 | O42: 30905 | P42: 惣社５丁目 | Q42: 245 | R42: 669 | S42: 323 | T42: 346
A43: 7300 | B43: 村上 | C43: 632 | D43: 1425 | E43: 724 | F43: 701 | O43: 31001 | P43: 加茂１丁目 | Q43: 204 | R43: 446 | S43: 220 | T43: 226
A44: 7400 | B44: 西広 | C44: 45 | D44: 102 | E44: 54 | F44: 48 | O44: 31002 | P44: 加茂２丁目 | Q44: 159 | R44: 391 | S44: 197 | T44: 194
A45: 7500 | B45: 惣社 | C45: 331 | D45: 681 | E45: 352 | F45: 329 | O45: 31101 | P45: 根田１丁目 | Q45: 173 | R45: 394 | S45: 201 | T45: 193
A46: 7600 | B46: 加茂 | C46: 3 | D46: 7 | E46: 3 | F46: 4 | O46: 31102 | P46: 根田２丁目 | Q46: 114 | R46: 210 | S46: 123 | T46: 87
A47: 7700 | B47: 根田 | C47: 109 | D47: 237 | E47: 121 | F47: 116 | O47: 31103 | P47: 根田３丁目 | Q47: 275 | R47: 558 | S47: 298 | T47: 260
A48: 7800 | B48: 岩野見 | C48: 147 | D48: 338 | E48: 162 | F48: 176 | O48: 31104 | P48: 根田４丁目 | Q48: 167 | R48: 402 | S48: 199 | T48: 203
O49: 3 | P49: 五井地区_計 | Q49: 40302 | R49: 87475 | S49: 45871 | T49: 41604
A50: 平成29年5月1日現在 世帯数及び人口
A51: CD | B51: 大字名 | C51: 世帯数 | D51: 総数 | E51: 男 | F51: 女 | H51: CD | I51: 大字名 | J51: 世帯数 | K51: 総数 | L51: 男 | M51: 女 | O51: CD | P51: 大字名 | Q51: 世帯数 | R51: 総数 | S51: 男 | T51: 女
A52: 100 | B52: 姉崎海岸 | C52: 31 | D52: 35 | E52: 32 | F52: 3 | H52: 1900 | I52: 八幡海岸通 | J52: 304 | K52: 449 | L52: 322 | M52: 127 | O52: 8400 | P52: 山倉 | Q52: 235 | R52: 480 | S52: 255 | T52: 225
A53: 200 | B53: 椎津 | C53: 1664 | D53: 3495 | E53: 1805 | F53: 1690 | H53: 2001 | I53: 八幡浦１丁目 | J53: 3 | K53: 3 | L53: 3 | M53: 0 | O53: 8500 | P53: 福増 | Q53: 300 | R53: 711 | S53: 368 | T53: 343
A54: 300 | B54: 姉崎 | C54: 6078 | D54: 12185 | E54: 6549 | F54: 5636 | H54: 2100 | I54: 八幡 | J54: 5602 | K54: 11364 | L54: 5914 | M54: 5450 | O54: 8600 | P54: 海士有木 | Q54: 527 | R54: 1242 | S54: 630 | T54: 612
A55: 321 | B55: 姉崎西１丁目 | C55: 207 | D55: 357 | E55: 225 | F55: 132 | H55: 2201 | I55: 八幡北町１丁目 | J55: 231 | K55: 332 | L55: 210 | M55: 122 | O55: 8700 | P55: 大坪 | Q55: 245 | R55: 570 | S55: 310 | T55: 260
A56: 322 | B56: 姉崎西２丁目 | C56: 256 | D56: 483 | E56: 260 | F56: 223 | H56: 2202 | I56: 八幡北町２丁目 | J56: 210 | K56: 384 | L56: 217 | M56: 167 | O56: 8800 | P56: 新生 | Q56: 90 | R56: 236 | S56: 127 | T56: 109
A57: 323 | B57: 姉崎西３丁目 | C57: 221 | D57: 491 | E57: 272 | F57: 219 | H57: 2203 | I57: 八幡北町３丁目 | J57: 131 | K57: 194 | L57: 119 | M57: 75 | O57: 8900 | P57: 権現堂 | Q57: 88 | R57: 225 | S57: 114 | T57: 111
A58: 1300 | B58: 畑木 | C58: 155 | D58: 273 | E58: 132 | F58: 141 | H58: 2301 | I58: 八幡石塚１丁目 | J58: 323 | K58: 685 | L58: 385 | M58: 300 | O58: 9000 | P58: 糸久 | Q58: 32 | R58: 87 | S58: 47 | T58: 40
A59: 1400 | B59: 柏原 | C59: 124 | D59: 246 | E59: 111 | F59: 135 | H59: 2302 | I59: 八幡石塚２丁目 | J59: 338 | K59: 695 | L59: 375 | M59: 320 | O59: 9100 | P59: 宮原 | Q59: 96 | R59: 193 | S59: 103 | T59: 90
A60: 1500 | B60: 白塚 | C60: 331 | D60: 719 | E60: 351 | F60: 368 | H60: 2400 | I60: 五所 | J60: 1352 | K60: 2950 | L60: 1535 | M60: 1415 | O60: 9200 | P60: 分目 | Q60: 75 | R60: 188 | S60: 97 | T60: 91
A61: 1600 | B61: 今津朝山 | C61: 971 | D61: 1899 | E61: 1039 | F61: 860 | H61: 2500 | I61: 旭五所 | J61: 481 | K61: 953 | L61: 506 | M61: 447 | O61: 9300 | P61: 浅井小向 | Q61: 56 | R61: 159 | S61: 71 | T61: 88
A62: 1651 | B62: 千種１丁目 | C62: 123 | D62: 198 | E62: 130 | F62: 68 | H62: 2600 | I62: 東五所 | J62: 1028 | K62: 1986 | L62: 1081 | M62: 905 | O62: 9400 | P62: 相川 | Q62: 41 | R62: 88 | S62: 48 | T62: 40
A63: 1652 | B63: 千種２丁目 | C63: 223 | D63: 531 | E63: 267 | F63: 264 | H63: 2700 | I63: 西五所 | J63: 860 | K63: 1632 | L63: 863 | M63: 769 | O63: 9500 | P63: 新堀 | Q63: 258 | R63: 556 | S63: 266 | T63: 290
...

Sheet 2017_06
A1: 平成29年6月1日現在 世帯数及び人口
A2: CD | B2: 大字名 | C2: 世帯数 | D2: 総数 | E2: 男 | F2: 女 | H2: CD | I2: 大字名 | J2: 世帯数 | K2: 総数 | L2: 男 | M2: 女 | O2: CD | P2: 大字名 | Q2: 世帯数 | R2: 総数 | S2: 男 | T2: 女
A3: 1655 | B3: 千種５丁目 | C3: 213 | D3: 543 | E3: 275 | F3: 268 | H3: 7900 | I3: 平田 | J3: 822 | K3: 1703 | L3: 852 | M3: 851 | O3: 30101 | P3: 国分寺台中央１丁目 | Q3: 314 | R3: 694 | S3: 352 | T3: 342
A4: 1656 | B4: 千種６丁目 | C4: 110 | D4: 395 | E4: 207 | F4: 188 | H4: 8000 | I4: 五井 | J4: 8099 | K4: 16954 | L4: 8966 | M4: 7988 | O4: 30102 | P4: 国分寺台中央２丁目 | Q4: 333 | R4: 776 | S4: 401 | T4: 375
A5: 1657 | B5: 千種７丁目 | C5: 378 | D5: 885 | E5: 468 | F5: 417 | H5: 8051 | I5: 五井中央東１丁目 | J5: 338 | K5: 588 | L5: 312 | M5: 276 | O5: 30103 | P5: 国分寺台中央３丁目 | Q5: 263 | R5: 527 | S5: 286 | T5: 241
A6: 4300 | B6: 千種海岸 | C6: 2 | D6: 2 | E6: 2 | F6: 0 | H6: 8052 | I6: 五井中央東２丁目 | J6: 480 | K6: 828 | L6: 441 | M6: 387 | O6: 30104 | P6: 国分寺台中央４丁目 | Q6: 241 | R6: 550 | S6: 285 | T6: 265
A7: 4400 | B7: 五井南海岸 | C7: 1 | D7: 3 | E7: 0 | F7: 3 | H7: 8061 | I7: 五井中央西１丁目 | J7: 398 | K7: 715 | L7: 390 | M7: 325 | O7: 30105 | P7: 国分寺台中央５丁目 | Q7: 258 | R7: 656 | S7: 353 | T7: 303
A8: 4500 | B8: 五井海岸 | C8: 1 | D8: 1 | E8: 1 | F8: 0 | H8: 8062 | I8: 五井中央西２丁目 | J8: 269 | K8: 524 | L8: 270 | M8: 254 | O8: 30106 | P8: 国分寺台中央６丁目 | Q8: 244 | R8: 626 | S8: 295 | T8: 331
A9: 4600 | B9: 青柳 | C9: 1318 | D9: 2814 | E9: 1496 | F9: 1318 | H9: 8063 | I9: 五井中央西３丁目 | J9: 68 | K9: 143 | L9: 73 | M9: 70 | O9: 30107 | P9: 国分寺台中央７丁目 | Q9: 323 | R9: 709 | S9: 354 | T9: 355
A10: 4651 | B10: 青柳１丁目 | C10: 141 | D10: 300 | E10: 162 | F10: 138 | H10: 8101 | I10: 五井東１丁目 | J10: 654 | K10: 1217 | L10: 644 | M10: 573 | O10: 30201 | P10: 東国分寺台１丁目 | Q10: 274 | R10: 628 | S10: 310 | T10: 318
A11: 4652 | B11: 青柳２丁目 | C11: 86 | D11: 171 | E11: 95 | F11: 76 | H11: 8102 | I11: 五井東２丁目 | J11: 389 | K11: 821 | L11: 434 | M11: 387 | O11: 30202 | P11: 東国分寺台２丁目 | Q11: 195 | R11: 451 | S11: 221 | T11: 230
A12: 4653 | B12: 青柳３丁目 | C12: 189 | D12: 230 | E12: 164 | F12: 66 | H12: 8103 | I12: 五井東３丁目 | J12: 530 | K12: 1040 | L12: 564 | M12: 476 | O12: 30203 | P12: 東国分寺台３丁目 | Q12: 183 | R12: 465 | S12: 238 | T12: 227
A13: 4702 | B13: 青柳北２丁目 | C13: 3 | D13: 8 | E13: 3 | F13: 5 | H13: 8111 | I13: 更級１丁目 | J13: 157 | K13: 288 | L13: 168 | M13: 120 | O13: 30204 | P13: 東国分寺台４丁目 | Q13: 188 | R13: 447 | S13: 232 | T13: 215
A14: 4703 | B14: 青柳北３丁目 | C14: 17 | D14: 32 | E14: 19 | F14: 13 | H14: 8112 | I14: 更級２丁目 | J14: 79 | K14: 178 | L14: 85 | M14: 93 | O14: 30205 | P14: 東国分寺台５丁目 | Q14: 202 | R14: 437 | S14: 229 | T14: 208
... A38: 6800 | B38: 神代 | C38: 48 | D38: 119 | E38: 64 | F38: 55 | H38: 8114 | I38: 更級４丁目 | J38: 0 | K38: 0 | L38: 0 | M38: 0 | O38: 30901 | P38: 惣社１丁目 | Q38: 205 | R38: 475 | S38: 238 | T38: 237
A39: 6900 | B39: 十五沢 | C39: 51 | D39: 125 | E39: 55 | F39: 70 | O39: 30902 | P39: 惣社２丁目 | Q39: 168 | R39: 395 | S39: 193 | T39: 202
A40: 7000 | B40: 小折 | C40: 34 | D40: 73 | E40: 33 | F40: 40 | O40: 30903 | P40: 惣社３丁目 | Q40: 231 | R40: 520 | S40: 269 | T40: 251
A41: 7100 | B41: 西野 | C41: 52 | D41: 128 | E41: 69 | F41: 59 | O41: 30904 | P41: 惣社４丁目 | Q41: 173 | R41: 427 | S41: 228 | T41: 199
A42: 7200 | B42: 柳原 | C42: 52 | D42: 122 | E42: 56 | F42: 66 | O42: 30905 | P42: 惣社５丁目 | Q42: 245 | R42: 667 | S42: 322 | T42: 345
A43: 7300 | B43: 村上 | C43: 634 | D43: 1426 | E43: 726 | F43: 700 | O43: 31001 | P43: 加茂１丁目 | Q43: 204 | R43: 445 | S43: 220 | T43: 225
A44: 7400 | B44: 西広 | C44: 45 | D44: 102 | E44: 54 | F44: 48 | O44: 31002 | P44: 加茂２丁目 | Q44: 159 | R44: 392 | S44: 198 | T44: 194
A45: 7500 | B45: 惣社 | C45: 331 | D45: 682 | E45: 352 | F45: 330 | O45: 31101 | P45: 根田１丁目 | Q45: 177 | R45: 396 | S45: 205 | T45: 191
A46: 7600 | B46: 加茂 | C46: 3 | D46: 7 | E46: 3 | F46: 4 | O46: 31102 | P46: 根田２丁目 | Q46: 115 | R46: 209 | S46: 123 | T46: 86
A47: 7700 | B47: 根田 | C47: 108 | D47: 235 | E47: 120 | F47: 115 | O47: 31103 | P47: 根田３丁目 | Q47: 277 | R47: 559 | S47: 299 | T47: 260
A48: 7800 | B48: 岩野見 | C48: 148 | D48: 338 | E48: 162 | F48: 176 | O48: 31104 | P48: 根田４丁目 | Q48: 165 | R48: 399 | S48: 198 | T48: 201
O49: 3 | P49: 五井地区_計 | Q49: 40379 | R49: 87505 | S49: 45900 | T49: 41605
A50: 平成29年6月1日現在 世帯数及び人口
A51: CD | B51: 大字名 | C51: 世帯数 | D51: 総数 | E51: 男 | F51: 女 | H51: CD | I51: 大字名 | J51: 世帯数 | K51: 総数 | L51: 男 | M51: 女 | O51: CD | P51: 大字名 | Q51: 世帯数 | R51: 総数 | S51: 男 | T51: 女
A52: 100 | B52: 姉崎海岸 | C52: 30 | D52: 34 | E52: 31 | F52: 3 | H52: 1900 | I52: 八幡海岸通 | J52: 307 | K52: 455 | L52: 325 | M52: 130 | O52: 8400 | P52: 山倉 | Q52: 238 | R52: 483 | S52: 257 | T52: 226
A53: 200 | B53: 椎津 | C53: 1666 | D53: 3492 | E53: 1809 | F53: 1683 | H53: 2001 | I53: 八幡浦１丁目 | J53: 3 | K53: 3 | L53: 3 | M53: 0 | O53: 8500 | P53: 福増 | Q53: 299 | R53: 707 | S53: 365 | T53: 342
A54: 300 | B54: 姉崎 | C54: 5864 | D54: 11641 | E54: 6279 | F54: 5362 | H54: 2100 | I54: 八幡 | J54: 5597 | K54: 11344 | L54: 5903 | M54: 5441 | O54: 8600 | P54: 海士有木 | Q54: 531 | R54: 1245 | S54: 633 | T54: 612
A55: 311 | B55: 姉崎東１丁目 | C55: 46 | D55: 114 | E55: 58 | F55: 56 | H55: 2201 | I55: 八幡北町１丁目 | J55: 235 | K55: 336 | L55: 212 | M55: 124 | O55: 8700 | P55: 大坪 | Q55: 246 | R55: 571 | S55: 310 | T55: 261
A56: 312 | B56: 姉崎東２丁目 | C56: 123 | D56: 293 | E56: 152 | F56: 141 | H56: 2202 | I56: 八幡北町２丁目 | J56: 212 | K56: 391 | L56: 220 | M56: 171 | O56: 8800 | P56: 新生 | Q56: 89 | R56: 232 | S56: 125 | T56: 107
A57: 313 | B57: 姉崎東３丁目 | C57: 83 | D57: 171 | E57: 93 | F57: 78 | H57: 2203 | I57: 八幡北町３丁目 | J57: 130 | K57: 192 | L57: 118 | M57: 74 | O57: 8900 | P57: 権現堂 | Q57: 88 | R57: 226 | S57: 114 | T57: 112
A58: 321 | B58: 姉崎西１丁目 | C58: 209 | D58: 358 | E58: 224 | F58: 134 | H58: 2301 | I58: 八幡石塚１丁目 | J58: 324 | K58: 685 | L58: 385 | M58: 300 | O58: 9000 | P58: 糸久 | Q58: 32 | R58: 87 | S58: 47 | T58: 40
A59: 322 | B59: 姉崎西２丁目 | C59: 254 | D59: 480 | E59: 257 | F59: 223 | H59: 2302 | I59: 八幡石塚２丁目 | J59: 342 | K59: 698 | L59: 376 | M59: 322 | O59: 9100 | P59: 宮原 | Q59: 96 | R59: 193 | S59: 103 | T59: 90
A60: 323 | B60: 姉崎西３丁目 | C60: 220 | D60: 491 | E60: 272 | F60: 219 | H60: 2400 | I60: 五所 | J60: 1348 | K60: 2940 | L60: 1529 | M60: 1411 | O60: 9200 | P60: 分目 | Q60: 74 | R60: 187 | S60: 96 | T60: 91
A61: 1300 | B61: 畑木 | C61: 156 | D61: 276 | E61: 134 | F61: 142 | H61: 2500 | I61: 旭五所 | J61: 481 | K61: 949 | L61: 507 | M61: 442 | O61: 9300 | P61: 浅井小向 | Q61: 56 | R61: 159 | S61: 71 | T61: 88
A62: 1400 | B62: 柏原 | C62: 124 | D62: 245 | E62: 110 | F62: 135 | H62: 2600 | I62: 東五所 | J62: 1035 | K62: 1992 | L62: 1085 | M62: 907 | O62: 9400 | P62: 相川 | Q62: 41 | R62: 88 | S62: 48 | T62: 40
A63: 1500 | B63: 白塚 | C63: 329 | D63: 707 | E63: 347 | F63: 360 | H63: 2700 | I63: 西五所 | J63: 860 | K63: 1629 | L63: 864 | M63: 765 | O63: 9500 | P63: 新堀 | Q63: 261 | R63: 556 | S63: 264 | T63: 292
...

Sheet 2017_07
A1: 平成29年7月1日現在 世帯数及び人口
A2: CD | B2: 大字名 | C2: 世帯数 | D2: 総数 | E2: 男 | F2: 女 | H2: CD | I2: 大字名 | J2: 世帯数 | K2: 総数 | L2: 男 | M2: 女 | O2: CD | P2: 大字名 | Q2: 世帯数 | R2: 総数 | S2: 男 | T2: 女
A3: 1655 | B3: 千種５丁目 | C3: 216 | D3: 548 | E3: 277 | F3: 271 | H3: 7900 | I3: 平田 | J3: 825 | K3: 1710 | L3: 858 | M3: 852 | O3: 30101 | P3: 国分寺台中央１丁目 | Q3: 311 | R3: 687 | S3: 350 | T3: 337
A4: 1656 | B4: 千種６丁目 | C4: 110 | D4: 395 | E4: 207 | F4: 188 | H4: 8000 | I4: 五井 | J4: 8088 | K4: 16928 | L4: 8959 | M4: 7969 | O4: 30102 | P4: 国分寺台中央２丁目 | Q4: 334 | R4: 773 | S4: 399 | T4: 374
A5: 1657 | B5: 千種７丁目 | C5: 376 | D5: 883 | E5: 467 | F5: 416 | H5: 8051 | I5: 五井中央東１丁目 | J5: 340 | K5: 591 | L5: 316 | M5: 275 | O5: 30103 | P5: 国分寺台中央３丁目 | Q5: 264 | R5: 528 | S5: 287 | T5: 241
A6: 4300 | B6: 千種海岸 | C6: 2 | D6: 2 | E6: 2 | F6: 0 | H6: 8052 | I6: 五井中央東２丁目 | J6: 481 | K6: 827 | L6: 442 | M6: 385 | O6: 30104 | P6: 国分寺台中央４丁目 | Q6: 243 | R6: 556 | S6: 286 | T6: 270
A7: 4400 | B7: 五井南海岸 | C7: 1 | D7: 3 | E7: 0 | F7: 3 | H7: 8061 | I7: 五井中央西１丁目 | J7: 398 | K7: 714 | L7: 390 | M7: 324 | O7: 30105 | P7: 国分寺台中央５丁目 | Q7: 260 | R7: 657 | S7: 353 | T7: 304
A8: 4500 | B8: 五井海岸 | C8: 1 | D8: 1 | E8: 1 | F8: 0 | H8: 8062 | I8: 五井中央西２丁目 | J8: 271 | K8: 531 | L8: 273 | M8: 258 | O8: 30106 | P8: 国分寺台中央６丁目 | Q8: 242 | R8: 620 | S8: 293 | T8: 327
A9: 4600 | B9: 青柳 | C9: 1315 | D9: 2814 | E9: 1494 | F9: 1320 | H9: 8063 | I9: 五井中央西３丁目 | J9: 68 | K9: 143 | L9: 74 | M9: 69 | O9: 30107 | P9: 国分寺台中央７丁目 | Q9: 323 | R9: 713 | S9: 355 | T9: 358
A10: 4651 | B10: 青柳１丁目 | C10: 141 | D10: 300 | E10: 163 | F10: 137 | H10: 8101 | I10: 五井東１丁目 | J10: 651 | K10: 1214 | L10: 642 | M10: 572 | O10: 30201 | P10: 東国分寺台１丁目 | Q10: 276 | R10: 631 | S10: 312 | T10: 319
A11: 4652 | B11: 青柳２丁目 | C11: 87 | D11: 172 | E11: 95 | F11: 77 | H11: 8102 | I11: 五井東２丁目 | J11: 382 | K11: 809 | L11: 429 | M11: 380 | O11: 30202 | P11: 東国分寺台２丁目 | Q11: 197 | R11: 454 | S11: 222 | T11: 232
A12: 4653 | B12: 青柳３丁目 | C12: 192 | D12: 233 | E12: 168 | F12: 65 | H12: 8103 | I12: 五井東３丁目 | J12: 531 | K12: 1041 | L12: 564 | M12: 477 | O12: 30203 | P12: 東国分寺台３丁目 | Q12: 184 | R12: 465 | S12: 238 | T12: 227
A13: 4702 | B13: 青柳北２丁目 | C13: 3 | D13: 8 | E13: 3 | F13: 5 | H13: 8111 | I13: 更級１丁目 | J13: 157 | K13: 290 | L13: 169 | M13: 121 | O13: 30204 | P13: 東国分寺台４丁目 | Q13: 188 | R13: 450 | S13: 234 | T13: 216
A14: 4703 | B14: 青柳北３丁目 | C14: 17 | D14: 32 | E14: 19 | F14: 13 | H14: 8112 | I14: 更級２丁目 | J14: 80 | K14: 181 | L14: 87 | M14: 94 | O14: 30205 | P14: 東国分寺台５丁目 | Q14: 200 | R14: 433 | S14: 226 | T14: 207
... A38: 6800 | B38: 神代 | C38: 48 | D38: 119 | E38: 64 | F38: 55 | H38: 8114 | I38: 更級４丁目 | J38: 0 | K38: 0 | L38: 0 | M38: 0 | O38: 30901 | P38: 惣社１丁目 | Q38: 208 | R38: 482 | S38: 241 | T38: 241
A39: 6900 | B39: 十五沢 | C39: 53 | D39: 129 | E39: 56 | F39: 73 | O39: 30902 | P39: 惣社２丁目 | Q39: 168 | R39: 394 | S39: 193 | T39: 201
A40: 7000 | B40: 小折 | C40: 34 | D40: 73 | E40: 33 | F40: 40 | O40: 30903 | P40: 惣社３丁目 | Q40: 231 | R40: 520 | S40: 268 | T40: 252
A41: 7100 | B41: 西野 | C41: 52 | D41: 128 | E41: 69 | F41: 59 | O41: 30904 | P41: 惣社４丁目 | Q41: 173 | R41: 427 | S41: 228 | T41: 199
A42: 7200 | B42: 柳原 | C42: 52 | D42: 122 | E42: 56 | F42: 66 | O42: 30905 | P42: 惣社５丁目 | Q42: 244 | R42: 663 | S42: 319 | T42: 344
A43: 7300 | B43: 村上 | C43: 632 | D43: 1422 | E43: 721 | F43: 701 | O43: 31001 | P43: 加茂１丁目 | Q43: 202 | R43: 437 | S43: 218 | T43: 219
A44: 7400 | B44: 西広 | C44: 45 | D44: 102 | E44: 54 | F44: 48 | O44: 31002 | P44: 加茂２丁目 | Q44: 160 | R44: 392 | S44: 199 | T44: 193
A45: 7500 | B45: 惣社 | C45: 332 | D45: 683 | E45: 356 | F45: 327 | O45: 31101 | P45: 根田１丁目 | Q45: 178 | R45: 398 | S45: 207 | T45: 191
A46: 7600 | B46: 加茂 | C46: 3 | D46: 7 | E46: 3 | F46: 4 | O46: 31102 | P46: 根田２丁目 | Q46: 114 | R46: 209 | S46: 123 | T46: 86
A47: 7700 | B47: 根田 | C47: 106 | D47: 230 | E47: 117 | F47: 113 | O47: 31103 | P47: 根田３丁目 | Q47: 277 | R47: 560 | S47: 298 | T47: 262
A48: 7800 | B48: 岩野見 | C48: 147 | D48: 337 | E48: 161 | F48: 176 | O48: 31104 | P48: 根田４丁目 | Q48: 164 | R48: 397 | S48: 197 | T48: 200
O49: 3 | P49: 五井地区_計 | Q49: 40394 | R49: 87506 | S49: 45915 | T49: 41591
A50: 平成29年7月1日現在 世帯数及び人口
A51: CD | B51: 大字名 | C51: 世帯数 | D51: 総数 | E51: 男 | F51: 女 | H51: CD | I51: 大字名 | J51: 世帯数 | K51: 総数 | L51: 男 | M51: 女 | O51: CD | P51: 大字名 | Q51: 世帯数 | R51: 総数 | S51: 男 | T51: 女
A52: 100 | B52: 姉崎海岸 | C52: 32 | D52: 36 | E52: 33 | F52: 3 | H52: 1900 | I52: 八幡海岸通 | J52: 305 | K52: 451 | L52: 322 | M52: 129 | O52: 8400 | P52: 山倉 | Q52: 241 | R52: 484 | S52: 260 | T52: 224
A53: 200 | B53: 椎津 | C53: 1658 | D53: 3482 | E53: 1801 | F53: 1681 | H53: 2001 | I53: 八幡浦１丁目 | J53: 3 | K53: 3 | L53: 3 | M53: 0 | O53: 8500 | P53: 福増 | Q53: 298 | R53: 706 | S53: 364 | T53: 342
A54: 300 | B54: 姉崎 | C54: 5867 | D54: 11634 | E54: 6279 | F54: 5355 | H54: 2100 | I54: 八幡 | J54: 5591 | K54: 11343 | L54: 5902 | M54: 5441 | O54: 8600 | P54: 海士有木 | Q54: 526 | R54: 1238 | S54: 627 | T54: 611
A55: 311 | B55: 姉崎東１丁目 | C55: 47 | D55: 117 | E55: 59 | F55: 58 | H55: 2201 | I55: 八幡北町１丁目 | J55: 231 | K55: 332 | L55: 211 | M55: 121 | O55: 8700 | P55: 大坪 | Q55: 248 | R55: 569 | S55: 311 | T55: 258
A56: 312 | B56: 姉崎東２丁目 | C56: 123 | D56: 291 | E56: 150 | F56: 141 | H56: 2202 | I56: 八幡北町２丁目 | J56: 212 | K56: 393 | L56: 219 | M56: 174 | O56: 8800 | P56: 新生 | Q56: 88 | R56: 231 | S56: 125 | T56: 106
A57: 313 | B57: 姉崎東３丁目 | C57: 83 | D57: 171 | E57: 93 | F57: 78 | H57: 2203 | I57: 八幡北町３丁目 | J57: 130 | K57: 193 | L57: 118 | M57: 75 | O57: 8900 | P57: 権現堂 | Q57: 89 | R57: 230 | S57: 116 | T57: 114
A58: 321 | B58: 姉崎西１丁目 | C58: 210 | D58: 362 | E58: 226 | F58: 136 | H58: 2301 | I58: 八幡石塚１丁目 | J58: 320 | K58: 674 | L58: 380 | M58: 294 | O58: 9000 | P58: 糸久 | Q58: 32 | R58: 87 | S58: 47 | T58: 40
A59: 322 | B59: 姉崎西２丁目 | C59: 252 | D59: 477 | E59: 254 | F59: 223 | H59: 2302 | I59: 八幡石塚２丁目 | J59: 345 | K59: 700 | L59: 378 | M59: 322 | O59: 9100 | P59: 宮原 | Q59: 96 | R59: 192 | S59: 102 | T59: 90
A60: 323 | B60: 姉崎西３丁目 | C60: 219 | D60: 488 | E60: 272 | F60: 216 | H60: 2400 | I60: 五所 | J60: 1350 | K60: 2938 | L60: 1524 | M60: 1414 | O60: 9200 | P60: 分目 | Q60: 74 | R60: 187 | S60: 96 | T60: 91
A61: 1300 | B61: 畑木 | C61: 156 | D61: 276 | E61: 134 | F61: 142 | H61: 2500 | I61: 旭五所 | J61: 479 | K61: 947 | L61: 504 | M61: 443 | O61: 9300 | P61: 浅井小向 | Q61: 56 | R61: 158 | S61: 71 | T61: 87
A62: 1400 | B62: 柏原 | C62: 124 | D62: 245 | E62: 110 | F62: 135 | H62: 2600 | I62: 東五所 | J62: 1039 | K62: 1995 | L62: 1087 | M62: 908 | O62: 9400 | P62: 相川 | Q62: 41 | R62: 88 | S62: 48 | T62: 40
A63: 1500 | B63: 白塚 | C63: 330 | D63: 706 | E63: 347 | F63: 359 | H63: 2700 | I63: 西五所 | J63: 863 | K63: 1632 | L63: 868 | M63: 764 | O63: 9500 | P63: 新堀 | Q63: 262 | R63: 558 | S63: 265 | T63: 293
...

Sheet 2017_08
A1: 42948
A2: CD | B2: 大字名 | C2: 世帯数 | D2: 総数 | E2: 男 | F2: 女 | H2: CD | I2: 大字名 | J2: 世帯数 | K2: 総数 | L2: 男 | M2: 女 | O2: CD | P2: 大字名 | Q2: 世帯数 | R2: 総数 | S2: 男 | T2: 女
A3: 1655 | B3: 千種５丁目 | C3: 216 | D3: 544 | E3: 278 | F3: 266 | H3: 7900 | I3: 平田 | J3: 827 | K3: 1714 | L3: 859 | M3: 855 | O3: 30101 | P3: 国分寺台中央１丁目 | Q3: 312 | R3: 687 | S3: 350 | T3: 337
A4: 1656 | B4: 千種６丁目 | C4: 110 | D4: 394 | E4: 206 | F4: 188 | H4: 8000 | I4: 五井 | J4: 8099 | K4: 16926 | L4: 8979 | M4: 7947 | O4: 30102 | P4: 国分寺台中央２丁目 | Q4: 333 | R4: 770 | S4: 397 | T4: 373
A5: 1657 | B5: 千種７丁目 | C5: 378 | D5: 889 | E5: 470 | F5: 419 | H5: 8051 | I5: 五井中央東１丁目 | J5: 338 | K5: 589 | L5: 312 | M5: 277 | O5: 30103 | P5: 国分寺台中央３丁目 | Q5: 265 | R5: 527 | S5: 286 | T5: 241
A6: 4300 | B6: 千種海岸 | C6: 2 | D6: 2 | E6: 2 | F6: 0 | H6: 8052 | I6: 五井中央東２丁目 | J6: 482 | K6: 822 | L6: 442 | M6: 380 | O6: 30104 | P6: 国分寺台中央４丁目 | Q6: 250 | R6: 578 | S6: 296 | T6: 282
A7: 4400 | B7: 五井南海岸 | C7: 1 | D7: 3 | E7: 0 | F7: 3 | H7: 8061 | I7: 五井中央西１丁目 | J7: 398 | K7: 713 | L7: 389 | M7: 324 | O7: 30105 | P7: 国分寺台中央５丁目 | Q7: 263 | R7: 663 | S7: 356 | T7: 307
A8: 4500 | B8: 五井海岸 | C8: 1 | D8: 1 | E8: 1 | F8: 0 | H8: 8062 | I8: 五井中央西２丁目 | J8: 271 | K8: 527 | L8: 271 | M8: 256 | O8: 30106 | P8: 国分寺台中央６丁目 | Q8: 242 | R8: 618 | S8: 292 | T8: 326
A9: 4600 | B9: 青柳 | C9: 1323 | D9: 2821 | E9: 1500 | F9: 1321 | H9: 8063 | I9: 五井中央西３丁目 | J9: 68 | K9: 141 | L9: 73 | M9: 68 | O9: 30107 | P9: 国分寺台中央７丁目 | Q9: 327 | R9: 725 | S9: 360 | T9: 365
A10: 4651 | B10: 青柳１丁目 | C10: 135 | D10: 292 | E10: 156 | F10: 136 | H10: 8101 | I10: 五井東１丁目 | J10: 650 | K10: 1209 | L10: 643 | M10: 566 | O10: 30201 | P10: 東国分寺台１丁目 | Q10: 282 | R10: 640 | S10: 316 | T10: 324
A11: 4652 | B11: 青柳２丁目 | C11: 84 | D11: 169 | E11: 92 | F11: 77 | H11: 8102 | I11: 五井東２丁目 | J11: 382 | K11: 812 | L11: 428 | M11: 384 | O11: 30202 | P11: 東国分寺台２丁目 | Q11: 194 | R11: 452 | S11: 220 | T11: 232
A12: 4653 | B12: 青柳３丁目 | C12: 194 | D12: 235 | E12: 171 | F12: 64 | H12: 8103 | I12: 五井東３丁目 | J12: 528 | K12: 1034 | L12: 559 | M12: 475 | O12: 30203 | P12: 東国分寺台３丁目 | Q12: 183 | R12: 464 | S12: 237 | T12: 227
A13: 4702 | B13: 青柳北２丁目 | C13: 3 | D13: 8 | E13: 3 | F13: 5 | H13: 8111 | I13: 更級１丁目 | J13: 159 | K13: 294 | L13: 171 | M13: 123 | O13: 30204 | P13: 東国分寺台４丁目 | Q13: 188 | R13: 451 | S13: 234 | T13: 217
A14: 4703 | B14: 青柳北３丁目 | C14: 17 | D14: 32 | E14: 19 | F14: 13 | H14: 8112 | I14: 更級２丁目 | J14: 80 | K14: 181 | L14: 88 | M14: 93 | O14: 30205 | P14: 東国分寺台５丁目 | Q14: 199 | R14: 429 | S14: 225 | T14: 204
... A38: 6800 | B38: 神代 | C38: 48 | D38: 119 | E38: 64 | F38: 55 | H38: 8114 | I38: 更級４丁目 | J38: 0 | K38: 0 | L38: 0 | M38: 0 | O38: 30901 | P38: 惣社１丁目 | Q38: 209 | R38: 486 | S38: 243 | T38: 243
A39: 6900 | B39: 十五沢 | C39: 53 | D39: 131 | E39: 56 | F39: 75 | O39: 30902 | P39: 惣社２丁目 | Q39: 168 | R39: 392 | S39: 193 | T39: 199
A40: 7000 | B40: 小折 | C40: 34 | D40: 73 | E40: 33 | F40: 40 | O40: 30903 | P40: 惣社３丁目 | Q40: 231 | R40: 516 | S40: 263 | T40: 253
A41: 7100 | B41: 西野 | C41: 51 | D41: 126 | E41: 67 | F41: 59 | O41: 30904 | P41: 惣社４丁目 | Q41: 173 | R41: 423 | S41: 226 | T41: 197
A42: 7200 | B42: 柳原 | C42: 52 | D42: 124 | E42: 57 | F42: 67 | O42: 30905 | P42: 惣社５丁目 | Q42: 244 | R42: 662 | S42: 318 | T42: 344
A43: 7300 | B43: 村上 | C43: 631 | D43: 1410 | E43: 716 | F43: 694 | O43: 31001 | P43: 加茂１丁目 | Q43: 200 | R43: 435 | S43: 218 | T43: 217
A44: 7400 | B44: 西広 | C44: 45 | D44: 101 | E44: 54 | F44: 47 | O44: 31002 | P44: 加茂２丁目 | Q44: 162 | R44: 397 | S44: 203 | T44: 194
A45: 7500 | B45: 惣社 | C45: 331 | D45: 681 | E45: 357 | F45: 324 | O45: 31101 | P45: 根田１丁目 | Q45: 179 | R45: 400 | S45: 208 | T45: 192
A46: 7600 | B46: 加茂 | C46: 3 | D46: 7 | E46: 3 | F46: 4 | O46: 31102 | P46: 根田２丁目 | Q46: 113 | R46: 209 | S46: 123 | T46: 86
A47: 7700 | B47: 根田 | C47: 106 | D47: 230 | E47: 117 | F47: 113 | O47: 31103 | P47: 根田３丁目 | Q47: 274 | R47: 554 | S47: 295 | T47: 259
A48: 7800 | B48: 岩野見 | C48: 146 | D48: 335 | E48: 159 | F48: 176 | O48: 31104 | P48: 根田４丁目 | Q48: 163 | R48: 395 | S48: 196 | T48: 199
O49: 3 | P49: 五井地区_計 | Q49: 40420 | R49: 87493 | S49: 45926 | T49: 41567
A50: 平成29年8月1日現在 世帯数及び人口
A51: CD | B51: 大字名 | C51: 世帯数 | D51: 総数 | E51: 男 | F51: 女 | H51: CD | I51: 大字名 | J51: 世帯数 | K51: 総数 | L51: 男 | M51: 女 | O51: CD | P51: 大字名 | Q51: 世帯数 | R51: 総数 | S51: 男 | T51: 女
A52: 100 | B52: 姉崎海岸 | C52: 33 | D52: 37 | E52: 34 | F52: 3 | H52: 1900 | I52: 八幡海岸通 | J52: 303 | K52: 452 | L52: 320 | M52: 132 | O52: 8400 | P52: 山倉 | Q52: 240 | R52: 482 | S52: 259 | T52: 223
A53: 200 | B53: 椎津 | C53: 1668 | D53: 3494 | E53: 1808 | F53: 1686 | H53: 2001 | I53: 八幡浦１丁目 | J53: 3 | K53: 3 | L53: 3 | M53: 0 | O53: 8500 | P53: 福増 | Q53: 298 | R53: 706 | S53: 363 | T53: 343
A54: 300 | B54: 姉崎 | C54: 5867 | D54: 11631 | E54: 6277 | F54: 5354 | H54: 2100 | I54: 八幡 | J54: 5588 | K54: 11348 | L54: 5901 | M54: 5447 | O54: 8600 | P54: 海士有木 | Q54: 529 | R54: 1241 | S54: 628 | T54: 613
A55: 311 | B55: 姉崎東１丁目 | C55: 47 | D55: 117 | E55: 59 | F55: 58 | H55: 2201 | I55: 八幡北町１丁目 | J55: 233 | K55: 334 | L55: 212 | M55: 122 | O55: 8700 | P55: 大坪 | Q55: 249 | R55: 570 | S55: 311 | T55: 259
A56: 312 | B56: 姉崎東２丁目 | C56: 124 | D56: 291 | E56: 151 | F56: 140 | H56: 2202 | I56: 八幡北町２丁目 | J56: 212 | K56: 391 | L56: 216 | M56: 175 | O56: 8800 | P56: 新生 | Q56: 88 | R56: 229 | S56: 124 | T56: 105
A57: 313 | B57: 姉崎東３丁目 | C57: 84 | D57: 174 | E57: 94 | F57: 80 | H57: 2203 | I57: 八幡北町３丁目 | J57: 129 | K57: 192 | L57: 117 | M57: 75 | O57: 8900 | P57: 権現堂 | Q57: 88 | R57: 229 | S57: 117 | T57: 112
A58: 321 | B58: 姉崎西１丁目 | C58: 214 | D58: 370 | E58: 230 | F58: 140 | H58: 2301 | I58: 八幡石塚１丁目 | J58: 321 | K58: 674 | L58: 381 | M58: 293 | O58: 9000 | P58: 糸久 | Q58: 32 | R58: 87 | S58: 47 | T58: 40
A59: 322 | B59: 姉崎西２丁目 | C59: 255 | D59: 481 | E59: 257 | F59: 224 | H59: 2302 | I59: 八幡石塚２丁目 | J59: 349 | K59: 704 | L59: 378 | M59: 326 | O59: 9100 | P59: 宮原 | Q59: 96 | R59: 191 | S59: 102 | T59: 89
A60: 323 | B60: 姉崎西３丁目 | C60: 221 | D60: 491 | E60: 273 | F60: 218 | H60: 2400 | I60: 五所 | J60: 1350 | K60: 2934 | L60: 1522 | M60: 1412 | O60: 9200 | P60: 分目 | Q60: 73 | R60: 186 | S60: 96 | T60: 90
A61: 1300 | B61: 畑木 | C61: 156 | D61: 275 | E61: 134 | F61: 141 | H61: 2500 | I61: 旭五所 | J61: 476 | K61: 937 | L61: 496 | M61: 441 | O61: 9300 | P61: 浅井小向 | Q61: 56 | R61: 158 | S61: 71 | T61: 87
A62: 1400 | B62: 柏原 | C62: 126 | D62: 248 | E62: 112 | F62: 136 | H62: 2600 | I62: 東五所 | J62: 1040 | K62: 1999 | L62: 1089 | M62: 910 | O62: 9400 | P62: 相川 | Q62: 42 | R62: 89 | S62: 49 | T62: 40
A63: 1500 | B63: 白塚 | C63: 328 | D63: 703 | E63: 347 | F63: 356 | H63: 2700 | I63: 西五所 | J63: 860 | K63: 1625 | L63: 860 | M63: 765 | O63: 9500 | P63: 新堀 | Q63: 261 | R63: 555 | S63: 266 | T63: 289
...

Sheet 2017_09
A1: 平成29年9月1日現在 世帯数及び人口
A2: CD | B2: 大字名 | C2: 世帯数 | D2: 総数 | E2: 男 | F2: 女 | H2: CD | I2: 大字名 | J2: 世帯数 | K2: 総数 | L2: 男 | M2: 女 | O2: CD | P2: 大字名 | Q2: 世帯数 | R2: 総数 | S2: 男 | T2: 女
A3: 1655 | B3: 千種５丁目 | C3: 217 | D3: 546 | E3: 279 | F3: 267 | H3: 7900 | I3: 平田 | J3: 824 | K3: 1716 | L3: 859 | M3: 857 | O3: 30101 | P3: 国分寺台中央１丁目 | Q3: 314 | R3: 687 | S3: 350 | T3: 337
A4: 1656 | B4: 千種６丁目 | C4: 109 | D4: 391 | E4: 205 | F4: 186 | H4: 8000 | I4: 五井 | J4: 8094 | K4: 16920 | L4: 8966 | M4: 7954 | O4: 30102 | P4: 国分寺台中央２丁目 | Q4: 333 | R4: 771 | S4: 397 | T4: 374
A5: 1657 | B5: 千種７丁目 | C5: 376 | D5: 892 | E5: 472 | F5: 420 | H5: 8051 | I5: 五井中央東１丁目 | J5: 337 | K5: 587 | L5: 310 | M5: 277 | O5: 30103 | P5: 国分寺台中央３丁目 | Q5: 267 | R5: 532 | S5: 289 | T5: 243
A6: 4300 | B6: 千種海岸 | C6: 2 | D6: 2 | E6: 2 | F6: 0 | H6: 8052 | I6: 五井中央東２丁目 | J6: 483 | K6: 826 | L6: 445 | M6: 381 | O6: 30104 | P6: 国分寺台中央４丁目 | Q6: 249 | R6: 575 | S6: 296 | T6: 279
A7: 4400 | B7: 五井南海岸 | C7: 1 | D7: 3 | E7: 0 | F7: 3 | H7: 8061 | I7: 五井中央西１丁目 | J7: 396 | K7: 712 | L7: 387 | M7: 325 | O7: 30105 | P7: 国分寺台中央５丁目 | Q7: 260 | R7: 653 | S7: 349 | T7: 304
A8: 4500 | B8: 五井海岸 | C8: 1 | D8: 1 | E8: 1 | F8: 0 | H8: 8062 | I8: 五井中央西２丁目 | J8: 274 | K8: 530 | L8: 273 | M8: 257 | O8: 30106 | P8: 国分寺台中央６丁目 | Q8: 242 | R8: 619 | S8: 291 | T8: 328
A9: 4600 | B9: 青柳 | C9: 1325 | D9: 2825 | E9: 1503 | F9: 1322 | H9: 8063 | I9: 五井中央西３丁目 | J9: 70 | K9: 144 | L9: 74 | M9: 70 | O9: 30107 | P9: 国分寺台中央７丁目 | Q9: 328 | R9: 729 | S9: 362 | T9: 367
A10: 4651 | B10: 青柳１丁目 | C10: 135 | D10: 296 | E10: 159 | F10: 137 | H10: 8101 | I10: 五井東１丁目 | J10: 650 | K10: 1203 | L10: 643 | M10: 560 | O10: 30201 | P10: 東国分寺台１丁目 | Q10: 283 | R10: 642 | S10: 317 | T10: 325
A11: 4652 | B11: 青柳２丁目 | C11: 82 | D11: 165 | E11: 90 | F11: 75 | H11: 8102 | I11: 五井東２丁目 | J11: 381 | K11: 813 | L11: 428 | M11: 385 | O11: 30202 | P11: 東国分寺台２丁目 | Q11: 194 | R11: 450 | S11: 219 | T11: 231
A12: 4653 | B12: 青柳３丁目 | C12: 199 | D12: 240 | E12: 176 | F12: 64 | H12: 8103 | I12: 五井東３丁目 | J12: 525 | K12: 1022 | L12: 556 | M12: 466 | O12: 30203 | P12: 東国分寺台３丁目 | Q12: 183 | R12: 465 | S12: 237 | T12: 228
A13: 4702 | B13: 青柳北２丁目 | C13: 3 | D13: 7 | E13: 2 | F13: 5 | H13: 8111 | I13: 更級１丁目 | J13: 157 | K13: 294 | L13: 172 | M13: 122 | O13: 30204 | P13: 東国分寺台４丁目 | Q13: 188 | R13: 452 | S13: 233 | T13: 219
A14: 4703 | B14: 青柳北３丁目 | C14: 19 | D14: 34 | E14: 21 | F14: 13 | H14: 8112 | I14: 更級２丁目 | J14: 81 | K14: 181 | L14: 88 | M14: 93 | O14: 30205 | P14: 東国分寺台５丁目 | Q14: 199 | R14: 427 | S14: 223 | T14: 204
... A38: 6800 | B38: 神代 | C38: 48 | D38: 118 | E38: 63 | F38: 55 | H38: 8114 | I38: 更級４丁目 | J38: 0 | K38: 0 | L38: 0 | M38: 0 | O38: 30901 | P38: 惣社１丁目 | Q38: 207 | R38: 481 | S38: 242 | T38: 239
A39: 6900 | B39: 十五沢 | C39: 53 | D39: 131 | E39: 56 | F39: 75 | O39: 30902 | P39: 惣社２丁目 | Q39: 167 | R39: 390 | S39: 191 | T39: 199
A40: 7000 | B40: 小折 | C40: 34 | D40: 73 | E40: 33 | F40: 40 | O40: 30903 | P40: 惣社３丁目 | Q40: 238 | R40: 525 | S40: 267 | T40: 258
A41: 7100 | B41: 西野 | C41: 52 | D41: 127 | E41: 68 | F41: 59 | O41: 30904 | P41: 惣社４丁目 | Q41: 172 | R41: 422 | S41: 225 | T41: 197
A42: 7200 | B42: 柳原 | C42: 52 | D42: 123 | E42: 56 | F42: 67 | O42: 30905 | P42: 惣社５丁目 | Q42: 245 | R42: 664 | S42: 319 | T42: 345
A43: 7300 | B43: 村上 | C43: 629 | D43: 1408 | E43: 714 | F43: 694 | O43: 31001 | P43: 加茂１丁目 | Q43: 199 | R43: 434 | S43: 218 | T43: 216
A44: 7400 | B44: 西広 | C44: 47 | D44: 103 | E44: 55 | F44: 48 | O44: 31002 | P44: 加茂２丁目 | Q44: 162 | R44: 396 | S44: 203 | T44: 193
A45: 7500 | B45: 惣社 | C45: 325 | D45: 673 | E45: 354 | F45: 319 | O45: 31101 | P45: 根田１丁目 | Q45: 177 | R45: 399 | S45: 207 | T45: 192
A46: 7600 | B46: 加茂 | C46: 3 | D46: 7 | E46: 3 | F46: 4 | O46: 31102 | P46: 根田２丁目 | Q46: 115 | R46: 209 | S46: 125 | T46: 84
A47: 7700 | B47: 根田 | C47: 106 | D47: 230 | E47: 117 | F47: 113 | O47: 31103 | P47: 根田３丁目 | Q47: 272 | R47: 554 | S47: 295 | T47: 259
A48: 7800 | B48: 岩野見 | C48: 145 | D48: 333 | E48: 157 | F48: 176 | O48: 31104 | P48: 根田４丁目 | Q48: 162 | R48: 394 | S48: 195 | T48: 199
O49: 3 | P49: 五井地区_計 | Q49: 40433 | R49: 87491 | S49: 45927 | T49: 41564
A50: 平成29年9月1日現在 世帯数及び人口
A51: CD | B51: 大字名 | C51: 世帯数 | D51: 総数 | E51: 男 | F51: 女 | H51: CD | I51: 大字名 | J51: 世帯数 | K51: 総数 | L51: 男 | M51: 女 | O51: CD | P51: 大字名 | Q51: 世帯数 | R51: 総数 | S51: 男 | T51: 女
A52: 100 | B52: 姉崎海岸 | C52: 34 | D52: 38 | E52: 35 | F52: 3 | H52: 1900 | I52: 八幡海岸通 | J52: 301 | K52: 449 | L52: 317 | M52: 132 | O52: 8400 | P52: 山倉 | Q52: 241 | R52: 482 | S52: 260 | T52: 222
A53: 200 | B53: 椎津 | C53: 1670 | D53: 3508 | E53: 1816 | F53: 1692 | H53: 2001 | I53: 八幡浦１丁目 | J53: 3 | K53: 3 | L53: 3 | M53: 0 | O53: 8500 | P53: 福増 | Q53: 297 | R53: 702 | S53: 363 | T53: 339
A54: 300 | B54: 姉崎 | C54: 5860 | D54: 11602 | E54: 6261 | F54: 5341 | H54: 2100 | I54: 八幡 | J54: 5585 | K54: 11335 | L54: 5896 | M54: 5439 | O54: 8600 | P54: 海士有木 | Q54: 530 | R54: 1239 | S54: 627 | T54: 612
