Workbook

Sheet 2017_01
A1: 42736 | O1: ★★ 全地区合計 ★★ | Q1: =SUM(C98,J98,Q49,Q98,C147,J147,Q147,C196,J196,Q196) -> 124174 | R1: =SUM(D98,K98,R49,R98,D147,K147,R147,D196,K196,R196) -> 279093 | S1: =SUM(E98,L98,S49,S98,E147,L147,S147,E196,L196,S196) -> 143596 | T1: =SUM(F98,M98,T49,T98,F147,M147,T147,F196,M196,T196) -> 135497
A2: CD | B2: 大字名 | C2: 世帯数 | D2: 総数 | E2: 男 | F2: 女 | H2: CD | I2: 大字名 | J2: 世帯数 | K2: 総数 | L2: 男 | M2: 女 | O2: CD | P2: 大字名 | Q2: 世帯数 | R2: 総数 | S2: 男 | T2: 女
A3: 1655 | B3: 千種５丁目 | C3: 216 | D3: 556 | E3: 281 | F3: 275 | H3: 7900 | I3: 平田 | J3: 816 | K3: 1683 | L3: 836 | M3: 847 | O3: 30101 | P3: 国分寺台中央１丁目 | Q3: 309 | R3: 694 | S3: 356 | T3: 338
A4: 1656 | B4: 千種６丁目 | C4: 110 | D4: 398 | E4: 208 | F4: 190 | H4: 8000 | I4: 五井 | J4: 7957 | K4: 16868 | L4: 8899 | M4: 7969 | O4: 30102 | P4: 国分寺台中央２丁目 | Q4: 339 | R4: 786 | S4: 406 | T4: 380
A5: 1657 | B5: 千種７丁目 | C5: 368 | D5: 871 | E5: 463 | F5: 408 | H5: 8051 | I5: 五井中央東１丁目 | J5: 334 | K5: 585 | L5: 310 | M5: 275 | O5: 30103 | P5: 国分寺台中央３丁目 | Q5: 263 | R5: 531 | S5: 288 | T5: 243
A6: 4300 | B6: 千種海岸 | C6: 2 | D6: 2 | E6: 2 | F6: 0 | H6: 8052 | I6: 五井中央東２丁目 | J6: 461 | K6: 811 | L6: 437 | M6: 374 | O6: 30104 | P6: 国分寺台中央４丁目 | Q6: 237 | R6: 547 | S6: 283 | T6: 264
A7: 4400 | B7: 五井南海岸 | C7: 1 | D7: 3 | E7: 0 | F7: 3 | H7: 8061 | I7: 五井中央西１丁目 | J7: 386 | K7: 707 | L7: 386 | M7: 321 | O7: 30105 | P7: 国分寺台中央５丁目 | Q7: 253 | R7: 659 | S7: 353 | T7: 306
A8: 4500 | B8: 五井海岸 | C8: 1 | D8: 1 | E8: 1 | F8: 0 | H8: 8062 | I8: 五井中央西２丁目 | J8: 269 | K8: 530 | L8: 274 | M8: 256 | O8: 30106 | P8: 国分寺台中央６丁目 | Q8: 242 | R8: 625 | S8: 290 | T8: 335
A9: 4600 | B9: 青柳 | C9: 1307 | D9: 2796 | E9: 1492 | F9: 1304 | H9: 8063 | I9: 五井中央西３丁目 | J9: 69 | K9: 148 | L9: 76 | M9: 72 | O9: 30107 | P9: 国分寺台中央７丁目 | Q9: 318 | R9: 705 | S9: 353 | T9: 352
A10: 4651 | B10: 青柳１丁目 | C10: 145 | D10: 307 | E10: 164 | F10: 143 | H10: 8101 | I10: 五井東１丁目 | J10: 677 | K10: 1245 | L10: 658 | M10: 587 | O10: 30201 | P10: 東国分寺台１丁目 | Q10: 274 | R10: 627 | S10: 316 | T10: 311
A11: 4652 | B11: 青柳２丁目 | C11: 85 | D11: 173 | E11: 95 | F11: 78 | H11: 8102 | I11: 五井東２丁目 | J11: 391 | K11: 830 | L11: 438 | M11: 392 | O11: 30202 | P11: 東国分寺台２丁目 | Q11: 196 | R11: 455 | S11: 221 | T11: 234
A12: 4653 | B12: 青柳３丁目 | C12: 189 | D12: 229 | E12: 162 | F12: 67 | H12: 8103 | I12: 五井東３丁目 | J12: 531 | K12: 1054 | L12: 574 | M12: 480 | O12: 30203 | P12: 東国分寺台３丁目 | Q12: 184 | R12: 468 | S12: 235 | T12: 233
A13: 4702 | B13: 青柳北２丁目 | C13: 3 | D13: 8 | E13: 3 | F13: 5 | H13: 8111 | I13: 更級１丁目 | J13: 151 | K13: 280 | L13: 167 | M13: 113 | O13: 30204 | P13: 東国分寺台４丁目 | Q13: 180 | R13: 422 | S13: 213 | T13: 209
A14: 4703 | B14: 青柳北３丁目 | C14: 18 | D14: 34 | E14: 20 | F14: 14 | H14: 8112 | I14: 更級２丁目 | J14: 78 | K14: 172 | L14: 83 | M14: 89 | O14: 30205 | P14: 東国分寺台５丁目 | Q14: 209 | R14: 444 | S14: 233 | T14: 211
... A38: 6800 | B38: 神代 | C38: 48 | D38: 119 | E38: 64 | F38: 55 | H38: 8114 | I38: 更級４丁目 | J38: 0 | K38: 0 | L38: 0 | M38: 0 | O38: 30901 | P38: 惣社１丁目 | Q38: 205 | R38: 479 | S38: 245 | T38: 234
A39: 6900 | B39: 十五沢 | C39: 52 | D39: 130 | E39: 58 | F39: 72 | O39: 30902 | P39: 惣社２丁目 | Q39: 176 | R39: 411 | S39: 201 | T39: 210
A40: 7000 | B40: 小折 | C40: 34 | D40: 74 | E40: 32 | F40: 42 | O40: 30903 | P40: 惣社３丁目 | Q40: 235 | R40: 528 | S40: 270 | T40: 258
A41: 7100 | B41: 西野 | C41: 51 | D41: 128 | E41: 69 | F41: 59 | O41: 30904 | P41: 惣社４丁目 | Q41: 171 | R41: 426 | S41: 228 | T41: 198
A42: 7200 | B42: 柳原 | C42: 53 | D42: 126 | E42: 59 | F42: 67 | O42: 30905 | P42: 惣社５丁目 | Q42: 238 | R42: 662 | S42: 324 | T42: 338
A43: 7300 | B43: 村上 | C43: 633 | D43: 1434 | E43: 729 | F43: 705 | O43: 31001 | P43: 加茂１丁目 | Q43: 204 | R43: 460 | S43: 226 | T43: 234
A44: 7400 | B44: 西広 | C44: 47 | D44: 108 | E44: 57 | F44: 51 | O44: 31002 | P44: 加茂２丁目 | Q44: 157 | R44: 389 | S44: 194 | T44: 195
A45: 7500 | B45: 惣社 | C45: 331 | D45: 695 | E45: 355 | F45: 340 | O45: 31101 | P45: 根田１丁目 | Q45: 170 | R45: 386 | S45: 196 | T45: 190
A46: 7600 | B46: 加茂 | C46: 3 | D46: 7 | E46: 3 | F46: 4 | O46: 31102 | P46: 根田２丁目 | Q46: 117 | R46: 215 | S46: 128 | T46: 87
A47: 7700 | B47: 根田 | C47: 110 | D47: 240 | E47: 121 | F47: 119 | O47: 31103 | P47: 根田３丁目 | Q47: 268 | R47: 554 | S47: 291 | T47: 263
A48: 7800 | B48: 岩野見 | C48: 147 | D48: 341 | E48: 161 | F48: 180 | O48: 31104 | P48: 根田４丁目 | Q48: 160 | R48: 389 | S48: 192 | T48: 197
O49: 3 | P49: 五井地区_計 | Q49: 40152 | R49: 87622 | S49: 45912 | T49: 41710
A50: =A1 -> 42736
A51: CD | B51: 大字名 | C51: 世帯数 | D51: 総数 | E51: 男 | F51: 女 | H51: CD | I51: 大字名 | J51: 世帯数 | K51: 総数 | L51: 男 | M51: 女 | O51: CD | P51: 大字名 | Q51: 世帯数 | R51: 総数 | S51: 男 | T51: 女
A52: 100 | B52: 姉崎海岸 | C52: 32 | D52: 37 | E52: 33 | F52: 4 | H52: 1900 | I52: 八幡海岸通 | J52: 305 | K52: 447 | L52: 326 | M52: 121 | O52: 8400 | P52: 山倉 | Q52: 230 | R52: 483 | S52: 254 | T52: 229
A53: 200 | B53: 椎津 | C53: 1641 | D53: 3480 | E53: 1789 | F53: 1691 | H53: 2001 | I53: 八幡浦１丁目 | J53: 3 | K53: 3 | L53: 3 | M53: 0 | O53: 8500 | P53: 福増 | Q53: 300 | R53: 716 | S53: 367 | T53: 349
A54: 300 | B54: 姉崎 | C54: 6066 | D54: 12292 | E54: 6597 | F54: 5695 | H54: 2100 | I54: 八幡 | J54: 5498 | K54: 11274 | L54: 5865 | M54: 5409 | O54: 8600 | P54: 海士有木 | Q54: 527 | R54: 1237 | S54: 626 | T54: 611
A55: 321 | B55: 姉崎西１丁目 | C55: 204 | D55: 360 | E55: 228 | F55: 132 | H55: 2201 | I55: 八幡北町１丁目 | J55: 243 | K55: 344 | L55: 224 | M55: 120 | O55: 8700 | P55: 大坪 | Q55: 243 | R55: 565 | S55: 306 | T55: 259
A56: 322 | B56: 姉崎西２丁目 | C56: 258 | D56: 490 | E56: 263 | F56: 227 | H56: 2202 | I56: 八幡北町２丁目 | J56: 212 | K56: 384 | L56: 217 | M56: 167 | O56: 8800 | P56: 新生 | Q56: 90 | R56: 235 | S56: 130 | T56: 105
A57: 323 | B57: 姉崎西３丁目 | C57: 214 | D57: 470 | E57: 262 | F57: 208 | H57: 2203 | I57: 八幡北町３丁目 | J57: 134 | K57: 197 | L57: 123 | M57: 74 | O57: 8900 | P57: 権現堂 | Q57: 88 | R57: 226 | S57: 114 | T57: 112
A58: 1300 | B58: 畑木 | C58: 151 | D58: 276 | E58: 134 | F58: 142 | H58: 2301 | I58: 八幡石塚１丁目 | J58: 330 | K58: 692 | L58: 393 | M58: 299 | O58: 9000 | P58: 糸久 | Q58: 32 | R58: 87 | S58: 47 | T58: 40
A59: 1400 | B59: 柏原 | C59: 127 | D59: 254 | E59: 116 | F59: 138 | H59: 2302 | I59: 八幡石塚２丁目 | J59: 332 | K59: 697 | L59: 369 | M59: 328 | O59: 9100 | P59: 宮原 | Q59: 94 | R59: 190 | S59: 99 | T59: 91
A60: 1500 | B60: 白塚 | C60: 330 | D60: 718 | E60: 350 | F60: 368 | H60: 2400 | I60: 五所 | J60: 1354 | K60: 2971 | L60: 1546 | M60: 1425 | O60: 9200 | P60: 分目 | Q60: 79 | R60: 200 | S60: 98 | T60: 102
A61: 1600 | B61: 今津朝山 | C61: 996 | D61: 1945 | E61: 1074 | F61: 871 | H61: 2500 | I61: 旭五所 | J61: 474 | K61: 954 | L61: 510 | M61: 444 | O61: 9300 | P61: 浅井小向 | Q61: 56 | R61: 163 | S61: 73 | T61: 90
A62: 1651 | B62: 千種１丁目 | C62: 124 | D62: 198 | E62: 131 | F62: 67 | H62: 2600 | I62: 東五所 | J62: 1012 | K62: 1973 | L62: 1065 | M62: 908 | O62: 9400 | P62: 相川 | Q62: 41 | R62: 88 | S62: 48 | T62: 40
A63: 1652 | B63: 千種２丁目 | C63: 220 | D63: 535 | E63: 269 | F63: 266 | H63: 2700 | I63: 西五所 | J63: 863 | K63: 1654 | L63: 880 | M63: 774 | O63: 9500 | P63: 新堀 | Q63: 258 | R63: 556 | S63: 269 | T63: 287
... A73: 1708 | B73: 青葉台８丁目 | C73: 192 | D73: 431 | E73: 226 | F73: 205 | H73: 3002 | I73: 藤井２丁目 | J73: 109 | K73: 224 | L73: 115 | M73: 109 | O73: 10500 | P73: 山田 | Q73: 137 | R73: 346 | S73: 176 | T73: 170
H74: 3003 | I74: 藤井３丁目 | J74: 168 | K74: 397 | L74: 191 | M74: 206 | O74: 10600 | P74: 安須 | Q74: 70 | R74: 190 | S74: 87 | T74: 103
H75: 3100 | I75: 山田橋 | J75: 123 | K75: 243 | L75: 131 | M75: 112 | O75: 10700 | P75: 高坂 | Q75: 50 | R75: 120 | S75: 62 | T75: 58
H76: 3200 | I76: 能満 | J76: 2304 | K76: 4886 | L76: 2424 | M76: 2462 | O76: 10801 | P76: 光風台１丁目 | Q76: 362 | R76: 918 | S76: 446 | T76: 472
H77: 3300 | I77: 門前 | J77: 2 | K77: 8 | L77: 3 | M77: 5 | O77: 10802 | P77: 光風台２丁目 | Q77: 356 | R77: 853 | S77: 435 | T77: 418
H78: 3301 | I78: 門前１丁目 | J78: 84 | K78: 173 | L78: 92 | M78: 81 | O78: 10803 | P78: 光風台３丁目 | Q78: 660 | R78: 1496 | S78: 739 | T78: 757
H79: 3302 | I79: 門前２丁目 | J79: 359 | K79: 783 | L79: 405 | M79: 378 | O79: 10804 | P79: 光風台４丁目 | Q79: 655 | R79: 1526 | S79: 759 | T79: 767
H80: 3400 | I80: 市原 | J80: 469 | K80: 961 | L80: 476 | M80: 485 | O80: 10805 | P80: 光風台５丁目 | Q80: 552 | R80: 1332 | S80: 662 | T80: 670
H81: 3500 | I81: 山木 | J81: 1154 | K81: 2486 | L81: 1313 | M81: 1173 | Q81: =IF($O81="","",IFERROR(VLOOKUP($O$98&$O81,[1]非表示!$A$1:$H$500,4,FALSE),0)) | R81: =IF($O81="","",IFERROR(VLOOKUP($O$98&$O81,[1]非表示!$A$1:$H$500,5,FALSE),0)) | S81: =IF($O81="","",IFERROR(VLOOKUP($O$98&$O81,[1]非表示!$A$1:$H$500,6,FALSE),0)) | T81: =IF($O81="","",IFERROR(VLOOKUP($O$98&$O81,[1]非表示!$A$1:$H$500,7,FALSE),0))
H82: 3600 | I82: 菊間 | J82: 2304 | K82: 5302 | L82: 2509 | M82: 2793 | Q82: =IF($O82="","",IFERROR(VLOOKUP($O$98&$O82,[1]非表示!$A$1:$H$500,4,FALSE),0)) | R82: =IF($O82="","",IFERROR(VLOOKUP($O$98&$O82,[1]非表示!$A$1:$H$500,5,FALSE),0)) | S82: =IF($O82="","",IFERROR(VLOOKUP($O$98&$O82,[1]非表示!$A$1:$H$500,6,FALSE),0)) | T82: =IF($O82="","",IFERROR(VLOOKUP($O$98&$O82,[1]非表示!$A$1:$H$500,7,FALSE),0))
H83: 3700 | I83: 古市場 | J83: 1171 | K83: 2731 | L83: 1393 | M83: 1338 | Q83: =IF($O83="","",IFERROR(VLOOKUP($O$98&$O83,[1]非表示!$A$1:$H$500,4,FALSE),0)) | R83: =IF($O83="","",IFERROR(VLOOKUP($O$98&$O83,[1]非表示!$A$1:$H$500,5,FALSE),0)) | S83: =IF($O83="","",IFERROR(VLOOKUP($O$98&$O83,[1]非表示!$A$1:$H$500,6,FALSE),0)) | T83: =IF($O83="","",IFERROR(VLOOKUP($O$98&$O83,[1]非表示!$A$1:$H$500,7,FALSE),0))
H84: 3800 | I84: 草刈 | J84: 478 | K84: 1143 | L84: 555 | M84: 588 | Q84: =IF($O84="","",IFERROR(VLOOKUP($O$98&$O84,[1]非表示!$A$1:$H$500,4,FALSE),0)) | R84: =IF($O84="","",IFERROR(VLOOKUP($O$98&$O84,[1]非表示!$A$1:$H$500,5,FALSE),0)) | S84: =IF($O84="","",IFERROR(VLOOKUP($O$98&$O84,[1]非表示!$A$1:$H$500,6,FALSE),0)) | T84: =IF($O84="","",IFERROR(VLOOKUP($O$98&$O84,[1]非表示!$A$1:$H$500,7,FALSE),0))
H85: 3900 | I85: 大 | J85: 2018 | K85: 4442 | L85: 2292 | M85: 2150 | Q85: =IF($O85="","",IFERROR(VLOOKUP($O$98&$O85,[1]非表示!$A$1:$H$500,4,FALSE),0)) | R85: =IF($O85="","",IFERROR(VLOOKUP($O$98&$O85,[1]非表示!$A$1:$H$500,5,FALSE),0)) | S85: =IF($O85="","",IFERROR(VLOOKUP($O$98&$O85,[1]非表示!$A$1:$H$500,6,FALSE),0)) | T85: =IF($O85="","",IFERROR(VLOOKUP($O$98&$O85,[1]非表示!$A$1:$H$500,7,FALSE),0))
H86: 4201 | I86: 若宮１丁目 | J86: 508 | K86: 931 | L86: 498 | M86: 433 | Q86: =IF($O86="","",IFERROR(VLOOKUP($O$98&$O86,[1]非表示!$A$1:$H$500,4,FALSE),0)) | R86: =IF($O86="","",IFERROR(VLOOKUP($O$98&$O86,[1]非表示!$A$1:$H$500,5,FALSE),0)) | S86: =IF($O86="","",IFERROR(VLOOKUP($O$98&$O86,[1]非表示!$A$1:$H$500,6,FALSE),0)) | T86: =IF($O86="","",IFERROR(VLOOKUP($O$98&$O86,[1]非表示!$A$1:$H$500,7,FALSE),0))
H87: 4202 | I87: 若宮２丁目 | J87: 352 | K87: 743 | L87: 353 | M87: 390 | Q87: =IF($O87="","",IFERROR(VLOOKUP($O$98&$O87,[1]非表示!$A$1:$H$500,4,FALSE),0)) | R87: =IF($O87="","",IFERROR(VLOOKUP($O$98&$O87,[1]非表示!$A$1:$H$500,5,FALSE),0)) | S87: =IF($O87="","",IFERROR(VLOOKUP($O$98&$O87,[1]非表示!$A$1:$H$500,6,FALSE),0)) | T87: =IF($O87="","",IFERROR(VLOOKUP($O$98&$O87,[1]非表示!$A$1:$H$500,7,FALSE),0))
H88: 4203 | I88: 若宮３丁目 | J88: 316 | K88: 684 | L88: 322 | M88: 362 | Q88: =IF($O88="","",IFERROR(VLOOKUP($O$98&$O88,[1]非表示!$A$1:$H$500,4,FALSE),0)) | R88: =IF($O88="","",IFERROR(VLOOKUP($O$98&$O88,[1]非表示!$A$1:$H$500,5,FALSE),0)) | S88: =IF($O88="","",IFERROR(VLOOKUP($O$98&$O88,[1]非表示!$A$1:$H$500,6,FALSE),0)) | T88: =IF($O88="","",IFERROR(VLOOKUP($O$98&$O88,[1]非表示!$A$1:$H$500,7,FALSE),0))
H89: 4204 | I89: 若宮４丁目 | J89: 354 | K89: 729 | L89: 344 | M89: 385 | Q89: =IF($O89="","",IFERROR(VLOOKUP($O$98&$O89,[1]非表示!$A$1:$H$500,4,FALSE),0)) | R89: =IF($O89="","",IFERROR(VLOOKUP($O$98&$O89,[1]非表示!$A$1:$H$500,5,FALSE),0)) | S89: =IF($O89="","",IFERROR(VLOOKUP($O$98&$O89,[1]非表示!$A$1:$H$500,6,FALSE),0)) | T89: =IF($O89="","",IFERROR(VLOOKUP($O$98&$O89,[1]非表示!$A$1:$H$500,7,FALSE),0))
H90: 4205 | I90: 若宮５丁目 | J90: 243 | K90: 571 | L90: 277 | M90: 294 | Q90: =IF($O90="","",IFERROR(VLOOKUP($O$98&$O90,[1]非表示!$A$1:$H$500,4,FALSE),0)) | R90: =IF($O90="","",IFERROR(VLOOKUP($O$98&$O90,[1]非表示!$A$1:$H$500,5,FALSE),0)) | S90: =IF($O90="","",IFERROR(VLOOKUP($O$98&$O90,[1]非表示!$A$1:$H$500,6,FALSE),0)) | T90: =IF($O90="","",IFERROR(VLOOKUP($O$98&$O90,[1]非表示!$A$1:$H$500,7,FALSE),0))
H91: 4206 | I91: 若宮６丁目 | J91: 298 | K91: 691 | L91: 347 | M91: 344 | Q91: =IF($O91="","",IFERROR(VLOOKUP($O$98&$O91,[1]非表示!$A$1:$H$500,4,FALSE),0)) | R91: =IF($O91="","",IFERROR(VLOOKUP($O$98&$O91,[1]非表示!$A$1:$H$500,5,FALSE),0)) | S91: =IF($O91="","",IFERROR(VLOOKUP($O$98&$O91,[1]非表示!$A$1:$H$500,6,FALSE),0)) | T91: =IF($O91="","",IFERROR(VLOOKUP($O$98&$O91,[1]非表示!$A$1:$H$500,7,FALSE),0))
H92: 4207 | I92: 若宮７丁目 | J92: 79 | K92: 190 | L92: 89 | M92: 101 | Q92: =IF($O92="","",IFERROR(VLOOKUP($O$98&$O92,[1]非表示!$A$1:$H$500,4,FALSE),0)) | R92: =IF($O92="","",IFERROR(VLOOKUP($O$98&$O92,[1]非表示!$A$1:$H$500,5,FALSE),0)) | S92: =IF($O92="","",IFERROR(VLOOKUP($O$98&$O92,[1]非表示!$A$1:$H$500,6,FALSE),0)) | T92: =IF($O92="","",IFERROR(VLOOKUP($O$98&$O92,[1]非表示!$A$1:$H$500,7,FALSE),0))
H93: 2002 | I93: 八幡浦２丁目 | J93: 1 | K93: 1 | L93: 1 | M93: 0 | Q93: =IF($O93="","",IFERROR(VLOOKUP($O$98&$O93,[1]非表示!$A$1:$H$500,4,FALSE),0)) | R93: =IF($O93="","",IFERROR(VLOOKUP($O$98&$O93,[1]非表示!$A$1:$H$500,5,FALSE),0)) | S93: =IF($O93="","",IFERROR(VLOOKUP($O$98&$O93,[1]非表示!$A$1:$H$500,6,FALSE),0)) | T93: =IF($O93="","",IFERROR(VLOOKUP($O$98&$O93,[1]非表示!$A$1:$H$500,7,FALSE),0))
J94: =IF($H94="","",IFERROR(VLOOKUP($H$98&$H94,[1]非表示!$A$1:$H$500,4,FALSE),0)) | K94: =IF($H94="","",IFERROR(VLOOKUP($H$98&$H94,[1]非表示!$A$1:$H$500,5,FALSE),0)) | L94: =IF($H94="","",IFERROR(VLOOKUP($H$98&$H94,[1]非表示!$A$1:$H$500,6,FALSE),0)) | M94: =IF($H94="","",IFERROR(VLOOKUP($H$98&$H94,[1]非表示!$A$1:$H$500,7,FALSE),0)) | Q94: =IF($O94="","",IFERROR(VLOOKUP($O$98&$O94,[1]非表示!$A$1:$H$500,4,FALSE),0)) | R94: =IF($O94="","",IFERROR(VLOOKUP($O$98&$O94,[1]非表示!$A$1:$H$500,5,FALSE),0)) | S94: =IF($O94="","",IFERROR(VLOOKUP($O$98&$O94,[1]非表示!$A$1:$H$500,6,FALSE),0)) | T94: =IF($O94="","",IFERROR(VLOOKUP($O$98&$O94,[1]非表示!$A$1:$H$500,7,FALSE),0))
J95: =IF($H95="","",IFERROR(VLOOKUP($H$98&$H95,[1]非表示!$A$1:$H$500,4,FALSE),0)) | K95: =IF($H95="","",IFERROR(VLOOKUP($H$98&$H95,[1]非表示!$A$1:$H$500,5,FALSE),0)) | L95: =IF($H95="","",IFERROR(VLOOKUP($H$98&$H95,[1]非表示!$A$1:$H$500,6,FALSE),0)) | M95: =IF($H95="","",IFERROR(VLOOKUP($H$98&$H95,[1]非表示!$A$1:$H$500,7,FALSE),0)) | Q95: =IF($O95="","",IFERROR(VLOOKUP($O$98&$O95,[1]非表示!$A$1:$H$500,4,FALSE),0)) | R95: =IF($O95="","",IFERROR(VLOOKUP($O$98&$O95,[1]非表示!$A$1:$H$500,5,FALSE),0)) | S95: =IF($O95="","",IFERROR(VLOOKUP($O$98&$O95,[1]非表示!$A$1:$H$500,6,FALSE),0)) | T95: =IF($O95="","",IFERROR(VLOOKUP($O$98&$O95,[1]非表示!$A$1:$H$500,7,FALSE),0))
J96: =IF($H96="","",IFERROR(VLOOKUP($H$98&$H96,[1]非表示!$A$1:$H$500,4,FALSE),0)) | K96: =IF($H96="","",IFERROR(VLOOKUP($H$98&$H96,[1]非表示!$A$1:$H$500,5,FALSE),0)) | L96: =IF($H96="","",IFERROR(VLOOKUP($H$98&$H96,[1]非表示!$A$1:$H$500,6,FALSE),0)) | M96: =IF($H96="","",IFERROR(VLOOKUP($H$98&$H96,[1]非表示!$A$1:$H$500,7,FALSE),0)) | Q96: =IF($O96="","",IFERROR(VLOOKUP($O$98&$O96,[1]非表示!$A$1:$H$500,4,FALSE),0)) | R96: =IF($O96="","",IFERROR(VLOOKUP($O$98&$O96,[1]非表示!$A$1:$H$500,5,FALSE),0)) | S96: =IF($O96="","",IFERROR(VLOOKUP($O$98&$O96,[1]非表示!$A$1:$H$500,6,FALSE),0)) | T96: =IF($O96="","",IFERROR(VLOOKUP($O$98&$O96,[1]非表示!$A$1:$H$500,7,FALSE),0))
J97: =IF($H97="","",IFERROR(VLOOKUP($H$98&$H97,[1]非表示!$A$1:$H$500,4,FALSE),0)) | K97: =IF($H97="","",IFERROR(VLOOKUP($H$98&$H97,[1]非表示!$A$1:$H$500,5,FALSE),0)) | L97: =IF($H97="","",IFERROR(VLOOKUP($H$98&$H97,[1]非表示!$A$1:$H$500,6,FALSE),0)) | M97: =IF($H97="","",IFERROR(VLOOKUP($H$98&$H97,[1]非表示!$A$1:$H$500,7,FALSE),0)) | Q97: =IF($O97="","",IFERROR(VLOOKUP($O$98&$O97,[1]非表示!$A$1:$H$500,4,FALSE),0)) | R97: =IF($O97="","",IFERROR(VLOOKUP($O$98&$O97,[1]非表示!$A$1:$H$500,5,FALSE),0)) | S97: =IF($O97="","",IFERROR(VLOOKUP($O$98&$O97,[1]非表示!$A$1:$H$500,6,FALSE),0)) | T97: =IF($O97="","",IFERROR(VLOOKUP($O$98&$O97,[1]非表示!$A$1:$H$500,7,FALSE),0))
A98: 1 | B98: 姉崎地区_計 | C98: 14080 | D98: 29723 | E98: 15537 | F98: 14186 | H98: 2 | I98: 市原地区_計 | J98: 24622 | K98: 52197 | L98: 26788 | M98: 25409 | O98: 4 | P98: 三和地区_計 | Q98: 6187 | R98: 14623 | S98: 7344 | T98: 7279
A99: =A50 -> 42736
A100: CD | B100: 大字名 | C100: 世帯数 | D100: 総数 | E100: 男 | F100: 女 | H100: CD | I100: 大字名 | J100: 世帯数 | K100: 総数 | L100: 男 | M100: 女 | O100: CD | P100: 大字名 | Q100: 世帯数 | R100: 総数 | S100: 男 | T100: 女
A101: 10900 | B101: 久々津 | C101: 68 | D101: 164 | E101: 80 | F101: 84 | H101: 4001 | I101: 辰巳台東１丁目 | J101: 406 | K101: 1123 | L101: 565 | M101: 558 | O101: 13400 | P101: 風戸 | Q101: 18 | R101: 39 | S101: 22 | T101: 17
A102: 11000 | B102: 潤井戸 | C102: 966 | D102: 2128 | E102: 1088 | F102: 1040 | H102: 4002 | I102: 辰巳台東２丁目 | J102: 629 | K102: 1179 | L102: 588 | M102: 591 | O102: 13500 | P102: 中高根 | Q102: 1178 | R102: 2684 | S102: 1392 | T102: 1292
A103: 11051 | B103: うるいど南１丁目 | C103: 220 | D103: 571 | E103: 287 | F103: 284 | H103: 4003 | I103: 辰巳台東３丁目 | J103: 1094 | K103: 2686 | L103: 1433 | M103: 1253 | O103: 13600 | P103: 上高根 | Q103: 799 | R103: 1817 | S103: 914 | T103: 903
A104: 11052 | B104: うるいど南２丁目 | C104: 143 | D104: 370 | E104: 188 | F104: 182 | H104: 4004 | I104: 辰巳台東４丁目 | J104: 862 | K104: 2112 | L104: 1137 | M104: 975 | O104: 13700 | P104: 馬立 | Q104: 1338 | R104: 3012 | S104: 1511 | T104: 1501
A105: 11053 | B105: うるいど南３丁目 | C105: 311 | D105: 907 | E105: 472 | F105: 435 | H105: 4005 | I105: 辰巳台東５丁目 | J105: 301 | K105: 584 | L105: 322 | M105: 262 | O105: 13800 | P105: 上原 | Q105: 67 | R105: 143 | S105: 76 | T105: 67
A106: 11100 | B106: 下野 | C106: 154 | D106: 382 | E106: 176 | F106: 206 | H106: 4101 | I106: 辰巳台西１丁目 | J106: 366 | K106: 984 | L106: 481 | M106: 503 | O106: 13900 | P106: 南岩崎 | Q106: 421 | R106: 963 | S106: 475 | T106: 488
A107: 11200 | B107: 永吉 | C107: 125 | D107: 282 | E107: 142 | F107: 140 | H107: 4102 | I107: 辰巳台西２丁目 | J107: 389 | K107: 1127 | L107: 560 | M107: 567 | O107: 14000 | P107: 寺谷 | Q107: 96 | R107: 236 | S107: 119 | T107: 117
A108: 11300 | B108: 番場 | C108: 84 | D108: 205 | E108: 109 | F108: 96 | H108: 4103 | I108: 辰巳台西３丁目 | J108: 695 | K108: 1211 | L108: 781 | M108: 430 | O108: 14100 | P108: 栢橋 | Q108: 222 | R108: 525 | S108: 274 | T108: 251
A109: 11400 | B109: 押沼 | C109: 57 | D109: 146 | E109: 78 | F109: 68 | H109: 4104 | I109: 辰巳台西４丁目 | J109: 326 | K109: 764 | L109: 361 | M109: 403 | O109: 14200 | P109: 西国吉 | Q109: 776 | R109: 1782 | S109: 914 | T109: 868
A110: 11500 | B110: 瀬又 | C110: 1614 | D110: 3518 | E110: 1707 | F110: 1811 | H110: 4105 | I110: 辰巳台西５丁目 | J110: 149 | K110: 321 | L110: 156 | M110: 165 | O110: 14300 | P110: 佐是 | Q110: 326 | R110: 795 | S110: 412 | T110: 383
A111: 11600 | B111: 中野 | C111: 36 | D111: 93 | E111: 52 | F111: 41 | J111: =IF($H111="","",IFERROR(VLOOKUP($H$147&$H111,[1]非表示!$A$1:$H$500,4,FALSE),0)) | K111: =IF($H111="","",IFERROR(VLOOKUP($H$147&$H111,[1]非表示!$A$1:$H$500,5,FALSE),0)) | L111: =IF($H111="","",IFERROR(VLOOKUP($H$147&$H111,[1]非表示!$A$1:$H$500,6,FALSE),0)) | M111: =IF($H111="","",IFERROR(VLOOKUP($H$147&$H111,[1]非表示!$A$1:$H$500,7,FALSE),0)) | O111: 14400 | P111: 妙香 | Q111: 81 | R111: 184 | S111: 97 | T111: 87
A112: 11700 | B112: 高田 | C112: 51 | D112: 129 | E112: 64 | F112: 65 | J112: =IF($H112="","",IFERROR(VLOOKUP($H$147&$H112,[1]非表示!$A$1:$H$500,4,FALSE),0)) | K112: =IF($H112="","",IFERROR(VLOOKUP($H$147&$H112,[1]非表示!$A$1:$H$500,5,FALSE),0)) | L112: =IF($H112="","",IFERROR(VLOOKUP($H$147&$H112,[1]非表示!$A$1:$H$500,6,FALSE),0)) | M112: =IF($H112="","",IFERROR(VLOOKUP($H$147&$H112,[1]非表示!$A$1:$H$500,7,FALSE),0)) | O112: 14500 | P112: 奉免 | Q112: 192 | R112: 460 | S112: 213 | T112: 247
A113: 11800 | B113: 高倉 | C113: 52 | D113: 110 | E113: 50 | F113: 60 | J113: =IF($H113="","",IFERROR(VLOOKUP($H$147&$H113,[1]非表示!$A$1:$H$500,4,FALSE),0)) | K113: =IF($H113="","",IFERROR(VLOOKUP($H$147&$H113,[1]非表示!$A$1:$H$500,5,FALSE),0)) | L113: =IF($H113="","",IFERROR(VLOOKUP($H$147&$H113,[1]非表示!$A$1:$H$500,6,FALSE),0)) | M113: =IF($H113="","",IFERROR(VLOOKUP($H$147&$H113,[1]非表示!$A$1:$H$500,7,FALSE),0)) | O113: 14600 | P113: 牛久 | Q113: 897 | R113: 1903 | S113: 948 | T113: 955
A114: 11900 | B114: 東国吉 | C114: 119 | D114: 303 | E114: 140 | F114: 163 | J114: =IF($H114="","",IFERROR(VLOOKUP($H$147&$H114,[1]非表示!$A$1:$H$500,4,FALSE),0)) | K114: =IF($H114="","",IFERROR(VLOOKUP($H$147&$H114,[1]非表示!$A$1:$H$500,5,FALSE),0)) | L114: =IF($H114="","",IFERROR(VLOOKUP($H$147&$H114,[1]非表示!$A$1:$H$500,6,FALSE),0)) | M114: =IF($H114="","",IFERROR(VLOOKUP($H$147&$H114,[1]非表示!$A$1:$H$500,7,FALSE),0)) | O114: 14700 | P114: 皆吉 | Q114: 754 | R114: 1656 | S114: 823 | T114: 833
A115: 12000 | B115: 金剛地 | C115: 164 | D115: 416 | E115: 211 | F115: 205 | J115: =IF($H115="","",IFERROR(VLOOKUP($H$147&$H115,[1]非表示!$A$1:$H$500,4,FALSE),0)) | K115: =IF($H115="","",IFERROR(VLOOKUP($H$147&$H115,[1]非表示!$A$1:$H$500,5,FALSE),0)) | L115: =IF($H115="","",IFERROR(VLOOKUP($H$147&$H115,[1]非表示!$A$1:$H$500,6,FALSE),0)) | M115: =IF($H115="","",IFERROR(VLOOKUP($H$147&$H115,[1]非表示!$A$1:$H$500,7,FALSE),0)) | O115: 14800 | P115: 金沢 | Q115: 32 | R115: 85 | S115: 41 | T115: 44
A116: 12100 | B116: 奈良 | C116: 66 | D116: 174 | E116: 88 | F116: 86 | J116: =IF($H116="","",IFERROR(VLOOKUP($H$147&$H116,[1]非表示!$A$1:$H$500,4,FALSE),0)) | K116: =IF($H116="","",IFERROR(VLOOKUP($H$147&$H116,[1]非表示!$A$1:$H$500,5,FALSE),0)) | L116: =IF($H116="","",IFERROR(VLOOKUP($H$147&$H116,[1]非表示!$A$1:$H$500,6,FALSE),0)) | M116: =IF($H116="","",IFERROR(VLOOKUP($H$147&$H116,[1]非表示!$A$1:$H$500,7,FALSE),0)) | O116: 14900 | P116: 大蔵 | Q116: 14 | R116: 30 | S116: 19 | T116: 11
A117: 12200 | B117: 古都辺 | C117: 30 | D117: 75 | E117: 38 | F117: 37 | J117: =IF($H117="","",IFERROR(VLOOKUP($H$147&$H117,[1]非表示!$A$1:$H$500,4,FALSE),0)) | K117: =IF($H117="","",IFERROR(VLOOKUP($H$147&$H117,[1]非表示!$A$1:$H$500,5,FALSE),0)) | L117: =IF($H117="","",IFERROR(VLOOKUP($H$147&$H117,[1]非表示!$A$1:$H$500,6,FALSE),0)) | M117: =IF($H117="","",IFERROR(VLOOKUP($H$147&$H117,[1]非表示!$A$1:$H$500,7,FALSE),0)) | O117: 15000 | P117: 岩 | Q117: 44 | R117: 89 | S117: 50 | T117: 39
A118: 12300 | B118: 喜多 | C118: 726 | D118: 1640 | E118: 826 | F118: 814 | J118: =IF($H118="","",IFERROR(VLOOKUP($H$147&$H118,[1]非表示!$A$1:$H$500,4,FALSE),0)) | K118: =IF($H118="","",IFERROR(VLOOKUP($H$147&$H118,[1]非表示!$A$1:$H$500,5,FALSE),0)) | L118: =IF($H118="","",IFERROR(VLOOKUP($H$147&$H118,[1]非表示!$A$1:$H$500,6,FALSE),0)) | M118: =IF($H118="","",IFERROR(VLOOKUP($H$147&$H118,[1]非表示!$A$1:$H$500,7,FALSE),0)) | O118: 15100 | P118: 藪 | Q118: 72 | R118: 179 | S118: 90 | T118: 89
A119: 12400 | B119: 犬成 | C119: 243 | D119: 464 | E119: 260 | F119: 204 | J119: =IF($H119="","",IFERROR(VLOOKUP($H$147&$H119,[1]非表示!$A$1:$H$500,4,FALSE),0)) | K119: =IF($H119="","",IFERROR(VLOOKUP($H$147&$H119,[1]非表示!$A$1:$H$500,5,FALSE),0)) | L119: =IF($H119="","",IFERROR(VLOOKUP($H$147&$H119,[1]非表示!$A$1:$H$500,6,FALSE),0)) | M119: =IF($H119="","",IFERROR(VLOOKUP($H$147&$H119,[1]非表示!$A$1:$H$500,7,FALSE),0)) | O119: 15200 | P119: 中 | Q119: 359 | R119: 821 | S119: 419 | T119: 402
A120: 12500 | B120: 大作 | C120: 41 | D120: 90 | E120: 43 | F120: 47 | J120: =IF($H120="","",IFERROR(VLOOKUP($H$147&$H120,[1]非表示!$A$1:$H$500,4,FALSE),0)) | K120: =IF($H120="","",IFERROR(VLOOKUP($H$147&$H120,[1]非表示!$A$1:$H$500,5,FALSE),0)) | L120: =IF($H120="","",IFERROR(VLOOKUP($H$147&$H120,[1]非表示!$A$1:$H$500,6,FALSE),0)) | M120: =IF($H120="","",IFERROR(VLOOKUP($H$147&$H120,[1]非表示!$A$1:$H$500,7,FALSE),0)) | O120: 15300 | P120: 安久谷 | Q120: 102 | R120: 230 | S120: 113 | T120: 117
A121: 12600 | B121: 滝口 | C121: 36 | D121: 92 | E121: 48 | F121: 44 | J121: =IF($H121="","",IFERROR(VLOOKUP($H$147&$H121,[1]非表示!$A$1:$H$500,4,FALSE),0)) | K121: =IF($H121="","",IFERROR(VLOOKUP($H$147&$H121,[1]非表示!$A$1:$H$500,5,FALSE),0)) | L121: =IF($H121="","",IFERROR(VLOOKUP($H$147&$H121,[1]非表示!$A$1:$H$500,6,FALSE),0)) | M121: =IF($H121="","",IFERROR(VLOOKUP($H$147&$H121,[1]非表示!$A$1:$H$500,7,FALSE),0)) | O121: 15400 | P121: 米沢 | Q121: 141 | R121: 325 | S121: 157 | T121: 168
A122: 12700 | B122: 勝間 | C122: 201 | D122: 352 | E122: 145 | F122: 207 | J122: =IF($H122="","",IFERROR(VLOOKUP($H$147&$H122,[1]非表示!$A$1:$H$500,4,FALSE),0)) | K122: =IF($H122="","",IFERROR(VLOOKUP($H$147&$H122,[1]非表示!$A$1:$H$500,5,FALSE),0)) | L122: =IF($H122="","",IFERROR(VLOOKUP($H$147&$H122,[1]非表示!$A$1:$H$500,6,FALSE),0)) | M122: =IF($H122="","",IFERROR(VLOOKUP($H$147&$H122,[1]非表示!$A$1:$H$500,7,FALSE),0)) | O122: 15500 | P122: 真ケ谷 | Q122: 50 | R122: 145 | S122: 69 | T122: 76
... A127: 13200 | B127: 山之郷飛地 | C127: 2 | D127: 6 | E127: 2 | F127: 4 | J127: =IF($H127="","",IFERROR(VLOOKUP($H$147&$H127,[1]非表示!$A$1:$H$500,4,FALSE),0)) | K127: =IF($H127="","",IFERROR(VLOOKUP($H$147&$H127,[1]非表示!$A$1:$H$500,5,FALSE),0)) | L127: =IF($H127="","",IFERROR(VLOOKUP($H$147&$H127,[1]非表示!$A$1:$H$500,6,FALSE),0)) | M127: =IF($H127="","",IFERROR(VLOOKUP($H$147&$H127,[1]非表示!$A$1:$H$500,7,FALSE),0)) | O127: 16000 | P127: 奥野 | Q127: 57 | R127: 150 | S127: 69 | T127: 81
C128: =IF($A128="","",IFERROR(VLOOKUP($A$147&$A128,[1]非表示!$A$1:$H$500,4,FALSE),0)) | D128: =IF($A128="","",IFERROR(VLOOKUP($A$147&$A128,[1]非表示!$A$1:$H$500,5,FALSE),0)) | E128: =IF($A128="","",IFERROR(VLOOKUP($A$147&$A128,[1]非表示!$A$1:$H$500,6,FALSE),0)) | F128: =IF($A128="","",IFERROR(VLOOKUP($A$147&$A128,[1]非表示!$A$1:$H$500,7,FALSE),0)) | J128: =IF($H128="","",IFERROR(VLOOKUP($H$147&$H128,[1]非表示!$A$1:$H$500,4,FALSE),0)) | K128: =IF($H128="","",IFERROR(VLOOKUP($H$147&$H128,[1]非表示!$A$1:$H$500,5,FALSE),0)) | L128: =IF($H128="","",IFERROR(VLOOKUP($H$147&$H128,[1]非表示!$A$1:$H$500,6,FALSE),0)) | M128: =IF($H128="","",IFERROR(VLOOKUP($H$147&$H128,[1]非表示!$A$1:$H$500,7,FALSE),0)) | O128: 16100 | P128: 水沢 | Q128: 24 | R128: 62 | S128: 27 | T128: 35
C129: =IF($A129="","",IFERROR(VLOOKUP($A$147&$A129,[1]非表示!$A$1:$H$500,4,FALSE),0)) | D129: =IF($A129="","",IFERROR(VLOOKUP($A$147&$A129,[1]非表示!$A$1:$H$500,5,FALSE),0)) | E129: =IF($A129="","",IFERROR(VLOOKUP($A$147&$A129,[1]非表示!$A$1:$H$500,6,FALSE),0)) | F129: =IF($A129="","",IFERROR(VLOOKUP($A$147&$A129,[1]非表示!$A$1:$H$500,7,FALSE),0)) | J129: =IF($H129="","",IFERROR(VLOOKUP($H$147&$H129,[1]非表示!$A$1:$H$500,4,FALSE),0)) | K129: =IF($H129="","",IFERROR(VLOOKUP($H$147&$H129,[1]非表示!$A$1:$H$500,5,FALSE),0)) | L129: =IF($H129="","",IFERROR(VLOOKUP($H$147&$H129,[1]非表示!$A$1:$H$500,6,FALSE),0)) | M129: =IF($H129="","",IFERROR(VLOOKUP($H$147&$H129,[1]非表示!$A$1:$H$500,7,FALSE),0)) | O129: 16200 | P129: 原田 | Q129: 26 | R129: 61 | S129: 25 | T129: 36
C130: =IF($A130="","",IFERROR(VLOOKUP($A$147&$A130,[1]非表示!$A$1:$H$500,4,FALSE),0)) | D130: =IF($A130="","",IFERROR(VLOOKUP($A$147&$A130,[1]非表示!$A$1:$H$500,5,FALSE),0)) | E130: =IF($A130="","",IFERROR(VLOOKUP($A$147&$A130,[1]非表示!$A$1:$H$500,6,FALSE),0)) | F130: =IF($A130="","",IFERROR(VLOOKUP($A$147&$A130,[1]非表示!$A$1:$H$500,7,FALSE),0)) | J130: =IF($H130="","",IFERROR(VLOOKUP($H$147&$H130,[1]非表示!$A$1:$H$500,4,FALSE),0)) | K130: =IF($H130="","",IFERROR(VLOOKUP($H$147&$H130,[1]非表示!$A$1:$H$500,5,FALSE),0)) | L130: =IF($H130="","",IFERROR(VLOOKUP($H$147&$H130,[1]非表示!$A$1:$H$500,6,FALSE),0)) | M130: =IF($H130="","",IFERROR(VLOOKUP($H$147&$H130,[1]非表示!$A$1:$H$500,7,FALSE),0)) | O130: 16300 | P130: 石川 | Q130: 446 | R130: 1063 | S130: 541 | T130: 522
C131: =IF($A131="","",IFERROR(VLOOKUP($A$147&$A131,[1]非表示!$A$1:$H$500,4,FALSE),0)) | D131: =IF($A131="","",IFERROR(VLOOKUP($A$147&$A131,[1]非表示!$A$1:$H$500,5,FALSE),0)) | E131: =IF($A131="","",IFERROR(VLOOKUP($A$147&$A131,[1]非表示!$A$1:$H$500,6,FALSE),0)) | F131: =IF($A131="","",IFERROR(VLOOKUP($A$147&$A131,[1]非表示!$A$1:$H$500,7,FALSE),0)) | J131: =IF($H131="","",IFERROR(VLOOKUP($H$147&$H131,[1]非表示!$A$1:$H$500,4,FALSE),0)) | K131: =IF($H131="","",IFERROR(VLOOKUP($H$147&$H131,[1]非表示!$A$1:$H$500,5,FALSE),0)) | L131: =IF($H131="","",IFERROR(VLOOKUP($H$147&$H131,[1]非表示!$A$1:$H$500,6,FALSE),0)) | M131: =IF($H131="","",IFERROR(VLOOKUP($H$147&$H131,[1]非表示!$A$1:$H$500,7,FALSE),0)) | O131: 16400 | P131: 江子田 | Q131: 128 | R131: 293 | S131: 149 | T131: 144
C132: =IF($A132="","",IFERROR(VLOOKUP($A$147&$A132,[1]非表示!$A$1:$H$500,4,FALSE),0)) | D132: =IF($A132="","",IFERROR(VLOOKUP($A$147&$A132,[1]非表示!$A$1:$H$500,5,FALSE),0)) | E132: =IF($A132="","",IFERROR(VLOOKUP($A$147&$A132,[1]非表示!$A$1:$H$500,6,FALSE),0)) | F132: =IF($A132="","",IFERROR(VLOOKUP($A$147&$A132,[1]非表示!$A$1:$H$500,7,FALSE),0)) | J132: =IF($H132="","",IFERROR(VLOOKUP($H$147&$H132,[1]非表示!$A$1:$H$500,4,FALSE),0)) | K132: =IF($H132="","",IFERROR(VLOOKUP($H$147&$H132,[1]非表示!$A$1:$H$500,5,FALSE),0)) | L132: =IF($H132="","",IFERROR(VLOOKUP($H$147&$H132,[1]非表示!$A$1:$H$500,6,FALSE),0)) | M132: =IF($H132="","",IFERROR(VLOOKUP($H$147&$H132,[1]非表示!$A$1:$H$500,7,FALSE),0)) | O132: 16500 | P132: 下矢田 | Q132: 183 | R132: 436 | S132: 205 | T132: 231
C133: =IF($A133="","",IFERROR(VLOOKUP($A$147&$A133,[1]非表示!$A$1:$H$500,4,FALSE),0)) | D133: =IF($A133="","",IFERROR(VLOOKUP($A$147&$A133,[1]非表示!$A$1:$H$500,5,FALSE),0)) | E133: =IF($A133="","",IFERROR(VLOOKUP($A$147&$A133,[1]非表示!$A$1:$H$500,6,FALSE),0)) | F133: =IF($A133="","",IFERROR(VLOOKUP($A$147&$A133,[1]非表示!$A$1:$H$500,7,FALSE),0)) | J133: =IF($H133="","",IFERROR(VLOOKUP($H$147&$H133,[1]非表示!$A$1:$H$500,4,FALSE),0)) | K133: =IF($H133="","",IFERROR(VLOOKUP($H$147&$H133,[1]非表示!$A$1:$H$500,5,FALSE),0)) | L133: =IF($H133="","",IFERROR(VLOOKUP($H$147&$H133,[1]非表示!$A$1:$H$500,6,FALSE),0)) | M133: =IF($H133="","",IFERROR(VLOOKUP($H$147&$H133,[1]非表示!$A$1:$H$500,7,FALSE),0)) | O133: 16600 | P133: 矢田 | Q133: 27 | R133: 67 | S133: 30 | T133: 37
C134: =IF($A134="","",IFERROR(VLOOKUP($A$147&$A134,[1]非表示!$A$1:$H$500,4,FALSE),0)) | D134: =IF($A134="","",IFERROR(VLOOKUP($A$147&$A134,[1]非表示!$A$1:$H$500,5,FALSE),0)) | E134: =IF($A134="","",IFERROR(VLOOKUP($A$147&$A134,[1]非表示!$A$1:$H$500,6,FALSE),0)) | F134: =IF($A134="","",IFERROR(VLOOKUP($A$147&$A134,[1]非表示!$A$1:$H$500,7,FALSE),0)) | J134: =IF($H134="","",IFERROR(VLOOKUP($H$147&$H134,[1]非表示!$A$1:$H$500,4,FALSE),0)) | K134: =IF($H134="","",IFERROR(VLOOKUP($H$147&$H134,[1]非表示!$A$1:$H$500,5,FALSE),0)) | L134: =IF($H134="","",IFERROR(VLOOKUP($H$147&$H134,[1]非表示!$A$1:$H$500,6,FALSE),0)) | M134: =IF($H134="","",IFERROR(VLOOKUP($H$147&$H134,[1]非表示!$A$1:$H$500,7,FALSE),0)) | O134: 16700 | P134: 池和田 | Q134: 125 | R134: 291 | S134: 138 | T134: 153
C135: =IF($A135="","",IFERROR(VLOOKUP($A$147&$A135,[1]非表示!$A$1:$H$500,4,FALSE),0)) | D135: =IF($A135="","",IFERROR(VLOOKUP($A$147&$A135,[1]非表示!$A$1:$H$500,5,FALSE),0)) | E135: =IF($A135="","",IFERROR(VLOOKUP($A$147&$A135,[1]非表示!$A$1:$H$500,6,FALSE),0)) | F135: =IF($A135="","",IFERROR(VLOOKUP($A$147&$A135,[1]非表示!$A$1:$H$500,7,FALSE),0)) | J135: =IF($H135="","",IFERROR(VLOOKUP($H$147&$H135,[1]非表示!$A$1:$H$500,4,FALSE),0)) | K135: =IF($H135="","",IFERROR(VLOOKUP($H$147&$H135,[1]非表示!$A$1:$H$500,5,FALSE),0)) | L135: =IF($H135="","",IFERROR(VLOOKUP($H$147&$H135,[1]非表示!$A$1:$H$500,6,FALSE),0)) | M135: =IF($H135="","",IFERROR(VLOOKUP($H$147&$H135,[1]非表示!$A$1:$H$500,7,FALSE),0)) | O135: 16800 | P135: 鶴舞 | Q135: 534 | R135: 1155 | S135: 547 | T135: 608
C136: =IF($A136="","",IFERROR(VLOOKUP($A$147&$A136,[1]非表示!$A$1:$H$500,4,FALSE),0)) | D136: =IF($A136="","",IFERROR(VLOOKUP($A$147&$A136,[1]非表示!$A$1:$H$500,5,FALSE),0)) | E136: =IF($A136="","",IFERROR(VLOOKUP($A$147&$A136,[1]非表示!$A$1:$H$500,6,FALSE),0)) | F136: =IF($A136="","",IFERROR(VLOOKUP($A$147&$A136,[1]非表示!$A$1:$H$500,7,FALSE),0)) | J136: =IF($H136="","",IFERROR(VLOOKUP($H$147&$H136,[1]非表示!$A$1:$H$500,4,FALSE),0)) | K136: =IF($H136="","",IFERROR(VLOOKUP($H$147&$H136,[1]非表示!$A$1:$H$500,5,FALSE),0)) | L136: =IF($H136="","",IFERROR(VLOOKUP($H$147&$H136,[1]非表示!$A$1:$H$500,6,FALSE),0)) | M136: =IF($H136="","",IFERROR(VLOOKUP($H$147&$H136,[1]非表示!$A$1:$H$500,7,FALSE),0)) | O136: 16900 | P136: 田尾 | Q136: 199 | R136: 470 | S136: 237 | T136: 233
...

Sheet 2017_02
A1: 42767 | O1: ★★ 全地区合計 ★★ | Q1: =SUM(C98,J98,Q49,Q98,C147,J147,Q147,C196,J196,Q196) -> 124173 | R1: =SUM(D98,K98,R49,R98,D147,K147,R147,D196,K196,R196) -> 278975 | S1: =SUM(E98,L98,S49,S98,E147,L147,S147,E196,L196,S196) -> 143532 | T1: =SUM(F98,M98,T49,T98,F147,M147,T147,F196,M196,T196) -> 135443
A2: CD | B2: 大字名 | C2: 世帯数 | D2: 総数 | E2: 男 | F2: 女 | H2: CD | I2: 大字名 | J2: 世帯数 | K2: 総数 | L2: 男 | M2: 女 | O2: CD | P2: 大字名 | Q2: 世帯数 | R2: 総数 | S2: 男 | T2: 女
A3: 1655 | B3: 千種５丁目 | C3: 215 | D3: 556 | E3: 281 | F3: 275 | H3: 7900 | I3: 平田 | J3: 819 | K3: 1681 | L3: 835 | M3: 846 | O3: 30101 | P3: 国分寺台中央１丁目 | Q3: 312 | R3: 701 | S3: 357 | T3: 344
A4: 1656 | B4: 千種６丁目 | C4: 110 | D4: 398 | E4: 208 | F4: 190 | H4: 8000 | I4: 五井 | J4: 7967 | K4: 16870 | L4: 8897 | M4: 7973 | O4: 30102 | P4: 国分寺台中央２丁目 | Q4: 337 | R4: 785 | S4: 406 | T4: 379
A5: 1657 | B5: 千種７丁目 | C5: 371 | D5: 873 | E5: 464 | F5: 409 | H5: 8051 | I5: 五井中央東１丁目 | J5: 337 | K5: 590 | L5: 313 | M5: 277 | O5: 30103 | P5: 国分寺台中央３丁目 | Q5: 266 | R5: 533 | S5: 289 | T5: 244
A6: 4300 | B6: 千種海岸 | C6: 2 | D6: 2 | E6: 2 | F6: 0 | H6: 8052 | I6: 五井中央東２丁目 | J6: 462 | K6: 814 | L6: 437 | M6: 377 | O6: 30104 | P6: 国分寺台中央４丁目 | Q6: 234 | R6: 543 | S6: 280 | T6: 263
A7: 4400 | B7: 五井南海岸 | C7: 1 | D7: 3 | E7: 0 | F7: 3 | H7: 8061 | I7: 五井中央西１丁目 | J7: 388 | K7: 711 | L7: 386 | M7: 325 | O7: 30105 | P7: 国分寺台中央５丁目 | Q7: 253 | R7: 657 | S7: 353 | T7: 304
A8: 4500 | B8: 五井海岸 | C8: 1 | D8: 1 | E8: 1 | F8: 0 | H8: 8062 | I8: 五井中央西２丁目 | J8: 267 | K8: 527 | L8: 273 | M8: 254 | O8: 30106 | P8: 国分寺台中央６丁目 | Q8: 241 | R8: 621 | S8: 288 | T8: 333
A9: 4600 | B9: 青柳 | C9: 1308 | D9: 2799 | E9: 1493 | F9: 1306 | H9: 8063 | I9: 五井中央西３丁目 | J9: 69 | K9: 146 | L9: 74 | M9: 72 | O9: 30107 | P9: 国分寺台中央７丁目 | Q9: 321 | R9: 713 | S9: 356 | T9: 357
A10: 4651 | B10: 青柳１丁目 | C10: 146 | D10: 304 | E10: 164 | F10: 140 | H10: 8101 | I10: 五井東１丁目 | J10: 675 | K10: 1241 | L10: 656 | M10: 585 | O10: 30201 | P10: 東国分寺台１丁目 | Q10: 271 | R10: 621 | S10: 312 | T10: 309
A11: 4652 | B11: 青柳２丁目 | C11: 85 | D11: 173 | E11: 95 | F11: 78 | H11: 8102 | I11: 五井東２丁目 | J11: 388 | K11: 827 | L11: 437 | M11: 390 | O11: 30202 | P11: 東国分寺台２丁目 | Q11: 196 | R11: 456 | S11: 220 | T11: 236
A12: 4653 | B12: 青柳３丁目 | C12: 193 | D12: 234 | E12: 167 | F12: 67 | H12: 8103 | I12: 五井東３丁目 | J12: 529 | K12: 1046 | L12: 569 | M12: 477 | O12: 30203 | P12: 東国分寺台３丁目 | Q12: 184 | R12: 467 | S12: 235 | T12: 232
A13: 4702 | B13: 青柳北２丁目 | C13: 3 | D13: 8 | E13: 3 | F13: 5 | H13: 8111 | I13: 更級１丁目 | J13: 152 | K13: 281 | L13: 167 | M13: 114 | O13: 30204 | P13: 東国分寺台４丁目 | Q13: 181 | R13: 427 | S13: 217 | T13: 210
A14: 4703 | B14: 青柳北３丁目 | C14: 18 | D14: 34 | E14: 20 | F14: 14 | H14: 8112 | I14: 更級２丁目 | J14: 81 | K14: 179 | L14: 87 | M14: 92 | O14: 30205 | P14: 東国分寺台５丁目 | Q14: 205 | R14: 438 | S14: 231 | T14: 207
... A38: 6800 | B38: 神代 | C38: 48 | D38: 118 | E38: 63 | F38: 55 | H38: 8114 | I38: 更級４丁目 | J38: 0 | K38: 0 | L38: 0 | M38: 0 | O38: 30901 | P38: 惣社１丁目 | Q38: 205 | R38: 480 | S38: 245 | T38: 235
A39: 6900 | B39: 十五沢 | C39: 52 | D39: 130 | E39: 58 | F39: 72 | O39: 30902 | P39: 惣社２丁目 | Q39: 174 | R39: 406 | S39: 199 | T39: 207
A40: 7000 | B40: 小折 | C40: 34 | D40: 74 | E40: 32 | F40: 42 | O40: 30903 | P40: 惣社３丁目 | Q40: 236 | R40: 529 | S40: 270 | T40: 259
A41: 7100 | B41: 西野 | C41: 51 | D41: 128 | E41: 69 | F41: 59 | O41: 30904 | P41: 惣社４丁目 | Q41: 171 | R41: 427 | S41: 228 | T41: 199
A42: 7200 | B42: 柳原 | C42: 53 | D42: 125 | E42: 58 | F42: 67 | O42: 30905 | P42: 惣社５丁目 | Q42: 238 | R42: 659 | S42: 322 | T42: 337
A43: 7300 | B43: 村上 | C43: 632 | D43: 1431 | E43: 728 | F43: 703 | O43: 31001 | P43: 加茂１丁目 | Q43: 205 | R43: 461 | S43: 227 | T43: 234
A44: 7400 | B44: 西広 | C44: 47 | D44: 107 | E44: 57 | F44: 50 | O44: 31002 | P44: 加茂２丁目 | Q44: 156 | R44: 388 | S44: 193 | T44: 195
A45: 7500 | B45: 惣社 | C45: 332 | D45: 694 | E45: 355 | F45: 339 | O45: 31101 | P45: 根田１丁目 | Q45: 170 | R45: 382 | S45: 194 | T45: 188
A46: 7600 | B46: 加茂 | C46: 3 | D46: 7 | E46: 3 | F46: 4 | O46: 31102 | P46: 根田２丁目 | Q46: 116 | R46: 215 | S46: 126 | T46: 89
A47: 7700 | B47: 根田 | C47: 111 | D47: 241 | E47: 122 | F47: 119 | O47: 31103 | P47: 根田３丁目 | Q47: 263 | R47: 545 | S47: 287 | T47: 258
A48: 7800 | B48: 岩野見 | C48: 146 | D48: 338 | E48: 161 | F48: 177 | O48: 31104 | P48: 根田４丁目 | Q48: 158 | R48: 387 | S48: 191 | T48: 196
O49: 3 | P49: 五井地区_計 | Q49: =SUM(C3:C48,J3:J48,Q3:Q48) -> 40166 | R49: =SUM(D3:D48,K3:K48,R3:R48) -> 87598 | S49: =SUM(E3:E48,L3:L48,S3:S48) -> 45891 | T49: =SUM(F3:F48,M3:M48,T3:T48) -> 41707
A50: =A1 -> 42767
A51: CD | B51: 大字名 | C51: 世帯数 | D51: 総数 | E51: 男 | F51: 女 | H51: CD | I51: 大字名 | J51: 世帯数 | K51: 総数 | L51: 男 | M51: 女 | O51: CD | P51: 大字名 | Q51: 世帯数 | R51: 総数 | S51: 男 | T51: 女
A52: 100 | B52: 姉崎海岸 | C52: 33 | D52: 38 | E52: 34 | F52: 4 | H52: 1900 | I52: 八幡海岸通 | J52: 299 | K52: 441 | L52: 320 | M52: 121 | O52: 8400 | P52: 山倉 | Q52: 232 | R52: 484 | S52: 256 | T52: 228
A53: 200 | B53: 椎津 | C53: 1639 | D53: 3474 | E53: 1788 | F53: 1686 | H53: 2001 | I53: 八幡浦１丁目 | J53: 3 | K53: 3 | L53: 3 | M53: 0 | O53: 8500 | P53: 福増 | Q53: 300 | R53: 716 | S53: 367 | T53: 349
A54: 300 | B54: 姉崎 | C54: 6053 | D54: 12251 | E54: 6568 | F54: 5683 | H54: 2100 | I54: 八幡 | J54: 5514 | K54: 11294 | L54: 5879 | M54: 5415 | O54: 8600 | P54: 海士有木 | Q54: 525 | R54: 1237 | S54: 625 | T54: 612
A55: 321 | B55: 姉崎西１丁目 | C55: 202 | D55: 360 | E55: 227 | F55: 133 | H55: 2201 | I55: 八幡北町１丁目 | J55: 241 | K55: 342 | L55: 221 | M55: 121 | O55: 8700 | P55: 大坪 | Q55: 243 | R55: 568 | S55: 308 | T55: 260
A56: 322 | B56: 姉崎西２丁目 | C56: 258 | D56: 492 | E56: 265 | F56: 227 | H56: 2202 | I56: 八幡北町２丁目 | J56: 206 | K56: 376 | L56: 213 | M56: 163 | O56: 8800 | P56: 新生 | Q56: 90 | R56: 236 | S56: 130 | T56: 106
A57: 323 | B57: 姉崎西３丁目 | C57: 219 | D57: 479 | E57: 266 | F57: 213 | H57: 2203 | I57: 八幡北町３丁目 | J57: 135 | K57: 199 | L57: 124 | M57: 75 | O57: 8900 | P57: 権現堂 | Q57: 88 | R57: 226 | S57: 114 | T57: 112
A58: 1300 | B58: 畑木 | C58: 152 | D58: 277 | E58: 135 | F58: 142 | H58: 2301 | I58: 八幡石塚１丁目 | J58: 328 | K58: 689 | L58: 389 | M58: 300 | O58: 9000 | P58: 糸久 | Q58: 32 | R58: 87 | S58: 47 | T58: 40
A59: 1400 | B59: 柏原 | C59: 125 | D59: 249 | E59: 114 | F59: 135 | H59: 2302 | I59: 八幡石塚２丁目 | J59: 329 | K59: 694 | L59: 369 | M59: 325 | O59: 9100 | P59: 宮原 | Q59: 95 | R59: 191 | S59: 100 | T59: 91
A60: 1500 | B60: 白塚 | C60: 330 | D60: 719 | E60: 351 | F60: 368 | H60: 2400 | I60: 五所 | J60: 1342 | K60: 2956 | L60: 1536 | M60: 1420 | O60: 9200 | P60: 分目 | Q60: 78 | R60: 199 | S60: 98 | T60: 101
A61: 1600 | B61: 今津朝山 | C61: 981 | D61: 1933 | E61: 1061 | F61: 872 | H61: 2500 | I61: 旭五所 | J61: 482 | K61: 963 | L61: 516 | M61: 447 | O61: 9300 | P61: 浅井小向 | Q61: 56 | R61: 163 | S61: 73 | T61: 90
A62: 1651 | B62: 千種１丁目 | C62: 124 | D62: 199 | E62: 132 | F62: 67 | H62: 2600 | I62: 東五所 | J62: 1011 | K62: 1973 | L62: 1068 | M62: 905 | O62: 9400 | P62: 相川 | Q62: 41 | R62: 88 | S62: 48 | T62: 40
A63: 1652 | B63: 千種２丁目 | C63: 220 | D63: 536 | E63: 269 | F63: 267 | H63: 2700 | I63: 西五所 | J63: 865 | K63: 1656 | L63: 878 | M63: 778 | O63: 9500 | P63: 新堀 | Q63: 258 | R63: 556 | S63: 269 | T63: 287
... A73: 1708 | B73: 青葉台８丁目 | C73: 192 | D73: 431 | E73: 226 | F73: 205 | H73: 3002 | I73: 藤井２丁目 | J73: 109 | K73: 225 | L73: 115 | M73: 110 | O73: 10500 | P73: 山田 | Q73: 137 | R73: 346 | S73: 176 | T73: 170
H74: 3003 | I74: 藤井３丁目 | J74: 169 | K74: 399 | L74: 191 | M74: 208 | O74: 10600 | P74: 安須 | Q74: 70 | R74: 190 | S74: 87 | T74: 103
H75: 3100 | I75: 山田橋 | J75: 122 | K75: 240 | L75: 130 | M75: 110 | O75: 10700 | P75: 高坂 | Q75: 50 | R75: 119 | S75: 62 | T75: 57
H76: 3200 | I76: 能満 | J76: 2306 | K76: 4884 | L76: 2425 | M76: 2459 | O76: 10801 | P76: 光風台１丁目 | Q76: 362 | R76: 919 | S76: 447 | T76: 472
H77: 3300 | I77: 門前 | J77: 2 | K77: 8 | L77: 3 | M77: 5 | O77: 10802 | P77: 光風台２丁目 | Q77: 355 | R77: 853 | S77: 435 | T77: 418
H78: 3301 | I78: 門前１丁目 | J78: 84 | K78: 173 | L78: 92 | M78: 81 | O78: 10803 | P78: 光風台３丁目 | Q78: 660 | R78: 1497 | S78: 740 | T78: 757
H79: 3302 | I79: 門前２丁目 | J79: 359 | K79: 786 | L79: 407 | M79: 379 | O79: 10804 | P79: 光風台４丁目 | Q79: 654 | R79: 1522 | S79: 759 | T79: 763
H80: 3400 | I80: 市原 | J80: 467 | K80: 953 | L80: 471 | M80: 482 | O80: 10805 | P80: 光風台５丁目 | Q80: 551 | R80: 1331 | S80: 663 | T80: 668
H81: 3500 | I81: 山木 | J81: 1157 | K81: 2488 | L81: 1317 | M81: 1171 | Q81: =IF($O81="","",IFERROR(VLOOKUP($O$98&$O81,[1]非表示!$A$1:$H$500,4,FALSE),0)) | R81: =IF($O81="","",IFERROR(VLOOKUP($O$98&$O81,[1]非表示!$A$1:$H$500,5,FALSE),0)) | S81: =IF($O81="","",IFERROR(VLOOKUP($O$98&$O81,[1]非表示!$A$1:$H$500,6,FALSE),0)) | T81: =IF($O81="","",IFERROR(VLOOKUP($O$98&$O81,[1]非表示!$A$1:$H$500,7,FALSE),0))
H82: 3600 | I82: 菊間 | J82: 2302 | K82: 5293 | L82: 2503 | M82: 2790 | Q82: =IF($O82="","",IFERROR(VLOOKUP($O$98&$O82,[1]非表示!$A$1:$H$500,4,FALSE),0)) | R82: =IF($O82="","",IFERROR(VLOOKUP($O$98&$O82,[1]非表示!$A$1:$H$500,5,FALSE),0)) | S82: =IF($O82="","",IFERROR(VLOOKUP($O$98&$O82,[1]非表示!$A$1:$H$500,6,FALSE),0)) | T82: =IF($O82="","",IFERROR(VLOOKUP($O$98&$O82,[1]非表示!$A$1:$H$500,7,FALSE),0))
H83: 3700 | I83: 古市場 | J83: 1177 | K83: 2750 | L83: 1406 | M83: 1344 | Q83: =IF($O83="","",IFERROR(VLOOKUP($O$98&$O83,[1]非表示!$A$1:$H$500,4,FALSE),0)) | R83: =IF($O83="","",IFERROR(VLOOKUP($O$98&$O83,[1]非表示!$A$1:$H$500,5,FALSE),0)) | S83: =IF($O83="","",IFERROR(VLOOKUP($O$98&$O83,[1]非表示!$A$1:$H$500,6,FALSE),0)) | T83: =IF($O83="","",IFERROR(VLOOKUP($O$98&$O83,[1]非表示!$A$1:$H$500,7,FALSE),0))
H84: 3800 | I84: 草刈 | J84: 477 | K84: 1145 | L84: 556 | M84: 589 | Q84: =IF($O84="","",IFERROR(VLOOKUP($O$98&$O84,[1]非表示!$A$1:$H$500,4,FALSE),0)) | R84: =IF($O84="","",IFERROR(VLOOKUP($O$98&$O84,[1]非表示!$A$1:$H$500,5,FALSE),0)) | S84: =IF($O84="","",IFERROR(VLOOKUP($O$98&$O84,[1]非表示!$A$1:$H$500,6,FALSE),0)) | T84: =IF($O84="","",IFERROR(VLOOKUP($O$98&$O84,[1]非表示!$A$1:$H$500,7,FALSE),0))
H85: 3900 | I85: 大 | J85: 2024 | K85: 4447 | L85: 2297 | M85: 2150 | Q85: =IF($O85="","",IFERROR(VLOOKUP($O$98&$O85,[1]非表示!$A$1:$H$500,4,FALSE),0)) | R85: =IF($O85="","",IFERROR(VLOOKUP($O$98&$O85,[1]非表示!$A$1:$H$500,5,FALSE),0)) | S85: =IF($O85="","",IFERROR(VLOOKUP($O$98&$O85,[1]非表示!$A$1:$H$500,6,FALSE),0)) | T85: =IF($O85="","",IFERROR(VLOOKUP($O$98&$O85,[1]非表示!$A$1:$H$500,7,FALSE),0))
H86: 4201 | I86: 若宮１丁目 | J86: 510 | K86: 933 | L86: 499 | M86: 434 | Q86: =IF($O86="","",IFERROR(VLOOKUP($O$98&$O86,[1]非表示!$A$1:$H$500,4,FALSE),0)) | R86: =IF($O86="","",IFERROR(VLOOKUP($O$98&$O86,[1]非表示!$A$1:$H$500,5,FALSE),0)) | S86: =IF($O86="","",IFERROR(VLOOKUP($O$98&$O86,[1]非表示!$A$1:$H$500,6,FALSE),0)) | T86: =IF($O86="","",IFERROR(VLOOKUP($O$98&$O86,[1]非表示!$A$1:$H$500,7,FALSE),0))
H87: 4202 | I87: 若宮２丁目 | J87: 352 | K87: 744 | L87: 351 | M87: 393 | Q87: =IF($O87="","",IFERROR(VLOOKUP($O$98&$O87,[1]非表示!$A$1:$H$500,4,FALSE),0)) | R87: =IF($O87="","",IFERROR(VLOOKUP($O$98&$O87,[1]非表示!$A$1:$H$500,5,FALSE),0)) | S87: =IF($O87="","",IFERROR(VLOOKUP($O$98&$O87,[1]非表示!$A$1:$H$500,6,FALSE),0)) | T87: =IF($O87="","",IFERROR(VLOOKUP($O$98&$O87,[1]非表示!$A$1:$H$500,7,FALSE),0))
H88: 4203 | I88: 若宮３丁目 | J88: 316 | K88: 684 | L88: 322 | M88: 362 | Q88: =IF($O88="","",IFERROR(VLOOKUP($O$98&$O88,[1]非表示!$A$1:$H$500,4,FALSE),0)) | R88: =IF($O88="","",IFERROR(VLOOKUP($O$98&$O88,[1]非表示!$A$1:$H$500,5,FALSE),0)) | S88: =IF($O88="","",IFERROR(VLOOKUP($O$98&$O88,[1]非表示!$A$1:$H$500,6,FALSE),0)) | T88: =IF($O88="","",IFERROR(VLOOKUP($O$98&$O88,[1]非表示!$A$1:$H$500,7,FALSE),0))
H89: 4204 | I89: 若宮４丁目 | J89: 355 | K89: 730 | L89: 343 | M89: 387 | Q89: =IF($O89="","",IFERROR(VLOOKUP($O$98&$O89,[1]非表示!$A$1:$H$500,4,FALSE),0)) | R89: =IF($O89="","",IFERROR(VLOOKUP($O$98&$O89,[1]非表示!$A$1:$H$500,5,FALSE),0)) | S89: =IF($O89="","",IFERROR(VLOOKUP($O$98&$O89,[1]非表示!$A$1:$H$500,6,FALSE),0)) | T89: =IF($O89="","",IFERROR(VLOOKUP($O$98&$O89,[1]非表示!$A$1:$H$500,7,FALSE),0))
H90: 4205 | I90: 若宮５丁目 | J90: 244 | K90: 569 | L90: 277 | M90: 292 | Q90: =IF($O90="","",IFERROR(VLOOKUP($O$98&$O90,[1]非表示!$A$1:$H$500,4,FALSE),0)) | R90: =IF($O90="","",IFERROR(VLOOKUP($O$98&$O90,[1]非表示!$A$1:$H$500,5,FALSE),0)) | S90: =IF($O90="","",IFERROR(VLOOKUP($O$98&$O90,[1]非表示!$A$1:$H$500,6,FALSE),0)) | T90: =IF($O90="","",IFERROR(VLOOKUP($O$98&$O90,[1]非表示!$A$1:$H$500,7,FALSE),0))
H91: 4206 | I91: 若宮６丁目 | J91: 300 | K91: 693 | L91: 348 | M91: 345 | Q91: =IF($O91="","",IFERROR(VLOOKUP($O$98&$O91,[1]非表示!$A$1:$H$500,4,FALSE),0)) | R91: =IF($O91="","",IFERROR(VLOOKUP($O$98&$O91,[1]非表示!$A$1:$H$500,5,FALSE),0)) | S91: =IF($O91="","",IFERROR(VLOOKUP($O$98&$O91,[1]非表示!$A$1:$H$500,6,FALSE),0)) | T91: =IF($O91="","",IFERROR(VLOOKUP($O$98&$O91,[1]非表示!$A$1:$H$500,7,FALSE),0))
H92: 4207 | I92: 若宮７丁目 | J92: 78 | K92: 188 | L92: 88 | M92: 100 | Q92: =IF($O92="","",IFERROR(VLOOKUP($O$98&$O92,[1]非表示!$A$1:$H$500,4,FALSE),0)) | R92: =IF($O92="","",IFERROR(VLOOKUP($O$98&$O92,[1]非表示!$A$1:$H$500,5,FALSE),0)) | S92: =IF($O92="","",IFERROR(VLOOKUP($O$98&$O92,[1]非表示!$A$1:$H$500,6,FALSE),0)) | T92: =IF($O92="","",IFERROR(VLOOKUP($O$98&$O92,[1]非表示!$A$1:$H$500,7,FALSE),0))
H93: 2002 | I93: 八幡浦２丁目 | J93: 1 | K93: 1 | L93: 1 | M93: 0 | Q93: =IF($O93="","",IFERROR(VLOOKUP($O$98&$O93,[1]非表示!$A$1:$H$500,4,FALSE),0)) | R93: =IF($O93="","",IFERROR(VLOOKUP($O$98&$O93,[1]非表示!$A$1:$H$500,5,FALSE),0)) | S93: =IF($O93="","",IFERROR(VLOOKUP($O$98&$O93,[1]非表示!$A$1:$H$500,6,FALSE),0)) | T93: =IF($O93="","",IFERROR(VLOOKUP($O$98&$O93,[1]非表示!$A$1:$H$500,7,FALSE),0))
J94: =IF($H94="","",IFERROR(VLOOKUP($H$98&$H94,[1]非表示!$A$1:$H$500,4,FALSE),0)) | K94: =IF($H94="","",IFERROR(VLOOKUP($H$98&$H94,[1]非表示!$A$1:$H$500,5,FALSE),0)) | L94: =IF($H94="","",IFERROR(VLOOKUP($H$98&$H94,[1]非表示!$A$1:$H$500,6,FALSE),0)) | M94: =IF($H94="","",IFERROR(VLOOKUP($H$98&$H94,[1]非表示!$A$1:$H$500,7,FALSE),0)) | Q94: =IF($O94="","",IFERROR(VLOOKUP($O$98&$O94,[1]非表示!$A$1:$H$500,4,FALSE),0)) | R94: =IF($O94="","",IFERROR(VLOOKUP($O$98&$O94,[1]非表示!$A$1:$H$500,5,FALSE),0)) | S94: =IF($O94="","",IFERROR(VLOOKUP($O$98&$O94,[1]非表示!$A$1:$H$500,6,FALSE),0)) | T94: =IF($O94="","",IFERROR(VLOOKUP($O$98&$O94,[1]非表示!$A$1:$H$500,7,FALSE),0))
J95: =IF($H95="","",IFERROR(VLOOKUP($H$98&$H95,[1]非表示!$A$1:$H$500,4,FALSE),0)) | K95: =IF($H95="","",IFERROR(VLOOKUP($H$98&$H95,[1]非表示!$A$1:$H$500,5,FALSE),0)) | L95: =IF($H95="","",IFERROR(VLOOKUP($H$98&$H95,[1]非表示!$A$1:$H$500,6,FALSE),0)) | M95: =IF($H95="","",IFERROR(VLOOKUP($H$98&$H95,[1]非表示!$A$1:$H$500,7,FALSE),0)) | Q95: =IF($O95="","",IFERROR(VLOOKUP($O$98&$O95,[1]非表示!$A$1:$H$500,4,FALSE),0)) | R95: =IF($O95="","",IFERROR(VLOOKUP($O$98&$O95,[1]非表示!$A$1:$H$500,5,FALSE),0)) | S95: =IF($O95="","",IFERROR(VLOOKUP($O$98&$O95,[1]非表示!$A$1:$H$500,6,FALSE),0)) | T95: =IF($O95="","",IFERROR(VLOOKUP($O$98&$O95,[1]非表示!$A$1:$H$500,7,FALSE),0))
J96: =IF($H96="","",IFERROR(VLOOKUP($H$98&$H96,[1]非表示!$A$1:$H$500,4,FALSE),0)) | K96: =IF($H96="","",IFERROR(VLOOKUP($H$98&$H96,[1]非表示!$A$1:$H$500,5,FALSE),0)) | L96: =IF($H96="","",IFERROR(VLOOKUP($H$98&$H96,[1]非表示!$A$1:$H$500,6,FALSE),0)) | M96: =IF($H96="","",IFERROR(VLOOKUP($H$98&$H96,[1]非表示!$A$1:$H$500,7,FALSE),0)) | Q96: =IF($O96="","",IFERROR(VLOOKUP($O$98&$O96,[1]非表示!$A$1:$H$500,4,FALSE),0)) | R96: =IF($O96="","",IFERROR(VLOOKUP($O$98&$O96,[1]非表示!$A$1:$H$500,5,FALSE),0)) | S96: =IF($O96="","",IFERROR(VLOOKUP($O$98&$O96,[1]非表示!$A$1:$H$500,6,FALSE),0)) | T96: =IF($O96="","",IFERROR(VLOOKUP($O$98&$O96,[1]非表示!$A$1:$H$500,7,FALSE),0))
J97: =IF($H97="","",IFERROR(VLOOKUP($H$98&$H97,[1]非表示!$A$1:$H$500,4,FALSE),0)) | K97: =IF($H97="","",IFERROR(VLOOKUP($H$98&$H97,[1]非表示!$A$1:$H$500,5,FALSE),0)) | L97: =IF($H97="","",IFERROR(VLOOKUP($H$98&$H97,[1]非表示!$A$1:$H$500,6,FALSE),0)) | M97: =IF($H97="","",IFERROR(VLOOKUP($H$98&$H97,[1]非表示!$A$1:$H$500,7,FALSE),0)) | Q97: =IF($O97="","",IFERROR(VLOOKUP($O$98&$O97,[1]非表示!$A$1:$H$500,4,FALSE),0)) | R97: =IF($O97="","",IFERROR(VLOOKUP($O$98&$O97,[1]非表示!$A$1:$H$500,5,FALSE),0)) | S97: =IF($O97="","",IFERROR(VLOOKUP($O$98&$O97,[1]非表示!$A$1:$H$500,6,FALSE),0)) | T97: =IF($O97="","",IFERROR(VLOOKUP($O$98&$O97,[1]非表示!$A$1:$H$500,7,FALSE),0))
A98: 1 | B98: 姉崎地区_計 | C98: 14054 | D98: 29688 | E98: 15510 | F98: 14178 | H98: 2 | I98: 市原地区_計 | J98: 24640 | K98: 52218 | L98: 26799 | M98: 25419 | O98: 4 | P98: 三和地区_計 | Q98: 6192 | R98: 14626 | S98: 7353 | T98: 7273
A99: =A50 -> 42767
A100: CD | B100: 大字名 | C100: 世帯数 | D100: 総数 | E100: 男 | F100: 女 | H100: CD | I100: 大字名 | J100: 世帯数 | K100: 総数 | L100: 男 | M100: 女 | O100: CD | P100: 大字名 | Q100: 世帯数 | R100: 総数 | S100: 男 | T100: 女
A101: 10900 | B101: 久々津 | C101: 68 | D101: 164 | E101: 80 | F101: 84 | H101: 4001 | I101: 辰巳台東１丁目 | J101: 410 | K101: 1127 | L101: 568 | M101: 559 | O101: 13400 | P101: 風戸 | Q101: 18 | R101: 39 | S101: 22 | T101: 17
A102: 11000 | B102: 潤井戸 | C102: 964 | D102: 2123 | E102: 1087 | F102: 1036 | H102: 4002 | I102: 辰巳台東２丁目 | J102: 622 | K102: 1162 | L102: 583 | M102: 579 | O102: 13500 | P102: 中高根 | Q102: 1175 | R102: 2672 | S102: 1389 | T102: 1283
A103: 11051 | B103: うるいど南１丁目 | C103: 219 | D103: 568 | E103: 285 | F103: 283 | H103: 4003 | I103: 辰巳台東３丁目 | J103: 1096 | K103: 2685 | L103: 1431 | M103: 1254 | O103: 13600 | P103: 上高根 | Q103: 798 | R103: 1816 | S103: 912 | T103: 904
A104: 11052 | B104: うるいど南２丁目 | C104: 143 | D104: 371 | E104: 190 | F104: 181 | H104: 4004 | I104: 辰巳台東４丁目 | J104: 858 | K104: 2105 | L104: 1130 | M104: 975 | O104: 13700 | P104: 馬立 | Q104: 1337 | R104: 3002 | S104: 1504 | T104: 1498
A105: 11053 | B105: うるいど南３丁目 | C105: 310 | D105: 912 | E105: 475 | F105: 437 | H105: 4005 | I105: 辰巳台東５丁目 | J105: 299 | K105: 581 | L105: 320 | M105: 261 | O105: 13800 | P105: 上原 | Q105: 68 | R105: 145 | S105: 77 | T105: 68
A106: 11100 | B106: 下野 | C106: 153 | D106: 381 | E106: 176 | F106: 205 | H106: 4101 | I106: 辰巳台西１丁目 | J106: 367 | K106: 989 | L106: 484 | M106: 505 | O106: 13900 | P106: 南岩崎 | Q106: 420 | R106: 955 | S106: 471 | T106: 484
A107: 11200 | B107: 永吉 | C107: 124 | D107: 281 | E107: 141 | F107: 140 | H107: 4102 | I107: 辰巳台西２丁目 | J107: 389 | K107: 1124 | L107: 558 | M107: 566 | O107: 14000 | P107: 寺谷 | Q107: 95 | R107: 235 | S107: 118 | T107: 117
A108: 11300 | B108: 番場 | C108: 83 | D108: 204 | E108: 108 | F108: 96 | H108: 4103 | I108: 辰巳台西３丁目 | J108: 703 | K108: 1217 | L108: 790 | M108: 427 | O108: 14100 | P108: 栢橋 | Q108: 224 | R108: 526 | S108: 275 | T108: 251
A109: 11400 | B109: 押沼 | C109: 57 | D109: 146 | E109: 78 | F109: 68 | H109: 4104 | I109: 辰巳台西４丁目 | J109: 326 | K109: 767 | L109: 361 | M109: 406 | O109: 14200 | P109: 西国吉 | Q109: 776 | R109: 1776 | S109: 915 | T109: 861
A110: 11500 | B110: 瀬又 | C110: 1614 | D110: 3510 | E110: 1700 | F110: 1810 | H110: 4105 | I110: 辰巳台西５丁目 | J110: 149 | K110: 321 | L110: 156 | M110: 165 | O110: 14300 | P110: 佐是 | Q110: 325 | R110: 792 | S110: 411 | T110: 381
A111: 11600 | B111: 中野 | C111: 36 | D111: 94 | E111: 52 | F111: 42 | J111: =IF($H111="","",IFERROR(VLOOKUP($H$147&$H111,[1]非表示!$A$1:$H$500,4,FALSE),0)) | K111: =IF($H111="","",IFERROR(VLOOKUP($H$147&$H111,[1]非表示!$A$1:$H$500,5,FALSE),0)) | L111: =IF($H111="","",IFERROR(VLOOKUP($H$147&$H111,[1]非表示!$A$1:$H$500,6,FALSE),0)) | M111: =IF($H111="","",IFERROR(VLOOKUP($H$147&$H111,[1]非表示!$A$1:$H$500,7,FALSE),0)) | O111: 14400 | P111: 妙香 | Q111: 81 | R111: 184 | S111: 97 | T111: 87
A112: 11700 | B112: 高田 | C112: 52 | D112: 129 | E112: 64 | F112: 65 | J112: =IF($H112="","",IFERROR(VLOOKUP($H$147&$H112,[1]非表示!$A$1:$H$500,4,FALSE),0)) | K112: =IF($H112="","",IFERROR(VLOOKUP($H$147&$H112,[1]非表示!$A$1:$H$500,5,FALSE),0)) | L112: =IF($H112="","",IFERROR(VLOOKUP($H$147&$H112,[1]非表示!$A$1:$H$500,6,FALSE),0)) | M112: =IF($H112="","",IFERROR(VLOOKUP($H$147&$H112,[1]非表示!$A$1:$H$500,7,FALSE),0)) | O112: 14500 | P112: 奉免 | Q112: 192 | R112: 459 | S112: 212 | T112: 247
A113: 11800 | B113: 高倉 | C113: 52 | D113: 110 | E113: 50 | F113: 60 | J113: =IF($H113="","",IFERROR(VLOOKUP($H$147&$H113,[1]非表示!$A$1:$H$500,4,FALSE),0)) | K113: =IF($H113="","",IFERROR(VLOOKUP($H$147&$H113,[1]非表示!$A$1:$H$500,5,FALSE),0)) | L113: =IF($H113="","",IFERROR(VLOOKUP($H$147&$H113,[1]非表示!$A$1:$H$500,6,FALSE),0)) | M113: =IF($H113="","",IFERROR(VLOOKUP($H$147&$H113,[1]非表示!$A$1:$H$500,7,FALSE),0)) | O113: 14600 | P113: 牛久 | Q113: 895 | R113: 1895 | S113: 948 | T113: 947
A114: 11900 | B114: 東国吉 | C114: 118 | D114: 301 | E114: 138 | F114: 163 | J114: =IF($H114="","",IFERROR(VLOOKUP($H$147&$H114,[1]非表示!$A$1:$H$500,4,FALSE),0)) | K114: =IF($H114="","",IFERROR(VLOOKUP($H$147&$H114,[1]非表示!$A$1:$H$500,5,FALSE),0)) | L114: =IF($H114="","",IFERROR(VLOOKUP($H$147&$H114,[1]非表示!$A$1:$H$500,6,FALSE),0)) | M114: =IF($H114="","",IFERROR(VLOOKUP($H$147&$H114,[1]非表示!$A$1:$H$500,7,FALSE),0)) | O114: 14700 | P114: 皆吉 | Q114: 755 | R114: 1651 | S114: 820 | T114: 831
A115: 12000 | B115: 金剛地 | C115: 164 | D115: 414 | E115: 209 | F115: 205 | J115: =IF($H115="","",IFERROR(VLOOKUP($H$147&$H115,[1]非表示!$A$1:$H$500,4,FALSE),0)) | K115: =IF($H115="","",IFERROR(VLOOKUP($H$147&$H115,[1]非表示!$A$1:$H$500,5,FALSE),0)) | L115: =IF($H115="","",IFERROR(VLOOKUP($H$147&$H115,[1]非表示!$A$1:$H$500,6,FALSE),0)) | M115: =IF($H115="","",IFERROR(VLOOKUP($H$147&$H115,[1]非表示!$A$1:$H$500,7,FALSE),0)) | O115: 14800 | P115: 金沢 | Q115: 31 | R115: 84 | S115: 41 | T115: 43
A116: 12100 | B116: 奈良 | C116: 66 | D116: 174 | E116: 88 | F116: 86 | J116: =IF($H116="","",IFERROR(VLOOKUP($H$147&$H116,[1]非表示!$A$1:$H$500,4,FALSE),0)) | K116: =IF($H116="","",IFERROR(VLOOKUP($H$147&$H116,[1]非表示!$A$1:$H$500,5,FALSE),0)) | L116: =IF($H116="","",IFERROR(VLOOKUP($H$147&$H116,[1]非表示!$A$1:$H$500,6,FALSE),0)) | M116: =IF($H116="","",IFERROR(VLOOKUP($H$147&$H116,[1]非表示!$A$1:$H$500,7,FALSE),0)) | O116: 14900 | P116: 大蔵 | Q116: 14 | R116: 30 | S116: 19 | T116: 11
A117: 12200 | B117: 古都辺 | C117: 30 | D117: 75 | E117: 37 | F117: 38 | J117: =IF($H117="","",IFERROR(VLOOKUP($H$147&$H117,[1]非表示!$A$1:$H$500,4,FALSE),0)) | K117: =IF($H117="","",IFERROR(VLOOKUP($H$147&$H117,[1]非表示!$A$1:$H$500,5,FALSE),0)) | L117: =IF($H117="","",IFERROR(VLOOKUP($H$147&$H117,[1]非表示!$A$1:$H$500,6,FALSE),0)) | M117: =IF($H117="","",IFERROR(VLOOKUP($H$147&$H117,[1]非表示!$A$1:$H$500,7,FALSE),0)) | O117: 15000 | P117: 岩 | Q117: 46 | R117: 91 | S117: 49 | T117: 42
A118: 12300 | B118: 喜多 | C118: 726 | D118: 1637 | E118: 827 | F118: 810 | J118: =IF($H118="","",IFERROR(VLOOKUP($H$147&$H118,[1]非表示!$A$1:$H$500,4,FALSE),0)) | K118: =IF($H118="","",IFERROR(VLOOKUP($H$147&$H118,[1]非表示!$A$1:$H$500,5,FALSE),0)) | L118: =IF($H118="","",IFERROR(VLOOKUP($H$147&$H118,[1]非表示!$A$1:$H$500,6,FALSE),0)) | M118: =IF($H118="","",IFERROR(VLOOKUP($H$147&$H118,[1]非表示!$A$1:$H$500,7,FALSE),0)) | O118: 15100 | P118: 藪 | Q118: 70 | R118: 173 | S118: 88 | T118: 85
A119: 12400 | B119: 犬成 | C119: 245 | D119: 470 | E119: 262 | F119: 208 | J119: =IF($H119="","",IFERROR(VLOOKUP($H$147&$H119,[1]非表示!$A$1:$H$500,4,FALSE),0)) | K119: =IF($H119="","",IFERROR(VLOOKUP($H$147&$H119,[1]非表示!$A$1:$H$500,5,FALSE),0)) | L119: =IF($H119="","",IFERROR(VLOOKUP($H$147&$H119,[1]非表示!$A$1:$H$500,6,FALSE),0)) | M119: =IF($H119="","",IFERROR(VLOOKUP($H$147&$H119,[1]非表示!$A$1:$H$500,7,FALSE),0)) | O119: 15200 | P119: 中 | Q119: 357 | R119: 821 | S119: 421 | T119: 400
A120: 12500 | B120: 大作 | C120: 41 | D120: 89 | E120: 43 | F120: 46 | J120: =IF($H120="","",IFERROR(VLOOKUP($H$147&$H120,[1]非表示!$A$1:$H$500,4,FALSE),0)) | K120: =IF($H120="","",IFERROR(VLOOKUP($H$147&$H120,[1]非表示!$A$1:$H$500,5,FALSE),0)) | L120: =IF($H120="","",IFERROR(VLOOKUP($H$147&$H120,[1]非表示!$A$1:$H$500,6,FALSE),0)) | M120: =IF($H120="","",IFERROR(VLOOKUP($H$147&$H120,[1]非表示!$A$1:$H$500,7,FALSE),0)) | O120: 15300 | P120: 安久谷 | Q120: 102 | R120: 229 | S120: 113 | T120: 116
A121: 12600 | B121: 滝口 | C121: 37 | D121: 92 | E121: 49 | F121: 43 | J121: =IF($H121="","",IFERROR(VLOOKUP($H$147&$H121,[1]非表示!$A$1:$H$500,4,FALSE),0)) | K121: =IF($H121="","",IFERROR(VLOOKUP($H$147&$H121,[1]非表示!$A$1:$H$500,5,FALSE),0)) | L121: =IF($H121="","",IFERROR(VLOOKUP($H$147&$H121,[1]非表示!$A$1:$H$500,6,FALSE),0)) | M121: =IF($H121="","",IFERROR(VLOOKUP($H$147&$H121,[1]非表示!$A$1:$H$500,7,FALSE),0)) | O121: 15400 | P121: 米沢 | Q121: 141 | R121: 324 | S121: 156 | T121: 168
A122: 12700 | B122: 勝間 | C122: 202 | D122: 353 | E122: 144 | F122: 209 | J122: =IF($H122="","",IFERROR(VLOOKUP($H$147&$H122,[1]非表示!$A$1:$H$500,4,FALSE),0)) | K122: =IF($H122="","",IFERROR(VLOOKUP($H$147&$H122,[1]非表示!$A$1:$H$500,5,FALSE),0)) | L122: =IF($H122="","",IFERROR(VLOOKUP($H$147&$H122,[1]非表示!$A$1:$H$500,6,FALSE),0)) | M122: =IF($H122="","",IFERROR(VLOOKUP($H$147&$H122,[1]非表示!$A$1:$H$500,7,FALSE),0)) | O122: 15500 | P122: 真ケ谷 | Q122: 50 | R122: 145 | S122: 69 | T122: 76
... A127: 13200 | B127: 山之郷飛地 | C127: 2 | D127: 6 | E127: 2 | F127: 4 | J127: =IF($H127="","",IFERROR(VLOOKUP($H$147&$H127,[1]非表示!$A$1:$H$500,4,FALSE),0)) | K127: =IF($H127="","",IFERROR(VLOOKUP($H$147&$H127,[1]非表示!$A$1:$H$500,5,FALSE),0)) | L127: =IF($H127="","",IFERROR(VLOOKUP($H$147&$H127,[1]非表示!$A$1:$H$500,6,FALSE),0)) | M127: =IF($H127="","",IFERROR(VLOOKUP($H$147&$H127,[1]非表示!$A$1:$H$500,7,FALSE),0)) | O127: 16000 | P127: 奥野 | Q127: 56 | R127: 148 | S127: 68 | T127: 80
C128: =IF($A128="","",IFERROR(VLOOKUP($A$147&$A128,[1]非表示!$A$1:$H$500,4,FALSE),0)) | D128: =IF($A128="","",IFERROR(VLOOKUP($A$147&$A128,[1]非表示!$A$1:$H$500,5,FALSE),0)) | E128: =IF($A128="","",IFERROR(VLOOKUP($A$147&$A128,[1]非表示!$A$1:$H$500,6,FALSE),0)) | F128: =IF($A128="","",IFERROR(VLOOKUP($A$147&$A128,[1]非表示!$A$1:$H$500,7,FALSE),0)) | J128: =IF($H128="","",IFERROR(VLOOKUP($H$147&$H128,[1]非表示!$A$1:$H$500,4,FALSE),0)) | K128: =IF($H128="","",IFERROR(VLOOKUP($H$147&$H128,[1]非表示!$A$1:$H$500,5,FALSE),0)) | L128: =IF($H128="","",IFERROR(VLOOKUP($H$147&$H128,[1]非表示!$A$1:$H$500,6,FALSE),0)) | M128: =IF($H128="","",IFERROR(VLOOKUP($H$147&$H128,[1]非表示!$A$1:$H$500,7,FALSE),0)) | O128: 16100 | P128: 水沢 | Q128: 24 | R128: 62 | S128: 27 | T128: 35
C129: =IF($A129="","",IFERROR(VLOOKUP($A$147&$A129,[1]非表示!$A$1:$H$500,4,FALSE),0)) | D129: =IF($A129="","",IFERROR(VLOOKUP($A$147&$A129,[1]非表示!$A$1:$H$500,5,FALSE),0)) | E129: =IF($A129="","",IFERROR(VLOOKUP($A$147&$A129,[1]非表示!$A$1:$H$500,6,FALSE),0)) | F129: =IF($A129="","",IFERROR(VLOOKUP($A$147&$A129,[1]非表示!$A$1:$H$500,7,FALSE),0)) | J129: =IF($H129="","",IFERROR(VLOOKUP($H$147&$H129,[1]非表示!$A$1:$H$500,4,FALSE),0)) | K129: =IF($H129="","",IFERROR(VLOOKUP($H$147&$H129,[1]非表示!$A$1:$H$500,5,FALSE),0)) | L129: =IF($H129="","",IFERROR(VLOOKUP($H$147&$H129,[1]非表示!$A$1:$H$500,6,FALSE),0)) | M129: =IF($H129="","",IFERROR(VLOOKUP($H$147&$H129,[1]非表示!$A$1:$H$500,7,FALSE),0)) | O129: 16200 | P129: 原田 | Q129: 26 | R129: 61 | S129: 25 | T129: 36
C130: =IF($A130="","",IFERROR(VLOOKUP($A$147&$A130,[1]非表示!$A$1:$H$500,4,FALSE),0)) | D130: =IF($A130="","",IFERROR(VLOOKUP($A$147&$A130,[1]非表示!$A$1:$H$500,5,FALSE),0)) | E130: =IF($A130="","",IFERROR(VLOOKUP($A$147&$A130,[1]非表示!$A$1:$H$500,6,FALSE),0)) | F130: =IF($A130="","",IFERROR(VLOOKUP($A$147&$A130,[1]非表示!$A$1:$H$500,7,FALSE),0)) | J130: =IF($H130="","",IFERROR(VLOOKUP($H$147&$H130,[1]非表示!$A$1:$H$500,4,FALSE),0)) | K130: =IF($H130="","",IFERROR(VLOOKUP($H$147&$H130,[1]非表示!$A$1:$H$500,5,FALSE),0)) | L130: =IF($H130="","",IFERROR(VLOOKUP($H$147&$H130,[1]非表示!$A$1:$H$500,6,FALSE),0)) | M130: =IF($H130="","",IFERROR(VLOOKUP($H$147&$H130,[1]非表示!$A$1:$H$500,7,FALSE),0)) | O130: 16300 | P130: 石川 | Q130: 446 | R130: 1067 | S130: 541 | T130: 526
C131: =IF($A131="","",IFERROR(VLOOKUP($A$147&$A131,[1]非表示!$A$1:$H$500,4,FALSE),0)) | D131: =IF($A131="","",IFERROR(VLOOKUP($A$147&$A131,[1]非表示!$A$1:$H$500,5,FALSE),0)) | E131: =IF($A131="","",IFERROR(VLOOKUP($A$147&$A131,[1]非表示!$A$1:$H$500,6,FALSE),0)) | F131: =IF($A131="","",IFERROR(VLOOKUP($A$147&$A131,[1]非表示!$A$1:$H$500,7,FALSE),0)) | J131: =IF($H131="","",IFERROR(VLOOKUP($H$147&$H131,[1]非表示!$A$1:$H$500,4,FALSE),0)) | K131: =IF($H131="","",IFERROR(VLOOKUP($H$147&$H131,[1]非表示!$A$1:$H$500,5,FALSE),0)) | L131: =IF($H131="","",IFERROR(VLOOKUP($H$147&$H131,[1]非表示!$A$1:$H$500,6,FALSE),0)) | M131: =IF($H131="","",IFERROR(VLOOKUP($H$147&$H131,[1]非表示!$A$1:$H$500,7,FALSE),0)) | O131: 16400 | P131: 江子田 | Q131: 130 | R131: 296 | S131: 150 | T131: 146
C132: =IF($A132="","",IFERROR(VLOOKUP($A$147&$A132,[1]非表示!$A$1:$H$500,4,FALSE),0)) | D132: =IF($A132="","",IFERROR(VLOOKUP($A$147&$A132,[1]非表示!$A$1:$H$500,5,FALSE),0)) | E132: =IF($A132="","",IFERROR(VLOOKUP($A$147&$A132,[1]非表示!$A$1:$H$500,6,FALSE),0)) | F132: =IF($A132="","",IFERROR(VLOOKUP($A$147&$A132,[1]非表示!$A$1:$H$500,7,FALSE),0)) | J132: =IF($H132="","",IFERROR(VLOOKUP($H$147&$H132,[1]非表示!$A$1:$H$500,4,FALSE),0)) | K132: =IF($H132="","",IFERROR(VLOOKUP($H$147&$H132,[1]非表示!$A$1:$H$500,5,FALSE),0)) | L132: =IF($H132="","",IFERROR(VLOOKUP($H$147&$H132,[1]非表示!$A$1:$H$500,6,FALSE),0)) | M132: =IF($H132="","",IFERROR(VLOOKUP($H$147&$H132,[1]非表示!$A$1:$H$500,7,FALSE),0)) | O132: 16500 | P132: 下矢田 | Q132: 182 | R132: 435 | S132: 204 | T132: 231
C133: =IF($A133="","",IFERROR(VLOOKUP($A$147&$A133,[1]非表示!$A$1:$H$500,4,FALSE),0)) | D133: =IF($A133="","",IFERROR(VLOOKUP($A$147&$A133,[1]非表示!$A$1:$H$500,5,FALSE),0)) | E133: =IF($A133="","",IFERROR(VLOOKUP($A$147&$A133,[1]非表示!$A$1:$H$500,6,FALSE),0)) | F133: =IF($A133="","",IFERROR(VLOOKUP($A$147&$A133,[1]非表示!$A$1:$H$500,7,FALSE),0)) | J133: =IF($H133="","",IFERROR(VLOOKUP($H$147&$H133,[1]非表示!$A$1:$H$500,4,FALSE),0)) | K133: =IF($H133="","",IFERROR(VLOOKUP($H$147&$H133,[1]非表示!$A$1:$H$500,5,FALSE),0)) | L133: =IF($H133="","",IFERROR(VLOOKUP($H$147&$H133,[1]非表示!$A$1:$H$500,6,FALSE),0)) | M133: =IF($H133="","",IFERROR(VLOOKUP($H$147&$H133,[1]非表示!$A$1:$H$500,7,FALSE),0)) | O133: 16600 | P133: 矢田 | Q133: 27 | R133: 67 | S133: 30 | T133: 37
C134: =IF($A134="","",IFERROR(VLOOKUP($A$147&$A134,[1]非表示!$A$1:$H$500,4,FALSE),0)) | D134: =IF($A134="","",IFERROR(VLOOKUP($A$147&$A134,[1]非表示!$A$1:$H$500,5,FALSE),0)) | E134: =IF($A134="","",IFERROR(VLOOKUP($A$147&$A134,[1]非表示!$A$1:$H$500,6,FALSE),0)) | F134: =IF($A134="","",IFERROR(VLOOKUP($A$147&$A134,[1]非表示!$A$1:$H$500,7,FALSE),0)) | J134: =IF($H134="","",IFERROR(VLOOKUP($H$147&$H134,[1]非表示!$A$1:$H$500,4,FALSE),0)) | K134: =IF($H134="","",IFERROR(VLOOKUP($H$147&$H134,[1]非表示!$A$1:$H$500,5,FALSE),0)) | L134: =IF($H134="","",IFERROR(VLOOKUP($H$147&$H134,[1]非表示!$A$1:$H$500,6,FALSE),0)) | M134: =IF($H134="","",IFERROR(VLOOKUP($H$147&$H134,[1]非表示!$A$1:$H$500,7,FALSE),0)) | O134: 16700 | P134: 池和田 | Q134: 125 | R134: 290 | S134: 137 | T134: 153
C135: =IF($A135="","",IFERROR(VLOOKUP($A$147&$A135,[1]非表示!$A$1:$H$500,4,FALSE),0)) | D135: =IF($A135="","",IFERROR(VLOOKUP($A$147&$A135,[1]非表示!$A$1:$H$500,5,FALSE),0)) | E135: =IF($A135="","",IFERROR(VLOOKUP($A$147&$A135,[1]非表示!$A$1:$H$500,6,FALSE),0)) | F135: =IF($A135="","",IFERROR(VLOOKUP($A$147&$A135,[1]非表示!$A$1:$H$500,7,FALSE),0)) | J135: =IF($H135="","",IFERROR(VLOOKUP($H$147&$H135,[1]非表示!$A$1:$H$500,4,FALSE),0)) | K135: =IF($H135="","",IFERROR(VLOOKUP($H$147&$H135,[1]非表示!$A$1:$H$500,5,FALSE),0)) | L135: =IF($H135="","",IFERROR(VLOOKUP($H$147&$H135,[1]非表示!$A$1:$H$500,6,FALSE),0)) | M135: =IF($H135="","",IFERROR(VLOOKUP($H$147&$H135,[1]非表示!$A$1:$H$500,7,FALSE),0)) | O135: 16800 | P135: 鶴舞 | Q135: 532 | R135: 1150 | S135: 545 | T135: 605
C136: =IF($A136="","",IFERROR(VLOOKUP($A$147&$A136,[1]非表示!$A$1:$H$500,4,FALSE),0)) | D136: =IF($A136="","",IFERROR(VLOOKUP($A$147&$A136,[1]非表示!$A$1:$H$500,5,FALSE),0)) | E136: =IF($A136="","",IFERROR(VLOOKUP($A$147&$A136,[1]非表示!$A$1:$H$500,6,FALSE),0)) | F136: =IF($A136="","",IFERROR(VLOOKUP($A$147&$A136,[1]非表示!$A$1:$H$500,7,FALSE),0)) | J136: =IF($H136="","",IFERROR(VLOOKUP($H$147&$H136,[1]非表示!$A$1:$H$500,4,FALSE),0)) | K136: =IF($H136="","",IFERROR(VLOOKUP($H$147&$H136,[1]非表示!$A$1:$H$500,5,FALSE),0)) | L136: =IF($H136="","",IFERROR(VLOOKUP($H$147&$H136,[1]非表示!$A$1:$H$500,6,FALSE),0)) | M136: =IF($H136="","",IFERROR(VLOOKUP($H$147&$H136,[1]非表示!$A$1:$H$500,7,FALSE),0)) | O136: 16900 | P136: 田尾 | Q136: 198 | R136: 466 | S136: 234 | T136: 232
...

Sheet 2017_03
A1: 42795 | O1: ★★ 全地区合計 ★★ | Q1: =SUM(C98,J98,Q49,Q98,C147,J147,Q147,C196,J196,Q196) -> 124205 | R1: =SUM(D98,K98,R49,R98,D147,K147,R147,D196,K196,R196) -> 278861 | S1: =SUM(E98,L98,S49,S98,E147,L147,S147,E196,L196,S196) -> 143493 | T1: =SUM(F98,M98,T49,T98,F147,M147,T147,F196,M196,T196) -> 135368
A2: CD | B2: 大字名 | C2: 世帯数 | D2: 総数 | E2: 男 | F2: 女 | H2: CD | I2: 大字名 | J2: 世帯数 | K2: 総数 | L2: 男 | M2: 女 | O2: CD | P2: 大字名 | Q2: 世帯数 | R2: 総数 | S2: 男 | T2: 女
A3: 1655 | B3: 千種５丁目 | C3: 216 | D3: 554 | E3: 280 | F3: 274 | H3: 7900 | I3: 平田 | J3: 811 | K3: 1674 | L3: 834 | M3: 840 | O3: 30101 | P3: 国分寺台中央１丁目 | Q3: 311 | R3: 697 | S3: 354 | T3: 343
A4: 1656 | B4: 千種６丁目 | C4: 110 | D4: 396 | E4: 207 | F4: 189 | H4: 8000 | I4: 五井 | J4: 7973 | K4: 16872 | L4: 8900 | M4: 7972 | O4: 30102 | P4: 国分寺台中央２丁目 | Q4: 335 | R4: 780 | S4: 403 | T4: 377
A5: 1657 | B5: 千種７丁目 | C5: 374 | D5: 881 | E5: 468 | F5: 413 | H5: 8051 | I5: 五井中央東１丁目 | J5: 337 | K5: 592 | L5: 313 | M5: 279 | O5: 30103 | P5: 国分寺台中央３丁目 | Q5: 264 | R5: 531 | S5: 288 | T5: 243
A6: 4300 | B6: 千種海岸 | C6: 2 | D6: 2 | E6: 2 | F6: 0 | H6: 8052 | I6: 五井中央東２丁目 | J6: 460 | K6: 816 | L6: 439 | M6: 377 | O6: 30104 | P6: 国分寺台中央４丁目 | Q6: 234 | R6: 543 | S6: 281 | T6: 262
A7: 4400 | B7: 五井南海岸 | C7: 1 | D7: 3 | E7: 0 | F7: 3 | H7: 8061 | I7: 五井中央西１丁目 | J7: 392 | K7: 713 | L7: 386 | M7: 327 | O7: 30105 | P7: 国分寺台中央５丁目 | Q7: 254 | R7: 666 | S7: 358 | T7: 308
A8: 4500 | B8: 五井海岸 | C8: 1 | D8: 1 | E8: 1 | F8: 0 | H8: 8062 | I8: 五井中央西２丁目 | J8: 268 | K8: 529 | L8: 274 | M8: 255 | O8: 30106 | P8: 国分寺台中央６丁目 | Q8: 239 | R8: 615 | S8: 286 | T8: 329
A9: 4600 | B9: 青柳 | C9: 1315 | D9: 2809 | E9: 1500 | F9: 1309 | H9: 8063 | I9: 五井中央西３丁目 | J9: 68 | K9: 145 | L9: 74 | M9: 71 | O9: 30107 | P9: 国分寺台中央７丁目 | Q9: 321 | R9: 711 | S9: 354 | T9: 357
A10: 4651 | B10: 青柳１丁目 | C10: 143 | D10: 300 | E10: 162 | F10: 138 | H10: 8101 | I10: 五井東１丁目 | J10: 670 | K10: 1235 | L10: 652 | M10: 583 | O10: 30201 | P10: 東国分寺台１丁目 | Q10: 276 | R10: 636 | S10: 321 | T10: 315
A11: 4652 | B11: 青柳２丁目 | C11: 87 | D11: 175 | E11: 97 | F11: 78 | H11: 8102 | I11: 五井東２丁目 | J11: 390 | K11: 830 | L11: 439 | M11: 391 | O11: 30202 | P11: 東国分寺台２丁目 | Q11: 197 | R11: 459 | S11: 224 | T11: 235
A12: 4653 | B12: 青柳３丁目 | C12: 195 | D12: 236 | E12: 170 | F12: 66 | H12: 8103 | I12: 五井東３丁目 | J12: 534 | K12: 1056 | L12: 572 | M12: 484 | O12: 30203 | P12: 東国分寺台３丁目 | Q12: 185 | R12: 469 | S12: 237 | T12: 232
A13: 4702 | B13: 青柳北２丁目 | C13: 3 | D13: 8 | E13: 3 | F13: 5 | H13: 8111 | I13: 更級１丁目 | J13: 152 | K13: 280 | L13: 166 | M13: 114 | O13: 30204 | P13: 東国分寺台４丁目 | Q13: 182 | R13: 431 | S13: 219 | T13: 212
A14: 4703 | B14: 青柳北３丁目 | C14: 18 | D14: 34 | E14: 20 | F14: 14 | H14: 8112 | I14: 更級２丁目 | J14: 79 | K14: 175 | L14: 85 | M14: 90 | O14: 30205 | P14: 東国分寺台５丁目 | Q14: 206 | R14: 443 | S14: 235 | T14: 208
... A38: 6800 | B38: 神代 | C38: 48 | D38: 119 | E38: 64 | F38: 55 | H38: 8114 | I38: 更級４丁目 | J38: 0 | K38: 0 | L38: 0 | M38: 0 | O38: 30901 | P38: 惣社１丁目 | Q38: 203 | R38: 478 | S38: 240 | T38: 238
A39: 6900 | B39: 十五沢 | C39: 52 | D39: 129 | E39: 57 | F39: 72 | O39: 30902 | P39: 惣社２丁目 | Q39: 174 | R39: 405 | S39: 199 | T39: 206
A40: 7000 | B40: 小折 | C40: 34 | D40: 74 | E40: 33 | F40: 41 | O40: 30903 | P40: 惣社３丁目 | Q40: 234 | R40: 521 | S40: 267 | T40: 254
A41: 7100 | B41: 西野 | C41: 51 | D41: 127 | E41: 68 | F41: 59 | O41: 30904 | P41: 惣社４丁目 | Q41: 170 | R41: 424 | S41: 227 | T41: 197
A42: 7200 | B42: 柳原 | C42: 53 | D42: 125 | E42: 58 | F42: 67 | O42: 30905 | P42: 惣社５丁目 | Q42: 239 | R42: 662 | S42: 324 | T42: 338
A43: 7300 | B43: 村上 | C43: 629 | D43: 1420 | E43: 723 | F43: 697 | O43: 31001 | P43: 加茂１丁目 | Q43: 202 | R43: 455 | S43: 224 | T43: 231
A44: 7400 | B44: 西広 | C44: 45 | D44: 105 | E44: 55 | F44: 50 | O44: 31002 | P44: 加茂２丁目 | Q44: 158 | R44: 390 | S44: 195 | T44: 195
A45: 7500 | B45: 惣社 | C45: 331 | D45: 688 | E45: 355 | F45: 333 | O45: 31101 | P45: 根田１丁目 | Q45: 171 | R45: 387 | S45: 196 | T45: 191
A46: 7600 | B46: 加茂 | C46: 3 | D46: 7 | E46: 3 | F46: 4 | O46: 31102 | P46: 根田２丁目 | Q46: 115 | R46: 211 | S46: 123 | T46: 88
A47: 7700 | B47: 根田 | C47: 111 | D47: 241 | E47: 122 | F47: 119 | O47: 31103 | P47: 根田３丁目 | Q47: 264 | R47: 545 | S47: 289 | T47: 256
A48: 7800 | B48: 岩野見 | C48: 146 | D48: 337 | E48: 160 | F48: 177 | O48: 31104 | P48: 根田４丁目 | Q48: 158 | R48: 390 | S48: 191 | T48: 199
O49: 3 | P49: 五井地区_計 | Q49: 40156 | R49: 87585 | S49: 45899 | T49: 41686
A50: =A1 -> 42795
A51: CD | B51: 大字名 | C51: 世帯数 | D51: 総数 | E51: 男 | F51: 女 | H51: CD | I51: 大字名 | J51: 世帯数 | K51: 総数 | L51: 男 | M51: 女 | O51: CD | P51: 大字名 | Q51: 世帯数 | R51: 総数 | S51: 男 | T51: 女
A52: 100 | B52: 姉崎海岸 | C52: 33 | D52: 38 | E52: 34 | F52: 4 | H52: 1900 | I52: 八幡海岸通 | J52: 297 | K52: 442 | L52: 319 | M52: 123 | O52: 8400 | P52: 山倉 | Q52: 233 | R52: 485 | S52: 257 | T52: 228
A53: 200 | B53: 椎津 | C53: 1647 | D53: 3475 | E53: 1791 | F53: 1684 | H53: 2001 | I53: 八幡浦１丁目 | J53: 3 | K53: 3 | L53: 3 | M53: 0 | O53: 8500 | P53: 福増 | Q53: 301 | R53: 715 | S53: 367 | T53: 348
A54: 300 | B54: 姉崎 | C54: 6057 | D54: 12234 | E54: 6559 | F54: 5675 | H54: 2100 | I54: 八幡 | J54: 5538 | K54: 11311 | L54: 5885 | M54: 5426 | O54: 8600 | P54: 海士有木 | Q54: 523 | R54: 1233 | S54: 623 | T54: 610
A55: 321 | B55: 姉崎西１丁目 | C55: 204 | D55: 363 | E55: 230 | F55: 133 | H55: 2201 | I55: 八幡北町１丁目 | J55: 239 | K55: 340 | L55: 220 | M55: 120 | O55: 8700 | P55: 大坪 | Q55: 243 | R55: 569 | S55: 310 | T55: 259
A56: 322 | B56: 姉崎西２丁目 | C56: 257 | D56: 491 | E56: 263 | F56: 228 | H56: 2202 | I56: 八幡北町２丁目 | J56: 208 | K56: 381 | L56: 215 | M56: 166 | O56: 8800 | P56: 新生 | Q56: 89 | R56: 234 | S56: 128 | T56: 106
A57: 323 | B57: 姉崎西３丁目 | C57: 221 | D57: 487 | E57: 268 | F57: 219 | H57: 2203 | I57: 八幡北町３丁目 | J57: 133 | K57: 195 | L57: 121 | M57: 74 | O57: 8900 | P57: 権現堂 | Q57: 88 | R57: 225 | S57: 114 | T57: 111
A58: 1300 | B58: 畑木 | C58: 151 | D58: 275 | E58: 134 | F58: 141 | H58: 2301 | I58: 八幡石塚１丁目 | J58: 326 | K58: 686 | L58: 386 | M58: 300 | O58: 9000 | P58: 糸久 | Q58: 32 | R58: 87 | S58: 47 | T58: 40
A59: 1400 | B59: 柏原 | C59: 125 | D59: 249 | E59: 114 | F59: 135 | H59: 2302 | I59: 八幡石塚２丁目 | J59: 331 | K59: 697 | L59: 371 | M59: 326 | O59: 9100 | P59: 宮原 | Q59: 96 | R59: 192 | S59: 101 | T59: 91
A60: 1500 | B60: 白塚 | C60: 329 | D60: 719 | E60: 352 | F60: 367 | H60: 2400 | I60: 五所 | J60: 1348 | K60: 2965 | L60: 1539 | M60: 1426 | O60: 9200 | P60: 分目 | Q60: 77 | R60: 195 | S60: 98 | T60: 97
A61: 1600 | B61: 今津朝山 | C61: 991 | D61: 1939 | E61: 1058 | F61: 881 | H61: 2500 | I61: 旭五所 | J61: 480 | K61: 961 | L61: 511 | M61: 450 | O61: 9300 | P61: 浅井小向 | Q61: 56 | R61: 163 | S61: 73 | T61: 90
A62: 1651 | B62: 千種１丁目 | C62: 124 | D62: 199 | E62: 131 | F62: 68 | H62: 2600 | I62: 東五所 | J62: 1009 | K62: 1969 | L62: 1067 | M62: 902 | O62: 9400 | P62: 相川 | Q62: 41 | R62: 88 | S62: 48 | T62: 40
A63: 1652 | B63: 千種２丁目 | C63: 222 | D63: 534 | E63: 269 | F63: 265 | H63: 2700 | I63: 西五所 | J63: 867 | K63: 1653 | L63: 873 | M63: 780 | O63: 9500 | P63: 新堀 | Q63: 260 | R63: 559 | S63: 269 | T63: 290
... A73: 1708 | B73: 青葉台８丁目 | C73: 192 | D73: 433 | E73: 227 | F73: 206 | H73: 3002 | I73: 藤井２丁目 | J73: 111 | K73: 229 | L73: 118 | M73: 111 | O73: 10500 | P73: 山田 | Q73: 137 | R73: 346 | S73: 176 | T73: 170
H74: 3003 | I74: 藤井３丁目 | J74: 172 | K74: 400 | L74: 192 | M74: 208 | O74: 10600 | P74: 安須 | Q74: 70 | R74: 190 | S74: 87 | T74: 103
H75: 3100 | I75: 山田橋 | J75: 122 | K75: 240 | L75: 130 | M75: 110 | O75: 10700 | P75: 高坂 | Q75: 50 | R75: 119 | S75: 62 | T75: 57
H76: 3200 | I76: 能満 | J76: 2299 | K76: 4868 | L76: 2420 | M76: 2448 | O76: 10801 | P76: 光風台１丁目 | Q76: 362 | R76: 918 | S76: 445 | T76: 473
H77: 3300 | I77: 門前 | J77: 2 | K77: 8 | L77: 3 | M77: 5 | O77: 10802 | P77: 光風台２丁目 | Q77: 353 | R77: 846 | S77: 431 | T77: 415
H78: 3301 | I78: 門前１丁目 | J78: 84 | K78: 176 | L78: 95 | M78: 81 | O78: 10803 | P78: 光風台３丁目 | Q78: 660 | R78: 1493 | S78: 737 | T78: 756
H79: 3302 | I79: 門前２丁目 | J79: 358 | K79: 785 | L79: 407 | M79: 378 | O79: 10804 | P79: 光風台４丁目 | Q79: 655 | R79: 1527 | S79: 762 | T79: 765
H80: 3400 | I80: 市原 | J80: 469 | K80: 955 | L80: 473 | M80: 482 | O80: 10805 | P80: 光風台５丁目 | Q80: 550 | R80: 1327 | S80: 660 | T80: 667
H81: 3500 | I81: 山木 | J81: 1153 | K81: 2476 | L81: 1312 | M81: 1164 | Q81: =IF($O81="","",IFERROR(VLOOKUP($O$98&$O81,[1]非表示!$A$1:$H$500,4,FALSE),0)) | R81: =IF($O81="","",IFERROR(VLOOKUP($O$98&$O81,[1]非表示!$A$1:$H$500,5,FALSE),0)) | S81: =IF($O81="","",IFERROR(VLOOKUP($O$98&$O81,[1]非表示!$A$1:$H$500,6,FALSE),0)) | T81: =IF($O81="","",IFERROR(VLOOKUP($O$98&$O81,[1]非表示!$A$1:$H$500,7,FALSE),0))
H82: 3600 | I82: 菊間 | J82: 2296 | K82: 5276 | L82: 2494 | M82: 2782 | Q82: =IF($O82="","",IFERROR(VLOOKUP($O$98&$O82,[1]非表示!$A$1:$H$500,4,FALSE),0)) | R82: =IF($O82="","",IFERROR(VLOOKUP($O$98&$O82,[1]非表示!$A$1:$H$500,5,FALSE),0)) | S82: =IF($O82="","",IFERROR(VLOOKUP($O$98&$O82,[1]非表示!$A$1:$H$500,6,FALSE),0)) | T82: =IF($O82="","",IFERROR(VLOOKUP($O$98&$O82,[1]非表示!$A$1:$H$500,7,FALSE),0))
H83: 3700 | I83: 古市場 | J83: 1178 | K83: 2751 | L83: 1408 | M83: 1343 | Q83: =IF($O83="","",IFERROR(VLOOKUP($O$98&$O83,[1]非表示!$A$1:$H$500,4,FALSE),0)) | R83: =IF($O83="","",IFERROR(VLOOKUP($O$98&$O83,[1]非表示!$A$1:$H$500,5,FALSE),0)) | S83: =IF($O83="","",IFERROR(VLOOKUP($O$98&$O83,[1]非表示!$A$1:$H$500,6,FALSE),0)) | T83: =IF($O83="","",IFERROR(VLOOKUP($O$98&$O83,[1]非表示!$A$1:$H$500,7,FALSE),0))
H84: 3800 | I84: 草刈 | J84: 477 | K84: 1142 | L84: 554 | M84: 588 | Q84: =IF($O84="","",IFERROR(VLOOKUP($O$98&$O84,[1]非表示!$A$1:$H$500,4,FALSE),0)) | R84: =IF($O84="","",IFERROR(VLOOKUP($O$98&$O84,[1]非表示!$A$1:$H$500,5,FALSE),0)) | S84: =IF($O84="","",IFERROR(VLOOKUP($O$98&$O84,[1]非表示!$A$1:$H$500,6,FALSE),0)) | T84: =IF($O84="","",IFERROR(VLOOKUP($O$98&$O84,[1]非表示!$A$1:$H$500,7,FALSE),0))
H85: 3900 | I85: 大 | J85: 2032 | K85: 4455 | L85: 2303 | M85: 2152 | Q85: =IF($O85="","",IFERROR(VLOOKUP($O$98&$O85,[1]非表示!$A$1:$H$500,4,FALSE),0)) | R85: =IF($O85="","",IFERROR(VLOOKUP($O$98&$O85,[1]非表示!$A$1:$H$500,5,FALSE),0)) | S85: =IF($O85="","",IFERROR(VLOOKUP($O$98&$O85,[1]非表示!$A$1:$H$500,6,FALSE),0)) | T85: =IF($O85="","",IFERROR(VLOOKUP($O$98&$O85,[1]非表示!$A$1:$H$500,7,FALSE),0))
H86: 4201 | I86: 若宮１丁目 | J86: 511 | K86: 935 | L86: 501 | M86: 434 | Q86: =IF($O86="","",IFERROR(VLOOKUP($O$98&$O86,[1]非表示!$A$1:$H$500,4,FALSE),0)) | R86: =IF($O86="","",IFERROR(VLOOKUP($O$98&$O86,[1]非表示!$A$1:$H$500,5,FALSE),0)) | S86: =IF($O86="","",IFERROR(VLOOKUP($O$98&$O86,[1]非表示!$A$1:$H$500,6,FALSE),0)) | T86: =IF($O86="","",IFERROR(VLOOKUP($O$98&$O86,[1]非表示!$A$1:$H$500,7,FALSE),0))
H87: 4202 | I87: 若宮２丁目 | J87: 356 | K87: 755 | L87: 357 | M87: 398 | Q87: =IF($O87="","",IFERROR(VLOOKUP($O$98&$O87,[1]非表示!$A$1:$H$500,4,FALSE),0)) | R87: =IF($O87="","",IFERROR(VLOOKUP($O$98&$O87,[1]非表示!$A$1:$H$500,5,FALSE),0)) | S87: =IF($O87="","",IFERROR(VLOOKUP($O$98&$O87,[1]非表示!$A$1:$H$500,6,FALSE),0)) | T87: =IF($O87="","",IFERROR(VLOOKUP($O$98&$O87,[1]非表示!$A$1:$H$500,7,FALSE),0))
H88: 4203 | I88: 若宮３丁目 | J88: 315 | K88: 679 | L88: 319 | M88: 360 | Q88: =IF($O88="","",IFERROR(VLOOKUP($O$98&$O88,[1]非表示!$A$1:$H$500,4,FALSE),0)) | R88: =IF($O88="","",IFERROR(VLOOKUP($O$98&$O88,[1]非表示!$A$1:$H$500,5,FALSE),0)) | S88: =IF($O88="","",IFERROR(VLOOKUP($O$98&$O88,[1]非表示!$A$1:$H$500,6,FALSE),0)) | T88: =IF($O88="","",IFERROR(VLOOKUP($O$98&$O88,[1]非表示!$A$1:$H$500,7,FALSE),0))
H89: 4204 | I89: 若宮４丁目 | J89: 354 | K89: 730 | L89: 343 | M89: 387 | Q89: =IF($O89="","",IFERROR(VLOOKUP($O$98&$O89,[1]非表示!$A$1:$H$500,4,FALSE),0)) | R89: =IF($O89="","",IFERROR(VLOOKUP($O$98&$O89,[1]非表示!$A$1:$H$500,5,FALSE),0)) | S89: =IF($O89="","",IFERROR(VLOOKUP($O$98&$O89,[1]非表示!$A$1:$H$500,6,FALSE),0)) | T89: =IF($O89="","",IFERROR(VLOOKUP($O$98&$O89,[1]非表示!$A$1:$H$500,7,FALSE),0))
H90: 4205 | I90: 若宮５丁目 | J90: 243 | K90: 569 | L90: 276 | M90: 293 | Q90: =IF($O90="","",IFERROR(VLOOKUP($O$98&$O90,[1]非表示!$A$1:$H$500,4,FALSE),0)) | R90: =IF($O90="","",IFERROR(VLOOKUP($O$98&$O90,[1]非表示!$A$1:$H$500,5,FALSE),0)) | S90: =IF($O90="","",IFERROR(VLOOKUP($O$98&$O90,[1]非表示!$A$1:$H$500,6,FALSE),0)) | T90: =IF($O90="","",IFERROR(VLOOKUP($O$98&$O90,[1]非表示!$A$1:$H$500,7,FALSE),0))
H91: 4206 | I91: 若宮６丁目 | J91: 300 | K91: 693 | L91: 347 | M91: 346 | Q91: =IF($O91="","",IFERROR(VLOOKUP($O$98&$O91,[1]非表示!$A$1:$H$500,4,FALSE),0)) | R91: =IF($O91="","",IFERROR(VLOOKUP($O$98&$O91,[1]非表示!$A$1:$H$500,5,FALSE),0)) | S91: =IF($O91="","",IFERROR(VLOOKUP($O$98&$O91,[1]非表示!$A$1:$H$500,6,FALSE),0)) | T91: =IF($O91="","",IFERROR(VLOOKUP($O$98&$O91,[1]非表示!$A$1:$H$500,7,FALSE),0))
H92: 4207 | I92: 若宮７丁目 | J92: 78 | K92: 188 | L92: 88 | M92: 100 | Q92: =IF($O92="","",IFERROR(VLOOKUP($O$98&$O92,[1]非表示!$A$1:$H$500,4,FALSE),0)) | R92: =IF($O92="","",IFERROR(VLOOKUP($O$98&$O92,[1]非表示!$A$1:$H$500,5,FALSE),0)) | S92: =IF($O92="","",IFERROR(VLOOKUP($O$98&$O92,[1]非表示!$A$1:$H$500,6,FALSE),0)) | T92: =IF($O92="","",IFERROR(VLOOKUP($O$98&$O92,[1]非表示!$A$1:$H$500,7,FALSE),0))
H93: 2002 | I93: 八幡浦２丁目 | J93: 1 | K93: 1 | L93: 1 | M93: 0 | Q93: =IF($O93="","",IFERROR(VLOOKUP($O$98&$O93,[1]非表示!$A$1:$H$500,4,FALSE),0)) | R93: =IF($O93="","",IFERROR(VLOOKUP($O$98&$O93,[1]非表示!$A$1:$H$500,5,FALSE),0)) | S93: =IF($O93="","",IFERROR(VLOOKUP($O$98&$O93,[1]非表示!$A$1:$H$500,6,FALSE),0)) | T93: =IF($O93="","",IFERROR(VLOOKUP($O$98&$O93,[1]非表示!$A$1:$H$500,7,FALSE),0))
J94: =IF($H94="","",IFERROR(VLOOKUP($H$98&$H94,[1]非表示!$A$1:$H$500,4,FALSE),0)) | K94: =IF($H94="","",IFERROR(VLOOKUP($H$98&$H94,[1]非表示!$A$1:$H$500,5,FALSE),0)) | L94: =IF($H94="","",IFERROR(VLOOKUP($H$98&$H94,[1]非表示!$A$1:$H$500,6,FALSE),0)) | M94: =IF($H94="","",IFERROR(VLOOKUP($H$98&$H94,[1]非表示!$A$1:$H$500,7,FALSE),0)) | Q94: =IF($O94="","",IFERROR(VLOOKUP($O$98&$O94,[1]非表示!$A$1:$H$500,4,FALSE),0)) | R94: =IF($O94="","",IFERROR(VLOOKUP($O$98&$O94,[1]非表示!$A$1:$H$500,5,FALSE),0)) | S94: =IF($O94="","",IFERROR(VLOOKUP($O$98&$O94,[1]非表示!$A$1:$H$500,6,FALSE),0)) | T94: =IF($O94="","",IFERROR(VLOOKUP($O$98&$O94,[1]非表示!$A$1:$H$500,7,FALSE),0))
J95: =IF($H95="","",IFERROR(VLOOKUP($H$98&$H95,[1]非表示!$A$1:$H$500,4,FALSE),0)) | K95: =IF($H95="","",IFERROR(VLOOKUP($H$98&$H95,[1]非表示!$A$1:$H$500,5,FALSE),0)) | L95: =IF($H95="","",IFERROR(VLOOKUP($H$98&$H95,[1]非表示!$A$1:$H$500,6,FALSE),0)) | M95: =IF($H95="","",IFERROR(VLOOKUP($H$98&$H95,[1]非表示!$A$1:$H$500,7,FALSE),0)) | Q95: =IF($O95="","",IFERROR(VLOOKUP($O$98&$O95,[1]非表示!$A$1:$H$500,4,FALSE),0)) | R95: =IF($O95="","",IFERROR(VLOOKUP($O$98&$O95,[1]非表示!$A$1:$H$500,5,FALSE),0)) | S95: =IF($O95="","",IFERROR(VLOOKUP($O$98&$O95,[1]非表示!$A$1:$H$500,6,FALSE),0)) | T95: =IF($O95="","",IFERROR(VLOOKUP($O$98&$O95,[1]非表示!$A$1:$H$500,7,FALSE),0))
J96: =IF($H96="","",IFERROR(VLOOKUP($H$98&$H96,[1]非表示!$A$1:$H$500,4,FALSE),0)) | K96: =IF($H96="","",IFERROR(VLOOKUP($H$98&$H96,[1]非表示!$A$1:$H$500,5,FALSE),0)) | L96: =IF($H96="","",IFERROR(VLOOKUP($H$98&$H96,[1]非表示!$A$1:$H$500,6,FALSE),0)) | M96: =IF($H96="","",IFERROR(VLOOKUP($H$98&$H96,[1]非表示!$A$1:$H$500,7,FALSE),0)) | Q96: =IF($O96="","",IFERROR(VLOOKUP($O$98&$O96,[1]非表示!$A$1:$H$500,4,FALSE),0)) | R96: =IF($O96="","",IFERROR(VLOOKUP($O$98&$O96,[1]非表示!$A$1:$H$500,5,FALSE),0)) | S96: =IF($O96="","",IFERROR(VLOOKUP($O$98&$O96,[1]非表示!$A$1:$H$500,6,FALSE),0)) | T96: =IF($O96="","",IFERROR(VLOOKUP($O$98&$O96,[1]非表示!$A$1:$H$500,7,FALSE),0))
J97: =IF($H97="","",IFERROR(VLOOKUP($H$98&$H97,[1]非表示!$A$1:$H$500,4,FALSE),0)) | K97: =IF($H97="","",IFERROR(VLOOKUP($H$98&$H97,[1]非表示!$A$1:$H$500,5,FALSE),0)) | L97: =IF($H97="","",IFERROR(VLOOKUP($H$98&$H97,[1]非表示!$A$1:$H$500,6,FALSE),0)) | M97: =IF($H97="","",IFERROR(VLOOKUP($H$98&$H97,[1]非表示!$A$1:$H$500,7,FALSE),0)) | Q97: =IF($O97="","",IFERROR(VLOOKUP($O$98&$O97,[1]非表示!$A$1:$H$500,4,FALSE),0)) | R97: =IF($O97="","",IFERROR(VLOOKUP($O$98&$O97,[1]非表示!$A$1:$H$500,5,FALSE),0)) | S97: =IF($O97="","",IFERROR(VLOOKUP($O$98&$O97,[1]非表示!$A$1:$H$500,6,FALSE),0)) | T97: =IF($O97="","",IFERROR(VLOOKUP($O$98&$O97,[1]非表示!$A$1:$H$500,7,FALSE),0))
A98: 1 | B98: 姉崎地区_計 | C98: 14085 | D98: 29688 | E98: 15509 | F98: 14179 | H98: 2 | I98: 市原地区_計 | J98: 24665 | K98: 52212 | L98: 26794 | M98: 25418 | O98: 4 | P98: 三和地区_計 | Q98: 6191 | R98: 14606 | S98: 7341 | T98: 7265
A99: =A50 -> 42795
A100: CD | B100: 大字名 | C100: 世帯数 | D100: 総数 | E100: 男 | F100: 女 | H100: CD | I100: 大字名 | J100: 世帯数 | K100: 総数 | L100: 男 | M100: 女 | O100: CD | P100: 大字名 | Q100: 世帯数 | R100: 総数 | S100: 男 | T100: 女
A101: 10900 | B101: 久々津 | C101: 68 | D101: 163 | E101: 79 | F101: 84 | H101: 4001 | I101: 辰巳台東１丁目 | J101: 410 | K101: 1127 | L101: 569 | M101: 558 | O101: 13400 | P101: 風戸 | Q101: 18 | R101: 39 | S101: 22 | T101: 17
A102: 11000 | B102: 潤井戸 | C102: 968 | D102: 2121 | E102: 1084 | F102: 1037 | H102: 4002 | I102: 辰巳台東２丁目 | J102: 615 | K102: 1150 | L102: 577 | M102: 573 | O102: 13500 | P102: 中高根 | Q102: 1167 | R102: 2655 | S102: 1374 | T102: 1281
A103: 11051 | B103: うるいど南１丁目 | C103: 220 | D103: 571 | E103: 285 | F103: 286 | H103: 4003 | I103: 辰巳台東３丁目 | J103: 1090 | K103: 2683 | L103: 1429 | M103: 1254 | O103: 13600 | P103: 上高根 | Q103: 798 | R103: 1812 | S103: 909 | T103: 903
A104: 11052 | B104: うるいど南２丁目 | C104: 146 | D104: 377 | E104: 192 | F104: 185 | H104: 4004 | I104: 辰巳台東４丁目 | J104: 856 | K104: 2104 | L104: 1131 | M104: 973 | O104: 13700 | P104: 馬立 | Q104: 1332 | R104: 2994 | S104: 1502 | T104: 1492
A105: 11053 | B105: うるいど南３丁目 | C105: 312 | D105: 922 | E105: 483 | F105: 439 | H105: 4005 | I105: 辰巳台東５丁目 | J105: 298 | K105: 574 | L105: 315 | M105: 259 | O105: 13800 | P105: 上原 | Q105: 68 | R105: 145 | S105: 77 | T105: 68
A106: 11100 | B106: 下野 | C106: 154 | D106: 384 | E106: 178 | F106: 206 | H106: 4101 | I106: 辰巳台西１丁目 | J106: 365 | K106: 984 | L106: 481 | M106: 503 | O106: 13900 | P106: 南岩崎 | Q106: 420 | R106: 950 | S106: 470 | T106: 480
A107: 11200 | B107: 永吉 | C107: 124 | D107: 281 | E107: 141 | F107: 140 | H107: 4102 | I107: 辰巳台西２丁目 | J107: 388 | K107: 1123 | L107: 558 | M107: 565 | O107: 14000 | P107: 寺谷 | Q107: 94 | R107: 234 | S107: 117 | T107: 117
A108: 11300 | B108: 番場 | C108: 83 | D108: 203 | E108: 108 | F108: 95 | H108: 4103 | I108: 辰巳台西３丁目 | J108: 702 | K108: 1218 | L108: 787 | M108: 431 | O108: 14100 | P108: 栢橋 | Q108: 223 | R108: 524 | S108: 274 | T108: 250
A109: 11400 | B109: 押沼 | C109: 57 | D109: 145 | E109: 77 | F109: 68 | H109: 4104 | I109: 辰巳台西４丁目 | J109: 327 | K109: 768 | L109: 362 | M109: 406 | O109: 14200 | P109: 西国吉 | Q109: 780 | R109: 1777 | S109: 916 | T109: 861
A110: 11500 | B110: 瀬又 | C110: 1617 | D110: 3510 | E110: 1703 | F110: 1807 | H110: 4105 | I110: 辰巳台西５丁目 | J110: 151 | K110: 324 | L110: 158 | M110: 166 | O110: 14300 | P110: 佐是 | Q110: 326 | R110: 790 | S110: 410 | T110: 380
A111: 11600 | B111: 中野 | C111: 36 | D111: 94 | E111: 52 | F111: 42 | J111: =IF($H111="","",IFERROR(VLOOKUP($H$147&$H111,[1]非表示!$A$1:$H$500,4,FALSE),0)) | K111: =IF($H111="","",IFERROR(VLOOKUP($H$147&$H111,[1]非表示!$A$1:$H$500,5,FALSE),0)) | L111: =IF($H111="","",IFERROR(VLOOKUP($H$147&$H111,[1]非表示!$A$1:$H$500,6,FALSE),0)) | M111: =IF($H111="","",IFERROR(VLOOKUP($H$147&$H111,[1]非表示!$A$1:$H$500,7,FALSE),0)) | O111: 14400 | P111: 妙香 | Q111: 80 | R111: 183 | S111: 96 | T111: 87
A112: 11700 | B112: 高田 | C112: 52 | D112: 129 | E112: 64 | F112: 65 | J112: =IF($H112="","",IFERROR(VLOOKUP($H$147&$H112,[1]非表示!$A$1:$H$500,4,FALSE),0)) | K112: =IF($H112="","",IFERROR(VLOOKUP($H$147&$H112,[1]非表示!$A$1:$H$500,5,FALSE),0)) | L112: =IF($H112="","",IFERROR(VLOOKUP($H$147&$H112,[1]非表示!$A$1:$H$500,6,FALSE),0)) | M112: =IF($H112="","",IFERROR(VLOOKUP($H$147&$H112,[1]非表示!$A$1:$H$500,7,FALSE),0)) | O112: 14500 | P112: 奉免 | Q112: 190 | R112: 456 | S112: 211 | T112: 245
A113: 11800 | B113: 高倉 | C113: 52 | D113: 110 | E113: 51 | F113: 59 | J113: =IF($H113="","",IFERROR(VLOOKUP($H$147&$H113,[1]非表示!$A$1:$H$500,4,FALSE),0)) | K113: =IF($H113="","",IFERROR(VLOOKUP($H$147&$H113,[1]非表示!$A$1:$H$500,5,FALSE),0)) | L113: =IF($H113="","",IFERROR(VLOOKUP($H$147&$H113,[1]非表示!$A$1:$H$500,6,FALSE),0)) | M113: =IF($H113="","",IFERROR(VLOOKUP($H$147&$H113,[1]非表示!$A$1:$H$500,7,FALSE),0)) | O113: 14600 | P113: 牛久 | Q113: 896 | R113: 1893 | S113: 949 | T113: 944
A114: 11900 | B114: 東国吉 | C114: 117 | D114: 298 | E114: 136 | F114: 162 | J114: =IF($H114="","",IFERROR(VLOOKUP($H$147&$H114,[1]非表示!$A$1:$H$500,4,FALSE),0)) | K114: =IF($H114="","",IFERROR(VLOOKUP($H$147&$H114,[1]非表示!$A$1:$H$500,5,FALSE),0)) | L114: =IF($H114="","",IFERROR(VLOOKUP($H$147&$H114,[1]非表示!$A$1:$H$500,6,FALSE),0)) | M114: =IF($H114="","",IFERROR(VLOOKUP($H$147&$H114,[1]非表示!$A$1:$H$500,7,FALSE),0)) | O114: 14700 | P114: 皆吉 | Q114: 754 | R114: 1652 | S114: 820 | T114: 832
A115: 12000 | B115: 金剛地 | C115: 162 | D115: 408 | E115: 205 | F115: 203 | J115: =IF($H115="","",IFERROR(VLOOKUP($H$147&$H115,[1]非表示!$A$1:$H$500,4,FALSE),0)) | K115: =IF($H115="","",IFERROR(VLOOKUP($H$147&$H115,[1]非表示!$A$1:$H$500,5,FALSE),0)) | L115: =IF($H115="","",IFERROR(VLOOKUP($H$147&$H115,[1]非表示!$A$1:$H$500,6,FALSE),0)) | M115: =IF($H115="","",IFERROR(VLOOKUP($H$147&$H115,[1]非表示!$A$1:$H$500,7,FALSE),0)) | O115: 14800 | P115: 金沢 | Q115: 30 | R115: 81 | S115: 40 | T115: 41
A116: 12100 | B116: 奈良 | C116: 66 | D116: 174 | E116: 88 | F116: 86 | J116: =IF($H116="","",IFERROR(VLOOKUP($H$147&$H116,[1]非表示!$A$1:$H$500,4,FALSE),0)) | K116: =IF($H116="","",IFERROR(VLOOKUP($H$147&$H116,[1]非表示!$A$1:$H$500,5,FALSE),0)) | L116: =IF($H116="","",IFERROR(VLOOKUP($H$147&$H116,[1]非表示!$A$1:$H$500,6,FALSE),0)) | M116: =IF($H116="","",IFERROR(VLOOKUP($H$147&$H116,[1]非表示!$A$1:$H$500,7,FALSE),0)) | O116: 14900 | P116: 大蔵 | Q116: 14 | R116: 30 | S116: 19 | T116: 11
A117: 12200 | B117: 古都辺 | C117: 30 | D117: 75 | E117: 37 | F117: 38 | J117: =IF($H117="","",IFERROR(VLOOKUP($H$147&$H117,[1]非表示!$A$1:$H$500,4,FALSE),0)) | K117: =IF($H117="","",IFERROR(VLOOKUP($H$147&$H117,[1]非表示!$A$1:$H$500,5,FALSE),0)) | L117: =IF($H117="","",IFERROR(VLOOKUP($H$147&$H117,[1]非表示!$A$1:$H$500,6,FALSE),0)) | M117: =IF($H117="","",IFERROR(VLOOKUP($H$147&$H117,[1]非表示!$A$1:$H$500,7,FALSE),0)) | O117: 15000 | P117: 岩 | Q117: 44 | R117: 89 | S117: 52 | T117: 37
A118: 12300 | B118: 喜多 | C118: 728 | D118: 1636 | E118: 826 | F118: 810 | J118: =IF($H118="","",IFERROR(VLOOKUP($H$147&$H118,[1]非表示!$A$1:$H$500,4,FALSE),0)) | K118: =IF($H118="","",IFERROR(VLOOKUP($H$147&$H118,[1]非表示!$A$1:$H$500,5,FALSE),0)) | L118: =IF($H118="","",IFERROR(VLOOKUP($H$147&$H118,[1]非表示!$A$1:$H$500,6,FALSE),0)) | M118: =IF($H118="","",IFERROR(VLOOKUP($H$147&$H118,[1]非表示!$A$1:$H$500,7,FALSE),0)) | O118: 15100 | P118: 藪 | Q118: 70 | R118: 173 | S118: 88 | T118: 85
A119: 12400 | B119: 犬成 | C119: 245 | D119: 469 | E119: 261 | F119: 208 | J119: =IF($H119="","",IFERROR(VLOOKUP($H$147&$H119,[1]非表示!$A$1:$H$500,4,FALSE),0)) | K119: =IF($H119="","",IFERROR(VLOOKUP($H$147&$H119,[1]非表示!$A$1:$H$500,5,FALSE),0)) | L119: =IF($H119="","",IFERROR(VLOOKUP($H$147&$H119,[1]非表示!$A$1:$H$500,6,FALSE),0)) | M119: =IF($H119="","",IFERROR(VLOOKUP($H$147&$H119,[1]非表示!$A$1:$H$500,7,FALSE),0)) | O119: 15200 | P119: 中 | Q119: 354 | R119: 818 | S119: 418 | T119: 400
A120: 12500 | B120: 大作 | C120: 41 | D120: 89 | E120: 43 | F120: 46 | J120: =IF($H120="","",IFERROR(VLOOKUP($H$147&$H120,[1]非表示!$A$1:$H$500,4,FALSE),0)) | K120: =IF($H120="","",IFERROR(VLOOKUP($H$147&$H120,[1]非表示!$A$1:$H$500,5,FALSE),0)) | L120: =IF($H120="","",IFERROR(VLOOKUP($H$147&$H120,[1]非表示!$A$1:$H$500,6,FALSE),0)) | M120: =IF($H120="","",IFERROR(VLOOKUP($H$147&$H120,[1]非表示!$A$1:$H$500,7,FALSE),0)) | O120: 15300 | P120: 安久谷 | Q120: 102 | R120: 228 | S120: 113 | T120: 115
A121: 12600 | B121: 滝口 | C121: 37 | D121: 92 | E121: 49 | F121: 43 | J121: =IF($H121="","",IFERROR(VLOOKUP($H$147&$H121,[1]非表示!$A$1:$H$500,4,FALSE),0)) | K121: =IF($H121="","",IFERROR(VLOOKUP($H$147&$H121,[1]非表示!$A$1:$H$500,5,FALSE),0)) | L121: =IF($H121="","",IFERROR(VLOOKUP($H$147&$H121,[1]非表示!$A$1:$H$500,6,FALSE),0)) | M121: =IF($H121="","",IFERROR(VLOOKUP($H$147&$H121,[1]非表示!$A$1:$H$500,7,FALSE),0)) | O121: 15400 | P121: 米沢 | Q121: 141 | R121: 324 | S121: 156 | T121: 168
A122: 12700 | B122: 勝間 | C122: 202 | D122: 353 | E122: 145 | F122: 208 | J122: =IF($H122="","",IFERROR(VLOOKUP($H$147&$H122,[1]非表示!$A$1:$H$500,4,FALSE),0)) | K122: =IF($H122="","",IFERROR(VLOOKUP($H$147&$H122,[1]非表示!$A$1:$H$500,5,FALSE),0)) | L122: =IF($H122="","",IFERROR(VLOOKUP($H$147&$H122,[1]非表示!$A$1:$H$500,6,FALSE),0)) | M122: =IF($H122="","",IFERROR(VLOOKUP($H$147&$H122,[1]非表示!$A$1:$H$500,7,FALSE),0)) | O122: 15500 | P122: 真ケ谷 | Q122: 50 | R122: 144 | S122: 68 | T122: 76
... A127: 13200 | B127: 山之郷飛地 | C127: 2 | D127: 6 | E127: 2 | F127: 4 | J127: =IF($H127="","",IFERROR(VLOOKUP($H$147&$H127,[1]非表示!$A$1:$H$500,4,FALSE),0)) | K127: =IF($H127="","",IFERROR(VLOOKUP($H$147&$H127,[1]非表示!$A$1:$H$500,5,FALSE),0)) | L127: =IF($H127="","",IFERROR(VLOOKUP($H$147&$H127,[1]非表示!$A$1:$H$500,6,FALSE),0)) | M127: =IF($H127="","",IFERROR(VLOOKUP($H$147&$H127,[1]非表示!$A$1:$H$500,7,FALSE),0)) | O127: 16000 | P127: 奥野 | Q127: 55 | R127: 146 | S127: 68 | T127: 78
C128: =IF($A128="","",IFERROR(VLOOKUP($A$147&$A128,[1]非表示!$A$1:$H$500,4,FALSE),0)) | D128: =IF($A128="","",IFERROR(VLOOKUP($A$147&$A128,[1]非表示!$A$1:$H$500,5,FALSE),0)) | E128: =IF($A128="","",IFERROR(VLOOKUP($A$147&$A128,[1]非表示!$A$1:$H$500,6,FALSE),0)) | F128: =IF($A128="","",IFERROR(VLOOKUP($A$147&$A128,[1]非表示!$A$1:$H$500,7,FALSE),0)) | J128: =IF($H128="","",IFERROR(VLOOKUP($H$147&$H128,[1]非表示!$A$1:$H$500,4,FALSE),0)) | K128: =IF($H128="","",IFERROR(VLOOKUP($H$147&$H128,[1]非表示!$A$1:$H$500,5,FALSE),0)) | L128: =IF($H128="","",IFERROR(VLOOKUP($H$147&$H128,[1]非表示!$A$1:$H$500,6,FALSE),0)) | M128: =IF($H128="","",IFERROR(VLOOKUP($H$147&$H128,[1]非表示!$A$1:$H$500,7,FALSE),0)) | O128: 16100 | P128: 水沢 | Q128: 24 | R128: 62 | S128: 27 | T128: 35
C129: =IF($A129="","",IFERROR(VLOOKUP($A$147&$A129,[1]非表示!$A$1:$H$500,4,FALSE),0)) | D129: =IF($A129="","",IFERROR(VLOOKUP($A$147&$A129,[1]非表示!$A$1:$H$500,5,FALSE),0)) | E129: =IF($A129="","",IFERROR(VLOOKUP($A$147&$A129,[1]非表示!$A$1:$H$500,6,FALSE),0)) | F129: =IF($A129="","",IFERROR(VLOOKUP($A$147&$A129,[1]非表示!$A$1:$H$500,7,FALSE),0)) | J129: =IF($H129="","",IFERROR(VLOOKUP($H$147&$H129,[1]非表示!$A$1:$H$500,4,FALSE),0)) | K129: =IF($H129="","",IFERROR(VLOOKUP($H$147&$H129,[1]非表示!$A$1:$H$500,5,FALSE),0)) | L129: =IF($H129="","",IFERROR(VLOOKUP($H$147&$H129,[1]非表示!$A$1:$H$500,6,FALSE),0)) | M129: =IF($H129="","",IFERROR(VLOOKUP($H$147&$H129,[1]非表示!$A$1:$H$500,7,FALSE),0)) | O129: 16200 | P129: 原田 | Q129: 26 | R129: 61 | S129: 25 | T129: 36
C130: =IF($A130="","",IFERROR(VLOOKUP($A$147&$A130,[1]非表示!$A$1:$H$500,4,FALSE),0)) | D130: =IF($A130="","",IFERROR(VLOOKUP($A$147&$A130,[1]非表示!$A$1:$H$500,5,FALSE),0)) | E130: =IF($A130="","",IFERROR(VLOOKUP($A$147&$A130,[1]非表示!$A$1:$H$500,6,FALSE),0)) | F130: =IF($A130="","",IFERROR(VLOOKUP($A$147&$A130,[1]非表示!$A$1:$H$500,7,FALSE),0)) | J130: =IF($H130="","",IFERROR(VLOOKUP($H$147&$H130,[1]非表示!$A$1:$H$500,4,FALSE),0)) | K130: =IF($H130="","",IFERROR(VLOOKUP($H$147&$H130,[1]非表示!$A$1:$H$500,5,FALSE),0)) | L130: =IF($H130="","",IFERROR(VLOOKUP($H$147&$H130,[1]非表示!$A$1:$H$500,6,FALSE),0)) | M130: =IF($H130="","",IFERROR(VLOOKUP($H$147&$H130,[1]非表示!$A$1:$H$500,7,FALSE),0)) | O130: 16300 | P130: 石川 | Q130: 447 | R130: 1073 | S130: 544 | T130: 529
C131: =IF($A131="","",IFERROR(VLOOKUP($A$147&$A131,[1]非表示!$A$1:$H$500,4,FALSE),0)) | D131: =IF($A131="","",IFERROR(VLOOKUP($A$147&$A131,[1]非表示!$A$1:$H$500,5,FALSE),0)) | E131: =IF($A131="","",IFERROR(VLOOKUP($A$147&$A131,[1]非表示!$A$1:$H$500,6,FALSE),0)) | F131: =IF($A131="","",IFERROR(VLOOKUP($A$147&$A131,[1]非表示!$A$1:$H$500,7,FALSE),0)) | J131: =IF($H131="","",IFERROR(VLOOKUP($H$147&$H131,[1]非表示!$A$1:$H$500,4,FALSE),0)) | K131: =IF($H131="","",IFERROR(VLOOKUP($H$147&$H131,[1]非表示!$A$1:$H$500,5,FALSE),0)) | L131: =IF($H131="","",IFERROR(VLOOKUP($H$147&$H131,[1]非表示!$A$1:$H$500,6,FALSE),0)) | M131: =IF($H131="","",IFERROR(VLOOKUP($H$147&$H131,[1]非表示!$A$1:$H$500,7,FALSE),0)) | O131: 16400 | P131: 江子田 | Q131: 132 | R131: 298 | S131: 151 | T131: 147
C132: =IF($A132="","",IFERROR(VLOOKUP($A$147&$A132,[1]非表示!$A$1:$H$500,4,FALSE),0)) | D132: =IF($A132="","",IFERROR(VLOOKUP($A$147&$A132,[1]非表示!$A$1:$H$500,5,FALSE),0)) | E132: =IF($A132="","",IFERROR(VLOOKUP($A$147&$A132,[1]非表示!$A$1:$H$500,6,FALSE),0)) | F132: =IF($A132="","",IFERROR(VLOOKUP($A$147&$A132,[1]非表示!$A$1:$H$500,7,FALSE),0)) | J132: =IF($H132="","",IFERROR(VLOOKUP($H$147&$H132,[1]非表示!$A$1:$H$500,4,FALSE),0)) | K132: =IF($H132="","",IFERROR(VLOOKUP($H$147&$H132,[1]非表示!$A$1:$H$500,5,FALSE),0)) | L132: =IF($H132="","",IFERROR(VLOOKUP($H$147&$H132,[1]非表示!$A$1:$H$500,6,FALSE),0)) | M132: =IF($H132="","",IFERROR(VLOOKUP($H$147&$H132,[1]非表示!$A$1:$H$500,7,FALSE),0)) | O132: 16500 | P132: 下矢田 | Q132: 182 | R132: 435 | S132: 204 | T132: 231
C133: =IF($A133="","",IFERROR(VLOOKUP($A$147&$A133,[1]非表示!$A$1:$H$500,4,FALSE),0)) | D133: =IF($A133="","",IFERROR(VLOOKUP($A$147&$A133,[1]非表示!$A$1:$H$500,5,FALSE),0)) | E133: =IF($A133="","",IFERROR(VLOOKUP($A$147&$A133,[1]非表示!$A$1:$H$500,6,FALSE),0)) | F133: =IF($A133="","",IFERROR(VLOOKUP($A$147&$A133,[1]非表示!$A$1:$H$500,7,FALSE),0)) | J133: =IF($H133="","",IFERROR(VLOOKUP($H$147&$H133,[1]非表示!$A$1:$H$500,4,FALSE),0)) | K133: =IF($H133="","",IFERROR(VLOOKUP($H$147&$H133,[1]非表示!$A$1:$H$500,5,FALSE),0)) | L133: =IF($H133="","",IFERROR(VLOOKUP($H$147&$H133,[1]非表示!$A$1:$H$500,6,FALSE),0)) | M133: =IF($H133="","",IFERROR(VLOOKUP($H$147&$H133,[1]非表示!$A$1:$H$500,7,FALSE),0)) | O133: 16600 | P133: 矢田 | Q133: 27 | R133: 67 | S133: 30 | T133: 37
C134: =IF($A134="","",IFERROR(VLOOKUP($A$147&$A134,[1]非表示!$A$1:$H$500,4,FALSE),0)) | D134: =IF($A134="","",IFERROR(VLOOKUP($A$147&$A134,[1]非表示!$A$1:$H$500,5,FALSE),0)) | E134: =IF($A134="","",IFERROR(VLOOKUP($A$147&$A134,[1]非表示!$A$1:$H$500,6,FALSE),0)) | F134: =IF($A134="","",IFERROR(VLOOKUP($A$147&$A134,[1]非表示!$A$1:$H$500,7,FALSE),0)) | J134: =IF($H134="","",IFERROR(VLOOKUP($H$147&$H134,[1]非表示!$A$1:$H$500,4,FALSE),0)) | K134: =IF($H134="","",IFERROR(VLOOKUP($H$147&$H134,[1]非表示!$A$1:$H$500,5,FALSE),0)) | L134: =IF($H134="","",IFERROR(VLOOKUP($H$147&$H134,[1]非表示!$A$1:$H$500,6,FALSE),0)) | M134: =IF($H134="","",IFERROR(VLOOKUP($H$147&$H134,[1]非表示!$A$1:$H$500,7,FALSE),0)) | O134: 16700 | P134: 池和田 | Q134: 125 | R134: 291 | S134: 138 | T134: 153
C135: =IF($A135="","",IFERROR(VLOOKUP($A$147&$A135,[1]非表示!$A$1:$H$500,4,FALSE),0)) | D135: =IF($A135="","",IFERROR(VLOOKUP($A$147&$A135,[1]非表示!$A$1:$H$500,5,FALSE),0)) | E135: =IF($A135="","",IFERROR(VLOOKUP($A$147&$A135,[1]非表示!$A$1:$H$500,6,FALSE),0)) | F135: =IF($A135="","",IFERROR(VLOOKUP($A$147&$A135,[1]非表示!$A$1:$H$500,7,FALSE),0)) | J135: =IF($H135="","",IFERROR(VLOOKUP($H$147&$H135,[1]非表示!$A$1:$H$500,4,FALSE),0)) | K135: =IF($H135="","",IFERROR(VLOOKUP($H$147&$H135,[1]非表示!$A$1:$H$500,5,FALSE),0)) | L135: =IF($H135="","",IFERROR(VLOOKUP($H$147&$H135,[1]非表示!$A$1:$H$500,6,FALSE),0)) | M135: =IF($H135="","",IFERROR(VLOOKUP($H$147&$H135,[1]非表示!$A$1:$H$500,7,FALSE),0)) | O135: 16800 | P135: 鶴舞 | Q135: 529 | R135: 1144 | S135: 543 | T135: 601
C136: =IF($A136="","",IFERROR(VLOOKUP($A$147&$A136,[1]非表示!$A$1:$H$500,4,FALSE),0)) | D136: =IF($A136="","",IFERROR(VLOOKUP($A$147&$A136,[1]非表示!$A$1:$H$500,5,FALSE),0)) | E136: =IF($A136="","",IFERROR(VLOOKUP($A$147&$A136,[1]非表示!$A$1:$H$500,6,FALSE),0)) | F136: =IF($A136="","",IFERROR(VLOOKUP($A$147&$A136,[1]非表示!$A$1:$H$500,7,FALSE),0)) | J136: =IF($H136="","",IFERROR(VLOOKUP($H$147&$H136,[1]非表示!$A$1:$H$500,4,FALSE),0)) | K136: =IF($H136="","",IFERROR(VLOOKUP($H$147&$H136,[1]非表示!$A$1:$H$500,5,FALSE),0)) | L136: =IF($H136="","",IFERROR(VLOOKUP($H$147&$H136,[1]非表示!$A$1:$H$500,6,FALSE),0)) | M136: =IF($H136="","",IFERROR(VLOOKUP($H$147&$H136,[1]非表示!$A$1:$H$500,7,FALSE),0)) | O136: 16900 | P136: 田尾 | Q136: 199 | R136: 465 | S136: 235 | T136: 230
...

Sheet 2017_04
A1: 平成29年4月1日現在 世帯数及び人口
A2: CD | B2: 大字名 | C2: 世帯数 | D2: 総数 | E2: 男 | F2: 女 | H2: CD | I2: 大字名 | J2: 世帯数 | K2: 総数 | L2: 男 | M2: 女 | O2: CD | P2: 大字名 | Q2: 世帯数 | R2: 総数 | S2: 男 | T2: 女
A3: 1655 | B3: 千種５丁目 | C3: 215 | D3: 545 | E3: 276 | F3: 269 | H3: 7900 | I3: 平田 | J3: 815 | K3: 1689 | L3: 845 | M3: 844 | O3: 30101 | P3: 国分寺台中央１丁目 | Q3: 312 | R3: 694 | S3: 353 | T3: 341
A4: 1656 | B4: 千種６丁目 | C4: 110 | D4: 396 | E4: 207 | F4: 189 | H4: 8000 | I4: 五井 | J4: 8043 | K4: 16910 | L4: 8935 | M4: 7975 | O4: 30102 | P4: 国分寺台中央２丁目 | Q4: 334 | R4: 777 | S4: 403 | T4: 374
A5: 1657 | B5: 千種７丁目 | C5: 378 | D5: 885 | E5: 469 | F5: 416 | H5: 8051 | I5: 五井中央東１丁目 | J5: 339 | K5: 592 | L5: 316 | M5: 276 | O5: 30103 | P5: 国分寺台中央３丁目 | Q5: 265 | R5: 532 | S5: 288 | T5: 244
A6: 4300 | B6: 千種海岸 | C6: 2 | D6: 2 | E6: 2 | F6: 0 | H6: 8052 | I6: 五井中央東２丁目 | J6: 476 | K6: 826 | L6: 444 | M6: 382 | O6: 30104 | P6: 国分寺台中央４丁目 | Q6: 236 | R6: 544 | S6: 282 | T6: 262
A7: 4400 | B7: 五井南海岸 | C7: 1 | D7: 3 | E7: 0 | F7: 3 | H7: 8061 | I7: 五井中央西１丁目 | J7: 400 | K7: 723 | L7: 391 | M7: 332 | O7: 30105 | P7: 国分寺台中央５丁目 | Q7: 256 | R7: 662 | S7: 357 | T7: 305
A8: 4500 | B8: 五井海岸 | C8: 1 | D8: 1 | E8: 1 | F8: 0 | H8: 8062 | I8: 五井中央西２丁目 | J8: 264 | K8: 516 | L8: 264 | M8: 252 | O8: 30106 | P8: 国分寺台中央６丁目 | Q8: 242 | R8: 623 | S8: 292 | T8: 331
A9: 4600 | B9: 青柳 | C9: 1316 | D9: 2812 | E9: 1499 | F9: 1313 | H9: 8063 | I9: 五井中央西３丁目 | J9: 67 | K9: 142 | L9: 73 | M9: 69 | O9: 30107 | P9: 国分寺台中央７丁目 | Q9: 321 | R9: 706 | S9: 353 | T9: 353
A10: 4651 | B10: 青柳１丁目 | C10: 141 | D10: 296 | E10: 161 | F10: 135 | H10: 8101 | I10: 五井東１丁目 | J10: 661 | K10: 1218 | L10: 643 | M10: 575 | O10: 30201 | P10: 東国分寺台１丁目 | Q10: 274 | R10: 634 | S10: 320 | T10: 314
A11: 4652 | B11: 青柳２丁目 | C11: 87 | D11: 175 | E11: 97 | F11: 78 | H11: 8102 | I11: 五井東２丁目 | J11: 392 | K11: 832 | L11: 439 | M11: 393 | O11: 30202 | P11: 東国分寺台２丁目 | Q11: 195 | R11: 457 | S11: 223 | T11: 234
A12: 4653 | B12: 青柳３丁目 | C12: 188 | D12: 229 | E12: 165 | F12: 64 | H12: 8103 | I12: 五井東３丁目 | J12: 534 | K12: 1050 | L12: 568 | M12: 482 | O12: 30203 | P12: 東国分寺台３丁目 | Q12: 184 | R12: 468 | S12: 239 | T12: 229
A13: 4702 | B13: 青柳北２丁目 | C13: 3 | D13: 8 | E13: 3 | F13: 5 | H13: 8111 | I13: 更級１丁目 | J13: 156 | K13: 286 | L13: 168 | M13: 118 | O13: 30204 | P13: 東国分寺台４丁目 | Q13: 183 | R13: 428 | S13: 220 | T13: 208
A14: 4703 | B14: 青柳北３丁目 | C14: 18 | D14: 33 | E14: 20 | F14: 13 | H14: 8112 | I14: 更級２丁目 | J14: 79 | K14: 175 | L14: 85 | M14: 90 | O14: 30205 | P14: 東国分寺台５丁目 | Q14: 202 | R14: 438 | S14: 230 | T14: 208
... A38: 6800 | B38: 神代 | C38: 48 | D38: 119 | E38: 64 | F38: 55 | H38: 8114 | I38: 更級４丁目 | J38: 0 | K38: 0 | L38: 0 | M38: 0 | O38: 30901 | P38: 惣社１丁目 | Q38: 202 | R38: 477 | S38: 241 | T38: 236
A39: 6900 | B39: 十五沢 | C39: 51 | D39: 126 | E39: 56 | F39: 70 | O39: 30902 | P39: 惣社２丁目 | Q39: 171 | R39: 401 | S39: 198 | T39: 203
A40: 7000 | B40: 小折 | C40: 34 | D40: 73 | E40: 32 | F40: 41 | O40: 30903 | P40: 惣社３丁目 | Q40: 228 | R40: 516 | S40: 264 | T40: 252
A41: 7100 | B41: 西野 | C41: 51 | D41: 127 | E41: 68 | F41: 59 | O41: 30904 | P41: 惣社４丁目 | Q41: 171 | R41: 423 | S41: 227 | T41: 196
A42: 7200 | B42: 柳原 | C42: 53 | D42: 125 | E42: 58 | F42: 67 | O42: 30905 | P42: 惣社５丁目 | Q42: 243 | R42: 667 | S42: 322 | T42: 345
A43: 7300 | B43: 村上 | C43: 630 | D43: 1423 | E43: 725 | F43: 698 | O43: 31001 | P43: 加茂１丁目 | Q43: 205 | R43: 457 | S43: 227 | T43: 230
A44: 7400 | B44: 西広 | C44: 45 | D44: 102 | E44: 54 | F44: 48 | O44: 31002 | P44: 加茂２丁目 | Q44: 158 | R44: 388 | S44: 194 | T44: 194
A45: 7500 | B45: 惣社 | C45: 330 | D45: 681 | E45: 351 | F45: 330 | O45: 31101 | P45: 根田１丁目 | Q45: 172 | R45: 390 | S45: 199 | T45: 191
A46: 7600 | B46: 加茂 | C46: 3 | D46: 7 | E46: 3 | F46: 4 | O46: 31102 | P46: 根田２丁目 | Q46: 114 | R46: 210 | S46: 123 | T46: 87
A47: 7700 | B47: 根田 | C47: 110 | D47: 238 | E47: 121 | F47: 117 | O47: 31103 | P47: 根田３丁目 | Q47: 273 | R47: 556 | S47: 298 | T47: 258
A48: 7800 | B48: 岩野見 | C48: 147 | D48: 338 | E48: 162 | F48: 176 | O48: 31104 | P48: 根田４丁目 | Q48: 162 | R48: 396 | S48: 195 | T48: 201
O49: 3 | P49: 五井地区_計 | Q49: 40256 | R49: 87497 | S49: 45884 | T49: 41613
A50: 平成29年4月1日現在 世帯数及び人口
A51: CD | B51: 大字名 | C51: 世帯数 | D51: 総数 | E51: 男 | F51: 女 | H51: CD | I51: 大字名 | J51: 世帯数 | K51: 総数 | L51: 男 | M51: 女 | O51: CD | P51: 大字名 | Q51: 世帯数 | R51: 総数 | S51: 男 | T51: 女
A52: 100 | B52: 姉崎海岸 | C52: 31 | D52: 35 | E52: 32 | F52: 3 | H52: 1900 | I52: 八幡海岸通 | J52: 305 | K52: 447 | L52: 325 | M52: 122 | O52: 8400 | P52: 山倉 | Q52: 236 | R52: 482 | S52: 257 | T52: 225
A53: 200 | B53: 椎津 | C53: 1654 | D53: 3486 | E53: 1798 | F53: 1688 | H53: 2001 | I53: 八幡浦１丁目 | J53: 3 | K53: 3 | L53: 3 | M53: 0 | O53: 8500 | P53: 福増 | Q53: 300 | R53: 711 | S53: 368 | T53: 343
A54: 300 | B54: 姉崎 | C54: 6065 | D54: 12189 | E54: 6545 | F54: 5644 | H54: 2100 | I54: 八幡 | J54: 5576 | K54: 11344 | L54: 5898 | M54: 5446 | O54: 8600 | P54: 海士有木 | Q54: 526 | R54: 1240 | S54: 627 | T54: 613
A55: 321 | B55: 姉崎西１丁目 | C55: 206 | D55: 364 | E55: 230 | F55: 134 | H55: 2201 | I55: 八幡北町１丁目 | J55: 242 | K55: 343 | L55: 221 | M55: 122 | O55: 8700 | P55: 大坪 | Q55: 245 | R55: 568 | S55: 311 | T55: 257
A56: 322 | B56: 姉崎西２丁目 | C56: 256 | D56: 484 | E56: 259 | F56: 225 | H56: 2202 | I56: 八幡北町２丁目 | J56: 209 | K56: 383 | L56: 216 | M56: 167 | O56: 8800 | P56: 新生 | Q56: 88 | R56: 233 | S56: 127 | T56: 106
A57: 323 | B57: 姉崎西３丁目 | C57: 223 | D57: 491 | E57: 271 | F57: 220 | H57: 2203 | I57: 八幡北町３丁目 | J57: 133 | K57: 195 | L57: 121 | M57: 74 | O57: 8900 | P57: 権現堂 | Q57: 88 | R57: 225 | S57: 114 | T57: 111
A58: 1300 | B58: 畑木 | C58: 156 | D58: 280 | E58: 137 | F58: 143 | H58: 2301 | I58: 八幡石塚１丁目 | J58: 326 | K58: 689 | L58: 388 | M58: 301 | O58: 9000 | P58: 糸久 | Q58: 32 | R58: 87 | S58: 47 | T58: 40
A59: 1400 | B59: 柏原 | C59: 125 | D59: 248 | E59: 113 | F59: 135 | H59: 2302 | I59: 八幡石塚２丁目 | J59: 332 | K59: 688 | L59: 367 | M59: 321 | O59: 9100 | P59: 宮原 | Q59: 96 | R59: 193 | S59: 102 | T59: 91
A60: 1500 | B60: 白塚 | C60: 329 | D60: 718 | E60: 350 | F60: 368 | H60: 2400 | I60: 五所 | J60: 1348 | K60: 2944 | L60: 1535 | M60: 1409 | O60: 9200 | P60: 分目 | Q60: 75 | R60: 189 | S60: 98 | T60: 91
A61: 1600 | B61: 今津朝山 | C61: 974 | D61: 1910 | E61: 1044 | F61: 866 | H61: 2500 | I61: 旭五所 | J61: 478 | K61: 953 | L61: 506 | M61: 447 | O61: 9300 | P61: 浅井小向 | Q61: 56 | R61: 160 | S61: 71 | T61: 89
A62: 1651 | B62: 千種１丁目 | C62: 122 | D62: 196 | E62: 129 | F62: 67 | H62: 2600 | I62: 東五所 | J62: 1020 | K62: 1976 | L62: 1074 | M62: 902 | O62: 9400 | P62: 相川 | Q62: 41 | R62: 88 | S62: 48 | T62: 40
A63: 1652 | B63: 千種２丁目 | C63: 220 | D63: 530 | E63: 265 | F63: 265 | H63: 2700 | I63: 西五所 | J63: 866 | K63: 1639 | L63: 865 | M63: 774 | O63: 9500 | P63: 新堀 | Q63: 260 | R63: 558 | S63: 267 | T63: 291
... A73: 1708 | B73: 青葉台８丁目 | C73: 192 | D73: 434 | E73: 227 | F73: 207 | H73: 3002 | I73: 藤井２丁目 | J73: 109 | K73: 224 | L73: 115 | M73: 109 | O73: 10500 | P73: 山田 | Q73: 136 | R73: 345 | S73: 176 | T73: 169
H74: 3003 | I74: 藤井３丁目 | J74: 173 | K74: 403 | L74: 192 | M74: 211 | O74: 10600 | P74: 安須 | Q74: 70 | R74: 188 | S74: 87 | T74: 101
H75: 3100 | I75: 山田橋 | J75: 122 | K75: 240 | L75: 129 | M75: 111 | O75: 10700 | P75: 高坂 | Q75: 49 | R75: 118 | S75: 61 | T75: 57
H76: 3200 | I76: 能満 | J76: 2299 | K76: 4868 | L76: 2419 | M76: 2449 | O76: 10801 | P76: 光風台１丁目 | Q76: 361 | R76: 915 | S76: 444 | T76: 471
H77: 3300 | I77: 門前 | J77: 2 | K77: 8 | L77: 3 | M77: 5 | O77: 10802 | P77: 光風台２丁目 | Q77: 352 | R77: 838 | S77: 427 | T77: 411
H78: 3301 | I78: 門前１丁目 | J78: 84 | K78: 174 | L78: 93 | M78: 81 | O78: 10803 | P78: 光風台３丁目 | Q78: 661 | R78: 1491 | S78: 736 | T78: 755
H79: 3302 | I79: 門前２丁目 | J79: 360 | K79: 785 | L79: 407 | M79: 378 | O79: 10804 | P79: 光風台４丁目 | Q79: 655 | R79: 1521 | S79: 761 | T79: 760
H80: 3400 | I80: 市原 | J80: 467 | K80: 946 | L80: 468 | M80: 478 | O80: 10805 | P80: 光風台５丁目 | Q80: 547 | R80: 1321 | S80: 656 | T80: 665
H81: 3500 | I81: 山木 | J81: 1159 | K81: 2470 | L81: 1307 | M81: 1163
H82: 3600 | I82: 菊間 | J82: 2291 | K82: 5241 | L82: 2476 | M82: 2765
H83: 3700 | I83: 古市場 | J83: 1189 | K83: 2762 | L83: 1411 | M83: 1351
H84: 3800 | I84: 草刈 | J84: 479 | K84: 1146 | L84: 556 | M84: 590
H85: 3900 | I85: 大? | J85: 2043 | K85: 4476 | L85: 2310 | M85: 2166
H86: 4201 | I86: 若宮１丁目 | J86: 512 | K86: 940 | L86: 504 | M86: 436
H87: 4202 | I87: 若宮２丁目 | J87: 357 | K87: 756 | L87: 358 | M87: 398
H88: 4203 | I88: 若宮３丁目 | J88: 317 | K88: 678 | L88: 320 | M88: 358
H89: 4204 | I89: 若宮４丁目 | J89: 353 | K89: 725 | L89: 339 | M89: 386
H90: 4205 | I90: 若宮５丁目 | J90: 244 | K90: 568 | L90: 276 | M90: 292
H91: 4206 | I91: 若宮６丁目 | J91: 302 | K91: 697 | L91: 349 | M91: 348
H92: 4207 | I92: 若宮７丁目 | J92: 78 | K92: 187 | L92: 87 | M92: 100
H93: 2002 | I93: 八幡浦２丁目 | J93: 1 | K93: 1 | L93: 1 | M93: 0
A98: 1 | B98: 姉崎地区_計 | C98: 14085 | D98: 29587 | E98: 15463 | F98: 14124 | H98: 2 | I98: 市原地区_計 | J98: 24760 | K98: 52217 | L98: 26791 | M98: 25426 | O98: 4 | P98: 三和地区_計 | Q98: 6190 | R98: 14565 | S98: 7325 | T98: 7240
A99: 平成29年4月1日現在 世帯数及び人口
A100: CD | B100: 大字名 | C100: 世帯数 | D100: 総数 | E100: 男 | F100: 女 | H100: CD | I100: 大字名 | J100: 世帯数 | K100: 総数 | L100: 男 | M100: 女 | O100: CD | P100: 大字名 | Q100: 世帯数 | R100: 総数 | S100: 男 | T100: 女
A101: 10900 | B101: 久々津 | C101: 67 | D101: 160 | E101: 76 | F101: 84 | H101: 4001 | I101: 辰巳台東１丁目 | J101: 410 | K101: 1120 | L101: 563 | M101: 557 | O101: 13400 | P101: 風戸 | Q101: 17 | R101: 36 | S101: 20 | T101: 16
A102: 11000 | B102: 潤井戸 | C102: 971 | D102: 2124 | E102: 1087 | F102: 1037 | H102: 4002 | I102: 辰巳台東２丁目 | J102: 604 | K102: 1116 | L102: 563 | M102: 553 | O102: 13500 | P102: 中高根 | Q102: 1161 | R102: 2635 | S102: 1363 | T102: 1272
A103: 11051 | B103: うるいど南１丁目 | C103: 226 | D103: 579 | E103: 289 | F103: 290 | H103: 4003 | I103: 辰巳台東３丁目 | J103: 1112 | K103: 2707 | L103: 1449 | M103: 1258 | O103: 13600 | P103: 上高根 | Q103: 800 | R103: 1809 | S103: 907 | T103: 902
A104: 11052 | B104: うるいど南２丁目 | C104: 151 | D104: 394 | E104: 199 | F104: 195 | H104: 4004 | I104: 辰巳台東４丁目 | J104: 864 | K104: 2103 | L104: 1136 | M104: 967 | O104: 13700 | P104: 馬立 | Q104: 1333 | R104: 2980 | S104: 1499 | T104: 1481
A105: 11053 | B105: うるいど南３丁目 | C105: 314 | D105: 923 | E105: 486 | F105: 437 | H105: 4005 | I105: 辰巳台東５丁目 | J105: 301 | K105: 581 | L105: 318 | M105: 263 | O105: 13800 | P105: 上原 | Q105: 68 | R105: 145 | S105: 77 | T105: 68
A106: 11100 | B106: 下野 | C106: 152 | D106: 378 | E106: 176 | F106: 202 | H106: 4101 | I106: 辰巳台西１丁目 | J106: 366 | K106: 980 | L106: 479 | M106: 501 | O106: 13900 | P106: 南岩崎 | Q106: 419 | R106: 948 | S106: 468 | T106: 480
A107: 11200 | B107: 永吉 | C107: 126 | D107: 285 | E107: 143 | F107: 142 | H107: 4102 | I107: 辰巳台西２丁目 | J107: 388 | K107: 1121 | L107: 556 | M107: 565 | O107: 14000 | P107: 寺谷 | Q107: 95 | R107: 236 | S107: 117 | T107: 119
A108: 11300 | B108: 番場 | C108: 83 | D108: 203 | E108: 108 | F108: 95 | H108: 4103 | I108: 辰巳台西３丁目 | J108: 728 | K108: 1235 | L108: 809 | M108: 426 | O108: 14100 | P108: 栢橋 | Q108: 225 | R108: 524 | S108: 274 | T108: 250
A109: 11400 | B109: 押沼 | C109: 57 | D109: 145 | E109: 77 | F109: 68 | H109: 4104 | I109: 辰巳台西４丁目 | J109: 328 | K109: 771 | L109: 366 | M109: 405 | O109: 14200 | P109: 西国吉 | Q109: 777 | R109: 1768 | S109: 911 | T109: 857
A110: 11500 | B110: 瀬又 | C110: 1621 | D110: 3504 | E110: 1702 | F110: 1802 | H110: 4105 | I110: 辰巳台西５丁目 | J110: 150 | K110: 322 | L110: 156 | M110: 166 | O110: 14300 | P110: 佐是 | Q110: 327 | R110: 794 | S110: 412 | T110: 382
A111: 11600 | B111: 中野 | C111: 36 | D111: 94 | E111: 52 | F111: 42 | O111: 14400 | P111: 妙香 | Q111: 80 | R111: 182 | S111: 95 | T111: 87
A112: 11700 | B112: 高田 | C112: 52 | D112: 128 | E112: 63 | F112: 65 | O112: 14500 | P112: 奉免 | Q112: 187 | R112: 442 | S112: 202 | T112: 240
A113: 11800 | B113: 高倉 | C113: 52 | D113: 110 | E113: 51 | F113: 59 | O113: 14600 | P113: 牛久 | Q113: 905 | R113: 1890 | S113: 951 | T113: 939
A114: 11900 | B114: 東国吉 | C114: 117 | D114: 298 | E114: 136 | F114: 162 | O114: 14700 | P114: 皆吉 | Q114: 755 | R114: 1651 | S114: 818 | T114: 833
A115: 12000 | B115: 金剛地 | C115: 163 | D115: 411 | E115: 205 | F115: 206 | O115: 14800 | P115: 金沢 | Q115: 30 | R115: 80 | S115: 40 | T115: 40
A116: 12100 | B116: 奈良 | C116: 66 | D116: 173 | E116: 87 | F116: 86 | O116: 14900 | P116: 大蔵 | Q116: 13 | R116: 29 | S116: 19 | T116: 10
A117: 12200 | B117: 古都辺 | C117: 30 | D117: 75 | E117: 37 | F117: 38 | O117: 15000 | P117: 岩 | Q117: 63 | R117: 108 | S117: 62 | T117: 46
A118: 12300 | B118: 喜多 | C118: 728 | D118: 1634 | E118: 826 | F118: 808 | O118: 15100 | P118: 藪 | Q118: 70 | R118: 173 | S118: 88 | T118: 85
A119: 12400 | B119: 犬成 | C119: 244 | D119: 468 | E119: 259 | F119: 209 | O119: 15200 | P119: 中 | Q119: 354 | R119: 816 | S119: 417 | T119: 399
A120: 12500 | B120: 大作 | C120: 41 | D120: 89 | E120: 43 | F120: 46 | O120: 15300 | P120: 安久谷 | Q120: 102 | R120: 228 | S120: 113 | T120: 115
A121: 12600 | B121: 滝口 | C121: 37 | D121: 91 | E121: 48 | F121: 43 | O121: 15400 | P121: 米沢 | Q121: 141 | R121: 322 | S121: 155 | T121: 167
A122: 12700 | B122: 勝間 | C122: 204 | D122: 354 | E122: 145 | F122: 209 | O122: 15500 | P122: 真ケ谷 | Q122: 49 | R122: 143 | S122: 68 | T122: 75
... A127: 13200 | B127: 山之郷飛地 | C127: 2 | D127: 6 | E127: 2 | F127: 4 | O127: 16000 | P127: 奥野 | Q127: 56 | R127: 147 | S127: 69 | T127: 78
O128: 16100 | P128: 水沢 | Q128: 24 | R128: 59 | S128: 26 | T128: 33
O129: 16200 | P129: 原田 | Q129: 26 | R129: 61 | S129: 25 | T129: 36
O130: 16300 | P130: 石川 | Q130: 447 | R130: 1072 | S130: 542 | T130: 530
O131: 16400 | P131: 江子田 | Q131: 130 | R131: 292 | S131: 147 | T131: 145
O132: 16500 | P132: 下矢田 | Q132: 181 | R132: 430 | S132: 202 | T132: 228
O133: 16600 | P133: 矢田 | Q133: 27 | R133: 67 | S133: 30 | T133: 37
O134: 16700 | P134: 池和田 | Q134: 125 | R134: 289 | S134: 137 | T134: 152
O135: 16800 | P135: 鶴舞 | Q135: 520 | R135: 1123 | S135: 529 | T135: 594
O136: 16900 | P136: 田尾 | Q136: 199 | R136: 463 | S136: 235 | T136: 228
O137: 17000 | P137: 山小川 | Q137: 87 | R137: 194 | S137: 105 | T137: 89
O138: 17100 | P138: 平蔵 | Q138: 198 | R138: 454 | S138: 236 | T138: 218
O139: 17200 | P139: 米原 | Q139: 144 | R139: 286 | S139: 156 | T139: 130
O140: 17300 | P140: 小草畑 | Q140: 34 | R140: 79 | S140: 37 | T140: 42
...

Sheet 2017_05
A1: 平成29年5月1日現在 世帯数及び人口
A2: CD | B2: 大字名 | C2: 世帯数 | D2: 総数 | E2: 男 | F2: 女 | H2: CD | I2: 大字名 | J2: 世帯数 | K2: 総数 | L2: 男 | M2: 女 | O2: CD | P2: 大字名 | Q2: 世帯数 | R2: 総数 | S2: 男 | T2: 女
A3: 1655 | B3: 千種５丁目 | C3: 213 | D3: 544 | E3: 275 | F3: 269 | H3: 7900 | I3: 平田 | J3: 819 | K3: 1696 | L3: 850 | M3: 846 | O3: 30101 | P3: 国分寺台中央１丁目 | Q3: 309 | R3: 685 | S3: 349 | T3: 336
A4: 1656 | B4: 千種６丁目 | C4: 110 | D4: 396 | E4: 207 | F4: 189 | H4: 8000 | I4: 五井 | J4: 8067 | K4: 16924 | L4: 8945 | M4: 7979 | O4: 30102 | P4: 国分寺台中央２丁目 | Q4: 334 | R4: 778 | S4: 403 | T4: 375
A5: 1657 | B5: 千種７丁目 | C5: 379 | D5: 890 | E5: 471 | F5: 419 | H5: 8051 | I5: 五井中央東１丁目 | J5: 340 | K5: 593 | L5: 315 | M5: 278 | O5: 30103 | P5: 国分寺台中央３丁目 | Q5: 263 | R5: 526 | S5: 285 | T5: 241
A6: 4300 | B6: 千種海岸 | C6: 2 | D6: 2 | E6: 2 | F6: 0 | H6: 8052 | I6: 五井中央東２丁目 | J6: 469 | K6: 820 | L6: 437 | M6: 383 | O6: 30104 | P6: 国分寺台中央４丁目 | Q6: 239 | R6: 545 | S6: 282 | T6: 263
A7: 4400 | B7: 五井南海岸 | C7: 1 | D7: 3 | E7: 0 | F7: 3 | H7: 8061 | I7: 五井中央西１丁目 | J7: 394 | K7: 713 | L7: 386 | M7: 327 | O7: 30105 | P7: 国分寺台中央５丁目 | Q7: 256 | R7: 654 | S7: 352 | T7: 302
A8: 4500 | B8: 五井海岸 | C8: 1 | D8: 1 | E8: 1 | F8: 0 | H8: 8062 | I8: 五井中央西２丁目 | J8: 267 | K8: 520 | L8: 268 | M8: 252 | O8: 30106 | P8: 国分寺台中央６丁目 | Q8: 242 | R8: 626 | S8: 294 | T8: 332
A9: 4600 | B9: 青柳 | C9: 1314 | D9: 2811 | E9: 1496 | F9: 1315 | H9: 8063 | I9: 五井中央西３丁目 | J9: 68 | K9: 143 | L9: 73 | M9: 70 | O9: 30107 | P9: 国分寺台中央７丁目 | Q9: 323 | R9: 710 | S9: 356 | T9: 354
A10: 4651 | B10: 青柳１丁目 | C10: 142 | D10: 298 | E10: 163 | F10: 135 | H10: 8101 | I10: 五井東１丁目 | J10: 658 | K10: 1219 | L10: 645 | M10: 574 | O10: 30201 | P10: 東国分寺台１丁目 | Q10: 273 | R10: 638 | S10: 321 | T10: 317
A11: 4652 | B11: 青柳２丁目 | C11: 86 | D11: 171 | E11: 95 | F11: 76 | H11: 8102 | I11: 五井東２丁目 | J11: 388 | K11: 822 | L11: 434 | M11: 388 | O11: 30202 | P11: 東国分寺台２丁目 | Q11: 196 | R11: 454 | S11: 223 | T11: 231
A12: 4653 | B12: 青柳３丁目 | C12: 192 | D12: 234 | E12: 167 | F12: 67 | H12: 8103 | I12: 五井東３丁目 | J12: 531 | K12: 1044 | L12: 563 | M12: 481 | O12: 30203 | P12: 東国分寺台３丁目 | Q12: 184 | R12: 467 | S12: 238 | T12: 229
A13: 4702 | B13: 青柳北２丁目 | C13: 3 | D13: 8 | E13: 3 | F13: 5 | H13: 8111 | I13: 更級１丁目 | J13: 157 | K13: 288 | L13: 169 | M13: 119 | O13: 30204 | P13: 東国分寺台４丁目 | Q13: 187 | R13: 441 | S13: 226 | T13: 215
A14: 4703 | B14: 青柳北３丁目 | C14: 18 | D14: 33 | E14: 20 | F14: 13 | H14: 8112 | I14: 更級２丁目 | J14: 78 | K14: 175 | L14: 85 | M14: 90 | O14: 30205 | P14: 東国分寺台５丁目 | Q14: 202 | R14: 437 | S14: 229 | T14: 208
... A38: 6800 | B38: 神代 | C38: 48 | D38: 119 | E38: 64 | F38: 55 | H38: 8114 | I38: 更級４丁目 | J38: 0 | K38: 0 | L38: 0 | M38: 0 | O38: 30901 | P38: 惣社１丁目 | Q38: 201 | R38: 472 | S38: 238 | T38: 234
A39: 6900 | B39: 十五沢 | C39: 51 | D39: 126 | E39: 56 | F39: 70 | O39: 30902 | P39: 惣社２丁目 | Q39: 169 | R39: 397 | S39: 194 | T39: 203
A40: 7000 | B40: 小折 | C40: 34 | D40: 74 | E40: 33 | F40: 41 | O40: 30903 | P40: 惣社３丁目 | Q40: 230 | R40: 519 | S40: 267 | T40: 252
A41: 7100 | B41: 西野 | C41: 52 | D41: 128 | E41: 69 | F41: 59 | O41: 30904 | P41: 惣社４丁目 | Q41: 172 | R41: 426 | S41: 228 | T41: 198
A42: 7200 | B42: 柳原 | C42: 52 | D42: 122 | E42: 56 | F42: 66 | O42: 30905 | P42: 惣社５丁目 | Q42: 245 | R42: 669 | S42: 323 | T42: 346
A43: 7300 | B43: 村上 | C43: 632 | D43: 1425 | E43: 724 | F43: 701 | O43: 31001 | P43: 加茂１丁目 | Q43: 204 | R43: 446 | S43: 220 | T43: 226
A44: 7400 | B44: 西広 | C44: 45 | D44: 102 | E44: 54 | F44: 48 | O44: 31002 | P44: 加茂２丁目 | Q44: 159 | R44: 391 | S44: 197 | T44: 194
A45: 7500 | B45: 惣社 | C45: 331 | D45: 681 | E45: 352 | F45: 329 | O45: 31101 | P45: 根田１丁目 | Q45: 173 | R45: 394 | S45: 201 | T45: 193
A46: 7600 | B46: 加茂 | C46: 3 | D46: 7 | E46: 3 | F46: 4 | O46: 31102 | P46: 根田２丁目 | Q46: 114 | R46: 210 | S46: 123 | T46: 87
A47: 7700 | B47: 根田 | C47: 109 | D47: 237 | E47: 121 | F47: 116 | O47: 31103 | P47: 根田３丁目 | Q47: 275 | R47: 558 | S47: 298 | T47: 260
A48: 7800 | B48: 岩野見 | C48: 147 | D48: 338 | E48: 162 | F48: 176 | O48: 31104 | P48: 根田４丁目 | Q48: 167 | R48: 402 | S48: 199 | T48: 203
O49: 3 | P49: 五井地区_計 | Q49: 40302 | R49: 87475 | S49: 45871 | T49: 41604
A50: 平成29年5月1日現在 世帯数及び人口
A51: CD | B51: 大字名 | C51: 世帯数 | D51: 総数 | E51: 男 | F51: 女 | H51: CD | I51: 大字名 | J51: 世帯数 | K51: 総数 | L51: 男 | M51: 女 | O51: CD | P51: 大字名 | Q51: 世帯数 | R51: 総数 | S51: 男 | T51: 女
A52: 100 | B52: 姉崎海岸 | C52: 31 | D52: 35 | E52: 32 | F52: 3 | H52: 1900 | I52: 八幡海岸通 | J52: 304 | K52: 449 | L52: 322 | M52: 127 | O52: 8400 | P52: 山倉 | Q52: 235 | R52: 480 | S52: 255 | T52: 225
A53: 200 | B53: 椎津 | C53: 1664 | D53: 3495 | E53: 1805 | F53: 1690 | H53: 2001 | I53: 八幡浦１丁目 | J53: 3 | K53: 3 | L53: 3 | M53: 0 | O53: 8500 | P53: 福増 | Q53: 300 | R53: 711 | S53: 368 | T53: 343
A54: 300 | B54: 姉崎 | C54: 6078 | D54: 12185 | E54: 6549 | F54: 5636 | H54: 2100 | I54: 八幡 | J54: 5602 | K54: 11364 | L54: 5914 | M54: 5450 | O54: 8600 | P54: 海士有木 | Q54: 527 | R54: 1242 | S54: 630 | T54: 612
A55: 321 | B55: 姉崎西１丁目 | C55: 207 | D55: 357 | E55: 225 | F55: 132 | H55: 2201 | I55: 八幡北町１丁目 | J55: 231 | K55: 332 | L55: 210 | M55: 122 | O55: 8700 | P55: 大坪 | Q55: 245 | R55: 570 | S55: 310 | T55: 260
A56: 322 | B56: 姉崎西２丁目 | C56: 256 | D56: 483 | E56: 260 | F56: 223 | H56: 2202 | I56: 八幡北町２丁目 | J56: 210 | K56: 384 | L56: 217 | M56: 167 | O56: 8800 | P56: 新生 | Q56: 90 | R56: 236 | S56: 127 | T56: 109
A57: 323 | B57: 姉崎西３丁目 | C57: 221 | D57: 491 | E57: 272 | F57: 219 | H57: 2203 | I57: 八幡北町３丁目 | J57: 131 | K57: 194 | L57: 119 | M57: 75 | O57: 8900 | P57: 権現堂 | Q57: 88 | R57: 225 | S57: 114 | T57: 111
A58: 1300 | B58: 畑木 | C58: 155 | D58: 273 | E58: 132 | F58: 141 | H58: 2301 | I58: 八幡石塚１丁目 | J58: 323 | K58: 685 | L58: 385 | M58: 300 | O58: 9000 | P58: 糸久 | Q58: 32 | R58: 87 | S58: 47 | T58: 40
A59: 1400 | B59: 柏原 | C59: 124 | D59: 246 | E59: 111 | F59: 135 | H59: 2302 | I59: 八幡石塚２丁目 | J59: 338 | K59: 695 | L59: 375 | M59: 320 | O59: 9100 | P59: 宮原 | Q59: 96 | R59: 193 | S59: 103 | T59: 90
A60: 1500 | B60: 白塚 | C60: 331 | D60: 719 | E60: 351 | F60: 368 | H60: 2400 | I60: 五所 | J60: 1352 | K60: 2950 | L60: 1535 | M60: 1415 | O60: 9200 | P60: 分目 | Q60: 75 | R60: 188 | S60: 97 | T60: 91
A61: 1600 | B61: 今津朝山 | C61: 971 | D61: 1899 | E61: 1039 | F61: 860 | H61: 2500 | I61: 旭五所 | J61: 481 | K61: 953 | L61: 506 | M61: 447 | O61: 9300 | P61: 浅井小向 | Q61: 56 | R61: 159 | S61: 71 | T61: 88
A62: 1651 | B62: 千種１丁目 | C62: 123 | D62: 198 | E62: 130 | F62: 68 | H62: 2600 | I62: 東五所 | J62: 1028 | K62: 1986 | L62: 1081 | M62: 905 | O62: 9400 | P62: 相川 | Q62: 41 | R62: 88 | S62: 48 | T62: 40
A63: 1652 | B63: 千種２丁目 | C63: 223 | D63: 531 | E63: 267 | F63: 264 | H63: 2700 | I63: 西五所 | J63: 860 | K63: 1632 | L63: 863 | M63: 769 | O63: 9500 | P63: 新堀 | Q63: 258 | R63: 556 | S63: 266 | T63: 290
... A73: 1708 | B73: 青葉台８丁目 | C73: 193 | D73: 435 | E73: 227 | F73: 208 | H73: 3002 | I73: 藤井２丁目 | J73: 108 | K73: 222 | L73: 114 | M73: 108 | O73: 10500 | P73: 山田 | Q73: 136 | R73: 343 | S73: 176 | T73: 167
H74: 3003 | I74: 藤井３丁目 | J74: 169 | K74: 397 | L74: 189 | M74: 208 | O74: 10600 | P74: 安須 | Q74: 70 | R74: 188 | S74: 88 | T74: 100
H75: 3100 | I75: 山田橋 | J75: 122 | K75: 240 | L75: 129 | M75: 111 | O75: 10700 | P75: 高坂 | Q75: 49 | R75: 117 | S75: 61 | T75: 56
H76: 3200 | I76: 能満 | J76: 2294 | K76: 4858 | L76: 2413 | M76: 2445 | O76: 10801 | P76: 光風台１丁目 | Q76: 360 | R76: 909 | S76: 440 | T76: 469
H77: 3300 | I77: 門前 | J77: 2 | K77: 8 | L77: 3 | M77: 5 | O77: 10802 | P77: 光風台２丁目 | Q77: 352 | R77: 833 | S77: 424 | T77: 409
H78: 3301 | I78: 門前１丁目 | J78: 85 | K78: 175 | L78: 94 | M78: 81 | O78: 10803 | P78: 光風台３丁目 | Q78: 658 | R78: 1485 | S78: 734 | T78: 751
H79: 3302 | I79: 門前２丁目 | J79: 362 | K79: 788 | L79: 408 | M79: 380 | O79: 10804 | P79: 光風台４丁目 | Q79: 654 | R79: 1515 | S79: 760 | T79: 755
H80: 3400 | I80: 市原 | J80: 467 | K80: 947 | L80: 468 | M80: 479 | O80: 10805 | P80: 光風台５丁目 | Q80: 546 | R80: 1312 | S80: 651 | T80: 661
H81: 3500 | I81: 山木 | J81: 1160 | K81: 2461 | L81: 1306 | M81: 1155
H82: 3600 | I82: 菊間 | J82: 2292 | K82: 5222 | L82: 2470 | M82: 2752
H83: 3700 | I83: 古市場 | J83: 1191 | K83: 2762 | L83: 1411 | M83: 1351
H84: 3800 | I84: 草刈 | J84: 480 | K84: 1141 | L84: 555 | M84: 586
H85: 3900 | I85: 大? | J85: 2037 | K85: 4462 | L85: 2306 | M85: 2156
H86: 4201 | I86: 若宮１丁目 | J86: 514 | K86: 942 | L86: 506 | M86: 436
H87: 4202 | I87: 若宮２丁目 | J87: 356 | K87: 754 | L87: 357 | M87: 397
H88: 4203 | I88: 若宮３丁目 | J88: 315 | K88: 676 | L88: 319 | M88: 357
H89: 4204 | I89: 若宮４丁目 | J89: 352 | K89: 719 | L89: 336 | M89: 383
H90: 4205 | I90: 若宮５丁目 | J90: 246 | K90: 574 | L90: 278 | M90: 296
H91: 4206 | I91: 若宮６丁目 | J91: 301 | K91: 694 | L91: 349 | M91: 345
H92: 4207 | I92: 若宮７丁目 | J92: 77 | K92: 183 | L92: 84 | M92: 99
H93: 2002 | I93: 八幡浦２丁目 | J93: 16 | K93: 16 | L93: 16 | M93: 0
A98: 1 | B98: 姉崎地区_計 | C98: 14127 | D98: 29573 | E98: 15471 | F98: 14102 | H98: 2 | I98: 市原地区_計 | J98: 24792 | K98: 52182 | L98: 26788 | M98: 25394 | O98: 4 | P98: 三和地区_計 | Q98: 6187 | R98: 14534 | S98: 7316 | T98: 7218
A99: 平成29年5月1日現在 世帯数及び人口
A100: CD | B100: 大字名 | C100: 世帯数 | D100: 総数 | E100: 男 | F100: 女 | H100: CD | I100: 大字名 | J100: 世帯数 | K100: 総数 | L100: 男 | M100: 女 | O100: CD | P100: 大字名 | Q100: 世帯数 | R100: 総数 | S100: 男 | T100: 女
A101: 10900 | B101: 久々津 | C101: 66 | D101: 158 | E101: 75 | F101: 83 | H101: 4001 | I101: 辰巳台東１丁目 | J101: 408 | K101: 1115 | L101: 561 | M101: 554 | O101: 13400 | P101: 風戸 | Q101: 17 | R101: 36 | S101: 20 | T101: 16
A102: 11000 | B102: 潤井戸 | C102: 973 | D102: 2123 | E102: 1082 | F102: 1041 | H102: 4002 | I102: 辰巳台東２丁目 | J102: 613 | K102: 1116 | L102: 560 | M102: 556 | O102: 13500 | P102: 中高根 | Q102: 1168 | R102: 2633 | S102: 1362 | T102: 1271
A103: 11051 | B103: うるいど南１丁目 | C103: 222 | D103: 569 | E103: 285 | F103: 284 | H103: 4003 | I103: 辰巳台東３丁目 | J103: 1121 | K103: 2722 | L103: 1462 | M103: 1260 | O103: 13600 | P103: 上高根 | Q103: 795 | R103: 1799 | S103: 902 | T103: 897
A104: 11052 | B104: うるいど南２丁目 | C104: 154 | D104: 402 | E104: 202 | F104: 200 | H104: 4004 | I104: 辰巳台東４丁目 | J104: 862 | K104: 2094 | L104: 1131 | M104: 963 | O104: 13700 | P104: 馬立 | Q104: 1341 | R104: 2985 | S104: 1505 | T104: 1480
A105: 11053 | B105: うるいど南３丁目 | C105: 320 | D105: 936 | E105: 490 | F105: 446 | H105: 4005 | I105: 辰巳台東５丁目 | J105: 301 | K105: 581 | L105: 319 | M105: 262 | O105: 13800 | P105: 上原 | Q105: 68 | R105: 146 | S105: 78 | T105: 68
A106: 11100 | B106: 下野 | C106: 153 | D106: 377 | E106: 176 | F106: 201 | H106: 4101 | I106: 辰巳台西１丁目 | J106: 365 | K106: 974 | L106: 477 | M106: 497 | O106: 13900 | P106: 南岩崎 | Q106: 416 | R106: 944 | S106: 468 | T106: 476
A107: 11200 | B107: 永吉 | C107: 125 | D107: 282 | E107: 142 | F107: 140 | H107: 4102 | I107: 辰巳台西２丁目 | J107: 389 | K107: 1118 | L107: 555 | M107: 563 | O107: 14000 | P107: 寺谷 | Q107: 95 | R107: 236 | S107: 117 | T107: 119
A108: 11300 | B108: 番場 | C108: 83 | D108: 202 | E108: 107 | F108: 95 | H108: 4103 | I108: 辰巳台西３丁目 | J108: 730 | K108: 1235 | L108: 809 | M108: 426 | O108: 14100 | P108: 栢橋 | Q108: 225 | R108: 525 | S108: 275 | T108: 250
A109: 11400 | B109: 押沼 | C109: 57 | D109: 145 | E109: 77 | F109: 68 | H109: 4104 | I109: 辰巳台西４丁目 | J109: 328 | K109: 774 | L109: 370 | M109: 404 | O109: 14200 | P109: 西国吉 | Q109: 777 | R109: 1770 | S109: 910 | T109: 860
A110: 11500 | B110: 瀬又 | C110: 1623 | D110: 3510 | E110: 1703 | F110: 1807 | H110: 4105 | I110: 辰巳台西５丁目 | J110: 150 | K110: 324 | L110: 159 | M110: 165 | O110: 14300 | P110: 佐是 | Q110: 328 | R110: 789 | S110: 411 | T110: 378
A111: 11600 | B111: 中野 | C111: 36 | D111: 94 | E111: 52 | F111: 42 | O111: 14400 | P111: 妙香 | Q111: 80 | R111: 183 | S111: 96 | T111: 87
A112: 11700 | B112: 高田 | C112: 52 | D112: 126 | E112: 63 | F112: 63 | O112: 14500 | P112: 奉免 | Q112: 187 | R112: 441 | S112: 203 | T112: 238
A113: 11800 | B113: 高倉 | C113: 52 | D113: 110 | E113: 51 | F113: 59 | O113: 14600 | P113: 牛久 | Q113: 905 | R113: 1893 | S113: 954 | T113: 939
A114: 11900 | B114: 東国吉 | C114: 116 | D114: 295 | E114: 136 | F114: 159 | O114: 14700 | P114: 皆吉 | Q114: 749 | R114: 1640 | S114: 812 | T114: 828
A115: 12000 | B115: 金剛地 | C115: 165 | D115: 411 | E115: 205 | F115: 206 | O115: 14800 | P115: 金沢 | Q115: 29 | R115: 79 | S115: 39 | T115: 40
A116: 12100 | B116: 奈良 | C116: 66 | D116: 172 | E116: 87 | F116: 85 | O116: 14900 | P116: 大蔵 | Q116: 13 | R116: 29 | S116: 19 | T116: 10
A117: 12200 | B117: 古都辺 | C117: 30 | D117: 75 | E117: 37 | F117: 38 | O117: 15000 | P117: 岩 | Q117: 48 | R117: 92 | S117: 49 | T117: 43
A118: 12300 | B118: 喜多 | C118: 728 | D118: 1630 | E118: 824 | F118: 806 | O118: 15100 | P118: 藪 | Q118: 70 | R118: 173 | S118: 88 | T118: 85
A119: 12400 | B119: 犬成 | C119: 243 | D119: 467 | E119: 257 | F119: 210 | O119: 15200 | P119: 中 | Q119: 355 | R119: 817 | S119: 418 | T119: 399
A120: 12500 | B120: 大作 | C120: 41 | D120: 89 | E120: 43 | F120: 46 | O120: 15300 | P120: 安久谷 | Q120: 101 | R120: 223 | S120: 109 | T120: 114
A121: 12600 | B121: 滝口 | C121: 37 | D121: 91 | E121: 48 | F121: 43 | O121: 15400 | P121: 米沢 | Q121: 141 | R121: 322 | S121: 155 | T121: 167
A122: 12700 | B122: 勝間 | C122: 207 | D122: 355 | E122: 146 | F122: 209 | O122: 15500 | P122: 真ケ谷 | Q122: 49 | R122: 142 | S122: 68 | T122: 74
... A127: 13200 | B127: 山之郷飛地 | C127: 2 | D127: 6 | E127: 2 | F127: 4 | O127: 16000 | P127: 奥野 | Q127: 56 | R127: 147 | S127: 69 | T127: 78
O128: 16100 | P128: 水沢 | Q128: 24 | R128: 59 | S128: 26 | T128: 33
O129: 16200 | P129: 原田 | Q129: 27 | R129: 60 | S129: 24 | T129: 36
O130: 16300 | P130: 石川 | Q130: 450 | R130: 1074 | S130: 543 | T130: 531
O131: 16400 | P131: 江子田 | Q131: 131 | R131: 293 | S131: 148 | T131: 145
O132: 16500 | P132: 下矢田 | Q132: 182 | R132: 431 | S132: 203 | T132: 228
O133: 16600 | P133: 矢田 | Q133: 27 | R133: 67 | S133: 30 | T133: 37
O134: 16700 | P134: 池和田 | Q134: 126 | R134: 290 | S134: 136 | T134: 154
O135: 16800 | P135: 鶴舞 | Q135: 523 | R135: 1126 | S135: 528 | T135: 598
O136: 16900 | P136: 田尾 | Q136: 200 | R136: 463 | S136: 235 | T136: 228
O137: 17000 | P137: 山小川 | Q137: 87 | R137: 194 | S137: 105 | T137: 89
O138: 17100 | P138: 平蔵 | Q138: 196 | R138: 452 | S138: 233 | T138: 219
O139: 17200 | P139: 米原 | Q139: 145 | R139: 286 | S139: 157 | T139: 129
O140: 17300 | P140: 小草畑 | Q140: 33 | R140: 78 | S140: 37 | T140: 41
...

Sheet 2017_06
A1: 平成29年6月1日現在 世帯数及び人口
A2: CD | B2: 大字名 | C2: 世帯数 | D2: 総数 | E2: 男 | F2: 女 | H2: CD | I2: 大字名 | J2: 世帯数 | K2: 総数 | L2: 男 | M2: 女 | O2: CD | P2: 大字名 | Q2: 世帯数 | R2: 総数 | S2: 男 | T2: 女
A3: 1655 | B3: 千種５丁目 | C3: 213 | D3: 543 | E3: 275 | F3: 268 | H3: 7900 | I3: 平田 | J3: 822 | K3: 1703 | L3: 852 | M3: 851 | O3: 30101 | P3: 国分寺台中央１丁目 | Q3: 314 | R3: 694 | S3: 352 | T3: 342
A4: 1656 | B4: 千種６丁目 | C4: 110 | D4: 395 | E4: 207 | F4: 188 | H4: 8000 | I4: 五井 | J4: 8099 | K4: 16954 | L4: 8966 | M4: 7988 | O4: 30102 | P4: 国分寺台中央２丁目 | Q4: 333 | R4: 776 | S4: 401 | T4: 375
A5: 1657 | B5: 千種７丁目 | C5: 378 | D5: 885 | E5: 468 | F5: 417 | H5: 8051 | I5: 五井中央東１丁目 | J5: 338 | K5: 588 | L5: 312 | M5: 276 | O5: 30103 | P5: 国分寺台中央３丁目 | Q5: 263 | R5: 527 | S5: 286 | T5: 241
A6: 4300 | B6: 千種海岸 | C6: 2 | D6: 2 | E6: 2 | F6: 0 | H6: 8052 | I6: 五井中央東２丁目 | J6: 480 | K6: 828 | L6: 441 | M6: 387 | O6: 30104 | P6: 国分寺台中央４丁目 | Q6: 241 | R6: 550 | S6: 285 | T6: 265
A7: 4400 | B7: 五井南海岸 | C7: 1 | D7: 3 | E7: 0 | F7: 3 | H7: 8061 | I7: 五井中央西１丁目 | J7: 398 | K7: 715 | L7: 390 | M7: 325 | O7: 30105 | P7: 国分寺台中央５丁目 | Q7: 258 | R7: 656 | S7: 353 | T7: 303
A8: 4500 | B8: 五井海岸 | C8: 1 | D8: 1 | E8: 1 | F8: 0 | H8: 8062 | I8: 五井中央西２丁目 | J8: 269 | K8: 524 | L8: 270 | M8: 254 | O8: 30106 | P8: 国分寺台中央６丁目 | Q8: 244 | R8: 626 | S8: 295 | T8: 331
A9: 4600 | B9: 青柳 | C9: 1318 | D9: 2814 | E9: 1496 | F9: 1318 | H9: 8063 | I9: 五井中央西３丁目 | J9: 68 | K9: 143 | L9: 73 | M9: 70 | O9: 30107 | P9: 国分寺台中央７丁目 | Q9: 323 | R9: 709 | S9: 354 | T9: 355
A10: 4651 | B10: 青柳１丁目 | C10: 141 | D10: 300 | E10: 162 | F10: 138 | H10: 8101 | I10: 五井東１丁目 | J10: 654 | K10: 1217 | L10: 644 | M10: 573 | O10: 30201 | P10: 東国分寺台１丁目 | Q10: 274 | R10: 628 | S10: 310 | T10: 318
A11: 4652 | B11: 青柳２丁目 | C11: 86 | D11: 171 | E11: 95 | F11: 76 | H11: 8102 | I11: 五井東２丁目 | J11: 389 | K11: 821 | L11: 434 | M11: 387 | O11: 30202 | P11: 東国分寺台２丁目 | Q11: 195 | R11: 451 | S11: 221 | T11: 230
A12: 4653 | B12: 青柳３丁目 | C12: 189 | D12: 230 | E12: 164 | F12: 66 | H12: 8103 | I12: 五井東３丁目 | J12: 530 | K12: 1040 | L12: 564 | M12: 476 | O12: 30203 | P12: 東国分寺台３丁目 | Q12: 183 | R12: 465 | S12: 238 | T12: 227
A13: 4702 | B13: 青柳北２丁目 | C13: 3 | D13: 8 | E13: 3 | F13: 5 | H13: 8111 | I13: 更級１丁目 | J13: 157 | K13: 288 | L13: 168 | M13: 120 | O13: 30204 | P13: 東国分寺台４丁目 | Q13: 188 | R13: 447 | S13: 232 | T13: 215
A14: 4703 | B14: 青柳北３丁目 | C14: 17 | D14: 32 | E14: 19 | F14: 13 | H14: 8112 | I14: 更級２丁目 | J14: 79 | K14: 178 | L14: 85 | M14: 93 | O14: 30205 | P14: 東国分寺台５丁目 | Q14: 202 | R14: 437 | S14: 229 | T14: 208
... A38: 6800 | B38: 神代 | C38: 48 | D38: 119 | E38: 64 | F38: 55 | H38: 8114 | I38: 更級４丁目 | J38: 0 | K38: 0 | L38: 0 | M38: 0 | O38: 30901 | P38: 惣社１丁目 | Q38: 205 | R38: 475 | S38: 238 | T38: 237
A39: 6900 | B39: 十五沢 | C39: 51 | D39: 125 | E39: 55 | F39: 70 | O39: 30902 | P39: 惣社２丁目 | Q39: 168 | R39: 395 | S39: 193 | T39: 202
A40: 7000 | B40: 小折 | C40: 34 | D40: 73 | E40: 33 | F40: 40 | O40: 30903 | P40: 惣社３丁目 | Q40: 231 | R40: 520 | S40: 269 | T40: 251
A41: 7100 | B41: 西野 | C41: 52 | D41: 128 | E41: 69 | F41: 59 | O41: 30904 | P41: 惣社４丁目 | Q41: 173 | R41: 427 | S41: 228 | T41: 199
A42: 7200 | B42: 柳原 | C42: 52 | D42: 122 | E42: 56 | F42: 66 | O42: 30905 | P42: 惣社５丁目 | Q42: 245 | R42: 667 | S42: 322 | T42: 345
A43: 7300 | B43: 村上 | C43: 634 | D43: 1426 | E43: 726 | F43: 700 | O43: 31001 | P43: 加茂１丁目 | Q43: 204 | R43: 445 | S43: 220 | T43: 225
A44: 7400 | B44: 西広 | C44: 45 | D44: 102 | E44: 54 | F44: 48 | O44: 31002 | P44: 加茂２丁目 | Q44: 159 | R44: 392 | S44: 198 | T44: 194
A45: 7500 | B45: 惣社 | C45: 331 | D45: 682 | E45: 352 | F45: 330 | O45: 31101 | P45: 根田１丁目 | Q45: 177 | R45: 396 | S45: 205 | T45: 191
A46: 7600 | B46: 加茂 | C46: 3 | D46: 7 | E46: 3 | F46: 4 | O46: 31102 | P46: 根田２丁目 | Q46: 115 | R46: 209 | S46: 123 | T46: 86
A47: 7700 | B47: 根田 | C47: 108 | D47: 235 | E47: 120 | F47: 115 | O47: 31103 | P47: 根田３丁目 | Q47: 277 | R47: 559 | S47: 299 | T47: 260
A48: 7800 | B48: 岩野見 | C48: 148 | D48: 338 | E48: 162 | F48: 176 | O48: 31104 | P48: 根田４丁目 | Q48: 165 | R48: 399 | S48: 198 | T48: 201
O49: 3 | P49: 五井地区_計 | Q49: 40379 | R49: 87505 | S49: 45900 | T49: 41605
A50: 平成29年6月1日現在 世帯数及び人口
A51: CD | B51: 大字名 | C51: 世帯数 | D51: 総数 | E51: 男 | F51: 女 | H51: CD | I51: 大字名 | J51: 世帯数 | K51: 総数 | L51: 男 | M51: 女 | O51: CD | P51: 大字名 | Q51: 世帯数 | R51: 総数 | S51: 男 | T51: 女
A52: 100 | B52: 姉崎海岸 | C52: 30 | D52: 34 | E52: 31 | F52: 3 | H52: 1900 | I52: 八幡海岸通 | J52: 307 | K52: 455 | L52: 325 | M52: 130 | O52: 8400 | P52: 山倉 | Q52: 238 | R52: 483 | S52: 257 | T52: 226
A53: 200 | B53: 椎津 | C53: 1666 | D53: 3492 | E53: 1809 | F53: 1683 | H53: 2001 | I53: 八幡浦１丁目 | J53: 3 | K53: 3 | L53: 3 | M53: 0 | O53: 8500 | P53: 福増 | Q53: 299 | R53: 707 | S53: 365 | T53: 342
A54: 300 | B54: 姉崎 | C54: 5864 | D54: 11641 | E54: 6279 | F54: 5362 | H54: 2100 | I54: 八幡 | J54: 5597 | K54: 11344 | L54: 5903 | M54: 5441 | O54: 8600 | P54: 海士有木 | Q54: 531 | R54: 1245 | S54: 633 | T54: 612
A55: 311 | B55: 姉崎東１丁目 | C55: 46 | D55: 114 | E55: 58 | F55: 56 | H55: 2201 | I55: 八幡北町１丁目 | J55: 235 | K55: 336 | L55: 212 | M55: 124 | O55: 8700 | P55: 大坪 | Q55: 246 | R55: 571 | S55: 310 | T55: 261
A56: 312 | B56: 姉崎東２丁目 | C56: 123 | D56: 293 | E56: 152 | F56: 141 | H56: 2202 | I56: 八幡北町２丁目 | J56: 212 | K56: 391 | L56: 220 | M56: 171 | O56: 8800 | P56: 新生 | Q56: 89 | R56: 232 | S56: 125 | T56: 107
A57: 313 | B57: 姉崎東３丁目 | C57: 83 | D57: 171 | E57: 93 | F57: 78 | H57: 2203 | I57: 八幡北町３丁目 | J57: 130 | K57: 192 | L57: 118 | M57: 74 | O57: 8900 | P57: 権現堂 | Q57: 88 | R57: 226 | S57: 114 | T57: 112
A58: 321 | B58: 姉崎西１丁目 | C58: 209 | D58: 358 | E58: 224 | F58: 134 | H58: 2301 | I58: 八幡石塚１丁目 | J58: 324 | K58: 685 | L58: 385 | M58: 300 | O58: 9000 | P58: 糸久 | Q58: 32 | R58: 87 | S58: 47 | T58: 40
A59: 322 | B59: 姉崎西２丁目 | C59: 254 | D59: 480 | E59: 257 | F59: 223 | H59: 2302 | I59: 八幡石塚２丁目 | J59: 342 | K59: 698 | L59: 376 | M59: 322 | O59: 9100 | P59: 宮原 | Q59: 96 | R59: 193 | S59: 103 | T59: 90
A60: 323 | B60: 姉崎西３丁目 | C60: 220 | D60: 491 | E60: 272 | F60: 219 | H60: 2400 | I60: 五所 | J60: 1348 | K60: 2940 | L60: 1529 | M60: 1411 | O60: 9200 | P60: 分目 | Q60: 74 | R60: 187 | S60: 96 | T60: 91
A61: 1300 | B61: 畑木 | C61: 156 | D61: 276 | E61: 134 | F61: 142 | H61: 2500 | I61: 旭五所 | J61: 481 | K61: 949 | L61: 507 | M61: 442 | O61: 9300 | P61: 浅井小向 | Q61: 56 | R61: 159 | S61: 71 | T61: 88
A62: 1400 | B62: 柏原 | C62: 124 | D62: 245 | E62: 110 | F62: 135 | H62: 2600 | I62: 東五所 | J62: 1035 | K62: 1992 | L62: 1085 | M62: 907 | O62: 9400 | P62: 相川 | Q62: 41 | R62: 88 | S62: 48 | T62: 40
A63: 1500 | B63: 白塚 | C63: 329 | D63: 707 | E63: 347 | F63: 360 | H63: 2700 | I63: 西五所 | J63: 860 | K63: 1629 | L63: 864 | M63: 765 | O63: 9500 | P63: 新堀 | Q63: 261 | R63: 556 | S63: 264 | T63: 292
... A76: 1708 | B76: 青葉台８丁目 | C76: 194 | D76: 435 | E76: 227 | F76: 208 | H76: 3200 | I76: 能満 | J76: 2301 | K76: 4865 | L76: 2418 | M76: 2447 | O76: 10801 | P76: 光風台１丁目 | Q76: 361 | R76: 912 | S76: 442 | T76: 470
H77: 3300 | I77: 門前 | J77: 2 | K77: 8 | L77: 3 | M77: 5 | O77: 10802 | P77: 光風台２丁目 | Q77: 351 | R77: 829 | S77: 422 | T77: 407
H78: 3301 | I78: 門前１丁目 | J78: 85 | K78: 176 | L78: 95 | M78: 81 | O78: 10803 | P78: 光風台３丁目 | Q78: 658 | R78: 1487 | S78: 733 | T78: 754
H79: 3302 | I79: 門前２丁目 | J79: 363 | K79: 789 | L79: 410 | M79: 379 | O79: 10804 | P79: 光風台４丁目 | Q79: 650 | R79: 1510 | S79: 758 | T79: 752
H80: 3400 | I80: 市原 | J80: 465 | K80: 939 | L80: 463 | M80: 476 | O80: 10805 | P80: 光風台５丁目 | Q80: 546 | R80: 1312 | S80: 651 | T80: 661
H81: 3500 | I81: 山木 | J81: 1160 | K81: 2455 | L81: 1309 | M81: 1146
H82: 3600 | I82: 菊間 | J82: 2291 | K82: 5217 | L82: 2464 | M82: 2753
H83: 3700 | I83: 古市場 | J83: 1200 | K83: 2786 | L83: 1424 | M83: 1362
H84: 3800 | I84: 草刈 | J84: 482 | K84: 1142 | L84: 557 | M84: 585
H85: 3900 | I85: 大 | J85: 2039 | K85: 4453 | L85: 2303 | M85: 2150
H86: 4201 | I86: 若宮１丁目 | J86: 515 | K86: 942 | L86: 505 | M86: 437
H87: 4202 | I87: 若宮２丁目 | J87: 357 | K87: 757 | L87: 357 | M87: 400
H88: 4203 | I88: 若宮３丁目 | J88: 317 | K88: 678 | L88: 318 | M88: 360
H89: 4204 | I89: 若宮４丁目 | J89: 352 | K89: 716 | L89: 334 | M89: 382
H90: 4205 | I90: 若宮５丁目 | J90: 248 | K90: 576 | L90: 280 | M90: 296
H91: 4206 | I91: 若宮６丁目 | J91: 301 | K91: 696 | L91: 349 | M91: 347
H92: 4207 | I92: 若宮７丁目 | J92: 76 | K92: 180 | L92: 83 | M92: 97
H93: 2002 | I93: 八幡浦２丁目 | J93: 16 | K93: 16 | L93: 16 | M93: 0
A98: 1 | B98: 姉崎地区_計 | C98: 14186 | D98: 29610 | E98: 15516 | F98: 14094 | H98: 2 | I98: 市原地区_計 | J98: 24830 | K98: 52177 | L98: 26791 | M98: 25386 | O98: 4 | P98: 三和地区_計 | Q98: 6191 | R98: 14521 | S98: 7309 | T98: 7212
A99: 平成29年6月1日現在 世帯数及び人口
A100: CD | B100: 大字名 | C100: 世帯数 | D100: 総数 | E100: 男 | F100: 女 | H100: CD | I100: 大字名 | J100: 世帯数 | K100: 総数 | L100: 男 | M100: 女 | O100: CD | P100: 大字名 | Q100: 世帯数 | R100: 総数 | S100: 男 | T100: 女
A101: 10900 | B101: 久々津 | C101: 66 | D101: 158 | E101: 74 | F101: 84 | H101: 4001 | I101: 辰巳台東１丁目 | J101: 408 | K101: 1115 | L101: 560 | M101: 555 | O101: 13400 | P101: 風戸 | Q101: 17 | R101: 36 | S101: 20 | T101: 16
A102: 11000 | B102: 潤井戸 | C102: 974 | D102: 2126 | E102: 1081 | F102: 1045 | H102: 4002 | I102: 辰巳台東２丁目 | J102: 613 | K102: 1111 | L102: 558 | M102: 553 | O102: 13500 | P102: 中高根 | Q102: 1167 | R102: 2633 | S102: 1360 | T102: 1273
A103: 11051 | B103: うるいど南１丁目 | C103: 221 | D103: 570 | E103: 285 | F103: 285 | H103: 4003 | I103: 辰巳台東３丁目 | J103: 1107 | K103: 2710 | L103: 1447 | M103: 1263 | O103: 13600 | P103: 上高根 | Q103: 800 | R103: 1802 | S103: 903 | T103: 899
A104: 11052 | B104: うるいど南２丁目 | C104: 153 | D104: 403 | E104: 203 | F104: 200 | H104: 4004 | I104: 辰巳台東４丁目 | J104: 860 | K104: 2093 | L104: 1129 | M104: 964 | O104: 13700 | P104: 馬立 | Q104: 1339 | R104: 2978 | S104: 1501 | T104: 1477
A105: 11053 | B105: うるいど南３丁目 | C105: 321 | D105: 943 | E105: 491 | F105: 452 | H105: 4005 | I105: 辰巳台東５丁目 | J105: 299 | K105: 579 | L105: 320 | M105: 259 | O105: 13800 | P105: 上原 | Q105: 68 | R105: 146 | S105: 77 | T105: 69
A106: 11100 | B106: 下野 | C106: 154 | D106: 377 | E106: 176 | F106: 201 | H106: 4101 | I106: 辰巳台西１丁目 | J106: 367 | K106: 984 | L106: 483 | M106: 501 | O106: 13900 | P106: 南岩崎 | Q106: 415 | R106: 944 | S106: 469 | T106: 475
A107: 11200 | B107: 永吉 | C107: 124 | D107: 282 | E107: 142 | F107: 140 | H107: 4102 | I107: 辰巳台西２丁目 | J107: 388 | K107: 1116 | L107: 554 | M107: 562 | O107: 14000 | P107: 寺谷 | Q107: 95 | R107: 235 | S107: 117 | T107: 118
A108: 11300 | B108: 番場 | C108: 83 | D108: 202 | E108: 107 | F108: 95 | H108: 4103 | I108: 辰巳台西３丁目 | J108: 717 | K108: 1218 | L108: 797 | M108: 421 | O108: 14100 | P108: 栢橋 | Q108: 225 | R108: 525 | S108: 275 | T108: 250
A109: 11400 | B109: 押沼 | C109: 57 | D109: 144 | E109: 76 | F109: 68 | H109: 4104 | I109: 辰巳台西４丁目 | J109: 329 | K109: 777 | L109: 372 | M109: 405 | O109: 14200 | P109: 西国吉 | Q109: 775 | R109: 1766 | S109: 907 | T109: 859
A110: 11500 | B110: 瀬又 | C110: 1626 | D110: 3526 | E110: 1709 | F110: 1817 | H110: 4105 | I110: 辰巳台西５丁目 | J110: 151 | K110: 325 | L110: 160 | M110: 165 | O110: 14300 | P110: 佐是 | Q110: 328 | R110: 789 | S110: 411 | T110: 378
A111: 11600 | B111: 中野 | C111: 36 | D111: 93 | E111: 52 | F111: 41 | O111: 14400 | P111: 妙香 | Q111: 80 | R111: 182 | S111: 95 | T111: 87
A112: 11700 | B112: 高田 | C112: 52 | D112: 126 | E112: 63 | F112: 63 | O112: 14500 | P112: 奉免 | Q112: 186 | R112: 439 | S112: 202 | T112: 237
A113: 11800 | B113: 高倉 | C113: 52 | D113: 110 | E113: 51 | F113: 59 | O113: 14600 | P113: 牛久 | Q113: 908 | R113: 1897 | S113: 955 | T113: 942
A114: 11900 | B114: 東国吉 | C114: 114 | D114: 292 | E114: 135 | F114: 157 | O114: 14700 | P114: 皆吉 | Q114: 749 | R114: 1639 | S114: 812 | T114: 827
A115: 12000 | B115: 金剛地 | C115: 164 | D115: 407 | E115: 203 | F115: 204 | O115: 14800 | P115: 金沢 | Q115: 29 | R115: 79 | S115: 39 | T115: 40
A116: 12100 | B116: 奈良 | C116: 66 | D116: 172 | E116: 87 | F116: 85 | O116: 14900 | P116: 大蔵 | Q116: 13 | R116: 29 | S116: 19 | T116: 10
A117: 12200 | B117: 古都辺 | C117: 30 | D117: 75 | E117: 37 | F117: 38 | O117: 15000 | P117: 岩 | Q117: 46 | R117: 90 | S117: 49 | T117: 41
A118: 12300 | B118: 喜多 | C118: 726 | D118: 1626 | E118: 821 | F118: 805 | O118: 15100 | P118: 藪 | Q118: 68 | R118: 170 | S118: 86 | T118: 84
A119: 12400 | B119: 犬成 | C119: 245 | D119: 469 | E119: 258 | F119: 211 | O119: 15200 | P119: 中 | Q119: 354 | R119: 814 | S119: 416 | T119: 398
A120: 12500 | B120: 大作 | C120: 41 | D120: 89 | E120: 43 | F120: 46 | O120: 15300 | P120: 安久谷 | Q120: 101 | R120: 223 | S120: 109 | T120: 114
A121: 12600 | B121: 滝口 | C121: 37 | D121: 91 | E121: 48 | F121: 43 | O121: 15400 | P121: 米沢 | Q121: 142 | R121: 321 | S121: 154 | T121: 167
A122: 12700 | B122: 勝間 | C122: 207 | D122: 355 | E122: 147 | F122: 208 | O122: 15500 | P122: 真ケ谷 | Q122: 49 | R122: 142 | S122: 68 | T122: 74
... A127: 13200 | B127: 山之郷飛地 | C127: 2 | D127: 6 | E127: 2 | F127: 4 | O127: 16000 | P127: 奥野 | Q127: 56 | R127: 146 | S127: 69 | T127: 77
O128: 16100 | P128: 水沢 | Q128: 24 | R128: 59 | S128: 26 | T128: 33
O129: 16200 | P129: 原田 | Q129: 27 | R129: 60 | S129: 24 | T129: 36
O130: 16300 | P130: 石川 | Q130: 451 | R130: 1074 | S130: 543 | T130: 531
O131: 16400 | P131: 江子田 | Q131: 130 | R131: 292 | S131: 147 | T131: 145
O132: 16500 | P132: 下矢田 | Q132: 180 | R132: 430 | S132: 202 | T132: 228
O133: 16600 | P133: 矢田 | Q133: 27 | R133: 67 | S133: 30 | T133: 37
O134: 16700 | P134: 池和田 | Q134: 127 | R134: 291 | S134: 138 | T134: 153
O135: 16800 | P135: 鶴舞 | Q135: 520 | R135: 1120 | S135: 525 | T135: 595
O136: 16900 | P136: 田尾 | Q136: 199 | R136: 462 | S136: 234 | T136: 228
O137: 17000 | P137: 山小川 | Q137: 87 | R137: 194 | S137: 105 | T137: 89
O138: 17100 | P138: 平蔵 | Q138: 195 | R138: 450 | S138: 232 | T138: 218
O139: 17200 | P139: 米原 | Q139: 145 | R139: 287 | S139: 157 | T139: 130
O140: 17300 | P140: 小草畑 | Q140: 33 | R140: 78 | S140: 37 | T140: 41
A147: 5 | B147: 市津地区_計 | C147: 6153 | D147: 13922 | E147: 6928 | F147: 6994 | H147: 6 | I147: 辰巳台地区_計 | J147: 5239 | K147: 12028 | L147: 6380 | M147: 5648 | O147: 7 | P147: 南総地区_計 | Q147: 10311 | R147: 23291 | S147: 11712 | T147: 11579
A148: 平成29年6月1日現在 世帯数及び人口
A149: CD | B149: 大字名 | C149: 世帯数 | D149: 総数 | E149: 男 | F149: 女 | H149: CD | I149: 大字名 | J149: 世帯数 | K149: 総数 | L149: 男 | M149: 女 | O149: CD | P149: 大字名 | Q149: 世帯数 | R149: 総数 | S149: 男 | T149: 女
...

Sheet 2017_07
A1: 平成29年7月1日現在 世帯数及び人口
A2: CD | B2: 大字名 | C2: 世帯数 | D2: 総数 | E2: 男 | F2: 女 | H2: CD | I2: 大字名 | J2: 世帯数 | K2: 総数 | L2: 男 | M2: 女 | O2: CD | P2: 大字名 | Q2: 世帯数 | R2: 総数 | S2: 男 | T2: 女
A3: 1655 | B3: 千種５丁目 | C3: 216 | D3: 548 | E3: 277 | F3: 271 | H3: 7900 | I3: 平田 | J3: 825 | K3: 1710 | L3: 858 | M3: 852 | O3: 30101 | P3: 国分寺台中央１丁目 | Q3: 311 | R3: 687 | S3: 350 | T3: 337
A4: 1656 | B4: 千種６丁目 | C4: 110 | D4: 395 | E4: 207 | F4: 188 | H4: 8000 | I4: 五井 | J4: 8088 | K4: 16928 | L4: 8959 | M4: 7969 | O4: 30102 | P4: 国分寺台中央２丁目 | Q4: 334 | R4: 773 | S4: 399 | T4: 374
A5: 1657 | B5: 千種７丁目 | C5: 376 | D5: 883 | E5: 467 | F5: 416 | H5: 8051 | I5: 五井中央東１丁目 | J5: 340 | K5: 591 | L5: 316 | M5: 275 | O5: 30103 | P5: 国分寺台中央３丁目 | Q5: 264 | R5: 528 | S5: 287 | T5: 241
A6: 4300 | B6: 千種海岸 | C6: 2 | D6: 2 | E6: 2 | F6: 0 | H6: 8052 | I6: 五井中央東２丁目 | J6: 481 | K6: 827 | L6: 442 | M6: 385 | O6: 30104 | P6: 国分寺台中央４丁目 | Q6: 243 | R6: 556 | S6: 286 | T6: 270
A7: 4400 | B7: 五井南海岸 | C7: 1 | D7: 3 | E7: 0 | F7: 3 | H7: 8061 | I7: 五井中央西１丁目 | J7: 398 | K7: 714 | L7: 390 | M7: 324 | O7: 30105 | P7: 国分寺台中央５丁目 | Q7: 260 | R7: 657 | S7: 353 | T7: 304
A8: 4500 | B8: 五井海岸 | C8: 1 | D8: 1 | E8: 1 | F8: 0 | H8: 8062 | I8: 五井中央西２丁目 | J8: 271 | K8: 531 | L8: 273 | M8: 258 | O8: 30106 | P8: 国分寺台中央６丁目 | Q8: 242 | R8: 620 | S8: 293 | T8: 327
A9: 4600 | B9: 青柳 | C9: 1315 | D9: 2814 | E9: 1494 | F9: 1320 | H9: 8063 | I9: 五井中央西３丁目 | J9: 68 | K9: 143 | L9: 74 | M9: 69 | O9: 30107 | P9: 国分寺台中央７丁目 | Q9: 323 | R9: 713 | S9: 355 | T9: 358
A10: 4651 | B10: 青柳１丁目 | C10: 141 | D10: 300 | E10: 163 | F10: 137 | H10: 8101 | I10: 五井東１丁目 | J10: 651 | K10: 1214 | L10: 642 | M10: 572 | O10: 30201 | P10: 東国分寺台１丁目 | Q10: 276 | R10: 631 | S10: 312 | T10: 319
A11: 4652 | B11: 青柳２丁目 | C11: 87 | D11: 172 | E11: 95 | F11: 77 | H11: 8102 | I11: 五井東２丁目 | J11: 382 | K11: 809 | L11: 429 | M11: 380 | O11: 30202 | P11: 東国分寺台２丁目 | Q11: 197 | R11: 454 | S11: 222 | T11: 232
A12: 4653 | B12: 青柳３丁目 | C12: 192 | D12: 233 | E12: 168 | F12: 65 | H12: 8103 | I12: 五井東３丁目 | J12: 531 | K12: 1041 | L12: 564 | M12: 477 | O12: 30203 | P12: 東国分寺台３丁目 | Q12: 184 | R12: 465 | S12: 238 | T12: 227
A13: 4702 | B13: 青柳北２丁目 | C13: 3 | D13: 8 | E13: 3 | F13: 5 | H13: 8111 | I13: 更級１丁目 | J13: 157 | K13: 290 | L13: 169 | M13: 121 | O13: 30204 | P13: 東国分寺台４丁目 | Q13: 188 | R13: 450 | S13: 234 | T13: 216
A14: 4703 | B14: 青柳北３丁目 | C14: 17 | D14: 32 | E14: 19 | F14: 13 | H14: 8112 | I14: 更級２丁目 | J14: 80 | K14: 181 | L14: 87 | M14: 94 | O14: 30205 | P14: 東国分寺台５丁目 | Q14: 200 | R14: 433 | S14: 226 | T14: 207
... A38: 6800 | B38: 神代 | C38: 48 | D38: 119 | E38: 64 | F38: 55 | H38: 8114 | I38: 更級４丁目 | J38: 0 | K38: 0 | L38: 0 | M38: 0 | O38: 30901 | P38: 惣社１丁目 | Q38: 208 | R38: 482 | S38: 241 | T38: 241
A39: 6900 | B39: 十五沢 | C39: 53 | D39: 129 | E39: 56 | F39: 73 | O39: 30902 | P39: 惣社２丁目 | Q39: 168 | R39: 394 | S39: 193 | T39: 201
A40: 7000 | B40: 小折 | C40: 34 | D40: 73 | E40: 33 | F40: 40 | O40: 30903 | P40: 惣社３丁目 | Q40: 231 | R40: 520 | S40: 268 | T40: 252
A41: 7100 | B41: 西野 | C41: 52 | D41: 128 | E41: 69 | F41: 59 | O41: 30904 | P41: 惣社４丁目 | Q41: 173 | R41: 427 | S41: 228 | T41: 199
A42: 7200 | B42: 柳原 | C42: 52 | D42: 122 | E42: 56 | F42: 66 | O42: 30905 | P42: 惣社５丁目 | Q42: 244 | R42: 663 | S42: 319 | T42: 344
A43: 7300 | B43: 村上 | C43: 632 | D43: 1422 | E43: 721 | F43: 701 | O43: 31001 | P43: 加茂１丁目 | Q43: 202 | R43: 437 | S43: 218 | T43: 219
A44: 7400 | B44: 西広 | C44: 45 | D44: 102 | E44: 54 | F44: 48 | O44: 31002 | P44: 加茂２丁目 | Q44: 160 | R44: 392 | S44: 199 | T44: 193
A45: 7500 | B45: 惣社 | C45: 332 | D45: 683 | E45: 356 | F45: 327 | O45: 31101 | P45: 根田１丁目 | Q45: 178 | R45: 398 | S45: 207 | T45: 191
A46: 7600 | B46: 加茂 | C46: 3 | D46: 7 | E46: 3 | F46: 4 | O46: 31102 | P46: 根田２丁目 | Q46: 114 | R46: 209 | S46: 123 | T46: 86
A47: 7700 | B47: 根田 | C47: 106 | D47: 230 | E47: 117 | F47: 113 | O47: 31103 | P47: 根田３丁目 | Q47: 277 | R47: 560 | S47: 298 | T47: 262
A48: 7800 | B48: 岩野見 | C48: 147 | D48: 337 | E48: 161 | F48: 176 | O48: 31104 | P48: 根田４丁目 | Q48: 164 | R48: 397 | S48: 197 | T48: 200
O49: 3 | P49: 五井地区_計 | Q49: 40394 | R49: 87506 | S49: 45915 | T49: 41591
A50: 平成29年7月1日現在 世帯数及び人口
A51: CD | B51: 大字名 | C51: 世帯数 | D51: 総数 | E51: 男 | F51: 女 | H51: CD | I51: 大字名 | J51: 世帯数 | K51: 総数 | L51: 男 | M51: 女 | O51: CD | P51: 大字名 | Q51: 世帯数 | R51: 総数 | S51: 男 | T51: 女
A52: 100 | B52: 姉崎海岸 | C52: 32 | D52: 36 | E52: 33 | F52: 3 | H52: 1900 | I52: 八幡海岸通 | J52: 305 | K52: 451 | L52: 322 | M52: 129 | O52: 8400 | P52: 山倉 | Q52: 241 | R52: 484 | S52: 260 | T52: 224
A53: 200 | B53: 椎津 | C53: 1658 | D53: 3482 | E53: 1801 | F53: 1681 | H53: 2001 | I53: 八幡浦１丁目 | J53: 3 | K53: 3 | L53: 3 | M53: 0 | O53: 8500 | P53: 福増 | Q53: 298 | R53: 706 | S53: 364 | T53: 342
A54: 300 | B54: 姉崎 | C54: 5867 | D54: 11634 | E54: 6279 | F54: 5355 | H54: 2100 | I54: 八幡 | J54: 5591 | K54: 11343 | L54: 5902 | M54: 5441 | O54: 8600 | P54: 海士有木 | Q54: 526 | R54: 1238 | S54: 627 | T54: 611
A55: 311 | B55: 姉崎東１丁目 | C55: 47 | D55: 117 | E55: 59 | F55: 58 | H55: 2201 | I55: 八幡北町１丁目 | J55: 231 | K55: 332 | L55: 211 | M55: 121 | O55: 8700 | P55: 大坪 | Q55: 248 | R55: 569 | S55: 311 | T55: 258
A56: 312 | B56: 姉崎東２丁目 | C56: 123 | D56: 291 | E56: 150 | F56: 141 | H56: 2202 | I56: 八幡北町２丁目 | J56: 212 | K56: 393 | L56: 219 | M56: 174 | O56: 8800 | P56: 新生 | Q56: 88 | R56: 231 | S56: 125 | T56: 106
A57: 313 | B57: 姉崎東３丁目 | C57: 83 | D57: 171 | E57: 93 | F57: 78 | H57: 2203 | I57: 八幡北町３丁目 | J57: 130 | K57: 193 | L57: 118 | M57: 75 | O57: 8900 | P57: 権現堂 | Q57: 89 | R57: 230 | S57: 116 | T57: 114
A58: 321 | B58: 姉崎西１丁目 | C58: 210 | D58: 362 | E58: 226 | F58: 136 | H58: 2301 | I58: 八幡石塚１丁目 | J58: 320 | K58: 674 | L58: 380 | M58: 294 | O58: 9000 | P58: 糸久 | Q58: 32 | R58: 87 | S58: 47 | T58: 40
A59: 322 | B59: 姉崎西２丁目 | C59: 252 | D59: 477 | E59: 254 | F59: 223 | H59: 2302 | I59: 八幡石塚２丁目 | J59: 345 | K59: 700 | L59: 378 | M59: 322 | O59: 9100 | P59: 宮原 | Q59: 96 | R59: 192 | S59: 102 | T59: 90
A60: 323 | B60: 姉崎西３丁目 | C60: 219 | D60: 488 | E60: 272 | F60: 216 | H60: 2400 | I60: 五所 | J60: 1350 | K60: 2938 | L60: 1524 | M60: 1414 | O60: 9200 | P60: 分目 | Q60: 74 | R60: 187 | S60: 96 | T60: 91
A61: 1300 | B61: 畑木 | C61: 156 | D61: 276 | E61: 134 | F61: 142 | H61: 2500 | I61: 旭五所 | J61: 479 | K61: 947 | L61: 504 | M61: 443 | O61: 9300 | P61: 浅井小向 | Q61: 56 | R61: 158 | S61: 71 | T61: 87
A62: 1400 | B62: 柏原 | C62: 124 | D62: 245 | E62: 110 | F62: 135 | H62: 2600 | I62: 東五所 | J62: 1039 | K62: 1995 | L62: 1087 | M62: 908 | O62: 9400 | P62: 相川 | Q62: 41 | R62: 88 | S62: 48 | T62: 40
A63: 1500 | B63: 白塚 | C63: 330 | D63: 706 | E63: 347 | F63: 359 | H63: 2700 | I63: 西五所 | J63: 863 | K63: 1632 | L63: 868 | M63: 764 | O63: 9500 | P63: 新堀 | Q63: 262 | R63: 558 | S63: 265 | T63: 293
... A76: 1708 | B76: 青葉台８丁目 | C76: 194 | D76: 435 | E76: 227 | F76: 208 | H76: 3200 | I76: 能満 | J76: 2294 | K76: 4860 | L76: 2411 | M76: 2449 | O76: 10801 | P76: 光風台１丁目 | Q76: 363 | R76: 911 | S76: 443 | T76: 468
H77: 3300 | I77: 門前 | J77: 2 | K77: 8 | L77: 3 | M77: 5 | O77: 10802 | P77: 光風台２丁目 | Q77: 351 | R77: 828 | S77: 422 | T77: 406
H78: 3301 | I78: 門前１丁目 | J78: 86 | K78: 176 | L78: 97 | M78: 79 | O78: 10803 | P78: 光風台３丁目 | Q78: 660 | R78: 1490 | S78: 735 | T78: 755
H79: 3302 | I79: 門前２丁目 | J79: 364 | K79: 790 | L79: 411 | M79: 379 | O79: 10804 | P79: 光風台４丁目 | Q79: 647 | R79: 1506 | S79: 756 | T79: 750
H80: 3400 | I80: 市原 | J80: 462 | K80: 927 | L80: 457 | M80: 470 | O80: 10805 | P80: 光風台５丁目 | Q80: 545 | R80: 1310 | S80: 651 | T80: 659
H81: 3500 | I81: 山木 | J81: 1165 | K81: 2465 | L81: 1312 | M81: 1153
H82: 3600 | I82: 菊間 | J82: 2292 | K82: 5217 | L82: 2463 | M82: 2754
H83: 3700 | I83: 古市場 | J83: 1198 | K83: 2785 | L83: 1425 | M83: 1360
H84: 3800 | I84: 草刈 | J84: 483 | K84: 1142 | L84: 556 | M84: 586
H85: 3900 | I85: 大 | J85: 2044 | K85: 4460 | L85: 2303 | M85: 2157
H86: 4201 | I86: 若宮１丁目 | J86: 520 | K86: 949 | L86: 509 | M86: 440
H87: 4202 | I87: 若宮２丁目 | J87: 357 | K87: 756 | L87: 357 | M87: 399
H88: 4203 | I88: 若宮３丁目 | J88: 317 | K88: 678 | L88: 319 | M88: 359
H89: 4204 | I89: 若宮４丁目 | J89: 352 | K89: 713 | L89: 332 | M89: 381
H90: 4205 | I90: 若宮５丁目 | J90: 248 | K90: 577 | L90: 280 | M90: 297
H91: 4206 | I91: 若宮６丁目 | J91: 301 | K91: 696 | L91: 350 | M91: 346
H92: 4207 | I92: 若宮７丁目 | J92: 76 | K92: 179 | L92: 82 | M92: 97
H93: 2002 | I93: 八幡浦２丁目 | J93: 17 | K93: 17 | L93: 17 | M93: 0
A98: 1 | B98: 姉崎地区_計 | C98: 14198 | D98: 29613 | E98: 15519 | F98: 14094 | H98: 2 | I98: 市原地区_計 | J98: 24834 | K98: 52168 | L98: 26777 | M98: 25391 | O98: 4 | P98: 三和地区_計 | Q98: 6190 | R98: 14503 | S98: 7304 | T98: 7199
A99: 平成29年7月1日現在 世帯数及び人口
A100: CD | B100: 大字名 | C100: 世帯数 | D100: 総数 | E100: 男 | F100: 女 | H100: CD | I100: 大字名 | J100: 世帯数 | K100: 総数 | L100: 男 | M100: 女 | O100: CD | P100: 大字名 | Q100: 世帯数 | R100: 総数 | S100: 男 | T100: 女
A101: 10900 | B101: 久々津 | C101: 66 | D101: 160 | E101: 75 | F101: 85 | H101: 4001 | I101: 辰巳台東１丁目 | J101: 407 | K101: 1112 | L101: 558 | M101: 554 | O101: 13400 | P101: 風戸 | Q101: 17 | R101: 36 | S101: 20 | T101: 16
A102: 11000 | B102: 潤井戸 | C102: 991 | D102: 2149 | E102: 1097 | F102: 1052 | H102: 4002 | I102: 辰巳台東２丁目 | J102: 613 | K102: 1109 | L102: 560 | M102: 549 | O102: 13500 | P102: 中高根 | Q102: 1164 | R102: 2622 | S102: 1354 | T102: 1268
A103: 11051 | B103: うるいど南１丁目 | C103: 222 | D103: 573 | E103: 286 | F103: 287 | H103: 4003 | I103: 辰巳台東３丁目 | J103: 1106 | K103: 2717 | L103: 1450 | M103: 1267 | O103: 13600 | P103: 上高根 | Q103: 801 | R103: 1800 | S103: 901 | T103: 899
A104: 11052 | B104: うるいど南２丁目 | C104: 155 | D104: 411 | E104: 205 | F104: 206 | H104: 4004 | I104: 辰巳台東４丁目 | J104: 855 | K104: 2088 | L104: 1126 | M104: 962 | O104: 13700 | P104: 馬立 | Q104: 1332 | R104: 2961 | S104: 1491 | T104: 1470
A105: 11053 | B105: うるいど南３丁目 | C105: 323 | D105: 946 | E105: 492 | F105: 454 | H105: 4005 | I105: 辰巳台東５丁目 | J105: 302 | K105: 579 | L105: 319 | M105: 260 | O105: 13800 | P105: 上原 | Q105: 69 | R105: 146 | S105: 77 | T105: 69
A106: 11100 | B106: 下野 | C106: 156 | D106: 382 | E106: 178 | F106: 204 | H106: 4101 | I106: 辰巳台西１丁目 | J106: 364 | K106: 974 | L106: 477 | M106: 497 | O106: 13900 | P106: 南岩崎 | Q106: 414 | R106: 940 | S106: 467 | T106: 473
A107: 11200 | B107: 永吉 | C107: 124 | D107: 280 | E107: 140 | F107: 140 | H107: 4102 | I107: 辰巳台西２丁目 | J107: 389 | K107: 1115 | L107: 554 | M107: 561 | O107: 14000 | P107: 寺谷 | Q107: 97 | R107: 239 | S107: 119 | T107: 120
A108: 11300 | B108: 番場 | C108: 83 | D108: 202 | E108: 107 | F108: 95 | H108: 4103 | I108: 辰巳台西３丁目 | J108: 711 | K108: 1212 | L108: 791 | M108: 421 | O108: 14100 | P108: 栢橋 | Q108: 225 | R108: 525 | S108: 275 | T108: 250
A109: 11400 | B109: 押沼 | C109: 57 | D109: 144 | E109: 76 | F109: 68 | H109: 4104 | I109: 辰巳台西４丁目 | J109: 330 | K109: 778 | L109: 372 | M109: 406 | O109: 14200 | P109: 西国吉 | Q109: 774 | R109: 1765 | S109: 905 | T109: 860
A110: 11500 | B110: 瀬又 | C110: 1626 | D110: 3527 | E110: 1710 | F110: 1817 | H110: 4105 | I110: 辰巳台西５丁目 | J110: 150 | K110: 324 | L110: 159 | M110: 165 | O110: 14300 | P110: 佐是 | Q110: 325 | R110: 785 | S110: 407 | T110: 378
A111: 11600 | B111: 中野 | C111: 36 | D111: 94 | E111: 52 | F111: 42 | O111: 14400 | P111: 妙香 | Q111: 80 | R111: 182 | S111: 95 | T111: 87
A112: 11700 | B112: 高田 | C112: 52 | D112: 126 | E112: 64 | F112: 62 | O112: 14500 | P112: 奉免 | Q112: 186 | R112: 444 | S112: 205 | T112: 239
A113: 11800 | B113: 高倉 | C113: 52 | D113: 110 | E113: 51 | F113: 59 | O113: 14600 | P113: 牛久 | Q113: 913 | R113: 1896 | S113: 951 | T113: 945
A114: 11900 | B114: 東国吉 | C114: 113 | D114: 289 | E114: 134 | F114: 155 | O114: 14700 | P114: 皆吉 | Q114: 749 | R114: 1637 | S114: 812 | T114: 825
A115: 12000 | B115: 金剛地 | C115: 165 | D115: 408 | E115: 204 | F115: 204 | O115: 14800 | P115: 金沢 | Q115: 29 | R115: 79 | S115: 39 | T115: 40
A116: 12100 | B116: 奈良 | C116: 67 | D116: 173 | E116: 88 | F116: 85 | O116: 14900 | P116: 大蔵 | Q116: 13 | R116: 29 | S116: 19 | T116: 10
A117: 12200 | B117: 古都辺 | C117: 30 | D117: 75 | E117: 37 | F117: 38 | O117: 15000 | P117: 岩 | Q117: 52 | R117: 96 | S117: 47 | T117: 49
A118: 12300 | B118: 喜多 | C118: 724 | D118: 1621 | E118: 817 | F118: 804 | O118: 15100 | P118: 藪 | Q118: 67 | R118: 169 | S118: 85 | T118: 84
A119: 12400 | B119: 犬成 | C119: 244 | D119: 466 | E119: 257 | F119: 209 | O119: 15200 | P119: 中 | Q119: 356 | R119: 813 | S119: 416 | T119: 397
A120: 12500 | B120: 大作 | C120: 41 | D120: 89 | E120: 43 | F120: 46 | O120: 15300 | P120: 安久谷 | Q120: 101 | R120: 223 | S120: 109 | T120: 114
A121: 12600 | B121: 滝口 | C121: 37 | D121: 91 | E121: 48 | F121: 43 | O121: 15400 | P121: 米沢 | Q121: 141 | R121: 320 | S121: 154 | T121: 166
A122: 12700 | B122: 勝間 | C122: 211 | D122: 359 | E122: 149 | F122: 210 | O122: 15500 | P122: 真ケ谷 | Q122: 49 | R122: 143 | S122: 69 | T122: 74
... A127: 13200 | B127: 山之郷飛地 | C127: 2 | D127: 6 | E127: 2 | F127: 4 | O127: 16000 | P127: 奥野 | Q127: 56 | R127: 146 | S127: 69 | T127: 77
O128: 16100 | P128: 水沢 | Q128: 24 | R128: 59 | S128: 26 | T128: 33
O129: 16200 | P129: 原田 | Q129: 27 | R129: 60 | S129: 24 | T129: 36
O130: 16300 | P130: 石川 | Q130: 451 | R130: 1075 | S130: 545 | T130: 530
O131: 16400 | P131: 江子田 | Q131: 131 | R131: 292 | S131: 148 | T131: 144
O132: 16500 | P132: 下矢田 | Q132: 181 | R132: 432 | S132: 202 | T132: 230
O133: 16600 | P133: 矢田 | Q133: 27 | R133: 67 | S133: 30 | T133: 37
O134: 16700 | P134: 池和田 | Q134: 127 | R134: 285 | S134: 135 | T134: 150
O135: 16800 | P135: 鶴舞 | Q135: 518 | R135: 1119 | S135: 525 | T135: 594
O136: 16900 | P136: 田尾 | Q136: 198 | R136: 456 | S136: 230 | T136: 226
O137: 17000 | P137: 山小川 | Q137: 87 | R137: 193 | S137: 104 | T137: 89
O138: 17100 | P138: 平蔵 | Q138: 195 | R138: 449 | S138: 231 | T138: 218
O139: 17200 | P139: 米原 | Q139: 145 | R139: 287 | S139: 158 | T139: 129
O140: 17300 | P140: 小草畑 | Q140: 35 | R140: 80 | S140: 38 | T140: 42
A147: 5 | B147: 市津地区_計 | C147: 6179 | D147: 13963 | E147: 6948 | F147: 7015 | H147: 6 | I147: 辰巳台地区_計 | J147: 5227 | K147: 12008 | L147: 6366 | M147: 5642 | O147: 7 | P147: 南総地区_計 | Q147: 10312 | R147: 23251 | S147: 11681 | T147: 11570
A148: 平成29年7月1日現在 世帯数及び人口
A149: CD | B149: 大字名 | C149: 世帯数 | D149: 総数 | E149: 男 | F149: 女 | H149: CD | I149: 大字名 | J149: 世帯数 | K149: 総数 | L149: 男 | M149: 女 | O149: CD | P149: 大字名 | Q149: 世帯数 | R149: 総数 | S149: 男 | T149: 女
...

Sheet 2017_08
A1: 42948
A2: CD | B2: 大字名 | C2: 世帯数 | D2: 総数 | E2: 男 | F2: 女 | H2: CD | I2: 大字名 | J2: 世帯数 | K2: 総数 | L2: 男 | M2: 女 | O2: CD | P2: 大字名 | Q2: 世帯数 | R2: 総数 | S2: 男 | T2: 女
A3: 1655 | B3: 千種５丁目 | C3: 216 | D3: 544 | E3: 278 | F3: 266 | H3: 7900 | I3: 平田 | J3: 827 | K3: 1714 | L3: 859 | M3: 855 | O3: 30101 | P3: 国分寺台中央１丁目 | Q3: 312 | R3: 687 | S3: 350 | T3: 337
A4: 1656 | B4: 千種６丁目 | C4: 110 | D4: 394 | E4: 206 | F4: 188 | H4: 8000 | I4: 五井 | J4: 8099 | K4: 16926 | L4: 8979 | M4: 7947 | O4: 30102 | P4: 国分寺台中央２丁目 | Q4: 333 | R4: 770 | S4: 397 | T4: 373
A5: 1657 | B5: 千種７丁目 | C5: 378 | D5: 889 | E5: 470 | F5: 419 | H5: 8051 | I5: 五井中央東１丁目 | J5: 338 | K5: 589 | L5: 312 | M5: 277 | O5: 30103 | P5: 国分寺台中央３丁目 | Q5: 265 | R5: 527 | S5: 286 | T5: 241
A6: 4300 | B6: 千種海岸 | C6: 2 | D6: 2 | E6: 2 | F6: 0 | H6: 8052 | I6: 五井中央東２丁目 | J6: 482 | K6: 822 | L6: 442 | M6: 380 | O6: 30104 | P6: 国分寺台中央４丁目 | Q6: 250 | R6: 578 | S6: 296 | T6: 282
A7: 4400 | B7: 五井南海岸 | C7: 1 | D7: 3 | E7: 0 | F7: 3 | H7: 8061 | I7: 五井中央西１丁目 | J7: 398 | K7: 713 | L7: 389 | M7: 324 | O7: 30105 | P7: 国分寺台中央５丁目 | Q7: 263 | R7: 663 | S7: 356 | T7: 307
A8: 4500 | B8: 五井海岸 | C8: 1 | D8: 1 | E8: 1 | F8: 0 | H8: 8062 | I8: 五井中央西２丁目 | J8: 271 | K8: 527 | L8: 271 | M8: 256 | O8: 30106 | P8: 国分寺台中央６丁目 | Q8: 242 | R8: 618 | S8: 292 | T8: 326
A9: 4600 | B9: 青柳 | C9: 1323 | D9: 2821 | E9: 1500 | F9: 1321 | H9: 8063 | I9: 五井中央西３丁目 | J9: 68 | K9: 141 | L9: 73 | M9: 68 | O9: 30107 | P9: 国分寺台中央７丁目 | Q9: 327 | R9: 725 | S9: 360 | T9: 365
A10: 4651 | B10: 青柳１丁目 | C10: 135 | D10: 292 | E10: 156 | F10: 136 | H10: 8101 | I10: 五井東１丁目 | J10: 650 | K10: 1209 | L10: 643 | M10: 566 | O10: 30201 | P10: 東国分寺台１丁目 | Q10: 282 | R10: 640 | S10: 316 | T10: 324
A11: 4652 | B11: 青柳２丁目 | C11: 84 | D11: 169 | E11: 92 | F11: 77 | H11: 8102 | I11: 五井東２丁目 | J11: 382 | K11: 812 | L11: 428 | M11: 384 | O11: 30202 | P11: 東国分寺台２丁目 | Q11: 194 | R11: 452 | S11: 220 | T11: 232
A12: 4653 | B12: 青柳３丁目 | C12: 194 | D12: 235 | E12: 171 | F12: 64 | H12: 8103 | I12: 五井東３丁目 | J12: 528 | K12: 1034 | L12: 559 | M12: 475 | O12: 30203 | P12: 東国分寺台３丁目 | Q12: 183 | R12: 464 | S12: 237 | T12: 227
A13: 4702 | B13: 青柳北２丁目 | C13: 3 | D13: 8 | E13: 3 | F13: 5 | H13: 8111 | I13: 更級１丁目 | J13: 159 | K13: 294 | L13: 171 | M13: 123 | O13: 30204 | P13: 東国分寺台４丁目 | Q13: 188 | R13: 451 | S13: 234 | T13: 217
A14: 4703 | B14: 青柳北３丁目 | C14: 17 | D14: 32 | E14: 19 | F14: 13 | H14: 8112 | I14: 更級２丁目 | J14: 80 | K14: 181 | L14: 88 | M14: 93 | O14: 30205 | P14: 東国分寺台５丁目 | Q14: 199 | R14: 429 | S14: 225 | T14: 204
... A38: 6800 | B38: 神代 | C38: 48 | D38: 119 | E38: 64 | F38: 55 | H38: 8114 | I38: 更級４丁目 | J38: 0 | K38: 0 | L38: 0 | M38: 0 | O38: 30901 | P38: 惣社１丁目 | Q38: 209 | R38: 486 | S38: 243 | T38: 243
A39: 6900 | B39: 十五沢 | C39: 53 | D39: 131 | E39: 56 | F39: 75 | O39: 30902 | P39: 惣社２丁目 | Q39: 168 | R39: 392 | S39: 193 | T39: 199
A40: 7000 | B40: 小折 | C40: 34 | D40: 73 | E40: 33 | F40: 40 | O40: 30903 | P40: 惣社３丁目 | Q40: 231 | R40: 516 | S40: 263 | T40: 253
A41: 7100 | B41: 西野 | C41: 51 | D41: 126 | E41: 67 | F41: 59 | O41: 30904 | P41: 惣社４丁目 | Q41: 173 | R41: 423 | S41: 226 | T41: 197
A42: 7200 | B42: 柳原 | C42: 52 | D42: 124 | E42: 57 | F42: 67 | O42: 30905 | P42: 惣社５丁目 | Q42: 244 | R42: 662 | S42: 318 | T42: 344
A43: 7300 | B43: 村上 | C43: 631 | D43: 1410 | E43: 716 | F43: 694 | O43: 31001 | P43: 加茂１丁目 | Q43: 200 | R43: 435 | S43: 218 | T43: 217
A44: 7400 | B44: 西広 | C44: 45 | D44: 101 | E44: 54 | F44: 47 | O44: 31002 | P44: 加茂２丁目 | Q44: 162 | R44: 397 | S44: 203 | T44: 194
A45: 7500 | B45: 惣社 | C45: 331 | D45: 681 | E45: 357 | F45: 324 | O45: 31101 | P45: 根田１丁目 | Q45: 179 | R45: 400 | S45: 208 | T45: 192
A46: 7600 | B46: 加茂 | C46: 3 | D46: 7 | E46: 3 | F46: 4 | O46: 31102 | P46: 根田２丁目 | Q46: 113 | R46: 209 | S46: 123 | T46: 86
A47: 7700 | B47: 根田 | C47: 106 | D47: 230 | E47: 117 | F47: 113 | O47: 31103 | P47: 根田３丁目 | Q47: 274 | R47: 554 | S47: 295 | T47: 259
A48: 7800 | B48: 岩野見 | C48: 146 | D48: 335 | E48: 159 | F48: 176 | O48: 31104 | P48: 根田４丁目 | Q48: 163 | R48: 395 | S48: 196 | T48: 199
O49: 3 | P49: 五井地区_計 | Q49: 40420 | R49: 87493 | S49: 45926 | T49: 41567
A50: 平成29年8月1日現在 世帯数及び人口
A51: CD | B51: 大字名 | C51: 世帯数 | D51: 総数 | E51: 男 | F51: 女 | H51: CD | I51: 大字名 | J51: 世帯数 | K51: 総数 | L51: 男 | M51: 女 | O51: CD | P51: 大字名 | Q51: 世帯数 | R51: 総数 | S51: 男 | T51: 女
A52: 100 | B52: 姉崎海岸 | C52: 33 | D52: 37 | E52: 34 | F52: 3 | H52: 1900 | I52: 八幡海岸通 | J52: 303 | K52: 452 | L52: 320 | M52: 132 | O52: 8400 | P52: 山倉 | Q52: 240 | R52: 482 | S52: 259 | T52: 223
A53: 200 | B53: 椎津 | C53: 1668 | D53: 3494 | E53: 1808 | F53: 1686 | H53: 2001 | I53: 八幡浦１丁目 | J53: 3 | K53: 3 | L53: 3 | M53: 0 | O53: 8500 | P53: 福増 | Q53: 298 | R53: 706 | S53: 363 | T53: 343
A54: 300 | B54: 姉崎 | C54: 5867 | D54: 11631 | E54: 6277 | F54: 5354 | H54: 2100 | I54: 八幡 | J54: 5588 | K54: 11348 | L54: 5901 | M54: 5447 | O54: 8600 | P54: 海士有木 | Q54: 529 | R54: 1241 | S54: 628 | T54: 613
A55: 311 | B55: 姉崎東１丁目 | C55: 47 | D55: 117 | E55: 59 | F55: 58 | H55: 2201 | I55: 八幡北町１丁目 | J55: 233 | K55: 334 | L55: 212 | M55: 122 | O55: 8700 | P55: 大坪 | Q55: 249 | R55: 570 | S55: 311 | T55: 259
A56: 312 | B56: 姉崎東２丁目 | C56: 124 | D56: 291 | E56: 151 | F56: 140 | H56: 2202 | I56: 八幡北町２丁目 | J56: 212 | K56: 391 | L56: 216 | M56: 175 | O56: 8800 | P56: 新生 | Q56: 88 | R56: 229 | S56: 124 | T56: 105
A57: 313 | B57: 姉崎東３丁目 | C57: 84 | D57: 174 | E57: 94 | F57: 80 | H57: 2203 | I57: 八幡北町３丁目 | J57: 129 | K57: 192 | L57: 117 | M57: 75 | O57: 8900 | P57: 権現堂 | Q57: 88 | R57: 229 | S57: 117 | T57: 112
A58: 321 | B58: 姉崎西１丁目 | C58: 214 | D58: 370 | E58: 230 | F58: 140 | H58: 2301 | I58: 八幡石塚１丁目 | J58: 321 | K58: 674 | L58: 381 | M58: 293 | O58: 9000 | P58: 糸久 | Q58: 32 | R58: 87 | S58: 47 | T58: 40
A59: 322 | B59: 姉崎西２丁目 | C59: 255 | D59: 481 | E59: 257 | F59: 224 | H59: 2302 | I59: 八幡石塚２丁目 | J59: 349 | K59: 704 | L59: 378 | M59: 326 | O59: 9100 | P59: 宮原 | Q59: 96 | R59: 191 | S59: 102 | T59: 89
A60: 323 | B60: 姉崎西３丁目 | C60: 221 | D60: 491 | E60: 273 | F60: 218 | H60: 2400 | I60: 五所 | J60: 1350 | K60: 2934 | L60: 1522 | M60: 1412 | O60: 9200 | P60: 分目 | Q60: 73 | R60: 186 | S60: 96 | T60: 90
A61: 1300 | B61: 畑木 | C61: 156 | D61: 275 | E61: 134 | F61: 141 | H61: 2500 | I61: 旭五所 | J61: 476 | K61: 937 | L61: 496 | M61: 441 | O61: 9300 | P61: 浅井小向 | Q61: 56 | R61: 158 | S61: 71 | T61: 87
A62: 1400 | B62: 柏原 | C62: 126 | D62: 248 | E62: 112 | F62: 136 | H62: 2600 | I62: 東五所 | J62: 1040 | K62: 1999 | L62: 1089 | M62: 910 | O62: 9400 | P62: 相川 | Q62: 42 | R62: 89 | S62: 49 | T62: 40
A63: 1500 | B63: 白塚 | C63: 328 | D63: 703 | E63: 347 | F63: 356 | H63: 2700 | I63: 西五所 | J63: 860 | K63: 1625 | L63: 860 | M63: 765 | O63: 9500 | P63: 新堀 | Q63: 261 | R63: 555 | S63: 266 | T63: 289
... A76: 1708 | B76: 青葉台８丁目 | C76: 195 | D76: 436 | E76: 227 | F76: 209 | H76: 3200 | I76: 能満 | J76: 2292 | K76: 4858 | L76: 2412 | M76: 2446 | O76: 10801 | P76: 光風台１丁目 | Q76: 362 | R76: 910 | S76: 443 | T76: 467
H77: 3300 | I77: 門前 | J77: 2 | K77: 8 | L77: 3 | M77: 5 | O77: 10802 | P77: 光風台２丁目 | Q77: 350 | R77: 824 | S77: 420 | T77: 404
H78: 3301 | I78: 門前１丁目 | J78: 87 | K78: 177 | L78: 98 | M78: 79 | O78: 10803 | P78: 光風台３丁目 | Q78: 661 | R78: 1489 | S78: 733 | T78: 756
H79: 3302 | I79: 門前２丁目 | J79: 365 | K79: 792 | L79: 412 | M79: 380 | O79: 10804 | P79: 光風台４丁目 | Q79: 647 | R79: 1506 | S79: 756 | T79: 750
H80: 3400 | I80: 市原 | J80: 462 | K80: 927 | L80: 457 | M80: 470 | O80: 10805 | P80: 光風台５丁目 | Q80: 549 | R80: 1314 | S80: 651 | T80: 663
H81: 3500 | I81: 山木 | J81: 1169 | K81: 2466 | L81: 1314 | M81: 1152
H82: 3600 | I82: 菊間 | J82: 2294 | K82: 5203 | L82: 2459 | M82: 2744
H83: 3700 | I83: 古市場 | J83: 1214 | K83: 2796 | L83: 1433 | M83: 1363
H84: 3800 | I84: 草刈 | J84: 484 | K84: 1140 | L84: 555 | M84: 585
H85: 3900 | I85: 大 | J85: 2045 | K85: 4467 | L85: 2306 | M85: 2161
H86: 4201 | I86: 若宮１丁目 | J86: 521 | K86: 943 | L86: 509 | M86: 434
H87: 4202 | I87: 若宮２丁目 | J87: 357 | K87: 755 | L87: 356 | M87: 399
H88: 4203 | I88: 若宮３丁目 | J88: 316 | K88: 676 | L88: 319 | M88: 357
H89: 4204 | I89: 若宮４丁目 | J89: 354 | K89: 714 | L89: 331 | M89: 383
H90: 4205 | I90: 若宮５丁目 | J90: 248 | K90: 576 | L90: 279 | M90: 297
H91: 4206 | I91: 若宮６丁目 | J91: 301 | K91: 693 | L91: 348 | M91: 345
H92: 4207 | I92: 若宮７丁目 | J92: 76 | K92: 179 | L92: 82 | M92: 97
H93: 2002 | I93: 八幡浦２丁目 | J93: 18 | K93: 18 | L93: 18 | M93: 0
A98: 1 | B98: 姉崎地区_計 | C98: 14218 | D98: 29629 | E98: 15528 | F98: 14101 | H98: 2 | I98: 市原地区_計 | J98: 24859 | K98: 52154 | L98: 26765 | M98: 25389 | O98: 4 | P98: 三和地区_計 | Q98: 6192 | R98: 14485 | S98: 7294 | T98: 7191
A99: 平成29年8月1日現在 世帯数及び人口
A100: CD | B100: 大字名 | C100: 世帯数 | D100: 総数 | E100: 男 | F100: 女 | H100: CD | I100: 大字名 | J100: 世帯数 | K100: 総数 | L100: 男 | M100: 女 | O100: CD | P100: 大字名 | Q100: 世帯数 | R100: 総数 | S100: 男 | T100: 女
A101: 10900 | B101: 久々津 | C101: 66 | D101: 159 | E101: 74 | F101: 85 | H101: 4001 | I101: 辰巳台東１丁目 | J101: 406 | K101: 1115 | L101: 559 | M101: 556 | O101: 13400 | P101: 風戸 | Q101: 17 | R101: 35 | S101: 19 | T101: 16
A102: 11000 | B102: 潤井戸 | C102: 987 | D102: 2140 | E102: 1089 | F102: 1051 | H102: 4002 | I102: 辰巳台東２丁目 | J102: 610 | K102: 1107 | L102: 558 | M102: 549 | O102: 13500 | P102: 中高根 | Q102: 1161 | R102: 2609 | S102: 1345 | T102: 1264
A103: 11051 | B103: うるいど南１丁目 | C103: 219 | D103: 571 | E103: 284 | F103: 287 | H103: 4003 | I103: 辰巳台東３丁目 | J103: 1104 | K103: 2720 | L103: 1450 | M103: 1270 | O103: 13600 | P103: 上高根 | Q103: 797 | R103: 1796 | S103: 899 | T103: 897
A104: 11052 | B104: うるいど南２丁目 | C104: 153 | D104: 411 | E104: 204 | F104: 207 | H104: 4004 | I104: 辰巳台東４丁目 | J104: 857 | K104: 2089 | L104: 1126 | M104: 963 | O104: 13700 | P104: 馬立 | Q104: 1337 | R104: 2961 | S104: 1489 | T104: 1472
A105: 11053 | B105: うるいど南３丁目 | C105: 322 | D105: 951 | E105: 493 | F105: 458 | H105: 4005 | I105: 辰巳台東５丁目 | J105: 302 | K105: 579 | L105: 318 | M105: 261 | O105: 13800 | P105: 上原 | Q105: 68 | R105: 145 | S105: 76 | T105: 69
A106: 11100 | B106: 下野 | C106: 155 | D106: 379 | E106: 176 | F106: 203 | H106: 4101 | I106: 辰巳台西１丁目 | J106: 363 | K106: 971 | L106: 475 | M106: 496 | O106: 13900 | P106: 南岩崎 | Q106: 414 | R106: 937 | S106: 466 | T106: 471
A107: 11200 | B107: 永吉 | C107: 124 | D107: 277 | E107: 140 | F107: 137 | H107: 4102 | I107: 辰巳台西２丁目 | J107: 389 | K107: 1111 | L107: 553 | M107: 558 | O107: 14000 | P107: 寺谷 | Q107: 97 | R107: 238 | S107: 118 | T107: 120
A108: 11300 | B108: 番場 | C108: 83 | D108: 201 | E108: 106 | F108: 95 | H108: 4103 | I108: 辰巳台西３丁目 | J108: 706 | K108: 1204 | L108: 787 | M108: 417 | O108: 14100 | P108: 栢橋 | Q108: 224 | R108: 525 | S108: 275 | T108: 250
A109: 11400 | B109: 押沼 | C109: 57 | D109: 144 | E109: 76 | F109: 68 | H109: 4104 | I109: 辰巳台西４丁目 | J109: 331 | K109: 778 | L109: 371 | M109: 407 | O109: 14200 | P109: 西国吉 | Q109: 777 | R109: 1766 | S109: 907 | T109: 859
A110: 11500 | B110: 瀬又 | C110: 1624 | D110: 3522 | E110: 1707 | F110: 1815 | H110: 4105 | I110: 辰巳台西５丁目 | J110: 150 | K110: 324 | L110: 159 | M110: 165 | O110: 14300 | P110: 佐是 | Q110: 326 | R110: 783 | S110: 404 | T110: 379
A111: 11600 | B111: 中野 | C111: 36 | D111: 94 | E111: 52 | F111: 42 | O111: 14400 | P111: 妙香 | Q111: 80 | R111: 182 | S111: 95 | T111: 87
A112: 11700 | B112: 高田 | C112: 52 | D112: 126 | E112: 64 | F112: 62 | O112: 14500 | P112: 奉免 | Q112: 186 | R112: 442 | S112: 204 | T112: 238
A113: 11800 | B113: 高倉 | C113: 52 | D113: 109 | E113: 50 | F113: 59 | O113: 14600 | P113: 牛久 | Q113: 914 | R113: 1892 | S113: 947 | T113: 945
A114: 11900 | B114: 東国吉 | C114: 113 | D114: 288 | E114: 133 | F114: 155 | O114: 14700 | P114: 皆吉 | Q114: 747 | R114: 1634 | S114: 812 | T114: 822
A115: 12000 | B115: 金剛地 | C115: 166 | D115: 409 | E115: 204 | F115: 205 | O115: 14800 | P115: 金沢 | Q115: 29 | R115: 78 | S115: 39 | T115: 39
A116: 12100 | B116: 奈良 | C116: 67 | D116: 173 | E116: 88 | F116: 85 | O116: 14900 | P116: 大蔵 | Q116: 13 | R116: 29 | S116: 19 | T116: 10
A117: 12200 | B117: 古都辺 | C117: 31 | D117: 77 | E117: 38 | F117: 39 | O117: 15000 | P117: 岩 | Q117: 38 | R117: 82 | S117: 41 | T117: 41
A118: 12300 | B118: 喜多 | C118: 725 | D118: 1613 | E118: 812 | F118: 801 | O118: 15100 | P118: 藪 | Q118: 67 | R118: 168 | S118: 84 | T118: 84
A119: 12400 | B119: 犬成 | C119: 245 | D119: 464 | E119: 257 | F119: 207 | O119: 15200 | P119: 中 | Q119: 357 | R119: 812 | S119: 415 | T119: 397
A120: 12500 | B120: 大作 | C120: 40 | D120: 88 | E120: 42 | F120: 46 | O120: 15300 | P120: 安久谷 | Q120: 101 | R120: 223 | S120: 109 | T120: 114
A121: 12600 | B121: 滝口 | C121: 38 | D121: 92 | E121: 48 | F121: 44 | O121: 15400 | P121: 米沢 | Q121: 141 | R121: 319 | S121: 153 | T121: 166
A122: 12700 | B122: 勝間 | C122: 207 | D122: 353 | E122: 145 | F122: 208 | O122: 15500 | P122: 真ケ谷 | Q122: 49 | R122: 143 | S122: 69 | T122: 74
... A127: 13200 | B127: 山之郷飛地 | C127: 2 | D127: 6 | E127: 2 | F127: 4 | O127: 16000 | P127: 奥野 | Q127: 56 | R127: 146 | S127: 69 | T127: 77
O128: 16100 | P128: 水沢 | Q128: 24 | R128: 59 | S128: 26 | T128: 33
O129: 16200 | P129: 原田 | Q129: 27 | R129: 60 | S129: 24 | T129: 36
O130: 16300 | P130: 石川 | Q130: 452 | R130: 1075 | S130: 545 | T130: 530
O131: 16400 | P131: 江子田 | Q131: 131 | R131: 292 | S131: 148 | T131: 144
O132: 16500 | P132: 下矢田 | Q132: 181 | R132: 433 | S132: 203 | T132: 230
O133: 16600 | P133: 矢田 | Q133: 27 | R133: 66 | S133: 30 | T133: 36
O134: 16700 | P134: 池和田 | Q134: 127 | R134: 285 | S134: 135 | T134: 150
O135: 16800 | P135: 鶴舞 | Q135: 515 | R135: 1115 | S135: 523 | T135: 592
O136: 16900 | P136: 田尾 | Q136: 197 | R136: 452 | S136: 230 | T136: 222
O137: 17000 | P137: 山小川 | Q137: 88 | R137: 194 | S137: 105 | T137: 89
O138: 17100 | P138: 平蔵 | Q138: 194 | R138: 448 | S138: 230 | T138: 218
O139: 17200 | P139: 米原 | Q139: 145 | R139: 288 | S139: 158 | T139: 130
O140: 17300 | P140: 小草畑 | Q140: 36 | R140: 81 | S140: 39 | T140: 42
A147: 5 | B147: 市津地区_計 | C147: 6165 | D147: 13921 | E147: 6914 | F147: 7007 | H147: 6 | I147: 辰巳台地区_計 | J147: 5218 | K147: 11998 | L147: 6356 | M147: 5642 | O147: 7 | P147: 南総地区_計 | Q147: 10296 | R147: 23193 | S147: 11648 | T147: 11545
A148: 平成29年8月1日現在 世帯数及び人口
A149: CD | B149: 大字名 | C149: 世帯数 | D149: 総数 | E149: 男 | F149: 女 | H149: CD | I149: 大字名 | J149: 世帯数 | K149: 総数 | L149: 男 | M149: 女 | O149: CD | P149: 大字名 | Q149: 世帯数 | R149: 総数 | S149: 男 | T149: 女
...

Sheet 2017_09
A1: 平成29年9月1日現在 世帯数及び人口
A2: CD | B2: 大字名 | C2: 世帯数 | D2: 総数 | E2: 男 | F2: 女 | H2: CD | I2: 大字名 | J2: 世帯数 | K2: 総数 | L2: 男 | M2: 女 | O2: CD | P2: 大字名 | Q2: 世帯数 | R2: 総数 | S2: 男 | T2: 女
A3: 1655 | B3: 千種５丁目 | C3: 217 | D3: 546 | E3: 279 | F3: 267 | H3: 7900 | I3: 平田 | J3: 824 | K3: 1716 | L3: 859 | M3: 857 | O3: 30101 | P3: 国分寺台中央１丁目 | Q3: 314 | R3: 687 | S3: 350 | T3: 337
A4: 1656 | B4: 千種６丁目 | C4: 109 | D4: 391 | E4: 205 | F4: 186 | H4: 8000 | I4: 五井 | J4: 8094 | K4: 16920 | L4: 8966 | M4: 7954 | O4: 30102 | P4: 国分寺台中央２丁目 | Q4: 333 | R4: 771 | S4: 397 | T4: 374
A5: 1657 | B5: 千種７丁目 | C5: 376 | D5: 892 | E5: 472 | F5: 420 | H5: 8051 | I5: 五井中央東１丁目 | J5: 337 | K5: 587 | L5: 310 | M5: 277 | O5: 30103 | P5: 国分寺台中央３丁目 | Q5: 267 | R5: 532 | S5: 289 | T5: 243
A6: 4300 | B6: 千種海岸 | C6: 2 | D6: 2 | E6: 2 | F6: 0 | H6: 8052 | I6: 五井中央東２丁目 | J6: 483 | K6: 826 | L6: 445 | M6: 381 | O6: 30104 | P6: 国分寺台中央４丁目 | Q6: 249 | R6: 575 | S6: 296 | T6: 279
A7: 4400 | B7: 五井南海岸 | C7: 1 | D7: 3 | E7: 0 | F7: 3 | H7: 8061 | I7: 五井中央西１丁目 | J7: 396 | K7: 712 | L7: 387 | M7: 325 | O7: 30105 | P7: 国分寺台中央５丁目 | Q7: 260 | R7: 653 | S7: 349 | T7: 304
A8: 4500 | B8: 五井海岸 | C8: 1 | D8: 1 | E8: 1 | F8: 0 | H8: 8062 | I8: 五井中央西２丁目 | J8: 274 | K8: 530 | L8: 273 | M8: 257 | O8: 30106 | P8: 国分寺台中央６丁目 | Q8: 242 | R8: 619 | S8: 291 | T8: 328
A9: 4600 | B9: 青柳 | C9: 1325 | D9: 2825 | E9: 1503 | F9: 1322 | H9: 8063 | I9: 五井中央西３丁目 | J9: 70 | K9: 144 | L9: 74 | M9: 70 | O9: 30107 | P9: 国分寺台中央７丁目 | Q9: 328 | R9: 729 | S9: 362 | T9: 367
A10: 4651 | B10: 青柳１丁目 | C10: 135 | D10: 296 | E10: 159 | F10: 137 | H10: 8101 | I10: 五井東１丁目 | J10: 650 | K10: 1203 | L10: 643 | M10: 560 | O10: 30201 | P10: 東国分寺台１丁目 | Q10: 283 | R10: 642 | S10: 317 | T10: 325
A11: 4652 | B11: 青柳２丁目 | C11: 82 | D11: 165 | E11: 90 | F11: 75 | H11: 8102 | I11: 五井東２丁目 | J11: 381 | K11: 813 | L11: 428 | M11: 385 | O11: 30202 | P11: 東国分寺台２丁目 | Q11: 194 | R11: 450 | S11: 219 | T11: 231
A12: 4653 | B12: 青柳３丁目 | C12: 199 | D12: 240 | E12: 176 | F12: 64 | H12: 8103 | I12: 五井東３丁目 | J12: 525 | K12: 1022 | L12: 556 | M12: 466 | O12: 30203 | P12: 東国分寺台３丁目 | Q12: 183 | R12: 465 | S12: 237 | T12: 228
A13: 4702 | B13: 青柳北２丁目 | C13: 3 | D13: 7 | E13: 2 | F13: 5 | H13: 8111 | I13: 更級１丁目 | J13: 157 | K13: 294 | L13: 172 | M13: 122 | O13: 30204 | P13: 東国分寺台４丁目 | Q13: 188 | R13: 452 | S13: 233 | T13: 219
A14: 4703 | B14: 青柳北３丁目 | C14: 19 | D14: 34 | E14: 21 | F14: 13 | H14: 8112 | I14: 更級２丁目 | J14: 81 | K14: 181 | L14: 88 | M14: 93 | O14: 30205 | P14: 東国分寺台５丁目 | Q14: 199 | R14: 427 | S14: 223 | T14: 204
... A38: 6800 | B38: 神代 | C38: 48 | D38: 118 | E38: 63 | F38: 55 | H38: 8114 | I38: 更級４丁目 | J38: 0 | K38: 0 | L38: 0 | M38: 0 | O38: 30901 | P38: 惣社１丁目 | Q38: 207 | R38: 481 | S38: 242 | T38: 239
A39: 6900 | B39: 十五沢 | C39: 53 | D39: 131 | E39: 56 | F39: 75 | O39: 30902 | P39: 惣社２丁目 | Q39: 167 | R39: 390 | S39: 191 | T39: 199
A40: 7000 | B40: 小折 | C40: 34 | D40: 73 | E40: 33 | F40: 40 | O40: 30903 | P40: 惣社３丁目 | Q40: 238 | R40: 525 | S40: 267 | T40: 258
A41: 7100 | B41: 西野 | C41: 52 | D41: 127 | E41: 68 | F41: 59 | O41: 30904 | P41: 惣社４丁目 | Q41: 172 | R41: 422 | S41: 225 | T41: 197
A42: 7200 | B42: 柳原 | C42: 52 | D42: 123 | E42: 56 | F42: 67 | O42: 30905 | P42: 惣社５丁目 | Q42: 245 | R42: 664 | S42: 319 | T42: 345
A43: 7300 | B43: 村上 | C43: 629 | D43: 1408 | E43: 714 | F43: 694 | O43: 31001 | P43: 加茂１丁目 | Q43: 199 | R43: 434 | S43: 218 | T43: 216
A44: 7400 | B44: 西広 | C44: 47 | D44: 103 | E44: 55 | F44: 48 | O44: 31002 | P44: 加茂２丁目 | Q44: 162 | R44: 396 | S44: 203 | T44: 193
A45: 7500 | B45: 惣社 | C45: 325 | D45: 673 | E45: 354 | F45: 319 | O45: 31101 | P45: 根田１丁目 | Q45: 177 | R45: 399 | S45: 207 | T45: 192
A46: 7600 | B46: 加茂 | C46: 3 | D46: 7 | E46: 3 | F46: 4 | O46: 31102 | P46: 根田２丁目 | Q46: 115 | R46: 209 | S46: 125 | T46: 84
A47: 7700 | B47: 根田 | C47: 106 | D47: 230 | E47: 117 | F47: 113 | O47: 31103 | P47: 根田３丁目 | Q47: 272 | R47: 554 | S47: 295 | T47: 259
A48: 7800 | B48: 岩野見 | C48: 145 | D48: 333 | E48: 157 | F48: 176 | O48: 31104 | P48: 根田４丁目 | Q48: 162 | R48: 394 | S48: 195 | T48: 199
O49: 3 | P49: 五井地区_計 | Q49: 40433 | R49: 87491 | S49: 45927 | T49: 41564
A50: 平成29年9月1日現在 世帯数及び人口
A51: CD | B51: 大字名 | C51: 世帯数 | D51: 総数 | E51: 男 | F51: 女 | H51: CD | I51: 大字名 | J51: 世帯数 | K51: 総数 | L51: 男 | M51: 女 | O51: CD | P51: 大字名 | Q51: 世帯数 | R51: 総数 | S51: 男 | T51: 女
A52: 100 | B52: 姉崎海岸 | C52: 34 | D52: 38 | E52: 35 | F52: 3 | H52: 1900 | I52: 八幡海岸通 | J52: 301 | K52: 449 | L52: 317 | M52: 132 | O52: 8400 | P52: 山倉 | Q52: 241 | R52: 482 | S52: 260 | T52: 222
A53: 200 | B53: 椎津 | C53: 1670 | D53: 3508 | E53: 1816 | F53: 1692 | H53: 2001 | I53: 八幡浦１丁目 | J53: 3 | K53: 3 | L53: 3 | M53: 0 | O53: 8500 | P53: 福増 | Q53: 297 | R53: 702 | S53: 363 | T53: 339
A54: 300 | B54: 姉崎 | C54: 5860 | D54: 11602 | E54: 6261 | F54: 5341 | H54: 2100 | I54: 八幡 | J54: 5585 | K54: 11335 | L54: 5896 | M54: 5439 | O54: 8600 | P54: 海士有木 | Q54: 530 | R54: 1239 | S54: 627 | T54: 612
A55: 311 | B55: 姉崎東１丁目 | C55: 47 | D55: 116 | E55: 58 | F55: 58 | H55: 2201 | I55: 八幡北町１丁目 | J55: 233 | K55: 333 | L55: 211 | M55: 122 | O55: 8700 | P55: 大坪 | Q55: 249 | R55: 569 | S55: 310 | T55: 259
A56: 312 | B56: 姉崎東２丁目 | C56: 124 | D56: 291 | E56: 151 | F56: 140 | H56: 2202 | I56: 八幡北町２丁目 | J56: 210 | K56: 388 | L56: 214 | M56: 174 | O56: 8800 | P56: 新生 | Q56: 88 | R56: 229 | S56: 124 | T56: 105
A57: 313 | B57: 姉崎東３丁目 | C57: 84 | D57: 174 | E57: 94 | F57: 80 | H57: 2203 | I57: 八幡北町３丁目 | J57: 128 | K57: 191 | L57: 117 | M57: 74 | O57: 8900 | P57: 権現堂 | Q57: 88 | R57: 230 | S57: 117 | T57: 113
A58: 321 | B58: 姉崎西１丁目 | C58: 211 | D58: 363 | E58: 224 | F58: 139 | H58: 2301 | I58: 八幡石塚１丁目 | J58: 325 | K58: 676 | L58: 383 | M58: 293 | O58: 9000 | P58: 糸久 | Q58: 32 | R58: 87 | S58: 47 | T58: 40
A59: 322 | B59: 姉崎西２丁目 | C59: 252 | D59: 481 | E59: 255 | F59: 226 | H59: 2302 | I59: 八幡石塚２丁目 | J59: 345 | K59: 698 | L59: 375 | M59: 323 | O59: 9100 | P59: 宮原 | Q59: 96 | R59: 191 | S59: 102 | T59: 89
A60: 323 | B60: 姉崎西３丁目 | C60: 226 | D60: 503 | E60: 281 | F60: 222 | H60: 2400 | I60: 五所 | J60: 1347 | K60: 2925 | L60: 1514 | M60: 1411 | O60: 9200 | P60: 分目 | Q60: 73 | R60: 185 | S60: 96 | T60: 89
A61: 1300 | B61: 畑木 | C61: 156 | D61: 275 | E61: 134 | F61: 141 | H61: 2500 | I61: 旭五所 | J61: 475 | K61: 936 | L61: 496 | M61: 440 | O61: 9300 | P61: 浅井小向 | Q61: 56 | R61: 158 | S61: 71 | T61: 87
A62: 1400 | B62: 柏原 | C62: 126 | D62: 248 | E62: 112 | F62: 136 | H62: 2600 | I62: 東五所 | J62: 1040 | K62: 1987 | L62: 1088 | M62: 899 | O62: 9400 | P62: 相川 | Q62: 42 | R62: 89 | S62: 49 | T62: 40
A63: 1500 | B63: 白塚 | C63: 328 | D63: 703 | E63: 346 | F63: 357 | H63: 2700 | I63: 西五所 | J63: 863 | K63: 1625 | L63: 862 | M63: 763 | O63: 9500 | P63: 新堀 | Q63: 259 | R63: 553 | S63: 264 | T63: 289
... A76: 1708 | B76: 青葉台８丁目 | C76: 195 | D76: 436 | E76: 227 | F76: 209 | H76: 3200 | I76: 能満 | J76: 2288 | K76: 4860 | L76: 2412 | M76: 2448 | O76: 10801 | P76: 光風台１丁目 | Q76: 362 | R76: 907 | S76: 443 | T76: 464
H77: 3300 | I77: 門前 | J77: 2 | K77: 8 | L77: 3 | M77: 5 | O77: 10802 | P77: 光風台２丁目 | Q77: 350 | R77: 822 | S77: 418 | T77: 404
H78: 3301 | I78: 門前１丁目 | J78: 88 | K78: 178 | L78: 99 | M78: 79 | O78: 10803 | P78: 光風台３丁目 | Q78: 659 | R78: 1482 | S78: 730 | T78: 752
H79: 3302 | I79: 門前２丁目 | J79: 363 | K79: 784 | L79: 407 | M79: 377 | O79: 10804 | P79: 光風台４丁目 | Q79: 649 | R79: 1506 | S79: 757 | T79: 749
H80: 3400 | I80: 市原 | J80: 462 | K80: 927 | L80: 458 | M80: 469 | O80: 10805 | P80: 光風台５丁目 | Q80: 549 | R80: 1308 | S80: 648 | T80: 660
H81: 3500 | I81: 山木 | J81: 1165 | K81: 2456 | L81: 1310 | M81: 1146
H82: 3600 | I82: 菊間 | J82: 2290 | K82: 5196 | L82: 2453 | M82: 2743
H83: 3700 | I83: 古市場 | J83: 1220 | K83: 2809 | L83: 1439 | M83: 1370
H84: 3800 | I84: 草刈 | J84: 484 | K84: 1139 | L84: 555 | M84: 584
H85: 3900 | I85: 大 | J85: 2048 | K85: 4463 | L85: 2296 | M85: 2167
H86: 4201 | I86: 若宮１丁目 | J86: 516 | K86: 937 | L86: 503 | M86: 434
H87: 4202 | I87: 若宮２丁目 | J87: 357 | K87: 753 | L87: 355 | M87: 398
H88: 4203 | I88: 若宮３丁目 | J88: 315 | K88: 674 | L88: 318 | M88: 356
H89: 4204 | I89: 若宮４丁目 | J89: 354 | K89: 712 | L89: 330 | M89: 382
H90: 4205 | I90: 若宮５丁目 | J90: 248 | K90: 579 | L90: 281 | M90: 298
H91: 4206 | I91: 若宮６丁目 | J91: 302 | K91: 695 | L91: 349 | M91: 346
H92: 4207 | I92: 若宮７丁目 | J92: 76 | K92: 176 | L92: 79 | M92: 97
H93: 2002 | I93: 八幡浦２丁目 | J93: 17 | K93: 17 | L93: 17 | M93: 0
A98: 1 | B98: 姉崎地区_計 | C98: 14207 | D98: 29600 | E98: 15513 | F98: 14087 | H98: 2 | I98: 市原地区_計 | J98: 24839 | K98: 52086 | L98: 26723 | M98: 25363 | O98: 4 | P98: 三和地区_計 | Q98: 6187 | R98: 14455 | S98: 7283 | T98: 7172
A99: 平成29年9月1日現在 世帯数及び人口
A100: CD | B100: 大字名 | C100: 世帯数 | D100: 総数 | E100: 男 | F100: 女 | H100: CD | I100: 大字名 | J100: 世帯数 | K100: 総数 | L100: 男 | M100: 女 | O100: CD | P100: 大字名 | Q100: 世帯数 | R100: 総数 | S100: 男 | T100: 女
A101: 10900 | B101: 久々津 | C101: 66 | D101: 160 | E101: 75 | F101: 85 | H101: 4001 | I101: 辰巳台東１丁目 | J101: 405 | K101: 1112 | L101: 558 | M101: 554 | O101: 13400 | P101: 風戸 | Q101: 17 | R101: 35 | S101: 19 | T101: 16
A102: 11000 | B102: 潤井戸 | C102: 993 | D102: 2142 | E102: 1090 | F102: 1052 | H102: 4002 | I102: 辰巳台東２丁目 | J102: 606 | K102: 1099 | L102: 554 | M102: 545 | O102: 13500 | P102: 中高根 | Q102: 1161 | R102: 2602 | S102: 1342 | T102: 1260
A103: 11051 | B103: うるいど南１丁目 | C103: 217 | D103: 570 | E103: 284 | F103: 286 | H103: 4003 | I103: 辰巳台東３丁目 | J103: 1101 | K103: 2710 | L103: 1444 | M103: 1266 | O103: 13600 | P103: 上高根 | Q103: 797 | R103: 1802 | S103: 900 | T103: 902
A104: 11052 | B104: うるいど南２丁目 | C104: 155 | D104: 416 | E104: 207 | F104: 209 | H104: 4004 | I104: 辰巳台東４丁目 | J104: 861 | K104: 2101 | L104: 1133 | M104: 968 | O104: 13700 | P104: 馬立 | Q104: 1331 | R104: 2952 | S104: 1482 | T104: 1470
A105: 11053 | B105: うるいど南３丁目 | C105: 322 | D105: 946 | E105: 490 | F105: 456 | H105: 4005 | I105: 辰巳台東５丁目 | J105: 300 | K105: 571 | L105: 311 | M105: 260 | O105: 13800 | P105: 上原 | Q105: 67 | R105: 144 | S105: 75 | T105: 69
A106: 11100 | B106: 下野 | C106: 155 | D106: 379 | E106: 176 | F106: 203 | H106: 4101 | I106: 辰巳台西１丁目 | J106: 362 | K106: 959 | L106: 472 | M106: 487 | O106: 13900 | P106: 南岩崎 | Q106: 418 | R106: 937 | S106: 465 | T106: 472
A107: 11200 | B107: 永吉 | C107: 124 | D107: 277 | E107: 140 | F107: 137 | H107: 4102 | I107: 辰巳台西２丁目 | J107: 390 | K107: 1113 | L107: 554 | M107: 559 | O107: 14000 | P107: 寺谷 | Q107: 97 | R107: 237 | S107: 118 | T107: 119
A108: 11300 | B108: 番場 | C108: 82 | D108: 201 | E108: 105 | F108: 96 | H108: 4103 | I108: 辰巳台西３丁目 | J108: 698 | K108: 1194 | L108: 781 | M108: 413 | O108: 14100 | P108: 栢橋 | Q108: 224 | R108: 522 | S108: 273 | T108: 249
A109: 11400 | B109: 押沼 | C109: 57 | D109: 145 | E109: 76 | F109: 69 | H109: 4104 | I109: 辰巳台西４丁目 | J109: 333 | K109: 778 | L109: 372 | M109: 406 | O109: 14200 | P109: 西国吉 | Q109: 778 | R109: 1763 | S109: 905 | T109: 858
A110: 11500 | B110: 瀬又 | C110: 1627 | D110: 3526 | E110: 1711 | F110: 1815 | H110: 4105 | I110: 辰巳台西５丁目 | J110: 150 | K110: 324 | L110: 159 | M110: 165 | O110: 14300 | P110: 佐是 | Q110: 324 | R110: 779 | S110: 403 | T110: 376
A111: 11600 | B111: 中野 | C111: 36 | D111: 94 | E111: 52 | F111: 42 | O111: 14400 | P111: 妙香 | Q111: 80 | R111: 182 | S111: 95 | T111: 87
A112: 11700 | B112: 高田 | C112: 52 | D112: 126 | E112: 64 | F112: 62 | O112: 14500 | P112: 奉免 | Q112: 184 | R112: 443 | S112: 203 | T112: 240
A113: 11800 | B113: 高倉 | C113: 52 | D113: 109 | E113: 50 | F113: 59 | O113: 14600 | P113: 牛久 | Q113: 911 | R113: 1886 | S113: 946 | T113: 940
A114: 11900 | B114: 東国吉 | C114: 114 | D114: 291 | E114: 134 | F114: 157 | O114: 14700 | P114: 皆吉 | Q114: 745 | R114: 1630 | S114: 811 | T114: 819
A115: 12000 | B115: 金剛地 | C115: 166 | D115: 408 | E115: 204 | F115: 204 | O115: 14800 | P115: 金沢 | Q115: 29 | R115: 78 | S115: 39 | T115: 39
A116: 12100 | B116: 奈良 | C116: 67 | D116: 173 | E116: 88 | F116: 85 | O116: 14900 | P116: 大蔵 | Q116: 13 | R116: 29 | S116: 19 | T116: 10
A117: 12200 | B117: 古都辺 | C117: 31 | D117: 77 | E117: 38 | F117: 39 | O117: 15000 | P117: 岩 | Q117: 46 | R117: 90 | S117: 51 | T117: 39
A118: 12300 | B118: 喜多 | C118: 727 | D118: 1614 | E118: 813 | F118: 801 | O118: 15100 | P118: 藪 | Q118: 67 | R118: 169 | S118: 85 | T118: 84
A119: 12400 | B119: 犬成 | C119: 243 | D119: 460 | E119: 254 | F119: 206 | O119: 15200 | P119: 中 | Q119: 357 | R119: 812 | S119: 415 | T119: 397
A120: 12500 | B120: 大作 | C120: 40 | D120: 88 | E120: 42 | F120: 46 | O120: 15300 | P120: 安久谷 | Q120: 101 | R120: 224 | S120: 110 | T120: 114
A121: 12600 | B121: 滝口 | C121: 39 | D121: 93 | E121: 49 | F121: 44 | O121: 15400 | P121: 米沢 | Q121: 140 | R121: 318 | S121: 153 | T121: 165
A122: 12700 | B122: 勝間 | C122: 204 | D122: 350 | E122: 144 | F122: 206 | O122: 15500 | P122: 真ケ谷 | Q122: 50 | R122: 142 | S122: 69 | T122: 73
... A127: 13200 | B127: 山之郷飛地 | C127: 2 | D127: 6 | E127: 2 | F127: 4 | O127: 16000 | P127: 奥野 | Q127: 56 | R127: 146 | S127: 69 | T127: 77
O128: 16100 | P128: 水沢 | Q128: 24 | R128: 59 | S128: 26 | T128: 33
O129: 16200 | P129: 原田 | Q129: 27 | R129: 60 | S129: 24 | T129: 36
O130: 16300 | P130: 石川 | Q130: 453 | R130: 1078 | S130: 547 | T130: 531
O131: 16400 | P131: 江子田 | Q131: 131 | R131: 290 | S131: 147 | T131: 143
O132: 16500 | P132: 下矢田 | Q132: 181 | R132: 432 | S132: 202 | T132: 230
O133: 16600 | P133: 矢田 | Q133: 27 | R133: 66 | S133: 30 | T133: 36
O134: 16700 | P134: 池和田 | Q134: 127 | R134: 284 | S134: 136 | T134: 148
O135: 16800 | P135: 鶴舞 | Q135: 514 | R135: 1116 | S135: 525 | T135: 591
O136: 16900 | P136: 田尾 | Q136: 197 | R136: 452 | S136: 231 | T136: 221
O137: 17000 | P137: 山小川 | Q137: 88 | R137: 192 | S137: 105 | T137: 87
O138: 17100 | P138: 平蔵 | Q138: 194 | R138: 447 | S138: 229 | T138: 218
O139: 17200 | P139: 米原 | Q139: 147 | R139: 290 | S139: 160 | T139: 130
O140: 17300 | P140: 小草畑 | Q140: 36 | R140: 81 | S140: 39 | T140: 42
A147: 5 | B147: 市津地区_計 | C147: 6177 | D147: 13929 | E147: 6918 | F147: 7011 | H147: 6 | I147: 辰巳台地区_計 | J147: 5206 | K147: 11961 | L147: 6338 | M147: 5623 | O147: 7 | P147: 南総地区_計 | Q147: 10295 | R147: 23169 | S147: 11646 | T147: 11523
A148: 平成29年9月1日現在 世帯数及び人口
A149: CD | B149: 大字名 | C149: 世帯数 | D149: 総数 | E149: 男 | F149: 女 | H149: CD | I149: 大字名 | J149: 世帯数 | K149: 総数 | L149: 男 | M149: 女 | O149: CD | P149: 大字名 | Q149: 世帯数 | R149: 総数 | S149: 男 | T149: 女
...

Sheet 2017_10
A1: 平成29年10月1日現在 世帯数及び人口
A2: CD | B2: 大字名 | C2: 世帯数 | D2: 総数 | E2: 男 | F2: 女 | H2: CD | I2: 大字名 | J2: 世帯数 | K2: 総数 | L2: 男 | M2: 女 | O2: CD | P2: 大字名 | Q2: 世帯数 | R2: 総数 | S2: 男 | T2: 女
A3: 1655 | B3: 千種５丁目 | C3: 216 | D3: 545 | E3: 279 | F3: 266 | H3: 7900 | I3: 平田 | J3: 826 | K3: 1716 | L3: 859 | M3: 857 | O3: 30101 | P3: 国分寺台中央１丁目 | Q3: 309 | R3: 670 | S3: 343 | T3: 327
A4: 1656 | B4: 千種６丁目 | C4: 109 | D4: 391 | E4: 205 | F4: 186 | H4: 8000 | I4: 五井 | J4: 8108 | K4: 16937 | L4: 8968 | M4: 7969 | O4: 30102 | P4: 国分寺台中央２丁目 | Q4: 334 | R4: 775 | S4: 397 | T4: 378
A5: 1657 | B5: 千種７丁目 | C5: 376 | D5: 893 | E5: 475 | F5: 418 | H5: 8051 | I5: 五井中央東１丁目 | J5: 337 | K5: 586 | L5: 309 | M5: 277 | O5: 30103 | P5: 国分寺台中央３丁目 | Q5: 264 | R5: 532 | S5: 288 | T5: 244
A6: 4300 | B6: 千種海岸 | C6: 2 | D6: 2 | E6: 2 | F6: 0 | H6: 8052 | I6: 五井中央東２丁目 | J6: 487 | K6: 831 | L6: 446 | M6: 385 | O6: 30104 | P6: 国分寺台中央４丁目 | Q6: 249 | R6: 577 | S6: 295 | T6: 282
A7: 4400 | B7: 五井南海岸 | C7: 1 | D7: 3 | E7: 0 | F7: 3 | H7: 8061 | I7: 五井中央西１丁目 | J7: 392 | K7: 707 | L7: 384 | M7: 323 | O7: 30105 | P7: 国分寺台中央５丁目 | Q7: 259 | R7: 651 | S7: 348 | T7: 303
A8: 4500 | B8: 五井海岸 | C8: 1 | D8: 1 | E8: 1 | F8: 0 | H8: 8062 | I8: 五井中央西２丁目 | J8: 270 | K8: 521 | L8: 269 | M8: 252 | O8: 30106 | P8: 国分寺台中央６丁目 | Q8: 243 | R8: 623 | S8: 295 | T8: 328
A9: 4600 | B9: 青柳 | C9: 1320 | D9: 2820 | E9: 1500 | F9: 1320 | H9: 8063 | I9: 五井中央西３丁目 | J9: 71 | K9: 144 | L9: 73 | M9: 71 | O9: 30107 | P9: 国分寺台中央７丁目 | Q9: 329 | R9: 733 | S9: 364 | T9: 369
A10: 4651 | B10: 青柳１丁目 | C10: 136 | D10: 298 | E10: 160 | F10: 138 | H10: 8101 | I10: 五井東１丁目 | J10: 650 | K10: 1200 | L10: 641 | M10: 559 | O10: 30201 | P10: 東国分寺台１丁目 | Q10: 288 | R10: 651 | S10: 322 | T10: 329
A11: 4652 | B11: 青柳２丁目 | C11: 81 | D11: 163 | E11: 90 | F11: 73 | H11: 8102 | I11: 五井東２丁目 | J11: 381 | K11: 813 | L11: 428 | M11: 385 | O11: 30202 | P11: 東国分寺台２丁目 | Q11: 195 | R11: 452 | S11: 220 | T11: 232
A12: 4653 | B12: 青柳３丁目 | C12: 200 | D12: 241 | E12: 177 | F12: 64 | H12: 8103 | I12: 五井東３丁目 | J12: 530 | K12: 1027 | L12: 558 | M12: 469 | O12: 30203 | P12: 東国分寺台３丁目 | Q12: 183 | R12: 466 | S12: 237 | T12: 229
A13: 4702 | B13: 青柳北２丁目 | C13: 3 | D13: 8 | E13: 3 | F13: 5 | H13: 8111 | I13: 更級１丁目 | J13: 153 | K13: 292 | L13: 172 | M13: 120 | O13: 30204 | P13: 東国分寺台４丁目 | Q13: 188 | R13: 451 | S13: 234 | T13: 217
A14: 4703 | B14: 青柳北３丁目 | C14: 19 | D14: 34 | E14: 21 | F14: 13 | H14: 8112 | I14: 更級２丁目 | J14: 81 | K14: 182 | L14: 88 | M14: 94 | O14: 30205 | P14: 東国分寺台５丁目 | Q14: 198 | R14: 423 | S14: 220 | T14: 203
... A39: 6900 | B39: 十五沢 | C39: 52 | D39: 129 | E39: 55 | F39: 74 | H39: 13900 | I39: 南岩崎 | J39: 1 | K39: 2 | L39: 2 | M39: 0 | O39: 30902 | P39: 惣社２丁目 | Q39: 168 | R39: 390 | S39: 192 | T39: 198
A40: 7000 | B40: 小折 | C40: 34 | D40: 73 | E40: 33 | F40: 40 | O40: 30903 | P40: 惣社３丁目 | Q40: 238 | R40: 522 | S40: 265 | T40: 257
A41: 7100 | B41: 西野 | C41: 54 | D41: 129 | E41: 70 | F41: 59 | O41: 30904 | P41: 惣社４丁目 | Q41: 172 | R41: 418 | S41: 224 | T41: 194
A42: 7200 | B42: 柳原 | C42: 52 | D42: 123 | E42: 56 | F42: 67 | O42: 30905 | P42: 惣社５丁目 | Q42: 244 | R42: 664 | S42: 321 | T42: 343
A43: 7300 | B43: 村上 | C43: 628 | D43: 1404 | E43: 712 | F43: 692 | O43: 31001 | P43: 加茂１丁目 | Q43: 202 | R43: 440 | S43: 221 | T43: 219
A44: 7400 | B44: 西広 | C44: 47 | D44: 103 | E44: 55 | F44: 48 | O44: 31002 | P44: 加茂２丁目 | Q44: 163 | R44: 398 | S44: 204 | T44: 194
A45: 7500 | B45: 惣社 | C45: 323 | D45: 670 | E45: 352 | F45: 318 | O45: 31101 | P45: 根田１丁目 | Q45: 178 | R45: 406 | S45: 211 | T45: 195
A46: 7600 | B46: 加茂 | C46: 3 | D46: 7 | E46: 3 | F46: 4 | O46: 31102 | P46: 根田２丁目 | Q46: 119 | R46: 215 | S46: 126 | T46: 89
A47: 7700 | B47: 根田 | C47: 107 | D47: 228 | E47: 117 | F47: 111 | O47: 31103 | P47: 根田３丁目 | Q47: 271 | R47: 557 | S47: 296 | T47: 261
A48: 7800 | B48: 岩野見 | C48: 144 | D48: 333 | E48: 157 | F48: 176 | O48: 31104 | P48: 根田４丁目 | Q48: 160 | R48: 390 | S48: 192 | T48: 198
O49: 3 | P49: 五井地区_計 | Q49: 40453 | R49: 87489 | S49: 45931 | T49: 41558
A50: 平成29年10月1日現在 世帯数及び人口
A51: CD | B51: 大字名 | C51: 世帯数 | D51: 総数 | E51: 男 | F51: 女 | H51: CD | I51: 大字名 | J51: 世帯数 | K51: 総数 | L51: 男 | M51: 女 | O51: CD | P51: 大字名 | Q51: 世帯数 | R51: 総数 | S51: 男 | T51: 女
A52: 100 | B52: 姉崎海岸 | C52: 34 | D52: 38 | E52: 35 | F52: 3 | H52: 1900 | I52: 八幡海岸通 | J52: 296 | K52: 441 | L52: 310 | M52: 131 | O52: 8400 | P52: 山倉 | Q52: 240 | R52: 481 | S52: 258 | T52: 223
A53: 200 | B53: 椎津 | C53: 1661 | D53: 3490 | E53: 1806 | F53: 1684 | H53: 2001 | I53: 八幡浦１丁目 | J53: 3 | K53: 3 | L53: 3 | M53: 0 | O53: 8500 | P53: 福増 | Q53: 295 | R53: 701 | S53: 364 | T53: 337
A54: 300 | B54: 姉崎 | C54: 5852 | D54: 11585 | E54: 6244 | F54: 5341 | H54: 2100 | I54: 八幡 | J54: 5578 | K54: 11301 | L54: 5886 | M54: 5415 | O54: 8600 | P54: 海士有木 | Q54: 533 | R54: 1244 | S54: 629 | T54: 615
A55: 311 | B55: 姉崎東１丁目 | C55: 47 | D55: 116 | E55: 59 | F55: 57 | H55: 2201 | I55: 八幡北町１丁目 | J55: 230 | K55: 329 | L55: 209 | M55: 120 | O55: 8700 | P55: 大坪 | Q55: 249 | R55: 568 | S55: 309 | T55: 259
A56: 312 | B56: 姉崎東２丁目 | C56: 124 | D56: 290 | E56: 150 | F56: 140 | H56: 2202 | I56: 八幡北町２丁目 | J56: 210 | K56: 388 | L56: 214 | M56: 174 | O56: 8800 | P56: 新生 | Q56: 88 | R56: 229 | S56: 124 | T56: 105
A57: 313 | B57: 姉崎東３丁目 | C57: 84 | D57: 174 | E57: 94 | F57: 80 | H57: 2203 | I57: 八幡北町３丁目 | J57: 128 | K57: 191 | L57: 117 | M57: 74 | O57: 8900 | P57: 権現堂 | Q57: 88 | R57: 229 | S57: 117 | T57: 112
A58: 321 | B58: 姉崎西１丁目 | C58: 215 | D58: 368 | E58: 226 | F58: 142 | H58: 2301 | I58: 八幡石塚１丁目 | J58: 327 | K58: 679 | L58: 384 | M58: 295 | O58: 9000 | P58: 糸久 | Q58: 32 | R58: 87 | S58: 47 | T58: 40
A59: 322 | B59: 姉崎西２丁目 | C59: 254 | D59: 483 | E59: 256 | F59: 227 | H59: 2302 | I59: 八幡石塚２丁目 | J59: 344 | K59: 695 | L59: 372 | M59: 323 | O59: 9100 | P59: 宮原 | Q59: 96 | R59: 191 | S59: 102 | T59: 89
A60: 323 | B60: 姉崎西３丁目 | C60: 226 | D60: 504 | E60: 281 | F60: 223 | H60: 2400 | I60: 五所 | J60: 1344 | K60: 2924 | L60: 1519 | M60: 1405 | O60: 9200 | P60: 分目 | Q60: 73 | R60: 185 | S60: 96 | T60: 89
A61: 1300 | B61: 畑木 | C61: 156 | D61: 279 | E61: 133 | F61: 146 | H61: 2500 | I61: 旭五所 | J61: 472 | K61: 938 | L61: 497 | M61: 441 | O61: 9300 | P61: 浅井小向 | Q61: 57 | R61: 158 | S61: 71 | T61: 87
A62: 1400 | B62: 柏原 | C62: 124 | D62: 245 | E62: 111 | F62: 134 | H62: 2600 | I62: 東五所 | J62: 1034 | K62: 1979 | L62: 1080 | M62: 899 | O62: 9400 | P62: 相川 | Q62: 42 | R62: 89 | S62: 49 | T62: 40
A63: 1500 | B63: 白塚 | C63: 329 | D63: 703 | E63: 344 | F63: 359 | H63: 2700 | I63: 西五所 | J63: 863 | K63: 1621 | L63: 860 | M63: 761 | O63: 9500 | P63: 新堀 | Q63: 259 | R63: 553 | S63: 264 | T63: 289
... A76: 1708 | B76: 青葉台８丁目 | C76: 197 | D76: 438 | E76: 227 | F76: 211 | H76: 3200 | I76: 能満 | J76: 2293 | K76: 4869 | L76: 2420 | M76: 2449 | O76: 10801 | P76: 光風台１丁目 | Q76: 362 | R76: 915 | S76: 445 | T76: 470
H77: 3300 | I77: 門前 | J77: 2 | K77: 8 | L77: 3 | M77: 5 | O77: 10802 | P77: 光風台２丁目 | Q77: 350 | R77: 820 | S77: 416 | T77: 404
H78: 3301 | I78: 門前１丁目 | J78: 89 | K78: 179 | L78: 99 | M78: 80 | O78: 10803 | P78: 光風台３丁目 | Q78: 661 | R78: 1482 | S78: 731 | T78: 751
H79: 3302 | I79: 門前２丁目 | J79: 363 | K79: 785 | L79: 409 | M79: 376 | O79: 10804 | P79: 光風台４丁目 | Q79: 649 | R79: 1506 | S79: 757 | T79: 749
H80: 3400 | I80: 市原 | J80: 463 | K80: 926 | L80: 458 | M80: 468 | O80: 10805 | P80: 光風台５丁目 | Q80: 549 | R80: 1310 | S80: 648 | T80: 662
H81: 3500 | I81: 山木 | J81: 1161 | K81: 2455 | L81: 1304 | M81: 1151
H82: 3600 | I82: 菊間 | J82: 2297 | K82: 5201 | L82: 2457 | M82: 2744
H83: 3700 | I83: 古市場 | J83: 1234 | K83: 2846 | L83: 1459 | M83: 1387
H84: 3800 | I84: 草刈 | J84: 482 | K84: 1137 | L84: 554 | M84: 583
H85: 3900 | I85: 大 | J85: 2056 | K85: 4469 | L85: 2302 | M85: 2167
H86: 4201 | I86: 若宮１丁目 | J86: 515 | K86: 935 | L86: 502 | M86: 433
H87: 4202 | I87: 若宮２丁目 | J87: 355 | K87: 748 | L87: 353 | M87: 395
H88: 4203 | I88: 若宮３丁目 | J88: 314 | K88: 671 | L88: 316 | M88: 355
H89: 4204 | I89: 若宮４丁目 | J89: 354 | K89: 712 | L89: 330 | M89: 382
H90: 4205 | I90: 若宮５丁目 | J90: 247 | K90: 578 | L90: 281 | M90: 297
H91: 4206 | I91: 若宮６丁目 | J91: 302 | K91: 695 | L91: 349 | M91: 346
H92: 4207 | I92: 若宮７丁目 | J92: 76 | K92: 175 | L92: 79 | M92: 96
H93: 2002 | I93: 八幡浦２丁目 | J93: 17 | K93: 17 | L93: 17 | M93: 0
A98: 1 | B98: 姉崎地区_計 | C98: 14193 | D98: 29588 | E98: 15489 | F98: 14099 | H98: 2 | I98: 市原地区_計 | J98: 24834 | K98: 52055 | L98: 26713 | M98: 25342 | O98: 4 | P98: 三和地区_計 | Q98: 6191 | R98: 14460 | S98: 7284 | T98: 7176
A99: 平成29年10月1日現在 世帯数及び人口
A100: CD | B100: 大字名 | C100: 世帯数 | D100: 総数 | E100: 男 | F100: 女 | H100: CD | I100: 大字名 | J100: 世帯数 | K100: 総数 | L100: 男 | M100: 女 | O100: CD | P100: 大字名 | Q100: 世帯数 | R100: 総数 | S100: 男 | T100: 女
A101: 10900 | B101: 久々津 | C101: 66 | D101: 159 | E101: 74 | F101: 85 | H101: 4001 | I101: 辰巳台東１丁目 | J101: 405 | K101: 1110 | L101: 557 | M101: 553 | O101: 13400 | P101: 風戸 | Q101: 17 | R101: 35 | S101: 19 | T101: 16
A102: 11000 | B102: 潤井戸 | C102: 992 | D102: 2129 | E102: 1084 | F102: 1045 | H102: 4002 | I102: 辰巳台東２丁目 | J102: 600 | K102: 1085 | L102: 547 | M102: 538 | O102: 13500 | P102: 中高根 | Q102: 1161 | R102: 2600 | S102: 1340 | T102: 1260
A103: 11051 | B103: うるいど南１丁目 | C103: 218 | D103: 571 | E103: 285 | F103: 286 | H103: 4003 | I103: 辰巳台東３丁目 | J103: 1096 | K103: 2701 | L103: 1437 | M103: 1264 | O103: 13600 | P103: 上高根 | Q103: 795 | R103: 1797 | S103: 896 | T103: 901
A104: 11052 | B104: うるいど南２丁目 | C104: 158 | D104: 424 | E104: 210 | F104: 214 | H104: 4004 | I104: 辰巳台東４丁目 | J104: 861 | K104: 2106 | L104: 1132 | M104: 974 | O104: 13700 | P104: 馬立 | Q104: 1327 | R104: 2948 | S104: 1481 | T104: 1467
A105: 11053 | B105: うるいど南３丁目 | C105: 322 | D105: 949 | E105: 493 | F105: 456 | H105: 4005 | I105: 辰巳台東５丁目 | J105: 297 | K105: 566 | L105: 306 | M105: 260 | O105: 13800 | P105: 上原 | Q105: 67 | R105: 143 | S105: 75 | T105: 68
A106: 11100 | B106: 下野 | C106: 155 | D106: 378 | E106: 176 | F106: 202 | H106: 4101 | I106: 辰巳台西１丁目 | J106: 363 | K106: 961 | L106: 472 | M106: 489 | O106: 13900 | P106: 南岩崎 | Q106: 418 | R106: 934 | S106: 464 | T106: 470
A107: 11200 | B107: 永吉 | C107: 124 | D107: 278 | E107: 141 | F107: 137 | H107: 4102 | I107: 辰巳台西２丁目 | J107: 390 | K107: 1111 | L107: 551 | M107: 560 | O107: 14000 | P107: 寺谷 | Q107: 97 | R107: 233 | S107: 117 | T107: 116
A108: 11300 | B108: 番場 | C108: 82 | D108: 202 | E108: 105 | F108: 97 | H108: 4103 | I108: 辰巳台西３丁目 | J108: 690 | K108: 1181 | L108: 770 | M108: 411 | O108: 14100 | P108: 栢橋 | Q108: 226 | R108: 525 | S108: 276 | T108: 249
A109: 11400 | B109: 押沼 | C109: 57 | D109: 145 | E109: 76 | F109: 69 | H109: 4104 | I109: 辰巳台西４丁目 | J109: 331 | K109: 773 | L109: 369 | M109: 404 | O109: 14200 | P109: 西国吉 | Q109: 778 | R109: 1761 | S109: 902 | T109: 859
A110: 11500 | B110: 瀬又 | C110: 1634 | D110: 3538 | E110: 1714 | F110: 1824 | H110: 4105 | I110: 辰巳台西５丁目 | J110: 149 | K110: 322 | L110: 159 | M110: 163 | O110: 14300 | P110: 佐是 | Q110: 323 | R110: 778 | S110: 401 | T110: 377
A111: 11600 | B111: 中野 | C111: 36 | D111: 93 | E111: 51 | F111: 42 | O111: 14400 | P111: 妙香 | Q111: 79 | R111: 181 | S111: 95 | T111: 86
A112: 11700 | B112: 高田 | C112: 52 | D112: 125 | E112: 64 | F112: 61 | O112: 14500 | P112: 奉免 | Q112: 184 | R112: 442 | S112: 202 | T112: 240
A113: 11800 | B113: 高倉 | C113: 51 | D113: 108 | E113: 49 | F113: 59 | O113: 14600 | P113: 牛久 | Q113: 911 | R113: 1882 | S113: 945 | T113: 937
A114: 11900 | B114: 東国吉 | C114: 114 | D114: 290 | E114: 133 | F114: 157 | O114: 14700 | P114: 皆吉 | Q114: 743 | R114: 1626 | S114: 809 | T114: 817
A115: 12000 | B115: 金剛地 | C115: 166 | D115: 407 | E115: 204 | F115: 203 | O115: 14800 | P115: 金沢 | Q115: 29 | R115: 78 | S115: 39 | T115: 39
A116: 12100 | B116: 奈良 | C116: 67 | D116: 173 | E116: 88 | F116: 85 | O116: 14900 | P116: 大蔵 | Q116: 13 | R116: 29 | S116: 19 | T116: 10
A117: 12200 | B117: 古都辺 | C117: 31 | D117: 77 | E117: 38 | F117: 39 | O117: 15000 | P117: 岩 | Q117: 40 | R117: 84 | S117: 47 | T117: 37
A118: 12300 | B118: 喜多 | C118: 725 | D118: 1612 | E118: 811 | F118: 801 | O118: 15100 | P118: 藪 | Q118: 67 | R118: 168 | S118: 84 | T118: 84
A119: 12400 | B119: 犬成 | C119: 244 | D119: 462 | E119: 256 | F119: 206 | O119: 15200 | P119: 中 | Q119: 360 | R119: 814 | S119: 418 | T119: 396
A120: 12500 | B120: 大作 | C120: 40 | D120: 88 | E120: 42 | F120: 46 | O120: 15300 | P120: 安久谷 | Q120: 101 | R120: 224 | S120: 110 | T120: 114
A121: 12600 | B121: 滝口 | C121: 39 | D121: 94 | E121: 48 | F121: 46 | O121: 15400 | P121: 米沢 | Q121: 140 | R121: 318 | S121: 153 | T121: 165
A122: 12700 | B122: 勝間 | C122: 204 | D122: 350 | E122: 143 | F122: 207 | O122: 15500 | P122: 真ケ谷 | Q122: 49 | R122: 140 | S122: 69 | T122: 71
... A127: 13200 | B127: 山之郷飛地 | C127: 2 | D127: 6 | E127: 2 | F127: 4 | O127: 16000 | P127: 奥野 | Q127: 56 | R127: 147 | S127: 70 | T127: 77
O128: 16100 | P128: 水沢 | Q128: 24 | R128: 59 | S128: 26 | T128: 33
O129: 16200 | P129: 原田 | Q129: 27 | R129: 60 | S129: 24 | T129: 36
O130: 16300 | P130: 石川 | Q130: 453 | R130: 1078 | S130: 547 | T130: 531
O131: 16400 | P131: 江子田 | Q131: 132 | R131: 292 | S131: 148 | T131: 144
O132: 16500 | P132: 下矢田 | Q132: 181 | R132: 431 | S132: 201 | T132: 230
O133: 16600 | P133: 矢田 | Q133: 27 | R133: 66 | S133: 30 | T133: 36
O134: 16700 | P134: 池和田 | Q134: 127 | R134: 283 | S134: 136 | T134: 147
O135: 16800 | P135: 鶴舞 | Q135: 517 | R135: 1116 | S135: 525 | T135: 591
O136: 16900 | P136: 田尾 | Q136: 197 | R136: 445 | S136: 227 | T136: 218
O137: 17000 | P137: 山小川 | Q137: 89 | R137: 193 | S137: 106 | T137: 87
O138: 17100 | P138: 平蔵 | Q138: 193 | R138: 446 | S138: 229 | T138: 217
O139: 17200 | P139: 米原 | Q139: 148 | R139: 290 | S139: 160 | T139: 130
O140: 17300 | P140: 小草畑 | Q140: 36 | R140: 81 | S140: 39 | T140: 42
A147: 5 | B147: 市津地区_計 | C147: 6184 | D147: 13930 | E147: 6915 | F147: 7015 | H147: 6 | I147: 辰巳台地区_計 | J147: 5182 | K147: 11916 | L147: 6300 | M147: 5616 | O147: 7 | P147: 南総地区_計 | Q147: 10286 | R147: 23124 | S147: 11626 | T147: 11498
A148: 平成29年10月1日現在 世帯数及び人口
A149: CD | B149: 大字名 | C149: 世帯数 | D149: 総数 | E149: 男 | F149: 女 | H149: CD | I149: 大字名 | J149: 世帯数 | K149: 総数 | L149: 男 | M149: 女 | O149: CD | P149: 大字名 | Q149: 世帯数 | R149: 総数 | S149: 男 | T149: 女
A150: 17400 | B150: 外部田 | C150: 44 | D150: 101 | E150: 54 | F150: 47 | H150: 200 | I150: 椎津 | J150: 159 | K150: 317 | L150: 158 | M150: 159 | O150: 40101 | P150: ちはら台東１丁目 | Q150: 517 | R150: 1640 | S150: 829 | T150: 811
...

Sheet 2017_11
A1: 平成29年11月1日現在 世帯数及び人口
A2: CD | B2: 大字名 | C2: 世帯数 | D2: 総数 | E2: 男 | F2: 女 | H2: CD | I2: 大字名 | J2: 世帯数 | K2: 総数 | L2: 男 | M2: 女 | O2: CD | P2: 大字名 | Q2: 世帯数 | R2: 総数 | S2: 男 | T2: 女
A3: 1655 | B3: 千種５丁目 | C3: 217 | D3: 545 | E3: 278 | F3: 267 | H3: 7900 | I3: 平田 | J3: 824 | K3: 1712 | L3: 858 | M3: 854 | O3: 30101 | P3: 国分寺台中央１丁目 | Q3: 312 | R3: 678 | S3: 347 | T3: 331
A4: 1656 | B4: 千種６丁目 | C4: 109 | D4: 391 | E4: 205 | F4: 186 | H4: 8000 | I4: 五井 | J4: 8101 | K4: 16929 | L4: 8963 | M4: 7966 | O4: 30102 | P4: 国分寺台中央２丁目 | Q4: 334 | R4: 771 | S4: 396 | T4: 375
A5: 1657 | B5: 千種７丁目 | C5: 374 | D5: 891 | E5: 472 | F5: 419 | H5: 8051 | I5: 五井中央東１丁目 | J5: 335 | K5: 578 | L5: 304 | M5: 274 | O5: 30103 | P5: 国分寺台中央３丁目 | Q5: 263 | R5: 531 | S5: 284 | T5: 247
A6: 4300 | B6: 千種海岸 | C6: 2 | D6: 2 | E6: 2 | F6: 0 | H6: 8052 | I6: 五井中央東２丁目 | J6: 489 | K6: 829 | L6: 446 | M6: 383 | O6: 30104 | P6: 国分寺台中央４丁目 | Q6: 247 | R6: 573 | S6: 294 | T6: 279
A7: 4400 | B7: 五井南海岸 | C7: 1 | D7: 3 | E7: 0 | F7: 3 | H7: 8061 | I7: 五井中央西１丁目 | J7: 386 | K7: 701 | L7: 378 | M7: 323 | O7: 30105 | P7: 国分寺台中央５丁目 | Q7: 259 | R7: 651 | S7: 348 | T7: 303
A8: 4500 | B8: 五井海岸 | C8: 1 | D8: 1 | E8: 1 | F8: 0 | H8: 8062 | I8: 五井中央西２丁目 | J8: 266 | K8: 515 | L8: 265 | M8: 250 | O8: 30106 | P8: 国分寺台中央６丁目 | Q8: 245 | R8: 627 | S8: 295 | T8: 332
A9: 4600 | B9: 青柳 | C9: 1317 | D9: 2827 | E9: 1497 | F9: 1330 | H9: 8063 | I9: 五井中央西３丁目 | J9: 72 | K9: 144 | L9: 73 | M9: 71 | O9: 30107 | P9: 国分寺台中央７丁目 | Q9: 326 | R9: 729 | S9: 361 | T9: 368
A10: 4651 | B10: 青柳１丁目 | C10: 134 | D10: 295 | E10: 159 | F10: 136 | H10: 8101 | I10: 五井東１丁目 | J10: 649 | K10: 1199 | L10: 643 | M10: 556 | O10: 30201 | P10: 東国分寺台１丁目 | Q10: 285 | R10: 647 | S10: 320 | T10: 327
A11: 4652 | B11: 青柳２丁目 | C11: 81 | D11: 162 | E11: 89 | F11: 73 | H11: 8102 | I11: 五井東２丁目 | J11: 379 | K11: 819 | L11: 429 | M11: 390 | O11: 30202 | P11: 東国分寺台２丁目 | Q11: 192 | R11: 445 | S11: 216 | T11: 229
A12: 4653 | B12: 青柳３丁目 | C12: 203 | D12: 245 | E12: 180 | F12: 65 | H12: 8103 | I12: 五井東３丁目 | J12: 533 | K12: 1037 | L12: 558 | M12: 479 | O12: 30203 | P12: 東国分寺台３丁目 | Q12: 185 | R12: 467 | S12: 237 | T12: 230
A13: 4702 | B13: 青柳北２丁目 | C13: 3 | D13: 8 | E13: 3 | F13: 5 | H13: 8111 | I13: 更級１丁目 | J13: 149 | K13: 282 | L13: 165 | M13: 117 | O13: 30204 | P13: 東国分寺台４丁目 | Q13: 190 | R13: 458 | S13: 237 | T13: 221
A14: 4703 | B14: 青柳北３丁目 | C14: 19 | D14: 34 | E14: 21 | F14: 13 | H14: 8112 | I14: 更級２丁目 | J14: 83 | K14: 186 | L14: 91 | M14: 95 | O14: 30205 | P14: 東国分寺台５丁目 | Q14: 198 | R14: 419 | S14: 218 | T14: 201
... A39: 6900 | B39: 十五沢 | C39: 53 | D39: 133 | E39: 56 | F39: 77 | H39: 13900 | I39: 南岩崎 | J39: 1 | K39: 2 | L39: 2 | M39: 0 | O39: 30902 | P39: 惣社２丁目 | Q39: 167 | R39: 391 | S39: 192 | T39: 199
A40: 7000 | B40: 小折 | C40: 33 | D40: 72 | E40: 32 | F40: 40 | O40: 30903 | P40: 惣社３丁目 | Q40: 240 | R40: 523 | S40: 266 | T40: 257
A41: 7100 | B41: 西野 | C41: 55 | D41: 130 | E41: 71 | F41: 59 | O41: 30904 | P41: 惣社４丁目 | Q41: 174 | R41: 421 | S41: 225 | T41: 196
A42: 7200 | B42: 柳原 | C42: 52 | D42: 123 | E42: 56 | F42: 67 | O42: 30905 | P42: 惣社５丁目 | Q42: 243 | R42: 659 | S42: 319 | T42: 340
A43: 7300 | B43: 村上 | C43: 629 | D43: 1397 | E43: 706 | F43: 691 | O43: 31001 | P43: 加茂１丁目 | Q43: 202 | R43: 439 | S43: 220 | T43: 219
A44: 7400 | B44: 西広 | C44: 46 | D44: 101 | E44: 54 | F44: 47 | O44: 31002 | P44: 加茂２丁目 | Q44: 162 | R44: 394 | S44: 202 | T44: 192
A45: 7500 | B45: 惣社 | C45: 325 | D45: 672 | E45: 353 | F45: 319 | O45: 31101 | P45: 根田１丁目 | Q45: 179 | R45: 409 | S45: 211 | T45: 198
A46: 7600 | B46: 加茂 | C46: 3 | D46: 7 | E46: 3 | F46: 4 | O46: 31102 | P46: 根田２丁目 | Q46: 119 | R46: 214 | S46: 125 | T46: 89
A47: 7700 | B47: 根田 | C47: 109 | D47: 229 | E47: 118 | F47: 111 | O47: 31103 | P47: 根田３丁目 | Q47: 270 | R47: 557 | S47: 295 | T47: 262
A48: 7800 | B48: 岩野見 | C48: 143 | D48: 332 | E48: 157 | F48: 175 | O48: 31104 | P48: 根田４丁目 | Q48: 157 | R48: 388 | S48: 190 | T48: 198
O49: 3 | P49: 五井地区_計 | Q49: 40419 | R49: 87398 | S49: 45857 | T49: 41541
A50: 平成29年11月1日現在 世帯数及び人口
A51: CD | B51: 大字名 | C51: 世帯数 | D51: 総数 | E51: 男 | F51: 女 | H51: CD | I51: 大字名 | J51: 世帯数 | K51: 総数 | L51: 男 | M51: 女 | O51: CD | P51: 大字名 | Q51: 世帯数 | R51: 総数 | S51: 男 | T51: 女
A52: 100 | B52: 姉崎海岸 | C52: 35 | D52: 39 | E52: 36 | F52: 3 | H52: 1900 | I52: 八幡海岸通 | J52: 295 | K52: 445 | L52: 312 | M52: 133 | O52: 8400 | P52: 山倉 | Q52: 241 | R52: 482 | S52: 258 | T52: 224
A53: 200 | B53: 椎津 | C53: 1663 | D53: 3483 | E53: 1802 | F53: 1681 | H53: 2001 | I53: 八幡浦１丁目 | J53: 3 | K53: 3 | L53: 3 | M53: 0 | O53: 8500 | P53: 福増 | Q53: 297 | R53: 704 | S53: 365 | T53: 339
A54: 300 | B54: 姉崎 | C54: 5849 | D54: 11555 | E54: 6234 | F54: 5321 | H54: 2100 | I54: 八幡 | J54: 5590 | K54: 11303 | L54: 5890 | M54: 5413 | O54: 8600 | P54: 海士有木 | Q54: 533 | R54: 1241 | S54: 628 | T54: 613
A55: 311 | B55: 姉崎東１丁目 | C55: 47 | D55: 116 | E55: 59 | F55: 57 | H55: 2201 | I55: 八幡北町１丁目 | J55: 228 | K55: 328 | L55: 210 | M55: 118 | O55: 8700 | P55: 大坪 | Q55: 249 | R55: 567 | S55: 308 | T55: 259
A56: 312 | B56: 姉崎東２丁目 | C56: 123 | D56: 289 | E56: 149 | F56: 140 | H56: 2202 | I56: 八幡北町２丁目 | J56: 211 | K56: 388 | L56: 216 | M56: 172 | O56: 8800 | P56: 新生 | Q56: 88 | R56: 229 | S56: 124 | T56: 105
A57: 313 | B57: 姉崎東３丁目 | C57: 84 | D57: 174 | E57: 94 | F57: 80 | H57: 2203 | I57: 八幡北町３丁目 | J57: 124 | K57: 187 | L57: 113 | M57: 74 | O57: 8900 | P57: 権現堂 | Q57: 88 | R57: 228 | S57: 116 | T57: 112
