Workbook

Sheet 2015_01
A1: 42005 | O1: ★★ 全地区合計 ★★ | Q1: =SUM(C98,J98,Q49,Q98,C147,J147,Q147,C196,J196,Q196) -> 121562 | R1: =SUM(D98,K98,R49,R98,D147,K147,R147,D196,K196,R196) -> 280340 | S1: =SUM(E98,L98,S49,S98,E147,L147,S147,E196,L196,S196) -> 144003 | T1: =SUM(F98,M98,T49,T98,F147,M147,T147,F196,M196,T196) -> 136337
A2: CD | B2: 大字名 | C2: 世帯数 | D2: 総数 | E2: 男 | F2: 女 | H2: CD | I2: 大字名 | J2: 世帯数 | K2: 総数 | L2: 男 | M2: 女 | O2: CD | P2: 大字名 | Q2: 世帯数 | R2: 総数 | S2: 男 | T2: 女
A3: 1655 | B3: 千種５丁目 | C3: 214 | D3: 565 | E3: 286 | F3: 279 | H3: 7900 | I3: 平田 | J3: 818 | K3: 1691 | L3: 846 | M3: 845 | O3: 30101 | P3: 国分寺台中央１丁目 | Q3: 299 | R3: 702 | S3: 351 | T3: 351
A4: 1656 | B4: 千種６丁目 | C4: 109 | D4: 397 | E4: 205 | F4: 192 | H4: 8000 | I4: 五井 | J4: 7642 | K4: 16686 | L4: 8772 | M4: 7914 | O4: 30102 | P4: 国分寺台中央２丁目 | Q4: 330 | R4: 793 | S4: 411 | T4: 382
A5: 1657 | B5: 千種７丁目 | C5: 349 | D5: 873 | E5: 461 | F5: 412 | H5: 8051 | I5: 五井中央東１丁目 | J5: 322 | K5: 561 | L5: 298 | M5: 263 | O5: 30103 | P5: 国分寺台中央３丁目 | Q5: 250 | R5: 531 | S5: 289 | T5: 242
A6: 4300 | B6: 千種海岸 | C6: 2 | D6: 2 | E6: 2 | F6: 0 | H6: 8052 | I6: 五井中央東２丁目 | J6: 452 | K6: 793 | L6: 429 | M6: 364 | O6: 30104 | P6: 国分寺台中央４丁目 | Q6: 235 | R6: 557 | S6: 286 | T6: 271
A7: 4400 | B7: 五井南海岸 | C7: 1 | D7: 3 | E7: 0 | F7: 3 | H7: 8061 | I7: 五井中央西１丁目 | J7: 382 | K7: 733 | L7: 386 | M7: 347 | O7: 30105 | P7: 国分寺台中央５丁目 | Q7: 252 | R7: 667 | S7: 359 | T7: 308
A8: 4500 | B8: 五井海岸 | C8: 1 | D8: 1 | E8: 1 | F8: 0 | H8: 8062 | I8: 五井中央西２丁目 | J8: 252 | K8: 538 | L8: 273 | M8: 265 | O8: 30106 | P8: 国分寺台中央６丁目 | Q8: 224 | R8: 569 | S8: 259 | T8: 310
A9: 4600 | B9: 青柳 | C9: 1228 | D9: 2690 | E9: 1432 | F9: 1258 | H9: 8063 | I9: 五井中央西３丁目 | J9: 72 | K9: 151 | L9: 80 | M9: 71 | O9: 30107 | P9: 国分寺台中央７丁目 | Q9: 321 | R9: 748 | S9: 379 | T9: 369
A10: 4651 | B10: 青柳１丁目 | C10: 143 | D10: 300 | E10: 164 | F10: 136 | H10: 8101 | I10: 五井東１丁目 | J10: 637 | K10: 1205 | L10: 637 | M10: 568 | O10: 30201 | P10: 東国分寺台１丁目 | Q10: 324 | R10: 686 | S10: 366 | T10: 320
A11: 4652 | B11: 青柳２丁目 | C11: 83 | D11: 169 | E11: 95 | F11: 74 | H11: 8102 | I11: 五井東２丁目 | J11: 387 | K11: 891 | L11: 460 | M11: 431 | O11: 30202 | P11: 東国分寺台２丁目 | Q11: 196 | R11: 469 | S11: 228 | T11: 241
A12: 4653 | B12: 青柳３丁目 | C12: 182 | D12: 222 | E12: 143 | F12: 79 | H12: 8103 | I12: 五井東３丁目 | J12: 527 | K12: 1086 | L12: 586 | M12: 500 | O12: 30203 | P12: 東国分寺台３丁目 | Q12: 197 | R12: 503 | S12: 253 | T12: 250
A13: 4702 | B13: 青柳北２丁目 | C13: 4 | D13: 9 | E13: 4 | F13: 5 | H13: 8111 | I13: 更級１丁目 | J13: 110 | K13: 224 | L13: 123 | M13: 101 | O13: 30204 | P13: 東国分寺台４丁目 | Q13: 158 | R13: 371 | S13: 195 | T13: 176
A14: 4703 | B14: 青柳北３丁目 | C14: 20 | D14: 36 | E14: 22 | F14: 14 | H14: 8112 | I14: 更級２丁目 | J14: 63 | K14: 144 | L14: 66 | M14: 78 | O14: 30205 | P14: 東国分寺台５丁目 | Q14: 195 | R14: 429 | S14: 218 | T14: 211
... A37: 6700 | B37: 引田 | C37: 46 | D37: 125 | E37: 58 | F37: 67 | H37: 9100 | I37: 宮原 | J37: 8 | K37: 20 | L37: 11 | M37: 9 | O37: 30806 | P37: 西広６丁目 | Q37: 458 | R37: 1097 | S37: 558 | T37: 539
A38: 6800 | B38: 神代 | C38: 48 | D38: 127 | E38: 67 | F38: 60 | O38: 30901 | P38: 惣社１丁目 | Q38: 212 | R38: 502 | S38: 258 | T38: 244
A39: 6900 | B39: 十五沢 | C39: 50 | D39: 128 | E39: 56 | F39: 72 | O39: 30902 | P39: 惣社２丁目 | Q39: 167 | R39: 393 | S39: 198 | T39: 195
A40: 7000 | B40: 小折 | C40: 33 | D40: 74 | E40: 31 | F40: 43 | O40: 30903 | P40: 惣社３丁目 | Q40: 215 | R40: 511 | S40: 258 | T40: 253
A41: 7100 | B41: 西野 | C41: 50 | D41: 139 | E41: 71 | F41: 68 | O41: 30904 | P41: 惣社４丁目 | Q41: 166 | R41: 417 | S41: 218 | T41: 199
A42: 7200 | B42: 柳原 | C42: 57 | D42: 142 | E42: 68 | F42: 74 | O42: 30905 | P42: 惣社５丁目 | Q42: 241 | R42: 686 | S42: 330 | T42: 356
A43: 7300 | B43: 村上 | C43: 614 | D43: 1433 | E43: 713 | F43: 720 | O43: 31001 | P43: 加茂１丁目 | Q43: 199 | R43: 463 | S43: 237 | T43: 226
A44: 7400 | B44: 西広 | C44: 40 | D44: 96 | E44: 52 | F44: 44 | O44: 31002 | P44: 加茂２丁目 | Q44: 149 | R44: 376 | S44: 183 | T44: 193
A45: 7500 | B45: 惣社 | C45: 320 | D45: 677 | E45: 352 | F45: 325 | O45: 31101 | P45: 根田１丁目 | Q45: 161 | R45: 379 | S45: 193 | T45: 186
A46: 7600 | B46: 加茂 | C46: 3 | D46: 7 | E46: 3 | F46: 4 | O46: 31102 | P46: 根田２丁目 | Q46: 115 | R46: 220 | S46: 124 | T46: 96
A47: 7700 | B47: 根田 | C47: 112 | D47: 251 | E47: 131 | F47: 120 | O47: 31103 | P47: 根田３丁目 | Q47: 259 | R47: 548 | S47: 293 | T47: 255
A48: 7800 | B48: 岩野見 | C48: 145 | D48: 344 | E48: 165 | F48: 179 | O48: 31104 | P48: 根田４丁目 | Q48: 165 | R48: 414 | S48: 207 | T48: 207
O49: 五井地区_計 | Q49: =SUM(C3:C48,J3:J48,Q3:Q48) -> 39143 | R49: =SUM(D3:D48,K3:K48,R3:R48) -> 87751 | S49: =SUM(E3:E48,L3:L48,S3:S48) -> 45815 | T49: =SUM(F3:F48,M3:M48,T3:T48) -> 41936
A50: =A1 -> 42005
A51: CD | B51: 大字名 | C51: 世帯数 | D51: 総数 | E51: 男 | F51: 女 | H51: CD | I51: 大字名 | J51: 世帯数 | K51: 総数 | L51: 男 | M51: 女 | O51: CD | P51: 大字名 | Q51: 世帯数 | R51: 総数 | S51: 男 | T51: 女
A52: 100 | B52: 姉崎海岸 | C52: 32 | D52: 38 | E52: 34 | F52: 4 | H52: 1900 | I52: 八幡海岸通 | J52: 297 | K52: 396 | L52: 309 | M52: 87 | O52: 8400 | P52: 山倉 | Q52: 218 | R52: 487 | S52: 257 | T52: 230
A53: 200 | B53: 椎津 | C53: 1677 | D53: 3603 | E53: 1855 | F53: 1748 | H53: 2001 | I53: 八幡浦１丁目 | J53: 3 | K53: 3 | L53: 3 | M53: 0 | O53: 8500 | P53: 福増 | Q53: 294 | R53: 727 | S53: 372 | T53: 355
A54: 300 | B54: 姉崎 | C54: 5954 | D54: 12430 | E54: 6617 | F54: 5813 | H54: 2100 | I54: 八幡 | J54: 5468 | K54: 11400 | L54: 5942 | M54: 5458 | O54: 8600 | P54: 海士有木 | Q54: 529 | R54: 1289 | S54: 659 | T54: 630
A55: 321 | B55: 姉崎西１丁目 | C55: 197 | D55: 339 | E55: 216 | F55: 123 | H55: 2201 | I55: 八幡北町１丁目 | J55: 218 | K55: 284 | L55: 196 | M55: 88 | O55: 8700 | P55: 大坪 | Q55: 253 | R55: 594 | S55: 321 | T55: 273
A56: 322 | B56: 姉崎西２丁目 | C56: 202 | D56: 407 | E56: 211 | F56: 196 | H56: 2202 | I56: 八幡北町２丁目 | J56: 208 | K56: 383 | L56: 219 | M56: 164 | O56: 8800 | P56: 新生 | Q56: 89 | R56: 236 | S56: 127 | T56: 109
A57: 323 | B57: 姉崎西３丁目 | C57: 198 | D57: 428 | E57: 239 | F57: 189 | H57: 2203 | I57: 八幡北町３丁目 | J57: 133 | K57: 209 | L57: 129 | M57: 80 | O57: 8900 | P57: 権現堂 | Q57: 84 | R57: 232 | S57: 116 | T57: 116
A58: 1300 | B58: 畑木 | C58: 161 | D58: 308 | E58: 138 | F58: 170 | H58: 2301 | I58: 八幡石塚１丁目 | J58: 328 | K58: 689 | L58: 394 | M58: 295 | O58: 9000 | P58: 糸久 | Q58: 33 | R58: 91 | S58: 48 | T58: 43
A59: 1400 | B59: 柏原 | C59: 120 | D59: 257 | E59: 118 | F59: 139 | H59: 2302 | I59: 八幡石塚２丁目 | J59: 352 | K59: 722 | L59: 385 | M59: 337 | O59: 9100 | P59: 宮原 | Q59: 86 | R59: 196 | S59: 94 | T59: 102
A60: 1500 | B60: 白塚 | C60: 339 | D60: 754 | E60: 365 | F60: 389 | H60: 2400 | I60: 五所 | J60: 1282 | K60: 2925 | L60: 1505 | M60: 1420 | O60: 9200 | P60: 分目 | Q60: 78 | R60: 214 | S60: 108 | T60: 106
A61: 1600 | B61: 今津朝山 | C61: 991 | D61: 1972 | E61: 1101 | F61: 871 | H61: 2500 | I61: 旭五所 | J61: 458 | K61: 940 | L61: 503 | M61: 437 | O61: 9300 | P61: 浅井小向 | Q61: 56 | R61: 166 | S61: 77 | T61: 89
A62: 1651 | B62: 千種１丁目 | C62: 108 | D62: 174 | E62: 115 | F62: 59 | H62: 2600 | I62: 東五所 | J62: 966 | K62: 1944 | L62: 1035 | M62: 909 | O62: 9400 | P62: 相川 | Q62: 41 | R62: 91 | S62: 48 | T62: 43
A63: 1652 | B63: 千種２丁目 | C63: 216 | D63: 544 | E63: 273 | F63: 271 | H63: 2700 | I63: 西五所 | J63: 869 | K63: 1688 | L63: 893 | M63: 795 | O63: 9500 | P63: 新堀 | Q63: 269 | R63: 587 | S63: 280 | T63: 307
... A73: 1708 | B73: 青葉台８丁目 | C73: 197 | D73: 455 | E73: 237 | F73: 218 | H73: 3002 | I73: 藤井２丁目 | J73: 106 | K73: 225 | L73: 116 | M73: 109 | O73: 10500 | P73: 山田 | Q73: 147 | R73: 371 | S73: 187 | T73: 184
H74: 3003 | I74: 藤井３丁目 | J74: 164 | K74: 395 | L74: 190 | M74: 205 | O74: 10600 | P74: 安須 | Q74: 70 | R74: 195 | S74: 88 | T74: 107
H75: 3100 | I75: 山田橋 | J75: 135 | K75: 274 | L75: 144 | M75: 130 | O75: 10700 | P75: 高坂 | Q75: 50 | R75: 132 | S75: 68 | T75: 64
H76: 3200 | I76: 能満 | J76: 2304 | K76: 5031 | L76: 2499 | M76: 2532 | O76: 10801 | P76: 光風台１丁目 | Q76: 356 | R76: 932 | S76: 449 | T76: 483
H77: 3300 | I77: 門前 | J77: 2 | K77: 6 | L77: 3 | M77: 3 | O77: 10802 | P77: 光風台２丁目 | Q77: 354 | R77: 900 | S77: 454 | T77: 446
H78: 3301 | I78: 門前１丁目 | J78: 75 | K78: 166 | L78: 87 | M78: 79 | O78: 10803 | P78: 光風台３丁目 | Q78: 656 | R78: 1533 | S78: 763 | T78: 770
H79: 3302 | I79: 門前２丁目 | J79: 349 | K79: 803 | L79: 410 | M79: 393 | O79: 10804 | P79: 光風台４丁目 | Q79: 640 | R79: 1554 | S79: 778 | T79: 776
H80: 3400 | I80: 市原 | J80: 461 | K80: 979 | L80: 488 | M80: 491 | O80: 10805 | P80: 光風台５丁目 | Q80: 543 | R80: 1343 | S80: 673 | T80: 670
H81: 3500 | I81: 山木 | J81: 1147 | K81: 2575 | L81: 1356 | M81: 1219
H82: 3600 | I82: 菊間 | J82: 2411 | K82: 5726 | L82: 2720 | M82: 3006
H83: 3700 | I83: 古市場 | J83: 1083 | K83: 2510 | L83: 1306 | M83: 1204
H84: 3800 | I84: 草刈 | J84: 490 | K84: 1189 | L84: 574 | M84: 615
H85: 3900 | I85: 大 | J85: 1958 | K85: 4466 | L85: 2308 | M85: 2158
H86: 4201 | I86: 若宮１丁目 | J86: 476 | K86: 965 | L86: 497 | M86: 468
H87: 4202 | I87: 若宮２丁目 | J87: 342 | K87: 749 | L87: 358 | M87: 391
H88: 4203 | I88: 若宮３丁目 | J88: 324 | K88: 688 | L88: 320 | M88: 368
H89: 4204 | I89: 若宮４丁目 | J89: 352 | K89: 760 | L89: 360 | M89: 400
H90: 4205 | I90: 若宮５丁目 | J90: 240 | K90: 580 | L90: 288 | M90: 292
H91: 4206 | I91: 若宮６丁目 | J91: 296 | K91: 690 | L91: 349 | M91: 341
H92: 4207 | I92: 若宮７丁目 | J92: 77 | K92: 187 | L92: 90 | M92: 97
A98: 姉崎地区_計 | C98: =SUM(C52:C97) -> 13836 | D98: =SUM(D52:D97) -> 29995 | E98: =SUM(E52:E97) -> 15602 | F98: =SUM(F52:F97) -> 14393 | H98: 市原地区_計 | J98: =SUM(J52:J97) -> 24354 | K98: =SUM(K52:K97) -> 52901 | L98: =SUM(L52:L97) -> 27155 | M98: =SUM(M52:M97) -> 25746 | O98: 三和地区_計 | Q98: =SUM(Q52:Q97) -> 6143 | R98: =SUM(R52:R97) -> 15064 | S98: =SUM(S52:S97) -> 7556 | T98: =SUM(T52:T97) -> 7508
A99: =A50 -> 42005
A100: CD | B100: 大字名 | C100: 世帯数 | D100: 総数 | E100: 男 | F100: 女 | H100: CD | I100: 大字名 | J100: 世帯数 | K100: 総数 | L100: 男 | M100: 女 | O100: CD | P100: 大字名 | Q100: 世帯数 | R100: 総数 | S100: 男 | T100: 女
A101: 10900 | B101: 久々津 | C101: 70 | D101: 171 | E101: 82 | F101: 89 | H101: 4001 | I101: 辰巳台東１丁目 | J101: 407 | K101: 1155 | L101: 578 | M101: 577 | O101: 13400 | P101: 風戸 | Q101: 18 | R101: 38 | S101: 20 | T101: 18
A102: 11000 | B102: 潤井戸 | C102: 989 | D102: 2215 | E102: 1140 | F102: 1075 | H102: 4002 | I102: 辰巳台東２丁目 | J102: 621 | K102: 1216 | L102: 607 | M102: 609 | O102: 13500 | P102: 中高根 | Q102: 1165 | R102: 2749 | S102: 1432 | T102: 1317
A103: 11051 | B103: うるいど南１丁目 | C103: 186 | D103: 485 | E103: 244 | F103: 241 | H103: 4003 | I103: 辰巳台東３丁目 | J103: 982 | K103: 2440 | L103: 1290 | M103: 1150 | O103: 13600 | P103: 上高根 | Q103: 781 | R103: 1880 | S103: 946 | T103: 934
A104: 11052 | B104: うるいど南２丁目 | C104: 106 | D104: 260 | E104: 137 | F104: 123 | H104: 4004 | I104: 辰巳台東４丁目 | J104: 903 | K104: 2199 | L104: 1199 | M104: 1000 | O104: 13700 | P104: 馬立 | Q104: 1346 | R104: 3111 | S104: 1552 | T104: 1559
A105: 11053 | B105: うるいど南３丁目 | C105: 222 | D105: 608 | E105: 317 | F105: 291 | H105: 4005 | I105: 辰巳台東５丁目 | J105: 271 | K105: 555 | L105: 300 | M105: 255 | O105: 13800 | P105: 上原 | Q105: 61 | R105: 140 | S105: 79 | T105: 61
A106: 11100 | B106: 下野 | C106: 156 | D106: 404 | E106: 191 | F106: 213 | H106: 4101 | I106: 辰巳台西１丁目 | J106: 367 | K106: 972 | L106: 485 | M106: 487 | O106: 13900 | P106: 南岩崎 | Q106: 429 | R106: 1017 | S106: 508 | T106: 509
A107: 11200 | B107: 永吉 | C107: 124 | D107: 297 | E107: 151 | F107: 146 | H107: 4102 | I107: 辰巳台西２丁目 | J107: 392 | K107: 1182 | L107: 590 | M107: 592 | O107: 14000 | P107: 寺谷 | Q107: 102 | R107: 251 | S107: 128 | T107: 123
A108: 11300 | B108: 番場 | C108: 88 | D108: 215 | E108: 111 | F108: 104 | H108: 4103 | I108: 辰巳台西３丁目 | J108: 596 | K108: 1178 | L108: 701 | M108: 477 | O108: 14100 | P108: 栢橋 | Q108: 223 | R108: 568 | S108: 295 | T108: 273
A109: 11400 | B109: 押沼 | C109: 56 | D109: 146 | E109: 77 | F109: 69 | H109: 4104 | I109: 辰巳台西４丁目 | J109: 340 | K109: 819 | L109: 391 | M109: 428 | O109: 14200 | P109: 西国吉 | Q109: 789 | R109: 1857 | S109: 951 | T109: 906
A110: 11500 | B110: 瀬又 | C110: 1604 | D110: 3610 | E110: 1766 | F110: 1844 | H110: 4105 | I110: 辰巳台西５丁目 | J110: 142 | K110: 321 | L110: 151 | M110: 170 | O110: 14300 | P110: 佐是 | Q110: 337 | R110: 851 | S110: 440 | T110: 411
A111: 11600 | B111: 中野 | C111: 35 | D111: 90 | E111: 50 | F111: 40 | O111: 14400 | P111: 妙香 | Q111: 80 | R111: 194 | S111: 102 | T111: 92
A112: 11700 | B112: 高田 | C112: 53 | D112: 133 | E112: 67 | F112: 66 | O112: 14500 | P112: 奉免 | Q112: 199 | R112: 498 | S112: 240 | T112: 258
A113: 11800 | B113: 高倉 | C113: 52 | D113: 122 | E113: 58 | F113: 64 | O113: 14600 | P113: 牛久 | Q113: 912 | R113: 1995 | S113: 1010 | T113: 985
A114: 11900 | B114: 東国吉 | C114: 118 | D114: 304 | E114: 142 | F114: 162 | O114: 14700 | P114: 皆吉 | Q114: 745 | R114: 1714 | S114: 858 | T114: 856
A115: 12000 | B115: 金剛地 | C115: 168 | D115: 440 | E115: 227 | F115: 213 | O115: 14800 | P115: 金沢 | Q115: 38 | R115: 91 | S115: 48 | T115: 43
A116: 12100 | B116: 奈良 | C116: 69 | D116: 192 | E116: 98 | F116: 94 | O116: 14900 | P116: 大蔵 | Q116: 14 | R116: 33 | S116: 20 | T116: 13
A117: 12200 | B117: 古都辺 | C117: 33 | D117: 80 | E117: 40 | F117: 40 | O117: 15000 | P117: 岩 | Q117: 37 | R117: 87 | S117: 41 | T117: 46
A118: 12300 | B118: 喜多 | C118: 683 | D118: 1648 | E118: 846 | F118: 802 | O118: 15100 | P118: 藪 | Q118: 65 | R118: 193 | S118: 99 | T118: 94
A119: 12400 | B119: 犬成 | C119: 237 | D119: 483 | E119: 275 | F119: 208 | O119: 15200 | P119: 中 | Q119: 349 | R119: 839 | S119: 428 | T119: 411
A120: 12500 | B120: 大作 | C120: 41 | D120: 92 | E120: 42 | F120: 50 | O120: 15300 | P120: 安久谷 | Q120: 99 | R120: 237 | S120: 114 | T120: 123
A121: 12600 | B121: 滝口 | C121: 38 | D121: 99 | E121: 51 | F121: 48 | O121: 15400 | P121: 米沢 | Q121: 147 | R121: 357 | S121: 171 | T121: 186
A122: 12700 | B122: 勝間 | C122: 201 | D122: 365 | E122: 155 | F122: 210 | O122: 15500 | P122: 真ケ谷 | Q122: 53 | R122: 150 | S122: 73 | T122: 77
... A127: 13200 | B127: 山之郷飛地 | C127: 2 | D127: 6 | E127: 2 | F127: 4 | O127: 16000 | P127: 奥野 | Q127: 55 | R127: 154 | S127: 72 | T127: 82
O128: 16100 | P128: 水沢 | Q128: 25 | R128: 70 | S128: 32 | T128: 38
O129: 16200 | P129: 原田 | Q129: 26 | R129: 64 | S129: 28 | T129: 36
O130: 16300 | P130: 石川 | Q130: 452 | R130: 1112 | S130: 565 | T130: 547
O131: 16400 | P131: 江子田 | Q131: 130 | R131: 301 | S131: 158 | T131: 143
O132: 16500 | P132: 下矢田 | Q132: 186 | R132: 452 | S132: 213 | T132: 239
O133: 16600 | P133: 矢田 | Q133: 27 | R133: 69 | S133: 31 | T133: 38
O134: 16700 | P134: 池和田 | Q134: 129 | R134: 313 | S134: 150 | T134: 163
O135: 16800 | P135: 鶴舞 | Q135: 545 | R135: 1201 | S135: 561 | T135: 640
O136: 16900 | P136: 田尾 | Q136: 187 | R136: 470 | S136: 235 | T136: 235
O137: 17000 | P137: 山小川 | Q137: 96 | R137: 217 | S137: 119 | T137: 98
O138: 17100 | P138: 平蔵 | Q138: 198 | R138: 486 | S138: 254 | T138: 232
O139: 17200 | P139: 米原 | Q139: 145 | R139: 305 | S139: 167 | T139: 138
O140: 17300 | P140: 小草畑 | Q140: 38 | R140: 89 | S140: 41 | T140: 48
...

Sheet 2015_02
A1: 42036 | O1: ★★ 全地区合計 ★★ | Q1: =SUM(C98,J98,Q49,Q98,C147,J147,Q147,C196,J196,Q196) -> 121595 | R1: =SUM(D98,K98,R49,R98,D147,K147,R147,D196,K196,R196) -> 280334 | S1: =SUM(E98,L98,S49,S98,E147,L147,S147,E196,L196,S196) -> 144021 | T1: =SUM(F98,M98,T49,T98,F147,M147,T147,F196,M196,T196) -> 136313
A2: CD | B2: 大字名 | C2: 世帯数 | D2: 総数 | E2: 男 | F2: 女 | H2: CD | I2: 大字名 | J2: 世帯数 | K2: 総数 | L2: 男 | M2: 女 | O2: CD | P2: 大字名 | Q2: 世帯数 | R2: 総数 | S2: 男 | T2: 女
A3: 1655 | B3: 千種５丁目 | C3: 211 | D3: 557 | E3: 281 | F3: 276 | H3: 7900 | I3: 平田 | J3: 818 | K3: 1690 | L3: 844 | M3: 846 | O3: 30101 | P3: 国分寺台中央１丁目 | Q3: 301 | R3: 701 | S3: 353 | T3: 348
A4: 1656 | B4: 千種６丁目 | C4: 109 | D4: 397 | E4: 205 | F4: 192 | H4: 8000 | I4: 五井 | J4: 7647 | K4: 16683 | L4: 8776 | M4: 7907 | O4: 30102 | P4: 国分寺台中央２丁目 | Q4: 328 | R4: 792 | S4: 411 | T4: 381
A5: 1657 | B5: 千種７丁目 | C5: 349 | D5: 871 | E5: 461 | F5: 410 | H5: 8051 | I5: 五井中央東１丁目 | J5: 322 | K5: 562 | L5: 298 | M5: 264 | O5: 30103 | P5: 国分寺台中央３丁目 | Q5: 254 | R5: 537 | S5: 291 | T5: 246
A6: 4300 | B6: 千種海岸 | C6: 2 | D6: 2 | E6: 2 | F6: 0 | H6: 8052 | I6: 五井中央東２丁目 | J6: 455 | K6: 797 | L6: 428 | M6: 369 | O6: 30104 | P6: 国分寺台中央４丁目 | Q6: 237 | R6: 557 | S6: 287 | T6: 270
A7: 4400 | B7: 五井南海岸 | C7: 1 | D7: 3 | E7: 0 | F7: 3 | H7: 8061 | I7: 五井中央西１丁目 | J7: 380 | K7: 729 | L7: 385 | M7: 344 | O7: 30105 | P7: 国分寺台中央５丁目 | Q7: 252 | R7: 667 | S7: 359 | T7: 308
A8: 4500 | B8: 五井海岸 | C8: 1 | D8: 1 | E8: 1 | F8: 0 | H8: 8062 | I8: 五井中央西２丁目 | J8: 250 | K8: 536 | L8: 271 | M8: 265 | O8: 30106 | P8: 国分寺台中央６丁目 | Q8: 227 | R8: 574 | S8: 262 | T8: 312
A9: 4600 | B9: 青柳 | C9: 1234 | D9: 2694 | E9: 1438 | F9: 1256 | H9: 8063 | I9: 五井中央西３丁目 | J9: 71 | K9: 150 | L9: 79 | M9: 71 | O9: 30107 | P9: 国分寺台中央７丁目 | Q9: 325 | R9: 755 | S9: 384 | T9: 371
A10: 4651 | B10: 青柳１丁目 | C10: 140 | D10: 295 | E10: 160 | F10: 135 | H10: 8101 | I10: 五井東１丁目 | J10: 636 | K10: 1202 | L10: 633 | M10: 569 | O10: 30201 | P10: 東国分寺台１丁目 | Q10: 326 | R10: 690 | S10: 367 | T10: 323
A11: 4652 | B11: 青柳２丁目 | C11: 83 | D11: 169 | E11: 94 | F11: 75 | H11: 8102 | I11: 五井東２丁目 | J11: 386 | K11: 887 | L11: 460 | M11: 427 | O11: 30202 | P11: 東国分寺台２丁目 | Q11: 195 | R11: 466 | S11: 225 | T11: 241
A12: 4653 | B12: 青柳３丁目 | C12: 181 | D12: 221 | E12: 142 | F12: 79 | H12: 8103 | I12: 五井東３丁目 | J12: 524 | K12: 1082 | L12: 583 | M12: 499 | O12: 30203 | P12: 東国分寺台３丁目 | Q12: 199 | R12: 506 | S12: 255 | T12: 251
A13: 4702 | B13: 青柳北２丁目 | C13: 4 | D13: 9 | E13: 4 | F13: 5 | H13: 8111 | I13: 更級１丁目 | J13: 110 | K13: 228 | L13: 127 | M13: 101 | O13: 30204 | P13: 東国分寺台４丁目 | Q13: 159 | R13: 376 | S13: 198 | T13: 178
A14: 4703 | B14: 青柳北３丁目 | C14: 20 | D14: 36 | E14: 22 | F14: 14 | H14: 8112 | I14: 更級２丁目 | J14: 63 | K14: 140 | L14: 63 | M14: 77 | O14: 30205 | P14: 東国分寺台５丁目 | Q14: 197 | R14: 431 | S14: 219 | T14: 212
... A37: 6700 | B37: 引田 | C37: 46 | D37: 125 | E37: 58 | F37: 67 | H37: 9100 | I37: 宮原 | J37: 8 | K37: 20 | L37: 11 | M37: 9 | O37: 30806 | P37: 西広６丁目 | Q37: 458 | R37: 1095 | S37: 557 | T37: 538
A38: 6800 | B38: 神代 | C38: 48 | D38: 127 | E38: 67 | F38: 60 | O38: 30901 | P38: 惣社１丁目 | Q38: 211 | R38: 500 | S38: 258 | T38: 242
A39: 6900 | B39: 十五沢 | C39: 50 | D39: 128 | E39: 56 | F39: 72 | O39: 30902 | P39: 惣社２丁目 | Q39: 167 | R39: 393 | S39: 197 | T39: 196
A40: 7000 | B40: 小折 | C40: 33 | D40: 74 | E40: 31 | F40: 43 | O40: 30903 | P40: 惣社３丁目 | Q40: 218 | R40: 518 | S40: 263 | T40: 255
A41: 7100 | B41: 西野 | C41: 50 | D41: 139 | E41: 71 | F41: 68 | O41: 30904 | P41: 惣社４丁目 | Q41: 165 | R41: 415 | S41: 217 | T41: 198
A42: 7200 | B42: 柳原 | C42: 56 | D42: 141 | E42: 67 | F42: 74 | O42: 30905 | P42: 惣社５丁目 | Q42: 240 | R42: 684 | S42: 328 | T42: 356
A43: 7300 | B43: 村上 | C43: 615 | D43: 1436 | E43: 716 | F43: 720 | O43: 31001 | P43: 加茂１丁目 | Q43: 197 | R43: 461 | S43: 236 | T43: 225
A44: 7400 | B44: 西広 | C44: 40 | D44: 96 | E44: 52 | F44: 44 | O44: 31002 | P44: 加茂２丁目 | Q44: 153 | R44: 383 | S44: 189 | T44: 194
A45: 7500 | B45: 惣社 | C45: 319 | D45: 676 | E45: 351 | F45: 325 | O45: 31101 | P45: 根田１丁目 | Q45: 163 | R45: 382 | S45: 196 | T45: 186
A46: 7600 | B46: 加茂 | C46: 3 | D46: 7 | E46: 3 | F46: 4 | O46: 31102 | P46: 根田２丁目 | Q46: 115 | R46: 222 | S46: 125 | T46: 97
A47: 7700 | B47: 根田 | C47: 110 | D47: 247 | E47: 129 | F47: 118 | O47: 31103 | P47: 根田３丁目 | Q47: 259 | R47: 544 | S47: 291 | T47: 253
A48: 7800 | B48: 岩野見 | C48: 145 | D48: 345 | E48: 166 | F48: 179 | O48: 31104 | P48: 根田４丁目 | Q48: 164 | R48: 413 | S48: 206 | T48: 207
O49: 五井地区_計 | Q49: =SUM(C3:C48,J3:J48,Q3:Q48) -> 39158 | R49: =SUM(D3:D48,K3:K48,R3:R48) -> 87748 | S49: =SUM(E3:E48,L3:L48,S3:S48) -> 45826 | T49: =SUM(F3:F48,M3:M48,T3:T48) -> 41922
A50: =A1 -> 42036
A51: CD | B51: 大字名 | C51: 世帯数 | D51: 総数 | E51: 男 | F51: 女 | H51: CD | I51: 大字名 | J51: 世帯数 | K51: 総数 | L51: 男 | M51: 女 | O51: CD | P51: 大字名 | Q51: 世帯数 | R51: 総数 | S51: 男 | T51: 女
A52: 100 | B52: 姉崎海岸 | C52: 32 | D52: 38 | E52: 34 | F52: 4 | H52: 1900 | I52: 八幡海岸通 | J52: 300 | K52: 401 | L52: 313 | M52: 88 | O52: 8400 | P52: 山倉 | Q52: 217 | R52: 486 | S52: 256 | T52: 230
A53: 200 | B53: 椎津 | C53: 1681 | D53: 3605 | E53: 1861 | F53: 1744 | H53: 2001 | I53: 八幡浦１丁目 | J53: 3 | K53: 3 | L53: 3 | M53: 0 | O53: 8500 | P53: 福増 | Q53: 293 | R53: 726 | S53: 372 | T53: 354
A54: 300 | B54: 姉崎 | C54: 5937 | D54: 12389 | E54: 6592 | F54: 5797 | H54: 2100 | I54: 八幡 | J54: 5463 | K54: 11395 | L54: 5943 | M54: 5452 | O54: 8600 | P54: 海士有木 | Q54: 525 | R54: 1284 | S54: 656 | T54: 628
A55: 321 | B55: 姉崎西１丁目 | C55: 201 | D55: 349 | E55: 221 | F55: 128 | H55: 2201 | I55: 八幡北町１丁目 | J55: 217 | K55: 285 | L55: 196 | M55: 89 | O55: 8700 | P55: 大坪 | Q55: 252 | R55: 589 | S55: 318 | T55: 271
A56: 322 | B56: 姉崎西２丁目 | C56: 200 | D56: 405 | E56: 209 | F56: 196 | H56: 2202 | I56: 八幡北町２丁目 | J56: 207 | K56: 381 | L56: 217 | M56: 164 | O56: 8800 | P56: 新生 | Q56: 89 | R56: 236 | S56: 128 | T56: 108
A57: 323 | B57: 姉崎西３丁目 | C57: 198 | D57: 429 | E57: 239 | F57: 190 | H57: 2203 | I57: 八幡北町３丁目 | J57: 132 | K57: 207 | L57: 127 | M57: 80 | O57: 8900 | P57: 権現堂 | Q57: 85 | R57: 235 | S57: 118 | T57: 117
A58: 1300 | B58: 畑木 | C58: 158 | D58: 306 | E58: 139 | F58: 167 | H58: 2301 | I58: 八幡石塚１丁目 | J58: 329 | K58: 693 | L58: 395 | M58: 298 | O58: 9000 | P58: 糸久 | Q58: 33 | R58: 91 | S58: 48 | T58: 43
A59: 1400 | B59: 柏原 | C59: 120 | D59: 257 | E59: 118 | F59: 139 | H59: 2302 | I59: 八幡石塚２丁目 | J59: 347 | K59: 719 | L59: 380 | M59: 339 | O59: 9100 | P59: 宮原 | Q59: 86 | R59: 196 | S59: 94 | T59: 102
A60: 1500 | B60: 白塚 | C60: 337 | D60: 756 | E60: 365 | F60: 391 | H60: 2400 | I60: 五所 | J60: 1285 | K60: 2927 | L60: 1509 | M60: 1418 | O60: 9200 | P60: 分目 | Q60: 78 | R60: 214 | S60: 108 | T60: 106
A61: 1600 | B61: 今津朝山 | C61: 997 | D61: 1982 | E61: 1109 | F61: 873 | H61: 2500 | I61: 旭五所 | J61: 459 | K61: 942 | L61: 504 | M61: 438 | O61: 9300 | P61: 浅井小向 | Q61: 56 | R61: 166 | S61: 77 | T61: 89
A62: 1651 | B62: 千種１丁目 | C62: 108 | D62: 174 | E62: 115 | F62: 59 | H62: 2600 | I62: 東五所 | J62: 970 | K62: 1955 | L62: 1035 | M62: 920 | O62: 9400 | P62: 相川 | Q62: 42 | R62: 91 | S62: 49 | T62: 42
A63: 1652 | B63: 千種２丁目 | C63: 215 | D63: 542 | E63: 273 | F63: 269 | H63: 2700 | I63: 西五所 | J63: 875 | K63: 1708 | L63: 902 | M63: 806 | O63: 9500 | P63: 新堀 | Q63: 268 | R63: 587 | S63: 280 | T63: 307
... A73: 1708 | B73: 青葉台８丁目 | C73: 198 | D73: 457 | E73: 238 | F73: 219 | H73: 3002 | I73: 藤井２丁目 | J73: 107 | K73: 222 | L73: 116 | M73: 106 | O73: 10500 | P73: 山田 | Q73: 147 | R73: 371 | S73: 187 | T73: 184
H74: 3003 | I74: 藤井３丁目 | J74: 164 | K74: 394 | L74: 189 | M74: 205 | O74: 10600 | P74: 安須 | Q74: 70 | R74: 194 | S74: 88 | T74: 106
H75: 3100 | I75: 山田橋 | J75: 133 | K75: 270 | L75: 140 | M75: 130 | O75: 10700 | P75: 高坂 | Q75: 50 | R75: 132 | S75: 68 | T75: 64
H76: 3200 | I76: 能満 | J76: 2302 | K76: 5023 | L76: 2493 | M76: 2530 | O76: 10801 | P76: 光風台１丁目 | Q76: 356 | R76: 931 | S76: 448 | T76: 483
H77: 3300 | I77: 門前 | J77: 2 | K77: 6 | L77: 3 | M77: 3 | O77: 10802 | P77: 光風台２丁目 | Q77: 351 | R77: 890 | S77: 449 | T77: 441
H78: 3301 | I78: 門前１丁目 | J78: 75 | K78: 165 | L78: 87 | M78: 78 | O78: 10803 | P78: 光風台３丁目 | Q78: 658 | R78: 1537 | S78: 763 | T78: 774
H79: 3302 | I79: 門前２丁目 | J79: 349 | K79: 798 | L79: 410 | M79: 388 | O79: 10804 | P79: 光風台４丁目 | Q79: 642 | R79: 1553 | S79: 778 | T79: 775
H80: 3400 | I80: 市原 | J80: 461 | K80: 980 | L80: 487 | M80: 493 | O80: 10805 | P80: 光風台５丁目 | Q80: 542 | R80: 1342 | S80: 671 | T80: 671
H81: 3500 | I81: 山木 | J81: 1141 | K81: 2560 | L81: 1348 | M81: 1212
H82: 3600 | I82: 菊間 | J82: 2410 | K82: 5716 | L82: 2712 | M82: 3004
H83: 3700 | I83: 古市場 | J83: 1083 | K83: 2508 | L83: 1303 | M83: 1205
H84: 3800 | I84: 草刈 | J84: 488 | K84: 1185 | L84: 574 | M84: 611
H85: 3900 | I85: 大 | J85: 1959 | K85: 4456 | L85: 2307 | M85: 2149
H86: 4201 | I86: 若宮１丁目 | J86: 479 | K86: 965 | L86: 498 | M86: 467
H87: 4202 | I87: 若宮２丁目 | J87: 343 | K87: 749 | L87: 358 | M87: 391
H88: 4203 | I88: 若宮３丁目 | J88: 325 | K88: 687 | L88: 318 | M88: 369
H89: 4204 | I89: 若宮４丁目 | J89: 353 | K89: 763 | L89: 361 | M89: 402
H90: 4205 | I90: 若宮５丁目 | J90: 240 | K90: 581 | L90: 289 | M90: 292
H91: 4206 | I91: 若宮６丁目 | J91: 295 | K91: 689 | L91: 348 | M91: 341
H92: 4207 | I92: 若宮７丁目 | J92: 77 | K92: 186 | L92: 89 | M92: 97
A98: 姉崎地区_計 | C98: =SUM(C52:C97) -> 13824 | D98: =SUM(D52:D97) -> 29984 | E98: =SUM(E52:E97) -> 15599 | F98: =SUM(F52:F97) -> 14385 | H98: 市原地区_計 | J98: =SUM(J52:J97) -> 24359 | K98: =SUM(K52:K97) -> 52870 | L98: =SUM(L52:L97) -> 27134 | M98: =SUM(M52:M97) -> 25736 | O98: 三和地区_計 | Q98: =SUM(Q52:Q97) -> 6139 | R98: =SUM(R52:R97) -> 15041 | S98: =SUM(S52:S97) -> 7543 | T98: =SUM(T52:T97) -> 7498
A99: =A50 -> 42036
A100: CD | B100: 大字名 | C100: 世帯数 | D100: 総数 | E100: 男 | F100: 女 | H100: CD | I100: 大字名 | J100: 世帯数 | K100: 総数 | L100: 男 | M100: 女 | O100: CD | P100: 大字名 | Q100: 世帯数 | R100: 総数 | S100: 男 | T100: 女
A101: 10900 | B101: 久々津 | C101: 70 | D101: 171 | E101: 82 | F101: 89 | H101: 4001 | I101: 辰巳台東１丁目 | J101: 407 | K101: 1152 | L101: 579 | M101: 573 | O101: 13400 | P101: 風戸 | Q101: 18 | R101: 38 | S101: 20 | T101: 18
A102: 11000 | B102: 潤井戸 | C102: 991 | D102: 2218 | E102: 1142 | F102: 1076 | H102: 4002 | I102: 辰巳台東２丁目 | J102: 620 | K102: 1218 | L102: 607 | M102: 611 | O102: 13500 | P102: 中高根 | Q102: 1167 | R102: 2756 | S102: 1438 | T102: 1318
A103: 11051 | B103: うるいど南１丁目 | C103: 184 | D103: 486 | E103: 245 | F103: 241 | H103: 4003 | I103: 辰巳台東３丁目 | J103: 981 | K103: 2440 | L103: 1293 | M103: 1147 | O103: 13600 | P103: 上高根 | Q103: 778 | R103: 1874 | S103: 943 | T103: 931
A104: 11052 | B104: うるいど南２丁目 | C104: 110 | D104: 270 | E104: 141 | F104: 129 | H104: 4004 | I104: 辰巳台東４丁目 | J104: 902 | K104: 2199 | L104: 1200 | M104: 999 | O104: 13700 | P104: 馬立 | Q104: 1344 | R104: 3111 | S104: 1549 | T104: 1562
A105: 11053 | B105: うるいど南３丁目 | C105: 228 | D105: 618 | E105: 323 | F105: 295 | H105: 4005 | I105: 辰巳台東５丁目 | J105: 271 | K105: 554 | L105: 299 | M105: 255 | O105: 13800 | P105: 上原 | Q105: 62 | R105: 144 | S105: 81 | T105: 63
A106: 11100 | B106: 下野 | C106: 157 | D106: 404 | E106: 191 | F106: 213 | H106: 4101 | I106: 辰巳台西１丁目 | J106: 369 | K106: 979 | L106: 489 | M106: 490 | O106: 13900 | P106: 南岩崎 | Q106: 427 | R106: 1017 | S106: 509 | T106: 508
A107: 11200 | B107: 永吉 | C107: 124 | D107: 296 | E107: 151 | F107: 145 | H107: 4102 | I107: 辰巳台西２丁目 | J107: 391 | K107: 1181 | L107: 590 | M107: 591 | O107: 14000 | P107: 寺谷 | Q107: 102 | R107: 250 | S107: 127 | T107: 123
A108: 11300 | B108: 番場 | C108: 88 | D108: 215 | E108: 111 | F108: 104 | H108: 4103 | I108: 辰巳台西３丁目 | J108: 593 | K108: 1171 | L108: 698 | M108: 473 | O108: 14100 | P108: 栢橋 | Q108: 223 | R108: 567 | S108: 295 | T108: 272
A109: 11400 | B109: 押沼 | C109: 56 | D109: 145 | E109: 77 | F109: 68 | H109: 4104 | I109: 辰巳台西４丁目 | J109: 339 | K109: 813 | L109: 388 | M109: 425 | O109: 14200 | P109: 西国吉 | Q109: 787 | R109: 1856 | S109: 952 | T109: 904
A110: 11500 | B110: 瀬又 | C110: 1602 | D110: 3601 | E110: 1760 | F110: 1841 | H110: 4105 | I110: 辰巳台西５丁目 | J110: 142 | K110: 322 | L110: 152 | M110: 170 | O110: 14300 | P110: 佐是 | Q110: 335 | R110: 849 | S110: 438 | T110: 411
A111: 11600 | B111: 中野 | C111: 35 | D111: 90 | E111: 50 | F111: 40 | O111: 14400 | P111: 妙香 | Q111: 79 | R111: 192 | S111: 101 | T111: 91
A112: 11700 | B112: 高田 | C112: 53 | D112: 133 | E112: 67 | F112: 66 | O112: 14500 | P112: 奉免 | Q112: 199 | R112: 496 | S112: 238 | T112: 258
A113: 11800 | B113: 高倉 | C113: 52 | D113: 122 | E113: 58 | F113: 64 | O113: 14600 | P113: 牛久 | Q113: 910 | R113: 1986 | S113: 1004 | T113: 982
A114: 11900 | B114: 東国吉 | C114: 117 | D114: 303 | E114: 142 | F114: 161 | O114: 14700 | P114: 皆吉 | Q114: 745 | R114: 1713 | S114: 858 | T114: 855
A115: 12000 | B115: 金剛地 | C115: 168 | D115: 440 | E115: 227 | F115: 213 | O115: 14800 | P115: 金沢 | Q115: 38 | R115: 91 | S115: 48 | T115: 43
A116: 12100 | B116: 奈良 | C116: 68 | D116: 190 | E116: 97 | F116: 93 | O116: 14900 | P116: 大蔵 | Q116: 14 | R116: 33 | S116: 20 | T116: 13
A117: 12200 | B117: 古都辺 | C117: 32 | D117: 79 | E117: 39 | F117: 40 | O117: 15000 | P117: 岩 | Q117: 53 | R117: 100 | S117: 60 | T117: 40
A118: 12300 | B118: 喜多 | C118: 682 | D118: 1645 | E118: 844 | F118: 801 | O118: 15100 | P118: 藪 | Q118: 65 | R118: 192 | S118: 99 | T118: 93
A119: 12400 | B119: 犬成 | C119: 235 | D119: 479 | E119: 273 | F119: 206 | O119: 15200 | P119: 中 | Q119: 352 | R119: 838 | S119: 430 | T119: 408
A120: 12500 | B120: 大作 | C120: 41 | D120: 92 | E120: 42 | F120: 50 | O120: 15300 | P120: 安久谷 | Q120: 99 | R120: 237 | S120: 114 | T120: 123
A121: 12600 | B121: 滝口 | C121: 38 | D121: 99 | E121: 51 | F121: 48 | O121: 15400 | P121: 米沢 | Q121: 145 | R121: 353 | S121: 169 | T121: 184
A122: 12700 | B122: 勝間 | C122: 201 | D122: 365 | E122: 154 | F122: 211 | O122: 15500 | P122: 真ケ谷 | Q122: 53 | R122: 150 | S122: 73 | T122: 77
... A127: 13200 | B127: 山之郷飛地 | C127: 2 | D127: 6 | E127: 2 | F127: 4 | O127: 16000 | P127: 奥野 | Q127: 55 | R127: 154 | S127: 72 | T127: 82
O128: 16100 | P128: 水沢 | Q128: 25 | R128: 70 | S128: 32 | T128: 38
O129: 16200 | P129: 原田 | Q129: 26 | R129: 64 | S129: 28 | T129: 36
O130: 16300 | P130: 石川 | Q130: 450 | R130: 1107 | S130: 563 | T130: 544
O131: 16400 | P131: 江子田 | Q131: 129 | R131: 300 | S131: 157 | T131: 143
O132: 16500 | P132: 下矢田 | Q132: 186 | R132: 451 | S132: 212 | T132: 239
O133: 16600 | P133: 矢田 | Q133: 27 | R133: 69 | S133: 31 | T133: 38
O134: 16700 | P134: 池和田 | Q134: 128 | R134: 312 | S134: 149 | T134: 163
O135: 16800 | P135: 鶴舞 | Q135: 543 | R135: 1197 | S135: 562 | T135: 635
O136: 16900 | P136: 田尾 | Q136: 189 | R136: 469 | S136: 235 | T136: 234
O137: 17000 | P137: 山小川 | Q137: 97 | R137: 219 | S137: 119 | T137: 100
O138: 17100 | P138: 平蔵 | Q138: 198 | R138: 482 | S138: 252 | T138: 230
O139: 17200 | P139: 米原 | Q139: 146 | R139: 310 | S139: 170 | T139: 140
O140: 17300 | P140: 小草畑 | Q140: 38 | R140: 89 | S140: 41 | T140: 48
...

Sheet 2015_03
A1: 42064 | O1: ★★ 全地区合計 ★★ | Q1: 121692 | R1: 280329 | S1: 144040 | T1: 136289
A2: CD | B2: 大字名 | C2: 世帯数 | D2: 総数 | E2: 男 | F2: 女 | H2: CD | I2: 大字名 | J2: 世帯数 | K2: 総数 | L2: 男 | M2: 女 | O2: CD | P2: 大字名 | Q2: 世帯数 | R2: 総数 | S2: 男 | T2: 女
A3: 1655 | B3: 千種５丁目 | C3: 211 | D3: 557 | E3: 280 | F3: 277 | H3: 7900 | I3: 平田 | J3: 812 | K3: 1683 | L3: 838 | M3: 845 | O3: 30101 | P3: 国分寺台中央１丁目 | Q3: 297 | R3: 693 | S3: 349 | T3: 344
A4: 1656 | B4: 千種６丁目 | C4: 109 | D4: 397 | E4: 205 | F4: 192 | H4: 8000 | I4: 五井 | J4: 7630 | K4: 16657 | L4: 8766 | M4: 7891 | O4: 30102 | P4: 国分寺台中央２丁目 | Q4: 331 | R4: 797 | S4: 415 | T4: 382
A5: 1657 | B5: 千種７丁目 | C5: 352 | D5: 871 | E5: 462 | F5: 409 | H5: 8051 | I5: 五井中央東１丁目 | J5: 323 | K5: 565 | L5: 303 | M5: 262 | O5: 30103 | P5: 国分寺台中央３丁目 | Q5: 261 | R5: 543 | S5: 296 | T5: 247
A6: 4300 | B6: 千種海岸 | C6: 2 | D6: 2 | E6: 2 | F6: 0 | H6: 8052 | I6: 五井中央東２丁目 | J6: 464 | K6: 812 | L6: 437 | M6: 375 | O6: 30104 | P6: 国分寺台中央４丁目 | Q6: 235 | R6: 552 | S6: 286 | T6: 266
A7: 4400 | B7: 五井南海岸 | C7: 1 | D7: 3 | E7: 0 | F7: 3 | H7: 8061 | I7: 五井中央西１丁目 | J7: 384 | K7: 734 | L7: 390 | M7: 344 | O7: 30105 | P7: 国分寺台中央５丁目 | Q7: 254 | R7: 671 | S7: 360 | T7: 311
A8: 4500 | B8: 五井海岸 | C8: 1 | D8: 1 | E8: 1 | F8: 0 | H8: 8062 | I8: 五井中央西２丁目 | J8: 255 | K8: 544 | L8: 277 | M8: 267 | O8: 30106 | P8: 国分寺台中央６丁目 | Q8: 229 | R8: 577 | S8: 264 | T8: 313
A9: 4600 | B9: 青柳 | C9: 1239 | D9: 2699 | E9: 1444 | F9: 1255 | H9: 8063 | I9: 五井中央西３丁目 | J9: 71 | K9: 150 | L9: 79 | M9: 71 | O9: 30107 | P9: 国分寺台中央７丁目 | Q9: 323 | R9: 752 | S9: 382 | T9: 370
A10: 4651 | B10: 青柳１丁目 | C10: 139 | D10: 294 | E10: 161 | F10: 133 | H10: 8101 | I10: 五井東１丁目 | J10: 649 | K10: 1211 | L10: 646 | M10: 565 | O10: 30201 | P10: 東国分寺台１丁目 | Q10: 320 | R10: 684 | S10: 355 | T10: 329
A11: 4652 | B11: 青柳２丁目 | C11: 83 | D11: 167 | E11: 93 | F11: 74 | H11: 8102 | I11: 五井東２丁目 | J11: 386 | K11: 888 | L11: 460 | M11: 428 | O11: 30202 | P11: 東国分寺台２丁目 | Q11: 192 | R11: 465 | S11: 224 | T11: 241
A12: 4653 | B12: 青柳３丁目 | C12: 183 | D12: 223 | E12: 145 | F12: 78 | H12: 8103 | I12: 五井東３丁目 | J12: 523 | K12: 1079 | L12: 582 | M12: 497 | O12: 30203 | P12: 東国分寺台３丁目 | Q12: 199 | R12: 504 | S12: 255 | T12: 249
A13: 4702 | B13: 青柳北２丁目 | C13: 4 | D13: 9 | E13: 4 | F13: 5 | H13: 8111 | I13: 更級１丁目 | J13: 125 | K13: 242 | L13: 141 | M13: 101 | O13: 30204 | P13: 東国分寺台４丁目 | Q13: 158 | R13: 374 | S13: 196 | T13: 178
A14: 4703 | B14: 青柳北３丁目 | C14: 20 | D14: 37 | E14: 22 | F14: 15 | H14: 8112 | I14: 更級２丁目 | J14: 70 | K14: 149 | L14: 69 | M14: 80 | O14: 30205 | P14: 東国分寺台５丁目 | Q14: 198 | R14: 430 | S14: 219 | T14: 211
... A37: 6700 | B37: 引田 | C37: 46 | D37: 125 | E37: 58 | F37: 67 | H37: 9100 | I37: 宮原 | J37: 8 | K37: 19 | L37: 10 | M37: 9 | O37: 30806 | P37: 西広６丁目 | Q37: 458 | R37: 1098 | S37: 557 | T37: 541
A38: 6800 | B38: 神代 | C38: 48 | D38: 125 | E38: 66 | F38: 59 | O38: 30901 | P38: 惣社１丁目 | Q38: 211 | R38: 503 | S38: 259 | T38: 244
A39: 6900 | B39: 十五沢 | C39: 50 | D39: 127 | E39: 56 | F39: 71 | O39: 30902 | P39: 惣社２丁目 | Q39: 164 | R39: 390 | S39: 195 | T39: 195
A40: 7000 | B40: 小折 | C40: 33 | D40: 75 | E40: 31 | F40: 44 | O40: 30903 | P40: 惣社３丁目 | Q40: 217 | R40: 516 | S40: 261 | T40: 255
A41: 7100 | B41: 西野 | C41: 50 | D41: 139 | E41: 71 | F41: 68 | O41: 30904 | P41: 惣社４丁目 | Q41: 167 | R41: 414 | S41: 216 | T41: 198
A42: 7200 | B42: 柳原 | C42: 55 | D42: 140 | E42: 66 | F42: 74 | O42: 30905 | P42: 惣社５丁目 | Q42: 239 | R42: 680 | S42: 326 | T42: 354
A43: 7300 | B43: 村上 | C43: 618 | D43: 1442 | E43: 720 | F43: 722 | O43: 31001 | P43: 加茂１丁目 | Q43: 197 | R43: 461 | S43: 235 | T43: 226
A44: 7400 | B44: 西広 | C44: 40 | D44: 96 | E44: 52 | F44: 44 | O44: 31002 | P44: 加茂２丁目 | Q44: 154 | R44: 385 | S44: 191 | T44: 194
A45: 7500 | B45: 惣社 | C45: 318 | D45: 677 | E45: 352 | F45: 325 | O45: 31101 | P45: 根田１丁目 | Q45: 160 | R45: 374 | S45: 192 | T45: 182
A46: 7600 | B46: 加茂 | C46: 3 | D46: 7 | E46: 3 | F46: 4 | O46: 31102 | P46: 根田２丁目 | Q46: 116 | R46: 223 | S46: 127 | T46: 96
A47: 7700 | B47: 根田 | C47: 111 | D47: 250 | E47: 130 | F47: 120 | O47: 31103 | P47: 根田３丁目 | Q47: 250 | R47: 532 | S47: 281 | T47: 251
A48: 7800 | B48: 岩野見 | C48: 145 | D48: 344 | E48: 166 | F48: 178 | O48: 31104 | P48: 根田４丁目 | Q48: 165 | R48: 413 | S48: 206 | T48: 207
O49: 五井地区_計 | Q49: 39197 | R49: 87729 | S49: 45845 | T49: 41884
A50: 42064
A51: CD | B51: 大字名 | C51: 世帯数 | D51: 総数 | E51: 男 | F51: 女 | H51: CD | I51: 大字名 | J51: 世帯数 | K51: 総数 | L51: 男 | M51: 女 | O51: CD | P51: 大字名 | Q51: 世帯数 | R51: 総数 | S51: 男 | T51: 女
A52: 100 | B52: 姉崎海岸 | C52: 32 | D52: 38 | E52: 34 | F52: 4 | H52: 1900 | I52: 八幡海岸通 | J52: 300 | K52: 402 | L52: 313 | M52: 89 | O52: 8400 | P52: 山倉 | Q52: 217 | R52: 485 | S52: 255 | T52: 230
A53: 200 | B53: 椎津 | C53: 1676 | D53: 3602 | E53: 1859 | F53: 1743 | H53: 2001 | I53: 八幡浦１丁目 | J53: 3 | K53: 3 | L53: 3 | M53: 0 | O53: 8500 | P53: 福増 | Q53: 293 | R53: 723 | S53: 371 | T53: 352
A54: 300 | B54: 姉崎 | C54: 5953 | D54: 12400 | E54: 6606 | F54: 5794 | H54: 2100 | I54: 八幡 | J54: 5467 | K54: 11383 | L54: 5941 | M54: 5442 | O54: 8600 | P54: 海士有木 | Q54: 528 | R54: 1287 | S54: 659 | T54: 628
A55: 321 | B55: 姉崎西１丁目 | C55: 200 | D55: 345 | E55: 218 | F55: 127 | H55: 2201 | I55: 八幡北町１丁目 | J55: 217 | K55: 288 | L55: 198 | M55: 90 | O55: 8700 | P55: 大坪 | Q55: 252 | R55: 590 | S55: 320 | T55: 270
A56: 322 | B56: 姉崎西２丁目 | C56: 200 | D56: 406 | E56: 208 | F56: 198 | H56: 2202 | I56: 八幡北町２丁目 | J56: 208 | K56: 381 | L56: 218 | M56: 163 | O56: 8800 | P56: 新生 | Q56: 88 | R56: 235 | S56: 127 | T56: 108
A57: 323 | B57: 姉崎西３丁目 | C57: 199 | D57: 433 | E57: 242 | F57: 191 | H57: 2203 | I57: 八幡北町３丁目 | J57: 132 | K57: 206 | L57: 127 | M57: 79 | O57: 8900 | P57: 権現堂 | Q57: 85 | R57: 233 | S57: 117 | T57: 116
A58: 1300 | B58: 畑木 | C58: 157 | D58: 303 | E58: 137 | F58: 166 | H58: 2301 | I58: 八幡石塚１丁目 | J58: 334 | K58: 702 | L58: 400 | M58: 302 | O58: 9000 | P58: 糸久 | Q58: 33 | R58: 91 | S58: 48 | T58: 43
A59: 1400 | B59: 柏原 | C59: 119 | D59: 256 | E59: 118 | F59: 138 | H59: 2302 | I59: 八幡石塚２丁目 | J59: 350 | K59: 723 | L59: 383 | M59: 340 | O59: 9100 | P59: 宮原 | Q59: 86 | R59: 197 | S59: 95 | T59: 102
A60: 1500 | B60: 白塚 | C60: 337 | D60: 754 | E60: 365 | F60: 389 | H60: 2400 | I60: 五所 | J60: 1293 | K60: 2935 | L60: 1516 | M60: 1419 | O60: 9200 | P60: 分目 | Q60: 79 | R60: 214 | S60: 108 | T60: 106
A61: 1600 | B61: 今津朝山 | C61: 995 | D61: 1985 | E61: 1109 | F61: 876 | H61: 2500 | I61: 旭五所 | J61: 459 | K61: 935 | L61: 501 | M61: 434 | O61: 9300 | P61: 浅井小向 | Q61: 56 | R61: 166 | S61: 77 | T61: 89
A62: 1651 | B62: 千種１丁目 | C62: 107 | D62: 171 | E62: 114 | F62: 57 | H62: 2600 | I62: 東五所 | J62: 971 | K62: 1957 | L62: 1034 | M62: 923 | O62: 9400 | P62: 相川 | Q62: 42 | R62: 91 | S62: 49 | T62: 42
A63: 1652 | B63: 千種２丁目 | C63: 220 | D63: 550 | E63: 277 | F63: 273 | H63: 2700 | I63: 西五所 | J63: 876 | K63: 1709 | L63: 902 | M63: 807 | O63: 9500 | P63: 新堀 | Q63: 266 | R63: 584 | S63: 280 | T63: 304
... A73: 1708 | B73: 青葉台８丁目 | C73: 197 | D73: 458 | E73: 240 | F73: 218 | H73: 3002 | I73: 藤井２丁目 | J73: 108 | K73: 226 | L73: 118 | M73: 108 | O73: 10500 | P73: 山田 | Q73: 147 | R73: 371 | S73: 187 | T73: 184
H74: 3003 | I74: 藤井３丁目 | J74: 164 | K74: 395 | L74: 190 | M74: 205 | O74: 10600 | P74: 安須 | Q74: 69 | R74: 193 | S74: 88 | T74: 105
H75: 3100 | I75: 山田橋 | J75: 130 | K75: 265 | L75: 137 | M75: 128 | O75: 10700 | P75: 高坂 | Q75: 51 | R75: 133 | S75: 69 | T75: 64
H76: 3200 | I76: 能満 | J76: 2299 | K76: 5019 | L76: 2496 | M76: 2523 | O76: 10801 | P76: 光風台１丁目 | Q76: 358 | R76: 934 | S76: 448 | T76: 486
H77: 3300 | I77: 門前 | J77: 2 | K77: 6 | L77: 3 | M77: 3 | O77: 10802 | P77: 光風台２丁目 | Q77: 352 | R77: 889 | S77: 449 | T77: 440
H78: 3301 | I78: 門前１丁目 | J78: 74 | K78: 163 | L78: 86 | M78: 77 | O78: 10803 | P78: 光風台３丁目 | Q78: 659 | R78: 1542 | S78: 765 | T78: 777
H79: 3302 | I79: 門前２丁目 | J79: 352 | K79: 799 | L79: 410 | M79: 389 | O79: 10804 | P79: 光風台４丁目 | Q79: 644 | R79: 1552 | S79: 777 | T79: 775
H80: 3400 | I80: 市原 | J80: 461 | K80: 977 | L80: 485 | M80: 492 | O80: 10805 | P80: 光風台５丁目 | Q80: 541 | R80: 1338 | S80: 670 | T80: 668
H81: 3500 | I81: 山木 | J81: 1147 | K81: 2561 | L81: 1348 | M81: 1213
H82: 3600 | I82: 菊間 | J82: 2404 | K82: 5697 | L82: 2705 | M82: 2992
H83: 3700 | I83: 古市場 | J83: 1087 | K83: 2514 | L83: 1305 | M83: 1209
H84: 3800 | I84: 草刈 | J84: 486 | K84: 1182 | L84: 572 | M84: 610
H85: 3900 | I85: 大 | J85: 1961 | K85: 4447 | L85: 2300 | M85: 2147
H86: 4201 | I86: 若宮１丁目 | J86: 497 | K86: 981 | L86: 513 | M86: 468
H87: 4202 | I87: 若宮２丁目 | J87: 343 | K87: 746 | L87: 357 | M87: 389
H88: 4203 | I88: 若宮３丁目 | J88: 324 | K88: 686 | L88: 317 | M88: 369
H89: 4204 | I89: 若宮４丁目 | J89: 355 | K89: 763 | L89: 360 | M89: 403
H90: 4205 | I90: 若宮５丁目 | J90: 239 | K90: 581 | L90: 290 | M90: 291
H91: 4206 | I91: 若宮６丁目 | J91: 293 | K91: 687 | L91: 347 | M91: 340
H92: 4207 | I92: 若宮７丁目 | J92: 77 | K92: 184 | L92: 88 | M92: 96
A98: 姉崎地区_計 | C98: 13828 | D98: 29980 | E98: 15607 | F98: 14373 | H98: 市原地区_計 | J98: 24395 | K98: 52847 | L98: 27138 | M98: 25709 | O98: 三和地区_計 | Q98: 6147 | R98: 15038 | S98: 7546 | T98: 7492
A99: 42064
A100: CD | B100: 大字名 | C100: 世帯数 | D100: 総数 | E100: 男 | F100: 女 | H100: CD | I100: 大字名 | J100: 世帯数 | K100: 総数 | L100: 男 | M100: 女 | O100: CD | P100: 大字名 | Q100: 世帯数 | R100: 総数 | S100: 男 | T100: 女
A101: 10900 | B101: 久々津 | C101: 69 | D101: 170 | E101: 81 | F101: 89 | H101: 4001 | I101: 辰巳台東１丁目 | J101: 407 | K101: 1155 | L101: 581 | M101: 574 | O101: 13400 | P101: 風戸 | Q101: 20 | R101: 40 | S101: 22 | T101: 18
A102: 11000 | B102: 潤井戸 | C102: 987 | D102: 2213 | E102: 1140 | F102: 1073 | H102: 4002 | I102: 辰巳台東２丁目 | J102: 615 | K102: 1212 | L102: 601 | M102: 611 | O102: 13500 | P102: 中高根 | Q102: 1169 | R102: 2761 | S102: 1440 | T102: 1321
A103: 11051 | B103: うるいど南１丁目 | C103: 186 | D103: 494 | E103: 250 | F103: 244 | H103: 4003 | I103: 辰巳台東３丁目 | J103: 984 | K103: 2438 | L103: 1296 | M103: 1142 | O103: 13600 | P103: 上高根 | Q103: 777 | R103: 1874 | S103: 942 | T103: 932
A104: 11052 | B104: うるいど南２丁目 | C104: 113 | D104: 281 | E104: 147 | F104: 134 | H104: 4004 | I104: 辰巳台東４丁目 | J104: 902 | K104: 2207 | L104: 1203 | M104: 1004 | O104: 13700 | P104: 馬立 | Q104: 1341 | R104: 3100 | S104: 1543 | T104: 1557
A105: 11053 | B105: うるいど南３丁目 | C105: 232 | D105: 635 | E105: 329 | F105: 306 | H105: 4005 | I105: 辰巳台東５丁目 | J105: 270 | K105: 551 | L105: 297 | M105: 254 | O105: 13800 | P105: 上原 | Q105: 65 | R105: 150 | S105: 83 | T105: 67
A106: 11100 | B106: 下野 | C106: 156 | D106: 402 | E106: 189 | F106: 213 | H106: 4101 | I106: 辰巳台西１丁目 | J106: 365 | K106: 969 | L106: 482 | M106: 487 | O106: 13900 | P106: 南岩崎 | Q106: 428 | R106: 1015 | S106: 507 | T106: 508
A107: 11200 | B107: 永吉 | C107: 125 | D107: 295 | E107: 150 | F107: 145 | H107: 4102 | I107: 辰巳台西２丁目 | J107: 391 | K107: 1180 | L107: 589 | M107: 591 | O107: 14000 | P107: 寺谷 | Q107: 101 | R107: 249 | S107: 126 | T107: 123
A108: 11300 | B108: 番場 | C108: 88 | D108: 215 | E108: 111 | F108: 104 | H108: 4103 | I108: 辰巳台西３丁目 | J108: 586 | K108: 1158 | L108: 689 | M108: 469 | O108: 14100 | P108: 栢橋 | Q108: 223 | R108: 567 | S108: 295 | T108: 272
A109: 11400 | B109: 押沼 | C109: 56 | D109: 144 | E109: 76 | F109: 68 | H109: 4104 | I109: 辰巳台西４丁目 | J109: 338 | K109: 809 | L109: 387 | M109: 422 | O109: 14200 | P109: 西国吉 | Q109: 789 | R109: 1851 | S109: 948 | T109: 903
A110: 11500 | B110: 瀬又 | C110: 1602 | D110: 3596 | E110: 1756 | F110: 1840 | H110: 4105 | I110: 辰巳台西５丁目 | J110: 142 | K110: 321 | L110: 152 | M110: 169 | O110: 14300 | P110: 佐是 | Q110: 333 | R110: 850 | S110: 439 | T110: 411
A111: 11600 | B111: 中野 | C111: 35 | D111: 90 | E111: 50 | F111: 40 | O111: 14400 | P111: 妙香 | Q111: 80 | R111: 196 | S111: 103 | T111: 93
A112: 11700 | B112: 高田 | C112: 52 | D112: 132 | E112: 67 | F112: 65 | O112: 14500 | P112: 奉免 | Q112: 199 | R112: 493 | S112: 235 | T112: 258
A113: 11800 | B113: 高倉 | C113: 52 | D113: 122 | E113: 58 | F113: 64 | O113: 14600 | P113: 牛久 | Q113: 910 | R113: 1992 | S113: 1007 | T113: 985
A114: 11900 | B114: 東国吉 | C114: 116 | D114: 303 | E114: 142 | F114: 161 | O114: 14700 | P114: 皆吉 | Q114: 747 | R114: 1711 | S114: 857 | T114: 854
A115: 12000 | B115: 金剛地 | C115: 168 | D115: 438 | E115: 225 | F115: 213 | O115: 14800 | P115: 金沢 | Q115: 38 | R115: 91 | S115: 48 | T115: 43
A116: 12100 | B116: 奈良 | C116: 68 | D116: 190 | E116: 97 | F116: 93 | O116: 14900 | P116: 大蔵 | Q116: 14 | R116: 33 | S116: 20 | T116: 13
A117: 12200 | B117: 古都辺 | C117: 31 | D117: 78 | E117: 38 | F117: 40 | O117: 15000 | P117: 岩 | Q117: 37 | R117: 84 | S117: 44 | T117: 40
A118: 12300 | B118: 喜多 | C118: 680 | D118: 1636 | E118: 842 | F118: 794 | O118: 15100 | P118: 藪 | Q118: 65 | R118: 191 | S118: 98 | T118: 93
A119: 12400 | B119: 犬成 | C119: 236 | D119: 478 | E119: 274 | F119: 204 | O119: 15200 | P119: 中 | Q119: 351 | R119: 836 | S119: 430 | T119: 406
A120: 12500 | B120: 大作 | C120: 41 | D120: 91 | E120: 42 | F120: 49 | O120: 15300 | P120: 安久谷 | Q120: 99 | R120: 238 | S120: 115 | T120: 123
A121: 12600 | B121: 滝口 | C121: 37 | D121: 98 | E121: 50 | F121: 48 | O121: 15400 | P121: 米沢 | Q121: 145 | R121: 351 | S121: 168 | T121: 183
A122: 12700 | B122: 勝間 | C122: 202 | D122: 365 | E122: 154 | F122: 211 | O122: 15500 | P122: 真ケ谷 | Q122: 53 | R122: 150 | S122: 73 | T122: 77
... A127: 13200 | B127: 山之郷飛地 | C127: 2 | D127: 6 | E127: 2 | F127: 4 | O127: 16000 | P127: 奥野 | Q127: 55 | R127: 154 | S127: 72 | T127: 82
O128: 16100 | P128: 水沢 | Q128: 25 | R128: 70 | S128: 32 | T128: 38
O129: 16200 | P129: 原田 | Q129: 26 | R129: 64 | S129: 28 | T129: 36
O130: 16300 | P130: 石川 | Q130: 450 | R130: 1106 | S130: 562 | T130: 544
O131: 16400 | P131: 江子田 | Q131: 129 | R131: 300 | S131: 157 | T131: 143
O132: 16500 | P132: 下矢田 | Q132: 187 | R132: 452 | S132: 211 | T132: 241
O133: 16600 | P133: 矢田 | Q133: 27 | R133: 69 | S133: 31 | T133: 38
O134: 16700 | P134: 池和田 | Q134: 127 | R134: 311 | S134: 149 | T134: 162
O135: 16800 | P135: 鶴舞 | Q135: 542 | R135: 1195 | S135: 562 | T135: 633
O136: 16900 | P136: 田尾 | Q136: 189 | R136: 469 | S136: 235 | T136: 234
O137: 17000 | P137: 山小川 | Q137: 97 | R137: 219 | S137: 119 | T137: 100
O138: 17100 | P138: 平蔵 | Q138: 197 | R138: 479 | S138: 249 | T138: 230
O139: 17200 | P139: 米原 | Q139: 146 | R139: 308 | S139: 169 | T139: 139
O140: 17300 | P140: 小草畑 | Q140: 38 | R140: 89 | S140: 41 | T140: 48
...

Sheet 2015_04
A1: 42095 | O1: ★★ 全地区合計 ★★ | Q1: 122155 | R1: 280225 | S1: 144057 | T1: 136168
A2: CD | B2: 大字名 | C2: 世帯数 | D2: 総数 | E2: 男 | F2: 女 | H2: CD | I2: 大字名 | J2: 世帯数 | K2: 総数 | L2: 男 | M2: 女 | O2: CD | P2: 大字名 | Q2: 世帯数 | R2: 総数 | S2: 男 | T2: 女
A3: 1655 | B3: 千種５丁目 | C3: 209 | D3: 554 | E3: 278 | F3: 276 | H3: 7900 | I3: 平田 | J3: 820 | K3: 1684 | L3: 843 | M3: 841 | O3: 30101 | P3: 国分寺台中央１丁目 | Q3: 299 | R3: 692 | S3: 349 | T3: 343
A4: 1656 | B4: 千種６丁目 | C4: 109 | D4: 397 | E4: 205 | F4: 192 | H4: 8000 | I4: 五井 | J4: 7670 | K4: 16681 | L4: 8766 | M4: 7915 | O4: 30102 | P4: 国分寺台中央２丁目 | Q4: 333 | R4: 793 | S4: 413 | T4: 380
A5: 1657 | B5: 千種７丁目 | C5: 351 | D5: 867 | E5: 463 | F5: 404 | H5: 8051 | I5: 五井中央東１丁目 | J5: 319 | K5: 558 | L5: 300 | M5: 258 | O5: 30103 | P5: 国分寺台中央３丁目 | Q5: 260 | R5: 535 | S5: 293 | T5: 242
A6: 4300 | B6: 千種海岸 | C6: 2 | D6: 2 | E6: 2 | F6: 0 | H6: 8052 | I6: 五井中央東２丁目 | J6: 468 | K6: 817 | L6: 439 | M6: 378 | O6: 30104 | P6: 国分寺台中央４丁目 | Q6: 236 | R6: 550 | S6: 284 | T6: 266
A7: 4400 | B7: 五井南海岸 | C7: 1 | D7: 3 | E7: 0 | F7: 3 | H7: 8061 | I7: 五井中央西１丁目 | J7: 388 | K7: 740 | L7: 397 | M7: 343 | O7: 30105 | P7: 国分寺台中央５丁目 | Q7: 254 | R7: 671 | S7: 358 | T7: 313
A8: 4600 | B8: 青柳 | C8: 1246 | D8: 2703 | E8: 1445 | F8: 1258 | H8: 8062 | I8: 五井中央西２丁目 | J8: 264 | K8: 555 | L8: 282 | M8: 273 | O8: 30106 | P8: 国分寺台中央６丁目 | Q8: 229 | R8: 582 | S8: 268 | T8: 314
A9: 4651 | B9: 青柳１丁目 | C9: 138 | D9: 293 | E9: 161 | F9: 132 | H9: 8063 | I9: 五井中央西３丁目 | J9: 73 | K9: 151 | L9: 79 | M9: 72 | O9: 30107 | P9: 国分寺台中央７丁目 | Q9: 326 | R9: 755 | S9: 385 | T9: 370
A10: 4652 | B10: 青柳２丁目 | C10: 84 | D10: 167 | E10: 93 | F10: 74 | H10: 8101 | I10: 五井東１丁目 | J10: 649 | K10: 1203 | L10: 642 | M10: 561 | O10: 30201 | P10: 東国分寺台１丁目 | Q10: 330 | R10: 693 | S10: 369 | T10: 324
A11: 4653 | B11: 青柳３丁目 | C11: 183 | D11: 224 | E11: 146 | F11: 78 | H11: 8102 | I11: 五井東２丁目 | J11: 382 | K11: 874 | L11: 455 | M11: 419 | O11: 30202 | P11: 東国分寺台２丁目 | Q11: 192 | R11: 462 | S11: 222 | T11: 240
A12: 4702 | B12: 青柳北２丁目 | C12: 4 | D12: 9 | E12: 4 | F12: 5 | H12: 8103 | I12: 五井東３丁目 | J12: 531 | K12: 1087 | L12: 589 | M12: 498 | O12: 30203 | P12: 東国分寺台３丁目 | Q12: 196 | R12: 498 | S12: 249 | T12: 249
A13: 4703 | B13: 青柳北３丁目 | C13: 20 | D13: 37 | E13: 22 | F13: 15 | H13: 8111 | I13: 更級１丁目 | J13: 133 | K13: 245 | L13: 143 | M13: 102 | O13: 30204 | P13: 東国分寺台４丁目 | Q13: 161 | R13: 377 | S13: 197 | T13: 180
A14: 4704 | B14: 青柳北４丁目 | C14: 43 | D14: 84 | E14: 48 | F14: 36 | H14: 8112 | I14: 更級２丁目 | J14: 71 | K14: 152 | L14: 70 | M14: 82 | O14: 30205 | P14: 東国分寺台５丁目 | Q14: 202 | R14: 433 | S14: 221 | T14: 212
... A37: 6800 | B37: 神代 | C37: 48 | D37: 125 | E37: 66 | F37: 59 | H37: 9100 | I37: 宮原 | J37: 8 | K37: 19 | L37: 10 | M37: 9 | O37: 30806 | P37: 西広６丁目 | Q37: 458 | R37: 1089 | S37: 551 | T37: 538
A38: 6900 | B38: 十五沢 | C38: 51 | D38: 129 | E38: 57 | F38: 72 | O38: 30901 | P38: 惣社１丁目 | Q38: 211 | R38: 503 | S38: 259 | T38: 244
A39: 7000 | B39: 小折 | C39: 33 | D39: 75 | E39: 31 | F39: 44 | O39: 30902 | P39: 惣社２丁目 | Q39: 165 | R39: 389 | S39: 193 | T39: 196
A40: 7100 | B40: 西野 | C40: 50 | D40: 136 | E40: 70 | F40: 66 | O40: 30903 | P40: 惣社３丁目 | Q40: 218 | R40: 517 | S40: 259 | T40: 258
A41: 7200 | B41: 柳原 | C41: 55 | D41: 135 | E41: 64 | F41: 71 | O41: 30904 | P41: 惣社４丁目 | Q41: 172 | R41: 431 | S41: 226 | T41: 205
A42: 7300 | B42: 村上 | C42: 619 | D42: 1445 | E42: 722 | F42: 723 | O42: 30905 | P42: 惣社５丁目 | Q42: 237 | R42: 675 | S42: 322 | T42: 353
A43: 7400 | B43: 西広 | C43: 40 | D43: 95 | E43: 51 | F43: 44 | O43: 31001 | P43: 加茂１丁目 | Q43: 198 | R43: 460 | S43: 235 | T43: 225
A44: 7500 | B44: 惣社 | C44: 318 | D44: 676 | E44: 352 | F44: 324 | O44: 31002 | P44: 加茂２丁目 | Q44: 159 | R44: 390 | S44: 193 | T44: 197
A45: 7600 | B45: 加茂 | C45: 3 | D45: 7 | E45: 3 | F45: 4 | O45: 31101 | P45: 根田１丁目 | Q45: 161 | R45: 375 | S45: 190 | T45: 185
A46: 7700 | B46: 根田 | C46: 107 | D46: 237 | E46: 121 | F46: 116 | O46: 31102 | P46: 根田２丁目 | Q46: 117 | R46: 222 | S46: 128 | T46: 94
A47: 7800 | B47: 岩野見 | C47: 143 | D47: 342 | E47: 164 | F47: 178 | O47: 31103 | P47: 根田３丁目 | Q47: 269 | R47: 550 | S47: 296 | T47: 254
O48: 31104 | P48: 根田４丁目 | Q48: 165 | R48: 412 | S48: 205 | T48: 207
O49: 五井地区_計 | Q49: 39367 | R49: 87728 | S49: 45862 | T49: 41866
A50: 42095
A51: CD | B51: 大字名 | C51: 世帯数 | D51: 総数 | E51: 男 | F51: 女 | H51: CD | I51: 大字名 | J51: 世帯数 | K51: 総数 | L51: 男 | M51: 女 | O51: CD | P51: 大字名 | Q51: 世帯数 | R51: 総数 | S51: 男 | T51: 女
A52: 100 | B52: 姉崎海岸 | C52: 32 | D52: 38 | E52: 34 | F52: 4 | H52: 1900 | I52: 八幡海岸通 | J52: 314 | K52: 416 | L52: 326 | M52: 90 | O52: 8400 | P52: 山倉 | Q52: 218 | R52: 482 | S52: 255 | T52: 227
A53: 200 | B53: 椎津 | C53: 1674 | D53: 3595 | E53: 1858 | F53: 1737 | H53: 2001 | I53: 八幡浦１丁目 | J53: 3 | K53: 3 | L53: 3 | M53: 0 | O53: 8500 | P53: 福増 | Q53: 293 | R53: 721 | S53: 370 | T53: 351
A54: 300 | B54: 姉崎 | C54: 5975 | D54: 12388 | E54: 6601 | F54: 5787 | H54: 2100 | I54: 八幡 | J54: 5502 | K54: 11386 | L54: 5944 | M54: 5442 | O54: 8600 | P54: 海士有木 | Q54: 528 | R54: 1289 | S54: 658 | T54: 631
A55: 321 | B55: 姉崎西１丁目 | C55: 205 | D55: 348 | E55: 222 | F55: 126 | H55: 2201 | I55: 八幡北町１丁目 | J55: 221 | K55: 298 | L55: 203 | M55: 95 | O55: 8700 | P55: 大坪 | Q55: 253 | R55: 593 | S55: 321 | T55: 272
A56: 322 | B56: 姉崎西２丁目 | C56: 205 | D56: 415 | E56: 216 | F56: 199 | H56: 2202 | I56: 八幡北町２丁目 | J56: 208 | K56: 380 | L56: 218 | M56: 162 | O56: 8800 | P56: 新生 | Q56: 89 | R56: 240 | S56: 131 | T56: 109
A57: 323 | B57: 姉崎西３丁目 | C57: 206 | D57: 439 | E57: 245 | F57: 194 | H57: 2203 | I57: 八幡北町３丁目 | J57: 135 | K57: 209 | L57: 130 | M57: 79 | O57: 8900 | P57: 権現堂 | Q57: 85 | R57: 232 | S57: 117 | T57: 115
A58: 1300 | B58: 畑木 | C58: 163 | D58: 306 | E58: 139 | F58: 167 | H58: 2301 | I58: 八幡石塚１丁目 | J58: 336 | K58: 704 | L58: 401 | M58: 303 | O58: 9000 | P58: 糸久 | Q58: 33 | R58: 91 | S58: 48 | T58: 43
A59: 1400 | B59: 柏原 | C59: 119 | D59: 256 | E59: 118 | F59: 138 | H59: 2302 | I59: 八幡石塚２丁目 | J59: 352 | K59: 724 | L59: 385 | M59: 339 | O59: 9100 | P59: 宮原 | Q59: 86 | R59: 194 | S59: 94 | T59: 100
A60: 1500 | B60: 白塚 | C60: 338 | D60: 755 | E60: 366 | F60: 389 | H60: 2400 | I60: 五所 | J60: 1293 | K60: 2930 | L60: 1516 | M60: 1414 | O60: 9200 | P60: 分目 | Q60: 79 | R60: 213 | S60: 108 | T60: 105
A61: 1600 | B61: 今津朝山 | C61: 996 | D61: 1989 | E61: 1112 | F61: 877 | H61: 2500 | I61: 旭五所 | J61: 463 | K61: 942 | L61: 505 | M61: 437 | O61: 9300 | P61: 浅井小向 | Q61: 57 | R61: 167 | S61: 78 | T61: 89
A62: 1651 | B62: 千種１丁目 | C62: 107 | D62: 170 | E62: 115 | F62: 55 | H62: 2600 | I62: 東五所 | J62: 972 | K62: 1950 | L62: 1032 | M62: 918 | O62: 9400 | P62: 相川 | Q62: 42 | R62: 91 | S62: 49 | T62: 42
A63: 1652 | B63: 千種２丁目 | C63: 220 | D63: 547 | E63: 276 | F63: 271 | H63: 2700 | I63: 西五所 | J63: 868 | K63: 1686 | L63: 890 | M63: 796 | O63: 9500 | P63: 新堀 | Q63: 263 | R63: 580 | S63: 278 | T63: 302
... A73: 1708 | B73: 青葉台８丁目 | C73: 198 | D73: 459 | E73: 240 | F73: 219 | H73: 3002 | I73: 藤井２丁目 | J73: 108 | K73: 226 | L73: 118 | M73: 108 | O73: 10500 | P73: 山田 | Q73: 145 | R73: 363 | S73: 186 | T73: 177
H74: 3003 | I74: 藤井３丁目 | J74: 163 | K74: 395 | L74: 191 | M74: 204 | O74: 10600 | P74: 安須 | Q74: 69 | R74: 191 | S74: 87 | T74: 104
H75: 3100 | I75: 山田橋 | J75: 129 | K75: 265 | L75: 135 | M75: 130 | O75: 10700 | P75: 高坂 | Q75: 50 | R75: 126 | S75: 66 | T75: 60
H76: 3200 | I76: 能満 | J76: 2303 | K76: 5011 | L76: 2490 | M76: 2521 | O76: 10801 | P76: 光風台１丁目 | Q76: 357 | R76: 931 | S76: 445 | T76: 486
H77: 3300 | I77: 門前 | J77: 2 | K77: 7 | L77: 3 | M77: 4 | O77: 10802 | P77: 光風台２丁目 | Q77: 350 | R77: 881 | S77: 443 | T77: 438
H78: 3301 | I78: 門前１丁目 | J78: 73 | K78: 162 | L78: 85 | M78: 77 | O78: 10803 | P78: 光風台３丁目 | Q78: 659 | R78: 1545 | S78: 766 | T78: 779
H79: 3302 | I79: 門前２丁目 | J79: 355 | K79: 803 | L79: 414 | M79: 389 | O79: 10804 | P79: 光風台４丁目 | Q79: 645 | R79: 1545 | S79: 776 | T79: 769
H80: 3400 | I80: 市原 | J80: 463 | K80: 976 | L80: 485 | M80: 491 | O80: 10805 | P80: 光風台５丁目 | Q80: 543 | R80: 1340 | S80: 668 | T80: 672
H81: 3500 | I81: 山木 | J81: 1152 | K81: 2569 | L81: 1356 | M81: 1213
H82: 3600 | I82: 菊間 | J82: 2399 | K82: 5670 | L82: 2691 | M82: 2979
H83: 3700 | I83: 古市場 | J83: 1094 | K83: 2517 | L83: 1304 | M83: 1213
H84: 3800 | I84: 草刈 | J84: 488 | K84: 1184 | L84: 574 | M84: 610
H85: 3900 | I85: 大 | J85: 1967 | K85: 4452 | L85: 2298 | M85: 2154
H86: 4201 | I86: 若宮１丁目 | J86: 502 | K86: 971 | L86: 513 | M86: 458
H87: 4202 | I87: 若宮２丁目 | J87: 341 | K87: 744 | L87: 353 | M87: 391
H88: 4203 | I88: 若宮３丁目 | J88: 325 | K88: 687 | L88: 318 | M88: 369
H89: 4204 | I89: 若宮４丁目 | J89: 353 | K89: 755 | L89: 356 | M89: 399
H90: 4205 | I90: 若宮５丁目 | J90: 242 | K90: 591 | L90: 296 | M90: 295
H91: 4206 | I91: 若宮６丁目 | J91: 293 | K91: 684 | L91: 344 | M91: 340
H92: 4207 | I92: 若宮７丁目 | J92: 78 | K92: 185 | L92: 88 | M92: 97
A98: 姉崎地区_計 | C98: 13877 | D98: 29957 | E98: 15604 | F98: 14353 | H98: 市原地区_計 | J98: 24481 | K98: 52823 | L98: 27142 | M98: 25681 | O98: 三和地区_計 | Q98: 6140 | R98: 14984 | S98: 7520 | T98: 7464
A99: 42095
A100: CD | B100: 大字名 | C100: 世帯数 | D100: 総数 | E100: 男 | F100: 女 | H100: CD | I100: 大字名 | J100: 世帯数 | K100: 総数 | L100: 男 | M100: 女 | O100: CD | P100: 大字名 | Q100: 世帯数 | R100: 総数 | S100: 男 | T100: 女
A101: 10900 | B101: 久々津 | C101: 68 | D101: 169 | E101: 80 | F101: 89 | H101: 4001 | I101: 辰巳台東１丁目 | J101: 406 | K101: 1150 | L101: 580 | M101: 570 | O101: 13400 | P101: 風戸 | Q101: 20 | R101: 40 | S101: 22 | T101: 18
A102: 11000 | B102: 潤井戸 | C102: 979 | D102: 2203 | E102: 1133 | F102: 1070 | H102: 4002 | I102: 辰巳台東２丁目 | J102: 621 | K102: 1195 | L102: 596 | M102: 599 | O102: 13500 | P102: 中高根 | Q102: 1169 | R102: 2758 | S102: 1440 | T102: 1318
A103: 11051 | B103: うるいど南１丁目 | C103: 191 | D103: 510 | E103: 256 | F103: 254 | H103: 4003 | I103: 辰巳台東３丁目 | J103: 1001 | K103: 2483 | L103: 1320 | M103: 1163 | O103: 13600 | P103: 上高根 | Q103: 782 | R103: 1878 | S103: 948 | T103: 930
A104: 11052 | B104: うるいど南２丁目 | C104: 114 | D104: 283 | E104: 149 | F104: 134 | H104: 4004 | I104: 辰巳台東４丁目 | J104: 901 | K104: 2201 | L104: 1200 | M104: 1001 | O104: 13700 | P104: 馬立 | Q104: 1336 | R104: 3094 | S104: 1544 | T104: 1550
A105: 11053 | B105: うるいど南３丁目 | C105: 235 | D105: 653 | E105: 338 | F105: 315 | H105: 4005 | I105: 辰巳台東５丁目 | J105: 273 | K105: 556 | L105: 300 | M105: 256 | O105: 13800 | P105: 上原 | Q105: 66 | R105: 151 | S105: 82 | T105: 69
A106: 11100 | B106: 下野 | C106: 157 | D106: 400 | E106: 188 | F106: 212 | H106: 4101 | I106: 辰巳台西１丁目 | J106: 360 | K106: 964 | L106: 475 | M106: 489 | O106: 13900 | P106: 南岩崎 | Q106: 431 | R106: 1019 | S106: 509 | T106: 510
A107: 11200 | B107: 永吉 | C107: 125 | D107: 291 | E107: 148 | F107: 143 | H107: 4102 | I107: 辰巳台西２丁目 | J107: 389 | K107: 1161 | L107: 576 | M107: 585 | O107: 14000 | P107: 寺谷 | Q107: 102 | R107: 250 | S107: 127 | T107: 123
A108: 11300 | B108: 番場 | C108: 87 | D108: 213 | E108: 109 | F108: 104 | H108: 4103 | I108: 辰巳台西３丁目 | J108: 616 | K108: 1180 | L108: 714 | M108: 466 | O108: 14100 | P108: 栢橋 | Q108: 225 | R108: 564 | S108: 294 | T108: 270
A109: 11400 | B109: 押沼 | C109: 56 | D109: 144 | E109: 76 | F109: 68 | H109: 4104 | I109: 辰巳台西４丁目 | J109: 336 | K109: 798 | L109: 381 | M109: 417 | O109: 14200 | P109: 西国吉 | Q109: 790 | R109: 1846 | S109: 946 | T109: 900
A110: 11500 | B110: 瀬又 | C110: 1603 | D110: 3580 | E110: 1742 | F110: 1838 | H110: 4105 | I110: 辰巳台西５丁目 | J110: 144 | K110: 326 | L110: 155 | M110: 171 | O110: 14300 | P110: 佐是 | Q110: 334 | R110: 850 | S110: 437 | T110: 413
A111: 11600 | B111: 中野 | C111: 35 | D111: 90 | E111: 50 | F111: 40 | O111: 14400 | P111: 妙香 | Q111: 80 | R111: 195 | S111: 102 | T111: 93
A112: 11700 | B112: 高田 | C112: 53 | D112: 133 | E112: 68 | F112: 65 | O112: 14500 | P112: 奉免 | Q112: 198 | R112: 487 | S112: 230 | T112: 257
A113: 11800 | B113: 高倉 | C113: 52 | D113: 121 | E113: 57 | F113: 64 | O113: 14600 | P113: 牛久 | Q113: 915 | R113: 1988 | S113: 1004 | T113: 984
A114: 11900 | B114: 東国吉 | C114: 116 | D114: 303 | E114: 141 | F114: 162 | O114: 14700 | P114: 皆吉 | Q114: 751 | R114: 1713 | S114: 856 | T114: 857
A115: 12000 | B115: 金剛地 | C115: 166 | D115: 434 | E115: 222 | F115: 212 | O115: 14800 | P115: 金沢 | Q115: 38 | R115: 90 | S115: 47 | T115: 43
A116: 12100 | B116: 奈良 | C116: 67 | D116: 189 | E116: 96 | F116: 93 | O116: 14900 | P116: 大蔵 | Q116: 14 | R116: 34 | S116: 21 | T116: 13
A117: 12200 | B117: 古都辺 | C117: 31 | D117: 78 | E117: 38 | F117: 40 | O117: 15000 | P117: 岩 | Q117: 44 | R117: 91 | S117: 48 | T117: 43
A118: 12300 | B118: 喜多 | C118: 690 | D118: 1635 | E118: 840 | F118: 795 | O118: 15100 | P118: 藪 | Q118: 65 | R118: 185 | S118: 94 | T118: 91
A119: 12400 | B119: 犬成 | C119: 237 | D119: 475 | E119: 272 | F119: 203 | O119: 15200 | P119: 中 | Q119: 352 | R119: 832 | S119: 429 | T119: 403
A120: 12500 | B120: 大作 | C120: 43 | D120: 93 | E120: 44 | F120: 49 | O120: 15300 | P120: 安久谷 | Q120: 99 | R120: 240 | S120: 116 | T120: 124
A121: 12600 | B121: 滝口 | C121: 37 | D121: 98 | E121: 50 | F121: 48 | O121: 15400 | P121: 米沢 | Q121: 145 | R121: 350 | S121: 168 | T121: 182
A122: 12700 | B122: 勝間 | C122: 200 | D122: 363 | E122: 154 | F122: 209 | O122: 15500 | P122: 真ケ谷 | Q122: 53 | R122: 150 | S122: 73 | T122: 77
... A127: 13200 | B127: 山之郷飛地 | C127: 2 | D127: 6 | E127: 2 | F127: 4 | O127: 16000 | P127: 奥野 | Q127: 55 | R127: 153 | S127: 71 | T127: 82
O128: 16100 | P128: 水沢 | Q128: 25 | R128: 70 | S128: 32 | T128: 38
O129: 16200 | P129: 原田 | Q129: 26 | R129: 64 | S129: 28 | T129: 36
O130: 16300 | P130: 石川 | Q130: 450 | R130: 1100 | S130: 558 | T130: 542
O131: 16400 | P131: 江子田 | Q131: 128 | R131: 297 | S131: 155 | T131: 142
O132: 16500 | P132: 下矢田 | Q132: 186 | R132: 451 | S132: 211 | T132: 240
O133: 16600 | P133: 矢田 | Q133: 27 | R133: 69 | S133: 31 | T133: 38
O134: 16700 | P134: 池和田 | Q134: 127 | R134: 311 | S134: 149 | T134: 162
O135: 16800 | P135: 鶴舞 | Q135: 548 | R135: 1197 | S135: 564 | T135: 633
O136: 16900 | P136: 田尾 | Q136: 187 | R136: 465 | S136: 235 | T136: 230
O137: 17000 | P137: 山小川 | Q137: 94 | R137: 216 | S137: 117 | T137: 99
O138: 17100 | P138: 平蔵 | Q138: 198 | R138: 477 | S138: 246 | T138: 231
O139: 17200 | P139: 米原 | Q139: 147 | R139: 306 | S139: 167 | T139: 139
O140: 17300 | P140: 小草畑 | Q140: 37 | R140: 87 | S140: 39 | T140: 48
...

Sheet 2015_05
A1: 42125 | O1: ★★ 全地区合計 ★★ | Q1: =SUM(C98,J98,Q49,Q98,C147,J147,Q147,C196,J196,Q196) -> 122395 | R1: =SUM(D98,K98,R49,R98,D147,K147,R147,D196,K196,R196) -> 280285 | S1: =SUM(E98,L98,S49,S98,E147,L147,S147,E196,L196,S196) -> 144094 | T1: =SUM(F98,M98,T49,T98,F147,M147,T147,F196,M196,T196) -> 136191
A2: CD | B2: 大字名 | C2: 世帯数 | D2: 総数 | E2: 男 | F2: 女 | H2: CD | I2: 大字名 | J2: 世帯数 | K2: 総数 | L2: 男 | M2: 女 | O2: CD | P2: 大字名 | Q2: 世帯数 | R2: 総数 | S2: 男 | T2: 女
A3: 1655 | B3: 千種５丁目 | C3: 210 | D3: 553 | E3: 279 | F3: 274 | H3: 7900 | I3: 平田 | J3: 822 | K3: 1683 | L3: 841 | M3: 842 | O3: 30101 | P3: 国分寺台中央１丁目 | Q3: 296 | R3: 685 | S3: 345 | T3: 340
A4: 1656 | B4: 千種６丁目 | C4: 109 | D4: 397 | E4: 205 | F4: 192 | H4: 8000 | I4: 五井 | J4: 7696 | K4: 16697 | L4: 8783 | M4: 7914 | O4: 30102 | P4: 国分寺台中央２丁目 | Q4: 334 | R4: 792 | S4: 412 | T4: 380
A5: 1657 | B5: 千種７丁目 | C5: 354 | D5: 866 | E5: 464 | F5: 402 | H5: 8051 | I5: 五井中央東１丁目 | J5: 314 | K5: 553 | L5: 295 | M5: 258 | O5: 30103 | P5: 国分寺台中央３丁目 | Q5: 262 | R5: 537 | S5: 295 | T5: 242
A6: 4300 | B6: 千種海岸 | C6: 2 | D6: 2 | E6: 2 | F6: 0 | H6: 8052 | I6: 五井中央東２丁目 | J6: 467 | K6: 813 | L6: 436 | M6: 377 | O6: 30104 | P6: 国分寺台中央４丁目 | Q6: 241 | R6: 556 | S6: 286 | T6: 270
A7: 4400 | B7: 五井南海岸 | C7: 1 | D7: 3 | E7: 0 | F7: 3 | H7: 8061 | I7: 五井中央西１丁目 | J7: 393 | K7: 743 | L7: 402 | M7: 341 | O7: 30105 | P7: 国分寺台中央５丁目 | Q7: 254 | R7: 669 | S7: 358 | T7: 311
A8: 4600 | B8: 青柳 | C8: 1254 | D8: 2707 | E8: 1448 | F8: 1259 | H8: 8062 | I8: 五井中央西２丁目 | J8: 267 | K8: 555 | L8: 284 | M8: 271 | O8: 30106 | P8: 国分寺台中央６丁目 | Q8: 228 | R8: 580 | S8: 268 | T8: 312
A9: 4651 | B9: 青柳１丁目 | C9: 141 | D9: 299 | E9: 163 | F9: 136 | H9: 8063 | I9: 五井中央西３丁目 | J9: 74 | K9: 152 | L9: 80 | M9: 72 | O9: 30107 | P9: 国分寺台中央７丁目 | Q9: 327 | R9: 759 | S9: 388 | T9: 371
A10: 4652 | B10: 青柳２丁目 | C10: 84 | D10: 168 | E10: 94 | F10: 74 | H10: 8101 | I10: 五井東１丁目 | J10: 642 | K10: 1191 | L10: 641 | M10: 550 | O10: 30201 | P10: 東国分寺台１丁目 | Q10: 333 | R10: 692 | S10: 369 | T10: 323
A11: 4653 | B11: 青柳３丁目 | C11: 184 | D11: 225 | E11: 148 | F11: 77 | H11: 8102 | I11: 五井東２丁目 | J11: 380 | K11: 865 | L11: 449 | M11: 416 | O11: 30202 | P11: 東国分寺台２丁目 | Q11: 188 | R11: 457 | S11: 219 | T11: 238
A12: 4702 | B12: 青柳北２丁目 | C12: 4 | D12: 9 | E12: 4 | F12: 5 | H12: 8103 | I12: 五井東３丁目 | J12: 537 | K12: 1097 | L12: 596 | M12: 501 | O12: 30203 | P12: 東国分寺台３丁目 | Q12: 197 | R12: 500 | S12: 249 | T12: 251
A13: 4703 | B13: 青柳北３丁目 | C13: 20 | D13: 37 | E13: 22 | F13: 15 | H13: 8111 | I13: 更級１丁目 | J13: 136 | K13: 245 | L13: 143 | M13: 102 | O13: 30204 | P13: 東国分寺台４丁目 | Q13: 160 | R13: 377 | S13: 199 | T13: 178
A14: 4704 | B14: 青柳北４丁目 | C14: 44 | D14: 87 | E14: 50 | F14: 37 | H14: 8112 | I14: 更級２丁目 | J14: 69 | K14: 149 | L14: 69 | M14: 80 | O14: 30205 | P14: 東国分寺台５丁目 | Q14: 204 | R14: 437 | S14: 222 | T14: 215
... A37: 6800 | B37: 神代 | C37: 48 | D37: 125 | E37: 66 | F37: 59 | H37: 9100 | I37: 宮原 | J37: 8 | K37: 19 | L37: 10 | M37: 9 | O37: 30806 | P37: 西広６丁目 | Q37: 460 | R37: 1091 | S37: 552 | T37: 539
A38: 6900 | B38: 十五沢 | C38: 51 | D38: 129 | E38: 57 | F38: 72 | J38: =IF($H38="","",VLOOKUP($H38,[1]最新data!$A$1:$H$375,3,FALSE)) | K38: =IF($H38="","",VLOOKUP($H38,[1]最新data!$A$1:$H$375,4,FALSE)) | L38: =IF($H38="","",VLOOKUP($H38,[1]最新data!$A$1:$H$375,5,FALSE)) | M38: =IF($H38="","",VLOOKUP($H38,[1]最新data!$A$1:$H$375,6,FALSE)) | O38: 30901 | P38: 惣社１丁目 | Q38: 211 | R38: 501 | S38: 258 | T38: 243
A39: 7000 | B39: 小折 | C39: 33 | D39: 75 | E39: 31 | F39: 44 | J39: =IF($H39="","",VLOOKUP($H39,[1]最新data!$A$1:$H$375,3,FALSE)) | K39: =IF($H39="","",VLOOKUP($H39,[1]最新data!$A$1:$H$375,4,FALSE)) | L39: =IF($H39="","",VLOOKUP($H39,[1]最新data!$A$1:$H$375,5,FALSE)) | M39: =IF($H39="","",VLOOKUP($H39,[1]最新data!$A$1:$H$375,6,FALSE)) | O39: 30902 | P39: 惣社２丁目 | Q39: 167 | R39: 393 | S39: 194 | T39: 199
A40: 7100 | B40: 西野 | C40: 50 | D40: 136 | E40: 70 | F40: 66 | J40: =IF($H40="","",VLOOKUP($H40,[1]最新data!$A$1:$H$375,3,FALSE)) | K40: =IF($H40="","",VLOOKUP($H40,[1]最新data!$A$1:$H$375,4,FALSE)) | L40: =IF($H40="","",VLOOKUP($H40,[1]最新data!$A$1:$H$375,5,FALSE)) | M40: =IF($H40="","",VLOOKUP($H40,[1]最新data!$A$1:$H$375,6,FALSE)) | O40: 30903 | P40: 惣社３丁目 | Q40: 217 | R40: 516 | S40: 258 | T40: 258
A41: 7200 | B41: 柳原 | C41: 54 | D41: 135 | E41: 64 | F41: 71 | J41: =IF($H41="","",VLOOKUP($H41,[1]最新data!$A$1:$H$375,3,FALSE)) | K41: =IF($H41="","",VLOOKUP($H41,[1]最新data!$A$1:$H$375,4,FALSE)) | L41: =IF($H41="","",VLOOKUP($H41,[1]最新data!$A$1:$H$375,5,FALSE)) | M41: =IF($H41="","",VLOOKUP($H41,[1]最新data!$A$1:$H$375,6,FALSE)) | O41: 30904 | P41: 惣社４丁目 | Q41: 173 | R41: 434 | S41: 227 | T41: 207
A42: 7300 | B42: 村上 | C42: 620 | D42: 1444 | E42: 722 | F42: 722 | J42: =IF($H42="","",VLOOKUP($H42,[1]最新data!$A$1:$H$375,3,FALSE)) | K42: =IF($H42="","",VLOOKUP($H42,[1]最新data!$A$1:$H$375,4,FALSE)) | L42: =IF($H42="","",VLOOKUP($H42,[1]最新data!$A$1:$H$375,5,FALSE)) | M42: =IF($H42="","",VLOOKUP($H42,[1]最新data!$A$1:$H$375,6,FALSE)) | O42: 30905 | P42: 惣社５丁目 | Q42: 237 | R42: 673 | S42: 322 | T42: 351
A43: 7400 | B43: 西広 | C43: 41 | D43: 96 | E43: 51 | F43: 45 | J43: =IF($H43="","",VLOOKUP($H43,[1]最新data!$A$1:$H$375,3,FALSE)) | K43: =IF($H43="","",VLOOKUP($H43,[1]最新data!$A$1:$H$375,4,FALSE)) | L43: =IF($H43="","",VLOOKUP($H43,[1]最新data!$A$1:$H$375,5,FALSE)) | M43: =IF($H43="","",VLOOKUP($H43,[1]最新data!$A$1:$H$375,6,FALSE)) | O43: 31001 | P43: 加茂１丁目 | Q43: 198 | R43: 457 | S43: 233 | T43: 224
A44: 7500 | B44: 惣社 | C44: 318 | D44: 677 | E44: 350 | F44: 327 | J44: =IF($H44="","",VLOOKUP($H44,[1]最新data!$A$1:$H$375,3,FALSE)) | K44: =IF($H44="","",VLOOKUP($H44,[1]最新data!$A$1:$H$375,4,FALSE)) | L44: =IF($H44="","",VLOOKUP($H44,[1]最新data!$A$1:$H$375,5,FALSE)) | M44: =IF($H44="","",VLOOKUP($H44,[1]最新data!$A$1:$H$375,6,FALSE)) | O44: 31002 | P44: 加茂２丁目 | Q44: 159 | R44: 388 | S44: 193 | T44: 195
A45: 7600 | B45: 加茂 | C45: 3 | D45: 7 | E45: 3 | F45: 4 | J45: =IF($H45="","",VLOOKUP($H45,[1]最新data!$A$1:$H$375,3,FALSE)) | K45: =IF($H45="","",VLOOKUP($H45,[1]最新data!$A$1:$H$375,4,FALSE)) | L45: =IF($H45="","",VLOOKUP($H45,[1]最新data!$A$1:$H$375,5,FALSE)) | M45: =IF($H45="","",VLOOKUP($H45,[1]最新data!$A$1:$H$375,6,FALSE)) | O45: 31101 | P45: 根田１丁目 | Q45: 161 | R45: 375 | S45: 190 | T45: 185
A46: 7700 | B46: 根田 | C46: 108 | D46: 237 | E46: 120 | F46: 117 | J46: =IF($H46="","",VLOOKUP($H46,[1]最新data!$A$1:$H$375,3,FALSE)) | K46: =IF($H46="","",VLOOKUP($H46,[1]最新data!$A$1:$H$375,4,FALSE)) | L46: =IF($H46="","",VLOOKUP($H46,[1]最新data!$A$1:$H$375,5,FALSE)) | M46: =IF($H46="","",VLOOKUP($H46,[1]最新data!$A$1:$H$375,6,FALSE)) | O46: 31102 | P46: 根田２丁目 | Q46: 118 | R46: 220 | S46: 129 | T46: 91
A47: 7800 | B47: 岩野見 | C47: 143 | D47: 342 | E47: 164 | F47: 178 | J47: =IF($H47="","",VLOOKUP($H47,[1]最新data!$A$1:$H$375,3,FALSE)) | K47: =IF($H47="","",VLOOKUP($H47,[1]最新data!$A$1:$H$375,4,FALSE)) | L47: =IF($H47="","",VLOOKUP($H47,[1]最新data!$A$1:$H$375,5,FALSE)) | M47: =IF($H47="","",VLOOKUP($H47,[1]最新data!$A$1:$H$375,6,FALSE)) | O47: 31103 | P47: 根田３丁目 | Q47: 273 | R47: 561 | S47: 301 | T47: 260
J48: =IF($H48="","",VLOOKUP($H48,[1]最新data!$A$1:$H$375,3,FALSE)) | K48: =IF($H48="","",VLOOKUP($H48,[1]最新data!$A$1:$H$375,4,FALSE)) | L48: =IF($H48="","",VLOOKUP($H48,[1]最新data!$A$1:$H$375,5,FALSE)) | M48: =IF($H48="","",VLOOKUP($H48,[1]最新data!$A$1:$H$375,6,FALSE)) | O48: 31104 | P48: 根田４丁目 | Q48: 166 | R48: 414 | S48: 206 | T48: 208
O49: 五井地区_計 | Q49: =SUM(C3:C48,J3:J48,Q3:Q48) -> 39460 | R49: =SUM(D3:D48,K3:K48,R3:R48) -> 87734 | S49: =SUM(E3:E48,L3:L48,S3:S48) -> 45901 | T49: =SUM(F3:F48,M3:M48,T3:T48) -> 41833
A50: =A1 -> 42125
A51: CD | B51: 大字名 | C51: 世帯数 | D51: 総数 | E51: 男 | F51: 女 | H51: CD | I51: 大字名 | J51: 世帯数 | K51: 総数 | L51: 男 | M51: 女 | O51: CD | P51: 大字名 | Q51: 世帯数 | R51: 総数 | S51: 男 | T51: 女
A52: 100 | B52: 姉崎海岸 | C52: 32 | D52: 38 | E52: 34 | F52: 4 | H52: 1900 | I52: 八幡海岸通 | J52: 303 | K52: 407 | L52: 316 | M52: 91 | O52: 8400 | P52: 山倉 | Q52: 221 | R52: 488 | S52: 258 | T52: 230
A53: 200 | B53: 椎津 | C53: 1666 | D53: 3580 | E53: 1851 | F53: 1729 | H53: 2001 | I53: 八幡浦１丁目 | J53: 3 | K53: 3 | L53: 3 | M53: 0 | O53: 8500 | P53: 福増 | Q53: 293 | R53: 721 | S53: 371 | T53: 350
A54: 300 | B54: 姉崎 | C54: 5985 | D54: 12403 | E54: 6609 | F54: 5794 | H54: 2100 | I54: 八幡 | J54: 5513 | K54: 11385 | L54: 5938 | M54: 5447 | O54: 8600 | P54: 海士有木 | Q54: 527 | R54: 1288 | S54: 655 | T54: 633
A55: 321 | B55: 姉崎西１丁目 | C55: 208 | D55: 350 | E55: 225 | F55: 125 | H55: 2201 | I55: 八幡北町１丁目 | J55: 221 | K55: 298 | L55: 205 | M55: 93 | O55: 8700 | P55: 大坪 | Q55: 251 | R55: 588 | S55: 318 | T55: 270
A56: 322 | B56: 姉崎西２丁目 | C56: 205 | D56: 417 | E56: 218 | F56: 199 | H56: 2202 | I56: 八幡北町２丁目 | J56: 210 | K56: 383 | L56: 220 | M56: 163 | O56: 8800 | P56: 新生 | Q56: 89 | R56: 238 | S56: 130 | T56: 108
A57: 323 | B57: 姉崎西３丁目 | C57: 207 | D57: 441 | E57: 245 | F57: 196 | H57: 2203 | I57: 八幡北町３丁目 | J57: 133 | K57: 210 | L57: 127 | M57: 83 | O57: 8900 | P57: 権現堂 | Q57: 85 | R57: 231 | S57: 116 | T57: 115
A58: 1300 | B58: 畑木 | C58: 165 | D58: 308 | E58: 142 | F58: 166 | H58: 2301 | I58: 八幡石塚１丁目 | J58: 342 | K58: 714 | L58: 410 | M58: 304 | O58: 9000 | P58: 糸久 | Q58: 33 | R58: 91 | S58: 48 | T58: 43
A59: 1400 | B59: 柏原 | C59: 120 | D59: 257 | E59: 119 | F59: 138 | H59: 2302 | I59: 八幡石塚２丁目 | J59: 351 | K59: 721 | L59: 384 | M59: 337 | O59: 9100 | P59: 宮原 | Q59: 87 | R59: 193 | S59: 94 | T59: 99
A60: 1500 | B60: 白塚 | C60: 338 | D60: 754 | E60: 365 | F60: 389 | H60: 2400 | I60: 五所 | J60: 1289 | K60: 2931 | L60: 1511 | M60: 1420 | O60: 9200 | P60: 分目 | Q60: 78 | R60: 211 | S60: 107 | T60: 104
A61: 1600 | B61: 今津朝山 | C61: 994 | D61: 1982 | E61: 1104 | F61: 878 | H61: 2500 | I61: 旭五所 | J61: 463 | K61: 938 | L61: 502 | M61: 436 | O61: 9300 | P61: 浅井小向 | Q61: 56 | R61: 166 | S61: 77 | T61: 89
A62: 1651 | B62: 千種１丁目 | C62: 108 | D62: 172 | E62: 116 | F62: 56 | H62: 2600 | I62: 東五所 | J62: 976 | K62: 1957 | L62: 1033 | M62: 924 | O62: 9400 | P62: 相川 | Q62: 42 | R62: 90 | S62: 49 | T62: 41
A63: 1652 | B63: 千種２丁目 | C63: 221 | D63: 549 | E63: 278 | F63: 271 | H63: 2700 | I63: 西五所 | J63: 867 | K63: 1680 | L63: 881 | M63: 799 | O63: 9500 | P63: 新堀 | Q63: 264 | R63: 580 | S63: 278 | T63: 302
... A73: 1708 | B73: 青葉台８丁目 | C73: 197 | D73: 458 | E73: 238 | F73: 220 | H73: 3002 | I73: 藤井２丁目 | J73: 109 | K73: 227 | L73: 119 | M73: 108 | O73: 10500 | P73: 山田 | Q73: 142 | R73: 362 | S73: 185 | T73: 177
C74: =IF($A74="","",VLOOKUP($A74,[1]最新data!$A$1:$H$375,3,FALSE)) | D74: =IF($A74="","",VLOOKUP($A74,[1]最新data!$A$1:$H$375,4,FALSE)) | E74: =IF($A74="","",VLOOKUP($A74,[1]最新data!$A$1:$H$375,5,FALSE)) | F74: =IF($A74="","",VLOOKUP($A74,[1]最新data!$A$1:$H$375,6,FALSE)) | H74: 3003 | I74: 藤井３丁目 | J74: 163 | K74: 393 | L74: 189 | M74: 204 | O74: 10600 | P74: 安須 | Q74: 69 | R74: 191 | S74: 87 | T74: 104
C75: =IF($A75="","",VLOOKUP($A75,[1]最新data!$A$1:$H$375,3,FALSE)) | D75: =IF($A75="","",VLOOKUP($A75,[1]最新data!$A$1:$H$375,4,FALSE)) | E75: =IF($A75="","",VLOOKUP($A75,[1]最新data!$A$1:$H$375,5,FALSE)) | F75: =IF($A75="","",VLOOKUP($A75,[1]最新data!$A$1:$H$375,6,FALSE)) | H75: 3100 | I75: 山田橋 | J75: 129 | K75: 266 | L75: 136 | M75: 130 | O75: 10700 | P75: 高坂 | Q75: 49 | R75: 123 | S75: 64 | T75: 59
C76: =IF($A76="","",VLOOKUP($A76,[1]最新data!$A$1:$H$375,3,FALSE)) | D76: =IF($A76="","",VLOOKUP($A76,[1]最新data!$A$1:$H$375,4,FALSE)) | E76: =IF($A76="","",VLOOKUP($A76,[1]最新data!$A$1:$H$375,5,FALSE)) | F76: =IF($A76="","",VLOOKUP($A76,[1]最新data!$A$1:$H$375,6,FALSE)) | H76: 3200 | I76: 能満 | J76: 2297 | K76: 4998 | L76: 2481 | M76: 2517 | O76: 10801 | P76: 光風台１丁目 | Q76: 357 | R76: 932 | S76: 445 | T76: 487
C77: =IF($A77="","",VLOOKUP($A77,[1]最新data!$A$1:$H$375,3,FALSE)) | D77: =IF($A77="","",VLOOKUP($A77,[1]最新data!$A$1:$H$375,4,FALSE)) | E77: =IF($A77="","",VLOOKUP($A77,[1]最新data!$A$1:$H$375,5,FALSE)) | F77: =IF($A77="","",VLOOKUP($A77,[1]最新data!$A$1:$H$375,6,FALSE)) | H77: 3300 | I77: 門前 | J77: 2 | K77: 7 | L77: 3 | M77: 4 | O77: 10802 | P77: 光風台２丁目 | Q77: 351 | R77: 881 | S77: 444 | T77: 437
C78: =IF($A78="","",VLOOKUP($A78,[1]最新data!$A$1:$H$375,3,FALSE)) | D78: =IF($A78="","",VLOOKUP($A78,[1]最新data!$A$1:$H$375,4,FALSE)) | E78: =IF($A78="","",VLOOKUP($A78,[1]最新data!$A$1:$H$375,5,FALSE)) | F78: =IF($A78="","",VLOOKUP($A78,[1]最新data!$A$1:$H$375,6,FALSE)) | H78: 3301 | I78: 門前１丁目 | J78: 74 | K78: 163 | L78: 86 | M78: 77 | O78: 10803 | P78: 光風台３丁目 | Q78: 664 | R78: 1551 | S78: 769 | T78: 782
C79: =IF($A79="","",VLOOKUP($A79,[1]最新data!$A$1:$H$375,3,FALSE)) | D79: =IF($A79="","",VLOOKUP($A79,[1]最新data!$A$1:$H$375,4,FALSE)) | E79: =IF($A79="","",VLOOKUP($A79,[1]最新data!$A$1:$H$375,5,FALSE)) | F79: =IF($A79="","",VLOOKUP($A79,[1]最新data!$A$1:$H$375,6,FALSE)) | H79: 3302 | I79: 門前２丁目 | J79: 359 | K79: 805 | L79: 416 | M79: 389 | O79: 10804 | P79: 光風台４丁目 | Q79: 647 | R79: 1542 | S79: 775 | T79: 767
C80: =IF($A80="","",VLOOKUP($A80,[1]最新data!$A$1:$H$375,3,FALSE)) | D80: =IF($A80="","",VLOOKUP($A80,[1]最新data!$A$1:$H$375,4,FALSE)) | E80: =IF($A80="","",VLOOKUP($A80,[1]最新data!$A$1:$H$375,5,FALSE)) | F80: =IF($A80="","",VLOOKUP($A80,[1]最新data!$A$1:$H$375,6,FALSE)) | H80: 3400 | I80: 市原 | J80: 462 | K80: 973 | L80: 485 | M80: 488 | O80: 10805 | P80: 光風台５丁目 | Q80: 544 | R80: 1346 | S80: 670 | T80: 676
C81: =IF($A81="","",VLOOKUP($A81,[1]最新data!$A$1:$H$375,3,FALSE)) | D81: =IF($A81="","",VLOOKUP($A81,[1]最新data!$A$1:$H$375,4,FALSE)) | E81: =IF($A81="","",VLOOKUP($A81,[1]最新data!$A$1:$H$375,5,FALSE)) | F81: =IF($A81="","",VLOOKUP($A81,[1]最新data!$A$1:$H$375,6,FALSE)) | H81: 3500 | I81: 山木 | J81: 1144 | K81: 2552 | L81: 1347 | M81: 1205 | Q81: =IF($O81="","",VLOOKUP($O81,[1]最新data!$A$1:$H$375,3,FALSE)) | R81: =IF($O81="","",VLOOKUP($O81,[1]最新data!$A$1:$H$375,4,FALSE)) | S81: =IF($O81="","",VLOOKUP($O81,[1]最新data!$A$1:$H$375,5,FALSE)) | T81: =IF($O81="","",VLOOKUP($O81,[1]最新data!$A$1:$H$375,6,FALSE))
C82: =IF($A82="","",VLOOKUP($A82,[1]最新data!$A$1:$H$375,3,FALSE)) | D82: =IF($A82="","",VLOOKUP($A82,[1]最新data!$A$1:$H$375,4,FALSE)) | E82: =IF($A82="","",VLOOKUP($A82,[1]最新data!$A$1:$H$375,5,FALSE)) | F82: =IF($A82="","",VLOOKUP($A82,[1]最新data!$A$1:$H$375,6,FALSE)) | H82: 3600 | I82: 菊間 | J82: 2392 | K82: 5641 | L82: 2677 | M82: 2964 | Q82: =IF($O82="","",VLOOKUP($O82,[1]最新data!$A$1:$H$375,3,FALSE)) | R82: =IF($O82="","",VLOOKUP($O82,[1]最新data!$A$1:$H$375,4,FALSE)) | S82: =IF($O82="","",VLOOKUP($O82,[1]最新data!$A$1:$H$375,5,FALSE)) | T82: =IF($O82="","",VLOOKUP($O82,[1]最新data!$A$1:$H$375,6,FALSE))
C83: =IF($A83="","",VLOOKUP($A83,[1]最新data!$A$1:$H$375,3,FALSE)) | D83: =IF($A83="","",VLOOKUP($A83,[1]最新data!$A$1:$H$375,4,FALSE)) | E83: =IF($A83="","",VLOOKUP($A83,[1]最新data!$A$1:$H$375,5,FALSE)) | F83: =IF($A83="","",VLOOKUP($A83,[1]最新data!$A$1:$H$375,6,FALSE)) | H83: 3700 | I83: 古市場 | J83: 1102 | K83: 2529 | L83: 1309 | M83: 1220 | Q83: =IF($O83="","",VLOOKUP($O83,[1]最新data!$A$1:$H$375,3,FALSE)) | R83: =IF($O83="","",VLOOKUP($O83,[1]最新data!$A$1:$H$375,4,FALSE)) | S83: =IF($O83="","",VLOOKUP($O83,[1]最新data!$A$1:$H$375,5,FALSE)) | T83: =IF($O83="","",VLOOKUP($O83,[1]最新data!$A$1:$H$375,6,FALSE))
C84: =IF($A84="","",VLOOKUP($A84,[1]最新data!$A$1:$H$375,3,FALSE)) | D84: =IF($A84="","",VLOOKUP($A84,[1]最新data!$A$1:$H$375,4,FALSE)) | E84: =IF($A84="","",VLOOKUP($A84,[1]最新data!$A$1:$H$375,5,FALSE)) | F84: =IF($A84="","",VLOOKUP($A84,[1]最新data!$A$1:$H$375,6,FALSE)) | H84: 3800 | I84: 草刈 | J84: 487 | K84: 1181 | L84: 572 | M84: 609 | Q84: =IF($O84="","",VLOOKUP($O84,[1]最新data!$A$1:$H$375,3,FALSE)) | R84: =IF($O84="","",VLOOKUP($O84,[1]最新data!$A$1:$H$375,4,FALSE)) | S84: =IF($O84="","",VLOOKUP($O84,[1]最新data!$A$1:$H$375,5,FALSE)) | T84: =IF($O84="","",VLOOKUP($O84,[1]最新data!$A$1:$H$375,6,FALSE))
C85: =IF($A85="","",VLOOKUP($A85,[1]最新data!$A$1:$H$375,3,FALSE)) | D85: =IF($A85="","",VLOOKUP($A85,[1]最新data!$A$1:$H$375,4,FALSE)) | E85: =IF($A85="","",VLOOKUP($A85,[1]最新data!$A$1:$H$375,5,FALSE)) | F85: =IF($A85="","",VLOOKUP($A85,[1]最新data!$A$1:$H$375,6,FALSE)) | H85: 3900 | I85: 大 | J85: 1971 | K85: 4455 | L85: 2298 | M85: 2157 | Q85: =IF($O85="","",VLOOKUP($O85,[1]最新data!$A$1:$H$375,3,FALSE)) | R85: =IF($O85="","",VLOOKUP($O85,[1]最新data!$A$1:$H$375,4,FALSE)) | S85: =IF($O85="","",VLOOKUP($O85,[1]最新data!$A$1:$H$375,5,FALSE)) | T85: =IF($O85="","",VLOOKUP($O85,[1]最新data!$A$1:$H$375,6,FALSE))
C86: =IF($A86="","",VLOOKUP($A86,[1]最新data!$A$1:$H$375,3,FALSE)) | D86: =IF($A86="","",VLOOKUP($A86,[1]最新data!$A$1:$H$375,4,FALSE)) | E86: =IF($A86="","",VLOOKUP($A86,[1]最新data!$A$1:$H$375,5,FALSE)) | F86: =IF($A86="","",VLOOKUP($A86,[1]最新data!$A$1:$H$375,6,FALSE)) | H86: 4201 | I86: 若宮１丁目 | J86: 504 | K86: 972 | L86: 514 | M86: 458 | Q86: =IF($O86="","",VLOOKUP($O86,[1]最新data!$A$1:$H$375,3,FALSE)) | R86: =IF($O86="","",VLOOKUP($O86,[1]最新data!$A$1:$H$375,4,FALSE)) | S86: =IF($O86="","",VLOOKUP($O86,[1]最新data!$A$1:$H$375,5,FALSE)) | T86: =IF($O86="","",VLOOKUP($O86,[1]最新data!$A$1:$H$375,6,FALSE))
C87: =IF($A87="","",VLOOKUP($A87,[1]最新data!$A$1:$H$375,3,FALSE)) | D87: =IF($A87="","",VLOOKUP($A87,[1]最新data!$A$1:$H$375,4,FALSE)) | E87: =IF($A87="","",VLOOKUP($A87,[1]最新data!$A$1:$H$375,5,FALSE)) | F87: =IF($A87="","",VLOOKUP($A87,[1]最新data!$A$1:$H$375,6,FALSE)) | H87: 4202 | I87: 若宮２丁目 | J87: 341 | K87: 744 | L87: 353 | M87: 391 | Q87: =IF($O87="","",VLOOKUP($O87,[1]最新data!$A$1:$H$375,3,FALSE)) | R87: =IF($O87="","",VLOOKUP($O87,[1]最新data!$A$1:$H$375,4,FALSE)) | S87: =IF($O87="","",VLOOKUP($O87,[1]最新data!$A$1:$H$375,5,FALSE)) | T87: =IF($O87="","",VLOOKUP($O87,[1]最新data!$A$1:$H$375,6,FALSE))
C88: =IF($A88="","",VLOOKUP($A88,[1]最新data!$A$1:$H$375,3,FALSE)) | D88: =IF($A88="","",VLOOKUP($A88,[1]最新data!$A$1:$H$375,4,FALSE)) | E88: =IF($A88="","",VLOOKUP($A88,[1]最新data!$A$1:$H$375,5,FALSE)) | F88: =IF($A88="","",VLOOKUP($A88,[1]最新data!$A$1:$H$375,6,FALSE)) | H88: 4203 | I88: 若宮３丁目 | J88: 324 | K88: 690 | L88: 319 | M88: 371 | Q88: =IF($O88="","",VLOOKUP($O88,[1]最新data!$A$1:$H$375,3,FALSE)) | R88: =IF($O88="","",VLOOKUP($O88,[1]最新data!$A$1:$H$375,4,FALSE)) | S88: =IF($O88="","",VLOOKUP($O88,[1]最新data!$A$1:$H$375,5,FALSE)) | T88: =IF($O88="","",VLOOKUP($O88,[1]最新data!$A$1:$H$375,6,FALSE))
C89: =IF($A89="","",VLOOKUP($A89,[1]最新data!$A$1:$H$375,3,FALSE)) | D89: =IF($A89="","",VLOOKUP($A89,[1]最新data!$A$1:$H$375,4,FALSE)) | E89: =IF($A89="","",VLOOKUP($A89,[1]最新data!$A$1:$H$375,5,FALSE)) | F89: =IF($A89="","",VLOOKUP($A89,[1]最新data!$A$1:$H$375,6,FALSE)) | H89: 4204 | I89: 若宮４丁目 | J89: 354 | K89: 756 | L89: 356 | M89: 400 | Q89: =IF($O89="","",VLOOKUP($O89,[1]最新data!$A$1:$H$375,3,FALSE)) | R89: =IF($O89="","",VLOOKUP($O89,[1]最新data!$A$1:$H$375,4,FALSE)) | S89: =IF($O89="","",VLOOKUP($O89,[1]最新data!$A$1:$H$375,5,FALSE)) | T89: =IF($O89="","",VLOOKUP($O89,[1]最新data!$A$1:$H$375,6,FALSE))
C90: =IF($A90="","",VLOOKUP($A90,[1]最新data!$A$1:$H$375,3,FALSE)) | D90: =IF($A90="","",VLOOKUP($A90,[1]最新data!$A$1:$H$375,4,FALSE)) | E90: =IF($A90="","",VLOOKUP($A90,[1]最新data!$A$1:$H$375,5,FALSE)) | F90: =IF($A90="","",VLOOKUP($A90,[1]最新data!$A$1:$H$375,6,FALSE)) | H90: 4205 | I90: 若宮５丁目 | J90: 241 | K90: 589 | L90: 295 | M90: 294 | Q90: =IF($O90="","",VLOOKUP($O90,[1]最新data!$A$1:$H$375,3,FALSE)) | R90: =IF($O90="","",VLOOKUP($O90,[1]最新data!$A$1:$H$375,4,FALSE)) | S90: =IF($O90="","",VLOOKUP($O90,[1]最新data!$A$1:$H$375,5,FALSE)) | T90: =IF($O90="","",VLOOKUP($O90,[1]最新data!$A$1:$H$375,6,FALSE))
C91: =IF($A91="","",VLOOKUP($A91,[1]最新data!$A$1:$H$375,3,FALSE)) | D91: =IF($A91="","",VLOOKUP($A91,[1]最新data!$A$1:$H$375,4,FALSE)) | E91: =IF($A91="","",VLOOKUP($A91,[1]最新data!$A$1:$H$375,5,FALSE)) | F91: =IF($A91="","",VLOOKUP($A91,[1]最新data!$A$1:$H$375,6,FALSE)) | H91: 4206 | I91: 若宮６丁目 | J91: 295 | K91: 688 | L91: 345 | M91: 343 | Q91: =IF($O91="","",VLOOKUP($O91,[1]最新data!$A$1:$H$375,3,FALSE)) | R91: =IF($O91="","",VLOOKUP($O91,[1]最新data!$A$1:$H$375,4,FALSE)) | S91: =IF($O91="","",VLOOKUP($O91,[1]最新data!$A$1:$H$375,5,FALSE)) | T91: =IF($O91="","",VLOOKUP($O91,[1]最新data!$A$1:$H$375,6,FALSE))
C92: =IF($A92="","",VLOOKUP($A92,[1]最新data!$A$1:$H$375,3,FALSE)) | D92: =IF($A92="","",VLOOKUP($A92,[1]最新data!$A$1:$H$375,4,FALSE)) | E92: =IF($A92="","",VLOOKUP($A92,[1]最新data!$A$1:$H$375,5,FALSE)) | F92: =IF($A92="","",VLOOKUP($A92,[1]最新data!$A$1:$H$375,6,FALSE)) | H92: 4207 | I92: 若宮７丁目 | J92: 78 | K92: 184 | L92: 87 | M92: 97 | Q92: =IF($O92="","",VLOOKUP($O92,[1]最新data!$A$1:$H$375,3,FALSE)) | R92: =IF($O92="","",VLOOKUP($O92,[1]最新data!$A$1:$H$375,4,FALSE)) | S92: =IF($O92="","",VLOOKUP($O92,[1]最新data!$A$1:$H$375,5,FALSE)) | T92: =IF($O92="","",VLOOKUP($O92,[1]最新data!$A$1:$H$375,6,FALSE))
C93: =IF($A93="","",VLOOKUP($A93,[1]最新data!$A$1:$H$375,3,FALSE)) | D93: =IF($A93="","",VLOOKUP($A93,[1]最新data!$A$1:$H$375,4,FALSE)) | E93: =IF($A93="","",VLOOKUP($A93,[1]最新data!$A$1:$H$375,5,FALSE)) | F93: =IF($A93="","",VLOOKUP($A93,[1]最新data!$A$1:$H$375,6,FALSE)) | J93: =IF($H93="","",VLOOKUP($H93,[1]最新data!$A$1:$H$375,3,FALSE)) | K93: =IF($H93="","",VLOOKUP($H93,[1]最新data!$A$1:$H$375,4,FALSE)) | L93: =IF($H93="","",VLOOKUP($H93,[1]最新data!$A$1:$H$375,5,FALSE)) | M93: =IF($H93="","",VLOOKUP($H93,[1]最新data!$A$1:$H$375,6,FALSE)) | Q93: =IF($O93="","",VLOOKUP($O93,[1]最新data!$A$1:$H$375,3,FALSE)) | R93: =IF($O93="","",VLOOKUP($O93,[1]最新data!$A$1:$H$375,4,FALSE)) | S93: =IF($O93="","",VLOOKUP($O93,[1]最新data!$A$1:$H$375,5,FALSE)) | T93: =IF($O93="","",VLOOKUP($O93,[1]最新data!$A$1:$H$375,6,FALSE))
C94: =IF($A94="","",VLOOKUP($A94,[1]最新data!$A$1:$H$375,3,FALSE)) | D94: =IF($A94="","",VLOOKUP($A94,[1]最新data!$A$1:$H$375,4,FALSE)) | E94: =IF($A94="","",VLOOKUP($A94,[1]最新data!$A$1:$H$375,5,FALSE)) | F94: =IF($A94="","",VLOOKUP($A94,[1]最新data!$A$1:$H$375,6,FALSE)) | J94: =IF($H94="","",VLOOKUP($H94,[1]最新data!$A$1:$H$375,3,FALSE)) | K94: =IF($H94="","",VLOOKUP($H94,[1]最新data!$A$1:$H$375,4,FALSE)) | L94: =IF($H94="","",VLOOKUP($H94,[1]最新data!$A$1:$H$375,5,FALSE)) | M94: =IF($H94="","",VLOOKUP($H94,[1]最新data!$A$1:$H$375,6,FALSE)) | Q94: =IF($O94="","",VLOOKUP($O94,[1]最新data!$A$1:$H$375,3,FALSE)) | R94: =IF($O94="","",VLOOKUP($O94,[1]最新data!$A$1:$H$375,4,FALSE)) | S94: =IF($O94="","",VLOOKUP($O94,[1]最新data!$A$1:$H$375,5,FALSE)) | T94: =IF($O94="","",VLOOKUP($O94,[1]最新data!$A$1:$H$375,6,FALSE))
C95: =IF($A95="","",VLOOKUP($A95,[1]最新data!$A$1:$H$375,3,FALSE)) | D95: =IF($A95="","",VLOOKUP($A95,[1]最新data!$A$1:$H$375,4,FALSE)) | E95: =IF($A95="","",VLOOKUP($A95,[1]最新data!$A$1:$H$375,5,FALSE)) | F95: =IF($A95="","",VLOOKUP($A95,[1]最新data!$A$1:$H$375,6,FALSE)) | J95: =IF($H95="","",VLOOKUP($H95,[1]最新data!$A$1:$H$375,3,FALSE)) | K95: =IF($H95="","",VLOOKUP($H95,[1]最新data!$A$1:$H$375,4,FALSE)) | L95: =IF($H95="","",VLOOKUP($H95,[1]最新data!$A$1:$H$375,5,FALSE)) | M95: =IF($H95="","",VLOOKUP($H95,[1]最新data!$A$1:$H$375,6,FALSE)) | Q95: =IF($O95="","",VLOOKUP($O95,[1]最新data!$A$1:$H$375,3,FALSE)) | R95: =IF($O95="","",VLOOKUP($O95,[1]最新data!$A$1:$H$375,4,FALSE)) | S95: =IF($O95="","",VLOOKUP($O95,[1]最新data!$A$1:$H$375,5,FALSE)) | T95: =IF($O95="","",VLOOKUP($O95,[1]最新data!$A$1:$H$375,6,FALSE))
C96: =IF($A96="","",VLOOKUP($A96,[1]最新data!$A$1:$H$375,3,FALSE)) | D96: =IF($A96="","",VLOOKUP($A96,[1]最新data!$A$1:$H$375,4,FALSE)) | E96: =IF($A96="","",VLOOKUP($A96,[1]最新data!$A$1:$H$375,5,FALSE)) | F96: =IF($A96="","",VLOOKUP($A96,[1]最新data!$A$1:$H$375,6,FALSE)) | J96: =IF($H96="","",VLOOKUP($H96,[1]最新data!$A$1:$H$375,3,FALSE)) | K96: =IF($H96="","",VLOOKUP($H96,[1]最新data!$A$1:$H$375,4,FALSE)) | L96: =IF($H96="","",VLOOKUP($H96,[1]最新data!$A$1:$H$375,5,FALSE)) | M96: =IF($H96="","",VLOOKUP($H96,[1]最新data!$A$1:$H$375,6,FALSE)) | Q96: =IF($O96="","",VLOOKUP($O96,[1]最新data!$A$1:$H$375,3,FALSE)) | R96: =IF($O96="","",VLOOKUP($O96,[1]最新data!$A$1:$H$375,4,FALSE)) | S96: =IF($O96="","",VLOOKUP($O96,[1]最新data!$A$1:$H$375,5,FALSE)) | T96: =IF($O96="","",VLOOKUP($O96,[1]最新data!$A$1:$H$375,6,FALSE))
C97: =IF($A97="","",VLOOKUP($A97,[1]最新data!$A$1:$H$375,3,FALSE)) | D97: =IF($A97="","",VLOOKUP($A97,[1]最新data!$A$1:$H$375,4,FALSE)) | E97: =IF($A97="","",VLOOKUP($A97,[1]最新data!$A$1:$H$375,5,FALSE)) | F97: =IF($A97="","",VLOOKUP($A97,[1]最新data!$A$1:$H$375,6,FALSE)) | J97: =IF($H97="","",VLOOKUP($H97,[1]最新data!$A$1:$H$375,3,FALSE)) | K97: =IF($H97="","",VLOOKUP($H97,[1]最新data!$A$1:$H$375,4,FALSE)) | L97: =IF($H97="","",VLOOKUP($H97,[1]最新data!$A$1:$H$375,5,FALSE)) | M97: =IF($H97="","",VLOOKUP($H97,[1]最新data!$A$1:$H$375,6,FALSE)) | Q97: =IF($O97="","",VLOOKUP($O97,[1]最新data!$A$1:$H$375,3,FALSE)) | R97: =IF($O97="","",VLOOKUP($O97,[1]最新data!$A$1:$H$375,4,FALSE)) | S97: =IF($O97="","",VLOOKUP($O97,[1]最新data!$A$1:$H$375,5,FALSE)) | T97: =IF($O97="","",VLOOKUP($O97,[1]最新data!$A$1:$H$375,6,FALSE))
A98: 姉崎地区_計 | C98: =SUM(C52:C97) -> 13914 | D98: =SUM(D52:D97) -> 30003 | E98: =SUM(E52:E97) -> 15631 | F98: =SUM(F52:F97) -> 14372 | H98: 市原地区_計 | J98: =SUM(J52:J97) -> 24484 | K98: =SUM(K52:K97) -> 52781 | L98: =SUM(L52:L97) -> 27093 | M98: =SUM(M52:M97) -> 25688 | O98: 三和地区_計 | Q98: =SUM(Q52:Q97) -> 6139 | R98: =SUM(R52:R97) -> 14968 | S98: =SUM(S52:S97) -> 7512 | T98: =SUM(T52:T97) -> 7456
A99: =A50 -> 42125
A100: CD | B100: 大字名 | C100: 世帯数 | D100: 総数 | E100: 男 | F100: 女 | H100: CD | I100: 大字名 | J100: 世帯数 | K100: 総数 | L100: 男 | M100: 女 | O100: CD | P100: 大字名 | Q100: 世帯数 | R100: 総数 | S100: 男 | T100: 女
A101: 10900 | B101: 久々津 | C101: 68 | D101: 168 | E101: 79 | F101: 89 | H101: 4001 | I101: 辰巳台東１丁目 | J101: 406 | K101: 1149 | L101: 579 | M101: 570 | O101: 13400 | P101: 風戸 | Q101: 21 | R101: 42 | S101: 23 | T101: 19
A102: 11000 | B102: 潤井戸 | C102: 984 | D102: 2205 | E102: 1135 | F102: 1070 | H102: 4002 | I102: 辰巳台東２丁目 | J102: 629 | K102: 1195 | L102: 592 | M102: 603 | O102: 13500 | P102: 中高根 | Q102: 1169 | R102: 2750 | S102: 1435 | T102: 1315
A103: 11051 | B103: うるいど南１丁目 | C103: 191 | D103: 509 | E103: 254 | F103: 255 | H103: 4003 | I103: 辰巳台東３丁目 | J103: 1011 | K103: 2504 | L103: 1330 | M103: 1174 | O103: 13600 | P103: 上高根 | Q103: 782 | R103: 1870 | S103: 945 | T103: 925
A104: 11052 | B104: うるいど南２丁目 | C104: 114 | D104: 282 | E104: 149 | F104: 133 | H104: 4004 | I104: 辰巳台東４丁目 | J104: 893 | K104: 2184 | L104: 1192 | M104: 992 | O104: 13700 | P104: 馬立 | Q104: 1331 | R104: 3082 | S104: 1537 | T104: 1545
A105: 11053 | B105: うるいど南３丁目 | C105: 236 | D105: 661 | E105: 342 | F105: 319 | H105: 4005 | I105: 辰巳台東５丁目 | J105: 279 | K105: 567 | L105: 305 | M105: 262 | O105: 13800 | P105: 上原 | Q105: 66 | R105: 151 | S105: 81 | T105: 70
A106: 11100 | B106: 下野 | C106: 156 | D106: 399 | E106: 187 | F106: 212 | H106: 4101 | I106: 辰巳台西１丁目 | J106: 362 | K106: 967 | L106: 474 | M106: 493 | O106: 13900 | P106: 南岩崎 | Q106: 431 | R106: 1017 | S106: 508 | T106: 509
A107: 11200 | B107: 永吉 | C107: 125 | D107: 290 | E107: 147 | F107: 143 | H107: 4102 | I107: 辰巳台西２丁目 | J107: 389 | K107: 1163 | L107: 576 | M107: 587 | O107: 14000 | P107: 寺谷 | Q107: 102 | R107: 250 | S107: 126 | T107: 124
A108: 11300 | B108: 番場 | C108: 87 | D108: 212 | E108: 109 | F108: 103 | H108: 4103 | I108: 辰巳台西３丁目 | J108: 629 | K108: 1194 | L108: 728 | M108: 466 | O108: 14100 | P108: 栢橋 | Q108: 226 | R108: 566 | S108: 294 | T108: 272
A109: 11400 | B109: 押沼 | C109: 56 | D109: 144 | E109: 76 | F109: 68 | H109: 4104 | I109: 辰巳台西４丁目 | J109: 331 | K109: 791 | L109: 374 | M109: 417 | O109: 14200 | P109: 西国吉 | Q109: 792 | R109: 1851 | S109: 950 | T109: 901
A110: 11500 | B110: 瀬又 | C110: 1605 | D110: 3577 | E110: 1743 | F110: 1834 | H110: 4105 | I110: 辰巳台西５丁目 | J110: 145 | K110: 325 | L110: 155 | M110: 170 | O110: 14300 | P110: 佐是 | Q110: 337 | R110: 852 | S110: 439 | T110: 413
A111: 11600 | B111: 中野 | C111: 35 | D111: 90 | E111: 50 | F111: 40 | O111: 14400 | P111: 妙香 | Q111: 81 | R111: 193 | S111: 103 | T111: 90
A112: 11700 | B112: 高田 | C112: 53 | D112: 133 | E112: 68 | F112: 65 | J112: =IF($H112="","",VLOOKUP($H112,[1]最新data!$A$1:$H$375,3,FALSE)) | K112: =IF($H112="","",VLOOKUP($H112,[1]最新data!$A$1:$H$375,4,FALSE)) | L112: =IF($H112="","",VLOOKUP($H112,[1]最新data!$A$1:$H$375,5,FALSE)) | M112: =IF($H112="","",VLOOKUP($H112,[1]最新data!$A$1:$H$375,6,FALSE)) | O112: 14500 | P112: 奉免 | Q112: 196 | R112: 482 | S112: 227 | T112: 255
A113: 11800 | B113: 高倉 | C113: 52 | D113: 120 | E113: 56 | F113: 64 | J113: =IF($H113="","",VLOOKUP($H113,[1]最新data!$A$1:$H$375,3,FALSE)) | K113: =IF($H113="","",VLOOKUP($H113,[1]最新data!$A$1:$H$375,4,FALSE)) | L113: =IF($H113="","",VLOOKUP($H113,[1]最新data!$A$1:$H$375,5,FALSE)) | M113: =IF($H113="","",VLOOKUP($H113,[1]最新data!$A$1:$H$375,6,FALSE)) | O113: 14600 | P113: 牛久 | Q113: 913 | R113: 1981 | S113: 1000 | T113: 981
A114: 11900 | B114: 東国吉 | C114: 116 | D114: 302 | E114: 141 | F114: 161 | J114: =IF($H114="","",VLOOKUP($H114,[1]最新data!$A$1:$H$375,3,FALSE)) | K114: =IF($H114="","",VLOOKUP($H114,[1]最新data!$A$1:$H$375,4,FALSE)) | L114: =IF($H114="","",VLOOKUP($H114,[1]最新data!$A$1:$H$375,5,FALSE)) | M114: =IF($H114="","",VLOOKUP($H114,[1]最新data!$A$1:$H$375,6,FALSE)) | O114: 14700 | P114: 皆吉 | Q114: 749 | R114: 1702 | S114: 854 | T114: 848
A115: 12000 | B115: 金剛地 | C115: 166 | D115: 432 | E115: 221 | F115: 211 | J115: =IF($H115="","",VLOOKUP($H115,[1]最新data!$A$1:$H$375,3,FALSE)) | K115: =IF($H115="","",VLOOKUP($H115,[1]最新data!$A$1:$H$375,4,FALSE)) | L115: =IF($H115="","",VLOOKUP($H115,[1]最新data!$A$1:$H$375,5,FALSE)) | M115: =IF($H115="","",VLOOKUP($H115,[1]最新data!$A$1:$H$375,6,FALSE)) | O115: 14800 | P115: 金沢 | Q115: 38 | R115: 90 | S115: 47 | T115: 43
A116: 12100 | B116: 奈良 | C116: 65 | D116: 184 | E116: 94 | F116: 90 | J116: =IF($H116="","",VLOOKUP($H116,[1]最新data!$A$1:$H$375,3,FALSE)) | K116: =IF($H116="","",VLOOKUP($H116,[1]最新data!$A$1:$H$375,4,FALSE)) | L116: =IF($H116="","",VLOOKUP($H116,[1]最新data!$A$1:$H$375,5,FALSE)) | M116: =IF($H116="","",VLOOKUP($H116,[1]最新data!$A$1:$H$375,6,FALSE)) | O116: 14900 | P116: 大蔵 | Q116: 14 | R116: 34 | S116: 21 | T116: 13
A117: 12200 | B117: 古都辺 | C117: 31 | D117: 78 | E117: 38 | F117: 40 | J117: =IF($H117="","",VLOOKUP($H117,[1]最新data!$A$1:$H$375,3,FALSE)) | K117: =IF($H117="","",VLOOKUP($H117,[1]最新data!$A$1:$H$375,4,FALSE)) | L117: =IF($H117="","",VLOOKUP($H117,[1]最新data!$A$1:$H$375,5,FALSE)) | M117: =IF($H117="","",VLOOKUP($H117,[1]最新data!$A$1:$H$375,6,FALSE)) | O117: 15000 | P117: 岩 | Q117: 51 | R117: 98 | S117: 55 | T117: 43
A118: 12300 | B118: 喜多 | C118: 690 | D118: 1632 | E118: 837 | F118: 795 | J118: =IF($H118="","",VLOOKUP($H118,[1]最新data!$A$1:$H$375,3,FALSE)) | K118: =IF($H118="","",VLOOKUP($H118,[1]最新data!$A$1:$H$375,4,FALSE)) | L118: =IF($H118="","",VLOOKUP($H118,[1]最新data!$A$1:$H$375,5,FALSE)) | M118: =IF($H118="","",VLOOKUP($H118,[1]最新data!$A$1:$H$375,6,FALSE)) | O118: 15100 | P118: 藪 | Q118: 65 | R118: 184 | S118: 94 | T118: 90
A119: 12400 | B119: 犬成 | C119: 238 | D119: 478 | E119: 273 | F119: 205 | J119: =IF($H119="","",VLOOKUP($H119,[1]最新data!$A$1:$H$375,3,FALSE)) | K119: =IF($H119="","",VLOOKUP($H119,[1]最新data!$A$1:$H$375,4,FALSE)) | L119: =IF($H119="","",VLOOKUP($H119,[1]最新data!$A$1:$H$375,5,FALSE)) | M119: =IF($H119="","",VLOOKUP($H119,[1]最新data!$A$1:$H$375,6,FALSE)) | O119: 15200 | P119: 中 | Q119: 354 | R119: 834 | S119: 428 | T119: 406
A120: 12500 | B120: 大作 | C120: 43 | D120: 93 | E120: 44 | F120: 49 | J120: =IF($H120="","",VLOOKUP($H120,[1]最新data!$A$1:$H$375,3,FALSE)) | K120: =IF($H120="","",VLOOKUP($H120,[1]最新data!$A$1:$H$375,4,FALSE)) | L120: =IF($H120="","",VLOOKUP($H120,[1]最新data!$A$1:$H$375,5,FALSE)) | M120: =IF($H120="","",VLOOKUP($H120,[1]最新data!$A$1:$H$375,6,FALSE)) | O120: 15300 | P120: 安久谷 | Q120: 100 | R120: 240 | S120: 116 | T120: 124
A121: 12600 | B121: 滝口 | C121: 37 | D121: 98 | E121: 50 | F121: 48 | J121: =IF($H121="","",VLOOKUP($H121,[1]最新data!$A$1:$H$375,3,FALSE)) | K121: =IF($H121="","",VLOOKUP($H121,[1]最新data!$A$1:$H$375,4,FALSE)) | L121: =IF($H121="","",VLOOKUP($H121,[1]最新data!$A$1:$H$375,5,FALSE)) | M121: =IF($H121="","",VLOOKUP($H121,[1]最新data!$A$1:$H$375,6,FALSE)) | O121: 15400 | P121: 米沢 | Q121: 145 | R121: 348 | S121: 166 | T121: 182
A122: 12700 | B122: 勝間 | C122: 201 | D122: 362 | E122: 152 | F122: 210 | J122: =IF($H122="","",VLOOKUP($H122,[1]最新data!$A$1:$H$375,3,FALSE)) | K122: =IF($H122="","",VLOOKUP($H122,[1]最新data!$A$1:$H$375,4,FALSE)) | L122: =IF($H122="","",VLOOKUP($H122,[1]最新data!$A$1:$H$375,5,FALSE)) | M122: =IF($H122="","",VLOOKUP($H122,[1]最新data!$A$1:$H$375,6,FALSE)) | O122: 15500 | P122: 真ケ谷 | Q122: 53 | R122: 150 | S122: 73 | T122: 77
A123: 12800 | B123: 葉木 | C123: 43 | D123: 132 | E123: 62 | F123: 70 | J123: =IF($H123="","",VLOOKUP($H123,[1]最新data!$A$1:$H$375,3,FALSE)) | K123: =IF($H123="","",VLOOKUP($H123,[1]最新data!$A$1:$H$375,4,FALSE)) | L123: =IF($H123="","",VLOOKUP($H123,[1]最新data!$A$1:$H$375,5,FALSE)) | M123: =IF($H123="","",VLOOKUP($H123,[1]最新data!$A$1:$H$375,6,FALSE)) | O123: 15600 | P123: 宿 | Q123: 78 | R123: 218 | S123: 99 | T123: 119
... A127: 13200 | B127: 山之郷飛地 | C127: 2 | D127: 6 | E127: 2 | F127: 4 | J127: =IF($H127="","",VLOOKUP($H127,[1]最新data!$A$1:$H$375,3,FALSE)) | K127: =IF($H127="","",VLOOKUP($H127,[1]最新data!$A$1:$H$375,4,FALSE)) | L127: =IF($H127="","",VLOOKUP($H127,[1]最新data!$A$1:$H$375,5,FALSE)) | M127: =IF($H127="","",VLOOKUP($H127,[1]最新data!$A$1:$H$375,6,FALSE)) | O127: 16000 | P127: 奥野 | Q127: 55 | R127: 152 | S127: 70 | T127: 82
C128: =IF($A128="","",VLOOKUP($A128,[1]最新data!$A$1:$H$375,3,FALSE)) | D128: =IF($A128="","",VLOOKUP($A128,[1]最新data!$A$1:$H$375,4,FALSE)) | E128: =IF($A128="","",VLOOKUP($A128,[1]最新data!$A$1:$H$375,5,FALSE)) | F128: =IF($A128="","",VLOOKUP($A128,[1]最新data!$A$1:$H$375,6,FALSE)) | J128: =IF($H128="","",VLOOKUP($H128,[1]最新data!$A$1:$H$375,3,FALSE)) | K128: =IF($H128="","",VLOOKUP($H128,[1]最新data!$A$1:$H$375,4,FALSE)) | L128: =IF($H128="","",VLOOKUP($H128,[1]最新data!$A$1:$H$375,5,FALSE)) | M128: =IF($H128="","",VLOOKUP($H128,[1]最新data!$A$1:$H$375,6,FALSE)) | O128: 16100 | P128: 水沢 | Q128: 24 | R128: 69 | S128: 32 | T128: 37
C129: =IF($A129="","",VLOOKUP($A129,[1]最新data!$A$1:$H$375,3,FALSE)) | D129: =IF($A129="","",VLOOKUP($A129,[1]最新data!$A$1:$H$375,4,FALSE)) | E129: =IF($A129="","",VLOOKUP($A129,[1]最新data!$A$1:$H$375,5,FALSE)) | F129: =IF($A129="","",VLOOKUP($A129,[1]最新data!$A$1:$H$375,6,FALSE)) | J129: =IF($H129="","",VLOOKUP($H129,[1]最新data!$A$1:$H$375,3,FALSE)) | K129: =IF($H129="","",VLOOKUP($H129,[1]最新data!$A$1:$H$375,4,FALSE)) | L129: =IF($H129="","",VLOOKUP($H129,[1]最新data!$A$1:$H$375,5,FALSE)) | M129: =IF($H129="","",VLOOKUP($H129,[1]最新data!$A$1:$H$375,6,FALSE)) | O129: 16200 | P129: 原田 | Q129: 26 | R129: 64 | S129: 28 | T129: 36
C130: =IF($A130="","",VLOOKUP($A130,[1]最新data!$A$1:$H$375,3,FALSE)) | D130: =IF($A130="","",VLOOKUP($A130,[1]最新data!$A$1:$H$375,4,FALSE)) | E130: =IF($A130="","",VLOOKUP($A130,[1]最新data!$A$1:$H$375,5,FALSE)) | F130: =IF($A130="","",VLOOKUP($A130,[1]最新data!$A$1:$H$375,6,FALSE)) | J130: =IF($H130="","",VLOOKUP($H130,[1]最新data!$A$1:$H$375,3,FALSE)) | K130: =IF($H130="","",VLOOKUP($H130,[1]最新data!$A$1:$H$375,4,FALSE)) | L130: =IF($H130="","",VLOOKUP($H130,[1]最新data!$A$1:$H$375,5,FALSE)) | M130: =IF($H130="","",VLOOKUP($H130,[1]最新data!$A$1:$H$375,6,FALSE)) | O130: 16300 | P130: 石川 | Q130: 448 | R130: 1098 | S130: 557 | T130: 541
C131: =IF($A131="","",VLOOKUP($A131,[1]最新data!$A$1:$H$375,3,FALSE)) | D131: =IF($A131="","",VLOOKUP($A131,[1]最新data!$A$1:$H$375,4,FALSE)) | E131: =IF($A131="","",VLOOKUP($A131,[1]最新data!$A$1:$H$375,5,FALSE)) | F131: =IF($A131="","",VLOOKUP($A131,[1]最新data!$A$1:$H$375,6,FALSE)) | J131: =IF($H131="","",VLOOKUP($H131,[1]最新data!$A$1:$H$375,3,FALSE)) | K131: =IF($H131="","",VLOOKUP($H131,[1]最新data!$A$1:$H$375,4,FALSE)) | L131: =IF($H131="","",VLOOKUP($H131,[1]最新data!$A$1:$H$375,5,FALSE)) | M131: =IF($H131="","",VLOOKUP($H131,[1]最新data!$A$1:$H$375,6,FALSE)) | O131: 16400 | P131: 江子田 | Q131: 128 | R131: 296 | S131: 154 | T131: 142
C132: =IF($A132="","",VLOOKUP($A132,[1]最新data!$A$1:$H$375,3,FALSE)) | D132: =IF($A132="","",VLOOKUP($A132,[1]最新data!$A$1:$H$375,4,FALSE)) | E132: =IF($A132="","",VLOOKUP($A132,[1]最新data!$A$1:$H$375,5,FALSE)) | F132: =IF($A132="","",VLOOKUP($A132,[1]最新data!$A$1:$H$375,6,FALSE)) | J132: =IF($H132="","",VLOOKUP($H132,[1]最新data!$A$1:$H$375,3,FALSE)) | K132: =IF($H132="","",VLOOKUP($H132,[1]最新data!$A$1:$H$375,4,FALSE)) | L132: =IF($H132="","",VLOOKUP($H132,[1]最新data!$A$1:$H$375,5,FALSE)) | M132: =IF($H132="","",VLOOKUP($H132,[1]最新data!$A$1:$H$375,6,FALSE)) | O132: 16500 | P132: 下矢田 | Q132: 187 | R132: 451 | S132: 212 | T132: 239
C133: =IF($A133="","",VLOOKUP($A133,[1]最新data!$A$1:$H$375,3,FALSE)) | D133: =IF($A133="","",VLOOKUP($A133,[1]最新data!$A$1:$H$375,4,FALSE)) | E133: =IF($A133="","",VLOOKUP($A133,[1]最新data!$A$1:$H$375,5,FALSE)) | F133: =IF($A133="","",VLOOKUP($A133,[1]最新data!$A$1:$H$375,6,FALSE)) | J133: =IF($H133="","",VLOOKUP($H133,[1]最新data!$A$1:$H$375,3,FALSE)) | K133: =IF($H133="","",VLOOKUP($H133,[1]最新data!$A$1:$H$375,4,FALSE)) | L133: =IF($H133="","",VLOOKUP($H133,[1]最新data!$A$1:$H$375,5,FALSE)) | M133: =IF($H133="","",VLOOKUP($H133,[1]最新data!$A$1:$H$375,6,FALSE)) | O133: 16600 | P133: 矢田 | Q133: 27 | R133: 69 | S133: 31 | T133: 38
C134: =IF($A134="","",VLOOKUP($A134,[1]最新data!$A$1:$H$375,3,FALSE)) | D134: =IF($A134="","",VLOOKUP($A134,[1]最新data!$A$1:$H$375,4,FALSE)) | E134: =IF($A134="","",VLOOKUP($A134,[1]最新data!$A$1:$H$375,5,FALSE)) | F134: =IF($A134="","",VLOOKUP($A134,[1]最新data!$A$1:$H$375,6,FALSE)) | J134: =IF($H134="","",VLOOKUP($H134,[1]最新data!$A$1:$H$375,3,FALSE)) | K134: =IF($H134="","",VLOOKUP($H134,[1]最新data!$A$1:$H$375,4,FALSE)) | L134: =IF($H134="","",VLOOKUP($H134,[1]最新data!$A$1:$H$375,5,FALSE)) | M134: =IF($H134="","",VLOOKUP($H134,[1]最新data!$A$1:$H$375,6,FALSE)) | O134: 16700 | P134: 池和田 | Q134: 127 | R134: 309 | S134: 147 | T134: 162
...

Sheet 2015_06
A1: 42156 | O1: ★★ 全地区合計 ★★ | Q1: 122487 | R1: 280265 | S1: 144093 | T1: 136172
A2: CD | B2: 大字名 | C2: 世帯数 | D2: 総数 | E2: 男 | F2: 女 | H2: CD | I2: 大字名 | J2: 世帯数 | K2: 総数 | L2: 男 | M2: 女 | O2: CD | P2: 大字名 | Q2: 世帯数 | R2: 総数 | S2: 男 | T2: 女
A3: 1655 | B3: 千種５丁目 | C3: 211 | D3: 551 | E3: 279 | F3: 272 | H3: 7900 | I3: 平田 | J3: 820 | K3: 1671 | L3: 839 | M3: 832 | O3: 30101 | P3: 国分寺台中央１丁目 | Q3: 295 | R3: 682 | S3: 344 | T3: 338
A4: 1656 | B4: 千種６丁目 | C4: 109 | D4: 397 | E4: 205 | F4: 192 | H4: 8000 | I4: 五井 | J4: 7714 | K4: 16717 | L4: 8796 | M4: 7921 | O4: 30102 | P4: 国分寺台中央２丁目 | Q4: 334 | R4: 793 | S4: 413 | T4: 380
A5: 1657 | B5: 千種７丁目 | C5: 356 | D5: 875 | E5: 467 | F5: 408 | H5: 8051 | I5: 五井中央東１丁目 | J5: 313 | K5: 549 | L5: 290 | M5: 259 | O5: 30103 | P5: 国分寺台中央３丁目 | Q5: 263 | R5: 538 | S5: 296 | T5: 242
A6: 4300 | B6: 千種海岸 | C6: 2 | D6: 2 | E6: 2 | F6: 0 | H6: 8052 | I6: 五井中央東２丁目 | J6: 464 | K6: 807 | L6: 436 | M6: 371 | O6: 30104 | P6: 国分寺台中央４丁目 | Q6: 240 | R6: 554 | S6: 285 | T6: 269
A7: 4400 | B7: 五井南海岸 | C7: 1 | D7: 3 | E7: 0 | F7: 3 | H7: 8061 | I7: 五井中央西１丁目 | J7: 393 | K7: 744 | L7: 402 | M7: 342 | O7: 30105 | P7: 国分寺台中央５丁目 | Q7: 257 | R7: 678 | S7: 362 | T7: 316
A8: 4500 | B8: 五井海岸 | C8: 0 | D8: 0 | E8: 0 | F8: 0 | H8: 8062 | I8: 五井中央西２丁目 | J8: 265 | K8: 552 | L8: 283 | M8: 269 | O8: 30106 | P8: 国分寺台中央６丁目 | Q8: 228 | R8: 581 | S8: 269 | T8: 312
A9: 4600 | B9: 青柳 | C9: 1262 | D9: 2726 | E9: 1455 | F9: 1271 | H9: 8063 | I9: 五井中央西３丁目 | J9: 74 | K9: 152 | L9: 80 | M9: 72 | O9: 30107 | P9: 国分寺台中央７丁目 | Q9: 323 | R9: 747 | S9: 381 | T9: 366
A10: 4651 | B10: 青柳１丁目 | C10: 143 | D10: 301 | E10: 165 | F10: 136 | H10: 8101 | I10: 五井東１丁目 | J10: 638 | K10: 1190 | L10: 640 | M10: 550 | O10: 30201 | P10: 東国分寺台１丁目 | Q10: 336 | R10: 694 | S10: 369 | T10: 325
A11: 4652 | B11: 青柳２丁目 | C11: 84 | D11: 168 | E11: 94 | F11: 74 | H11: 8102 | I11: 五井東２丁目 | J11: 379 | K11: 864 | L11: 446 | M11: 418 | O11: 30202 | P11: 東国分寺台２丁目 | Q11: 189 | R11: 459 | S11: 220 | T11: 239
A12: 4653 | B12: 青柳３丁目 | C12: 185 | D12: 225 | E12: 149 | F12: 76 | H12: 8103 | I12: 五井東３丁目 | J12: 540 | K12: 1103 | L12: 598 | M12: 505 | O12: 30203 | P12: 東国分寺台３丁目 | Q12: 198 | R12: 495 | S12: 250 | T12: 245
A13: 4702 | B13: 青柳北２丁目 | C13: 4 | D13: 9 | E13: 4 | F13: 5 | H13: 8111 | I13: 更級１丁目 | J13: 135 | K13: 242 | L13: 144 | M13: 98 | O13: 30204 | P13: 東国分寺台４丁目 | Q13: 159 | R13: 376 | S13: 198 | T13: 178
A14: 4703 | B14: 青柳北３丁目 | C14: 20 | D14: 37 | E14: 22 | F14: 15 | H14: 8112 | I14: 更級２丁目 | J14: 72 | K14: 152 | L14: 71 | M14: 81 | O14: 30205 | P14: 東国分寺台５丁目 | Q14: 205 | R14: 443 | S14: 225 | T14: 218
... A37: 6700 | B37: 引田 | C37: 48 | D37: 130 | E37: 62 | F37: 68 | H37: 9100 | I37: 宮原 | J37: 8 | K37: 19 | L37: 10 | M37: 9 | O37: 30806 | P37: 西広６丁目 | Q37: 461 | R37: 1091 | S37: 551 | T37: 540
A38: 6800 | B38: 神代 | C38: 48 | D38: 124 | E38: 65 | F38: 59 | O38: 30901 | P38: 惣社１丁目 | Q38: 209 | R38: 499 | S38: 255 | T38: 244
A39: 6900 | B39: 十五沢 | C39: 51 | D39: 128 | E39: 56 | F39: 72 | O39: 30902 | P39: 惣社２丁目 | Q39: 167 | R39: 395 | S39: 196 | T39: 199
A40: 7000 | B40: 小折 | C40: 33 | D40: 75 | E40: 31 | F40: 44 | O40: 30903 | P40: 惣社３丁目 | Q40: 220 | R40: 522 | S40: 260 | T40: 262
A41: 7100 | B41: 西野 | C41: 50 | D41: 136 | E41: 70 | F41: 66 | O41: 30904 | P41: 惣社４丁目 | Q41: 173 | R41: 436 | S41: 229 | T41: 207
A42: 7200 | B42: 柳原 | C42: 54 | D42: 134 | E42: 64 | F42: 70 | O42: 30905 | P42: 惣社５丁目 | Q42: 237 | R42: 666 | S42: 320 | T42: 346
A43: 7300 | B43: 村上 | C43: 621 | D43: 1453 | E43: 727 | F43: 726 | O43: 31001 | P43: 加茂１丁目 | Q43: 196 | R43: 454 | S43: 231 | T43: 223
A44: 7400 | B44: 西広 | C44: 41 | D44: 96 | E44: 51 | F44: 45 | O44: 31002 | P44: 加茂２丁目 | Q44: 158 | R44: 386 | S44: 192 | T44: 194
A45: 7500 | B45: 惣社 | C45: 320 | D45: 673 | E45: 345 | F45: 328 | O45: 31101 | P45: 根田１丁目 | Q45: 161 | R45: 377 | S45: 191 | T45: 186
A46: 7600 | B46: 加茂 | C46: 3 | D46: 7 | E46: 3 | F46: 4 | O46: 31102 | P46: 根田２丁目 | Q46: 117 | R46: 220 | S46: 128 | T46: 92
A47: 7700 | B47: 根田 | C47: 109 | D47: 240 | E47: 121 | F47: 119 | O47: 31103 | P47: 根田３丁目 | Q47: 276 | R47: 568 | S47: 303 | T47: 265
A48: 7800 | B48: 岩野見 | C48: 142 | D48: 341 | E48: 164 | F48: 177 | O48: 31104 | P48: 根田４丁目 | Q48: 164 | R48: 412 | S48: 204 | T48: 208
O49: 3 | P49: 五井地区_計 | Q49: 39490 | R49: 87752 | S49: 45923 | T49: 41829
A50: 42156
A51: CD | B51: 大字名 | C51: 世帯数 | D51: 総数 | E51: 男 | F51: 女 | H51: CD | I51: 大字名 | J51: 世帯数 | K51: 総数 | L51: 男 | M51: 女 | O51: CD | P51: 大字名 | Q51: 世帯数 | R51: 総数 | S51: 男 | T51: 女
A52: 100 | B52: 姉崎海岸 | C52: 32 | D52: 38 | E52: 34 | F52: 4 | H52: 1900 | I52: 八幡海岸通 | J52: 305 | K52: 409 | L52: 318 | M52: 91 | O52: 8400 | P52: 山倉 | Q52: 221 | R52: 489 | S52: 259 | T52: 230
A53: 200 | B53: 椎津 | C53: 1655 | D53: 3562 | E53: 1841 | F53: 1721 | H53: 2001 | I53: 八幡浦１丁目 | J53: 3 | K53: 3 | L53: 3 | M53: 0 | O53: 8500 | P53: 福増 | Q53: 292 | R53: 716 | S53: 367 | T53: 349
A54: 300 | B54: 姉崎 | C54: 6010 | D54: 12418 | E54: 6629 | F54: 5789 | H54: 2100 | I54: 八幡 | J54: 5508 | K54: 11368 | L54: 5924 | M54: 5444 | O54: 8600 | P54: 海士有木 | Q54: 529 | R54: 1287 | S54: 656 | T54: 631
A55: 321 | B55: 姉崎西１丁目 | C55: 206 | D55: 347 | E55: 221 | F55: 126 | H55: 2201 | I55: 八幡北町１丁目 | J55: 225 | K55: 304 | L55: 208 | M55: 96 | O55: 8700 | P55: 大坪 | Q55: 250 | R55: 588 | S55: 318 | T55: 270
A56: 322 | B56: 姉崎西２丁目 | C56: 210 | D56: 426 | E56: 224 | F56: 202 | H56: 2202 | I56: 八幡北町２丁目 | J56: 209 | K56: 381 | L56: 219 | M56: 162 | O56: 8800 | P56: 新生 | Q56: 90 | R56: 239 | S56: 130 | T56: 109
A57: 323 | B57: 姉崎西３丁目 | C57: 209 | D57: 446 | E57: 246 | F57: 200 | H57: 2203 | I57: 八幡北町３丁目 | J57: 134 | K57: 209 | L57: 128 | M57: 81 | O57: 8900 | P57: 権現堂 | Q57: 85 | R57: 231 | S57: 116 | T57: 115
A58: 1300 | B58: 畑木 | C58: 165 | D58: 307 | E58: 142 | F58: 165 | H58: 2301 | I58: 八幡石塚１丁目 | J58: 340 | K58: 712 | L58: 408 | M58: 304 | O58: 9000 | P58: 糸久 | Q58: 33 | R58: 91 | S58: 48 | T58: 43
A59: 1400 | B59: 柏原 | C59: 121 | D59: 258 | E59: 120 | F59: 138 | H59: 2302 | I59: 八幡石塚２丁目 | J59: 351 | K59: 717 | L59: 381 | M59: 336 | O59: 9100 | P59: 宮原 | Q59: 87 | R59: 193 | S59: 94 | T59: 99
A60: 1500 | B60: 白塚 | C60: 338 | D60: 755 | E60: 365 | F60: 390 | H60: 2400 | I60: 五所 | J60: 1290 | K60: 2926 | L60: 1509 | M60: 1417 | O60: 9200 | P60: 分目 | Q60: 79 | R60: 212 | S60: 107 | T60: 105
A61: 1600 | B61: 今津朝山 | C61: 1014 | D61: 2001 | E61: 1122 | F61: 879 | H61: 2500 | I61: 旭五所 | J61: 462 | K61: 938 | L61: 500 | M61: 438 | O61: 9300 | P61: 浅井小向 | Q61: 56 | R61: 168 | S61: 77 | T61: 91
A62: 1651 | B62: 千種１丁目 | C62: 115 | D62: 187 | E62: 123 | F62: 64 | H62: 2600 | I62: 東五所 | J62: 974 | K62: 1962 | L62: 1034 | M62: 928 | O62: 9400 | P62: 相川 | Q62: 42 | R62: 90 | S62: 49 | T62: 41
A63: 1652 | B63: 千種２丁目 | C63: 220 | D63: 550 | E63: 279 | F63: 271 | H63: 2700 | I63: 西五所 | J63: 865 | K63: 1679 | L63: 879 | M63: 800 | O63: 9500 | P63: 新堀 | Q63: 264 | R63: 578 | S63: 276 | T63: 302
... A73: 1708 | B73: 青葉台８丁目 | C73: 195 | D73: 450 | E73: 235 | F73: 215 | H73: 3002 | I73: 藤井２丁目 | J73: 108 | K73: 222 | L73: 116 | M73: 106 | O73: 10500 | P73: 山田 | Q73: 143 | R73: 361 | S73: 184 | T73: 177
H74: 3003 | I74: 藤井３丁目 | J74: 162 | K74: 392 | L74: 189 | M74: 203 | O74: 10600 | P74: 安須 | Q74: 69 | R74: 190 | S74: 86 | T74: 104
H75: 3100 | I75: 山田橋 | J75: 127 | K75: 263 | L75: 137 | M75: 126 | O75: 10700 | P75: 高坂 | Q75: 49 | R75: 124 | S75: 65 | T75: 59
H76: 3200 | I76: 能満 | J76: 2295 | K76: 4995 | L76: 2479 | M76: 2516 | O76: 10801 | P76: 光風台１丁目 | Q76: 357 | R76: 932 | S76: 446 | T76: 486
H77: 3300 | I77: 門前 | J77: 2 | K77: 7 | L77: 3 | M77: 4 | O77: 10802 | P77: 光風台２丁目 | Q77: 351 | R77: 882 | S77: 445 | T77: 437
H78: 3301 | I78: 門前１丁目 | J78: 74 | K78: 163 | L78: 86 | M78: 77 | O78: 10803 | P78: 光風台３丁目 | Q78: 663 | R78: 1550 | S78: 771 | T78: 779
H79: 3302 | I79: 門前２丁目 | J79: 358 | K79: 807 | L79: 416 | M79: 391 | O79: 10804 | P79: 光風台４丁目 | Q79: 649 | R79: 1550 | S79: 781 | T79: 769
H80: 3400 | I80: 市原 | J80: 463 | K80: 970 | L80: 485 | M80: 485 | O80: 10805 | P80: 光風台５丁目 | Q80: 546 | R80: 1351 | S80: 673 | T80: 678
H81: 3500 | I81: 山木 | J81: 1151 | K81: 2550 | L81: 1348 | M81: 1202
H82: 3600 | I82: 菊間 | J82: 2383 | K82: 5614 | L82: 2663 | M82: 2951
H83: 3700 | I83: 古市場 | J83: 1116 | K83: 2555 | L83: 1317 | M83: 1238
H84: 3800 | I84: 草刈 | J84: 486 | K84: 1178 | L84: 569 | M84: 609
H85: 3900 | I85: 大 | J85: 1976 | K85: 4471 | L85: 2300 | M85: 2171
H86: 4201 | I86: 若宮１丁目 | J86: 505 | K86: 978 | L86: 514 | M86: 464
H87: 4202 | I87: 若宮２丁目 | J87: 342 | K87: 746 | L87: 355 | M87: 391
H88: 4203 | I88: 若宮３丁目 | J88: 320 | K88: 687 | L88: 318 | M88: 369
H89: 4204 | I89: 若宮４丁目 | J89: 356 | K89: 757 | L89: 356 | M89: 401
H90: 4205 | I90: 若宮５丁目 | J90: 238 | K90: 588 | L90: 293 | M90: 295
H91: 4206 | I91: 若宮６丁目 | J91: 296 | K91: 688 | L91: 344 | M91: 344
H92: 4207 | I92: 若宮７丁目 | J92: 78 | K92: 184 | L92: 87 | M92: 97
A98: 1 | B98: 姉崎地区_計 | C98: 13953 | D98: 30009 | E98: 15652 | F98: 14357 | H98: 2 | I98: 市原地区_計 | J98: 24484 | K98: 52752 | L98: 27057 | M98: 25695 | O98: 4 | P98: 三和地区_計 | Q98: 6144 | R98: 14977 | S98: 7525 | T98: 7452
A99: 42156
A100: CD | B100: 大字名 | C100: 世帯数 | D100: 総数 | E100: 男 | F100: 女 | H100: CD | I100: 大字名 | J100: 世帯数 | K100: 総数 | L100: 男 | M100: 女 | O100: CD | P100: 大字名 | Q100: 世帯数 | R100: 総数 | S100: 男 | T100: 女
A101: 10900 | B101: 久々津 | C101: 67 | D101: 166 | E101: 77 | F101: 89 | H101: 4001 | I101: 辰巳台東１丁目 | J101: 407 | K101: 1149 | L101: 578 | M101: 571 | O101: 13400 | P101: 風戸 | Q101: 21 | R101: 42 | S101: 23 | T101: 19
A102: 11000 | B102: 潤井戸 | C102: 985 | D102: 2201 | E102: 1133 | F102: 1068 | H102: 4002 | I102: 辰巳台東２丁目 | J102: 630 | K102: 1195 | L102: 592 | M102: 603 | O102: 13500 | P102: 中高根 | Q102: 1175 | R102: 2755 | S102: 1439 | T102: 1316
A103: 11051 | B103: うるいど南１丁目 | C103: 195 | D103: 513 | E103: 254 | F103: 259 | H103: 4003 | I103: 辰巳台東３丁目 | J103: 1017 | K103: 2516 | L103: 1336 | M103: 1180 | O103: 13600 | P103: 上高根 | Q103: 783 | R103: 1867 | S103: 943 | T103: 924
A104: 11052 | B104: うるいど南２丁目 | C104: 116 | D104: 287 | E104: 152 | F104: 135 | H104: 4004 | I104: 辰巳台東４丁目 | J104: 894 | K104: 2196 | L104: 1193 | M104: 1003 | O104: 13700 | P104: 馬立 | Q104: 1333 | R104: 3075 | S104: 1537 | T104: 1538
A105: 11053 | B105: うるいど南３丁目 | C105: 239 | D105: 668 | E105: 344 | F105: 324 | H105: 4005 | I105: 辰巳台東５丁目 | J105: 279 | K105: 567 | L105: 306 | M105: 261 | O105: 13800 | P105: 上原 | Q105: 64 | R105: 147 | S105: 78 | T105: 69
A106: 11100 | B106: 下野 | C106: 157 | D106: 400 | E106: 186 | F106: 214 | H106: 4101 | I106: 辰巳台西１丁目 | J106: 363 | K106: 968 | L106: 472 | M106: 496 | O106: 13900 | P106: 南岩崎 | Q106: 431 | R106: 1016 | S106: 507 | T106: 509
A107: 11200 | B107: 永吉 | C107: 125 | D107: 290 | E107: 148 | F107: 142 | H107: 4102 | I107: 辰巳台西２丁目 | J107: 389 | K107: 1162 | L107: 575 | M107: 587 | O107: 14000 | P107: 寺谷 | Q107: 102 | R107: 251 | S107: 126 | T107: 125
A108: 11300 | B108: 番場 | C108: 87 | D108: 212 | E108: 109 | F108: 103 | H108: 4103 | I108: 辰巳台西３丁目 | J108: 624 | K108: 1183 | L108: 722 | M108: 461 | O108: 14100 | P108: 栢橋 | Q108: 227 | R108: 563 | S108: 294 | T108: 269
A109: 11400 | B109: 押沼 | C109: 57 | D109: 148 | E109: 78 | F109: 70 | H109: 4104 | I109: 辰巳台西４丁目 | J109: 329 | K109: 787 | L109: 372 | M109: 415 | O109: 14200 | P109: 西国吉 | Q109: 790 | R109: 1851 | S109: 951 | T109: 900
A110: 11500 | B110: 瀬又 | C110: 1602 | D110: 3573 | E110: 1740 | F110: 1833 | H110: 4105 | I110: 辰巳台西５丁目 | J110: 147 | K110: 326 | L110: 157 | M110: 169 | O110: 14300 | P110: 佐是 | Q110: 341 | R110: 856 | S110: 443 | T110: 413
A111: 11600 | B111: 中野 | C111: 35 | D111: 90 | E111: 50 | F111: 40 | O111: 14400 | P111: 妙香 | Q111: 82 | R111: 193 | S111: 102 | T111: 91
A112: 11700 | B112: 高田 | C112: 53 | D112: 133 | E112: 68 | F112: 65 | O112: 14500 | P112: 奉免 | Q112: 195 | R112: 479 | S112: 226 | T112: 253
A113: 11800 | B113: 高倉 | C113: 52 | D113: 119 | E113: 56 | F113: 63 | O113: 14600 | P113: 牛久 | Q113: 910 | R113: 1980 | S113: 997 | T113: 983
A114: 11900 | B114: 東国吉 | C114: 118 | D114: 304 | E114: 143 | F114: 161 | O114: 14700 | P114: 皆吉 | Q114: 748 | R114: 1701 | S114: 853 | T114: 848
A115: 12000 | B115: 金剛地 | C115: 166 | D115: 431 | E115: 220 | F115: 211 | O115: 14800 | P115: 金沢 | Q115: 38 | R115: 90 | S115: 47 | T115: 43
A116: 12100 | B116: 奈良 | C116: 65 | D116: 184 | E116: 94 | F116: 90 | O116: 14900 | P116: 大蔵 | Q116: 14 | R116: 34 | S116: 21 | T116: 13
A117: 12200 | B117: 古都辺 | C117: 30 | D117: 77 | E117: 37 | F117: 40 | O117: 15000 | P117: 岩 | Q117: 44 | R117: 90 | S117: 49 | T117: 41
A118: 12300 | B118: 喜多 | C118: 684 | D118: 1622 | E118: 828 | F118: 794 | O118: 15100 | P118: 藪 | Q118: 65 | R118: 184 | S118: 94 | T118: 90
A119: 12400 | B119: 犬成 | C119: 238 | D119: 478 | E119: 273 | F119: 205 | O119: 15200 | P119: 中 | Q119: 353 | R119: 832 | S119: 425 | T119: 407
A120: 12500 | B120: 大作 | C120: 43 | D120: 93 | E120: 44 | F120: 49 | O120: 15300 | P120: 安久谷 | Q120: 99 | R120: 239 | S120: 117 | T120: 122
A121: 12600 | B121: 滝口 | C121: 37 | D121: 98 | E121: 50 | F121: 48 | O121: 15400 | P121: 米沢 | Q121: 145 | R121: 347 | S121: 166 | T121: 181
A122: 12700 | B122: 勝間 | C122: 200 | D122: 360 | E122: 150 | F122: 210 | O122: 15500 | P122: 真ケ谷 | Q122: 53 | R122: 150 | S122: 73 | T122: 77
... A127: 13200 | B127: 山之郷飛地 | C127: 2 | D127: 6 | E127: 2 | F127: 4 | O127: 16000 | P127: 奥野 | Q127: 55 | R127: 151 | S127: 70 | T127: 81
O128: 16100 | P128: 水沢 | Q128: 24 | R128: 69 | S128: 32 | T128: 37
O129: 16200 | P129: 原田 | Q129: 26 | R129: 64 | S129: 28 | T129: 36
O130: 16300 | P130: 石川 | Q130: 449 | R130: 1097 | S130: 556 | T130: 541
O131: 16400 | P131: 江子田 | Q131: 128 | R131: 296 | S131: 154 | T131: 142
O132: 16500 | P132: 下矢田 | Q132: 187 | R132: 451 | S132: 212 | T132: 239
O133: 16600 | P133: 矢田 | Q133: 27 | R133: 69 | S133: 31 | T133: 38
O134: 16700 | P134: 池和田 | Q134: 127 | R134: 310 | S134: 148 | T134: 162
O135: 16800 | P135: 鶴舞 | Q135: 549 | R135: 1199 | S135: 564 | T135: 635
O136: 16900 | P136: 田尾 | Q136: 188 | R136: 466 | S136: 235 | T136: 231
O137: 17000 | P137: 山小川 | Q137: 91 | R137: 210 | S137: 113 | T137: 97
O138: 17100 | P138: 平蔵 | Q138: 198 | R138: 474 | S138: 244 | T138: 230
O139: 17200 | P139: 米原 | Q139: 147 | R139: 303 | S139: 164 | T139: 139
O140: 17300 | P140: 小草畑 | Q140: 37 | R140: 86 | S140: 39 | T140: 47
...

Sheet 2015_07
A1: 42186 | O1: ★★ 全地区合計 ★★ | Q1: =SUM(C98,J98,Q49,Q98,C147,J147,Q147,C196,J196,Q196) -> 122654 | R1: =SUM(D98,K98,R49,R98,D147,K147,R147,D196,K196,R196) -> 280315 | S1: =SUM(E98,L98,S49,S98,E147,L147,S147,E196,L196,S196) -> 144151 | T1: =SUM(F98,M98,T49,T98,F147,M147,T147,F196,M196,T196) -> 136164
A2: CD | B2: 大字名 | C2: 世帯数 | D2: 総数 | E2: 男 | F2: 女 | H2: CD | I2: 大字名 | J2: 世帯数 | K2: 総数 | L2: 男 | M2: 女 | O2: CD | P2: 大字名 | Q2: 世帯数 | R2: 総数 | S2: 男 | T2: 女
A3: 1655 | B3: 千種５丁目 | C3: =IF($A3="","",IFERROR(VLOOKUP($O$49&$A3,[2]非表示!$A$1:$H$500,4,FALSE),0)) -> 210 | D3: =IF($A3="","",IFERROR(VLOOKUP($O$49&$A3,[2]非表示!$A$1:$H$500,5,FALSE),0)) -> 549 | E3: =IF($A3="","",IFERROR(VLOOKUP($O$49&$A3,[2]非表示!$A$1:$H$500,6,FALSE),0)) -> 278 | F3: =IF($A3="","",IFERROR(VLOOKUP($O$49&$A3,[2]非表示!$A$1:$H$500,7,FALSE),0)) -> 271 | H3: 7900 | I3: 平田 | J3: =IF($H3="","",IFERROR(VLOOKUP($O$49&$H3,[2]非表示!$A$1:$H$500,4,FALSE),0)) -> 818 | K3: =IF($H3="","",IFERROR(VLOOKUP($O$49&$H3,[2]非表示!$A$1:$H$500,5,FALSE),0)) -> 1673 | L3: =IF($H3="","",IFERROR(VLOOKUP($O$49&$H3,[2]非表示!$A$1:$H$500,6,FALSE),0)) -> 840 | M3: =IF($H3="","",IFERROR(VLOOKUP($O$49&$H3,[2]非表示!$A$1:$H$500,7,FALSE),0)) -> 833 | O3: 30101 | P3: 国分寺台中央１丁目 | Q3: =IF($O3="","",IFERROR(VLOOKUP($O$49&$O3,[2]非表示!$A$1:$H$500,4,FALSE),0)) -> 292 | R3: =IF($O3="","",IFERROR(VLOOKUP($O$49&$O3,[2]非表示!$A$1:$H$500,5,FALSE),0)) -> 676 | S3: =IF($O3="","",IFERROR(VLOOKUP($O$49&$O3,[2]非表示!$A$1:$H$500,6,FALSE),0)) -> 338 | T3: =IF($O3="","",IFERROR(VLOOKUP($O$49&$O3,[2]非表示!$A$1:$H$500,7,FALSE),0)) -> 338
A4: 1656 | B4: 千種６丁目 | C4: =IF($A4="","",IFERROR(VLOOKUP($O$49&$A4,[2]非表示!$A$1:$H$500,4,FALSE),0)) -> 110 | D4: =IF($A4="","",IFERROR(VLOOKUP($O$49&$A4,[2]非表示!$A$1:$H$500,5,FALSE),0)) -> 400 | E4: =IF($A4="","",IFERROR(VLOOKUP($O$49&$A4,[2]非表示!$A$1:$H$500,6,FALSE),0)) -> 207 | F4: =IF($A4="","",IFERROR(VLOOKUP($O$49&$A4,[2]非表示!$A$1:$H$500,7,FALSE),0)) -> 193 | H4: 8000 | I4: 五井 | J4: =IF($H4="","",IFERROR(VLOOKUP($O$49&$H4,[2]非表示!$A$1:$H$500,4,FALSE),0)) -> 7748 | K4: =IF($H4="","",IFERROR(VLOOKUP($O$49&$H4,[2]非表示!$A$1:$H$500,5,FALSE),0)) -> 16773 | L4: =IF($H4="","",IFERROR(VLOOKUP($O$49&$H4,[2]非表示!$A$1:$H$500,6,FALSE),0)) -> 8822 | M4: =IF($H4="","",IFERROR(VLOOKUP($O$49&$H4,[2]非表示!$A$1:$H$500,7,FALSE),0)) -> 7951 | O4: 30102 | P4: 国分寺台中央２丁目 | Q4: =IF($O4="","",IFERROR(VLOOKUP($O$49&$O4,[2]非表示!$A$1:$H$500,4,FALSE),0)) -> 334 | R4: =IF($O4="","",IFERROR(VLOOKUP($O$49&$O4,[2]非表示!$A$1:$H$500,5,FALSE),0)) -> 792 | S4: =IF($O4="","",IFERROR(VLOOKUP($O$49&$O4,[2]非表示!$A$1:$H$500,6,FALSE),0)) -> 412 | T4: =IF($O4="","",IFERROR(VLOOKUP($O$49&$O4,[2]非表示!$A$1:$H$500,7,FALSE),0)) -> 380
A5: 1657 | B5: 千種７丁目 | C5: =IF($A5="","",IFERROR(VLOOKUP($O$49&$A5,[2]非表示!$A$1:$H$500,4,FALSE),0)) -> 360 | D5: =IF($A5="","",IFERROR(VLOOKUP($O$49&$A5,[2]非表示!$A$1:$H$500,5,FALSE),0)) -> 882 | E5: =IF($A5="","",IFERROR(VLOOKUP($O$49&$A5,[2]非表示!$A$1:$H$500,6,FALSE),0)) -> 471 | F5: =IF($A5="","",IFERROR(VLOOKUP($O$49&$A5,[2]非表示!$A$1:$H$500,7,FALSE),0)) -> 411 | H5: 8051 | I5: 五井中央東１丁目 | J5: =IF($H5="","",IFERROR(VLOOKUP($O$49&$H5,[2]非表示!$A$1:$H$500,4,FALSE),0)) -> 316 | K5: =IF($H5="","",IFERROR(VLOOKUP($O$49&$H5,[2]非表示!$A$1:$H$500,5,FALSE),0)) -> 554 | L5: =IF($H5="","",IFERROR(VLOOKUP($O$49&$H5,[2]非表示!$A$1:$H$500,6,FALSE),0)) -> 291 | M5: =IF($H5="","",IFERROR(VLOOKUP($O$49&$H5,[2]非表示!$A$1:$H$500,7,FALSE),0)) -> 263 | O5: 30103 | P5: 国分寺台中央３丁目 | Q5: =IF($O5="","",IFERROR(VLOOKUP($O$49&$O5,[2]非表示!$A$1:$H$500,4,FALSE),0)) -> 262 | R5: =IF($O5="","",IFERROR(VLOOKUP($O$49&$O5,[2]非表示!$A$1:$H$500,5,FALSE),0)) -> 532 | S5: =IF($O5="","",IFERROR(VLOOKUP($O$49&$O5,[2]非表示!$A$1:$H$500,6,FALSE),0)) -> 293 | T5: =IF($O5="","",IFERROR(VLOOKUP($O$49&$O5,[2]非表示!$A$1:$H$500,7,FALSE),0)) -> 239
A6: 4300 | B6: 千種海岸 | C6: =IF($A6="","",IFERROR(VLOOKUP($O$49&$A6,[2]非表示!$A$1:$H$500,4,FALSE),0)) -> 2 | D6: =IF($A6="","",IFERROR(VLOOKUP($O$49&$A6,[2]非表示!$A$1:$H$500,5,FALSE),0)) -> 2 | E6: =IF($A6="","",IFERROR(VLOOKUP($O$49&$A6,[2]非表示!$A$1:$H$500,6,FALSE),0)) -> 2 | F6: =IF($A6="","",IFERROR(VLOOKUP($O$49&$A6,[2]非表示!$A$1:$H$500,7,FALSE),0)) -> 0 | H6: 8052 | I6: 五井中央東２丁目 | J6: =IF($H6="","",IFERROR(VLOOKUP($O$49&$H6,[2]非表示!$A$1:$H$500,4,FALSE),0)) -> 457 | K6: =IF($H6="","",IFERROR(VLOOKUP($O$49&$H6,[2]非表示!$A$1:$H$500,5,FALSE),0)) -> 791 | L6: =IF($H6="","",IFERROR(VLOOKUP($O$49&$H6,[2]非表示!$A$1:$H$500,6,FALSE),0)) -> 424 | M6: =IF($H6="","",IFERROR(VLOOKUP($O$49&$H6,[2]非表示!$A$1:$H$500,7,FALSE),0)) -> 367 | O6: 30104 | P6: 国分寺台中央４丁目 | Q6: =IF($O6="","",IFERROR(VLOOKUP($O$49&$O6,[2]非表示!$A$1:$H$500,4,FALSE),0)) -> 241 | R6: =IF($O6="","",IFERROR(VLOOKUP($O$49&$O6,[2]非表示!$A$1:$H$500,5,FALSE),0)) -> 555 | S6: =IF($O6="","",IFERROR(VLOOKUP($O$49&$O6,[2]非表示!$A$1:$H$500,6,FALSE),0)) -> 285 | T6: =IF($O6="","",IFERROR(VLOOKUP($O$49&$O6,[2]非表示!$A$1:$H$500,7,FALSE),0)) -> 270
A7: 4400 | B7: 五井南海岸 | C7: =IF($A7="","",IFERROR(VLOOKUP($O$49&$A7,[2]非表示!$A$1:$H$500,4,FALSE),0)) -> 1 | D7: =IF($A7="","",IFERROR(VLOOKUP($O$49&$A7,[2]非表示!$A$1:$H$500,5,FALSE),0)) -> 3 | E7: =IF($A7="","",IFERROR(VLOOKUP($O$49&$A7,[2]非表示!$A$1:$H$500,6,FALSE),0)) -> 0 | F7: =IF($A7="","",IFERROR(VLOOKUP($O$49&$A7,[2]非表示!$A$1:$H$500,7,FALSE),0)) -> 3 | H7: 8061 | I7: 五井中央西１丁目 | J7: =IF($H7="","",IFERROR(VLOOKUP($O$49&$H7,[2]非表示!$A$1:$H$500,4,FALSE),0)) -> 391 | K7: =IF($H7="","",IFERROR(VLOOKUP($O$49&$H7,[2]非表示!$A$1:$H$500,5,FALSE),0)) -> 742 | L7: =IF($H7="","",IFERROR(VLOOKUP($O$49&$H7,[2]非表示!$A$1:$H$500,6,FALSE),0)) -> 398 | M7: =IF($H7="","",IFERROR(VLOOKUP($O$49&$H7,[2]非表示!$A$1:$H$500,7,FALSE),0)) -> 344 | O7: 30105 | P7: 国分寺台中央５丁目 | Q7: =IF($O7="","",IFERROR(VLOOKUP($O$49&$O7,[2]非表示!$A$1:$H$500,4,FALSE),0)) -> 256 | R7: =IF($O7="","",IFERROR(VLOOKUP($O$49&$O7,[2]非表示!$A$1:$H$500,5,FALSE),0)) -> 674 | S7: =IF($O7="","",IFERROR(VLOOKUP($O$49&$O7,[2]非表示!$A$1:$H$500,6,FALSE),0)) -> 359 | T7: =IF($O7="","",IFERROR(VLOOKUP($O$49&$O7,[2]非表示!$A$1:$H$500,7,FALSE),0)) -> 315
A8: 4500 | B8: 五井海岸 | C8: =IF($A8="","",IFERROR(VLOOKUP($O$49&$A8,[2]非表示!$A$1:$H$500,4,FALSE),0)) -> 0 | D8: =IF($A8="","",IFERROR(VLOOKUP($O$49&$A8,[2]非表示!$A$1:$H$500,5,FALSE),0)) -> 0 | E8: =IF($A8="","",IFERROR(VLOOKUP($O$49&$A8,[2]非表示!$A$1:$H$500,6,FALSE),0)) -> 0 | F8: =IF($A8="","",IFERROR(VLOOKUP($O$49&$A8,[2]非表示!$A$1:$H$500,7,FALSE),0)) -> 0 | H8: 8062 | I8: 五井中央西２丁目 | J8: =IF($H8="","",IFERROR(VLOOKUP($O$49&$H8,[2]非表示!$A$1:$H$500,4,FALSE),0)) -> 267 | K8: =IF($H8="","",IFERROR(VLOOKUP($O$49&$H8,[2]非表示!$A$1:$H$500,5,FALSE),0)) -> 554 | L8: =IF($H8="","",IFERROR(VLOOKUP($O$49&$H8,[2]非表示!$A$1:$H$500,6,FALSE),0)) -> 285 | M8: =IF($H8="","",IFERROR(VLOOKUP($O$49&$H8,[2]非表示!$A$1:$H$500,7,FALSE),0)) -> 269 | O8: 30106 | P8: 国分寺台中央６丁目 | Q8: =IF($O8="","",IFERROR(VLOOKUP($O$49&$O8,[2]非表示!$A$1:$H$500,4,FALSE),0)) -> 229 | R8: =IF($O8="","",IFERROR(VLOOKUP($O$49&$O8,[2]非表示!$A$1:$H$500,5,FALSE),0)) -> 582 | S8: =IF($O8="","",IFERROR(VLOOKUP($O$49&$O8,[2]非表示!$A$1:$H$500,6,FALSE),0)) -> 269 | T8: =IF($O8="","",IFERROR(VLOOKUP($O$49&$O8,[2]非表示!$A$1:$H$500,7,FALSE),0)) -> 313
A9: 4600 | B9: 青柳 | C9: =IF($A9="","",IFERROR(VLOOKUP($O$49&$A9,[2]非表示!$A$1:$H$500,4,FALSE),0)) -> 1273 | D9: =IF($A9="","",IFERROR(VLOOKUP($O$49&$A9,[2]非表示!$A$1:$H$500,5,FALSE),0)) -> 2740 | E9: =IF($A9="","",IFERROR(VLOOKUP($O$49&$A9,[2]非表示!$A$1:$H$500,6,FALSE),0)) -> 1466 | F9: =IF($A9="","",IFERROR(VLOOKUP($O$49&$A9,[2]非表示!$A$1:$H$500,7,FALSE),0)) -> 1274 | H9: 8063 | I9: 五井中央西３丁目 | J9: =IF($H9="","",IFERROR(VLOOKUP($O$49&$H9,[2]非表示!$A$1:$H$500,4,FALSE),0)) -> 75 | K9: =IF($H9="","",IFERROR(VLOOKUP($O$49&$H9,[2]非表示!$A$1:$H$500,5,FALSE),0)) -> 153 | L9: =IF($H9="","",IFERROR(VLOOKUP($O$49&$H9,[2]非表示!$A$1:$H$500,6,FALSE),0)) -> 81 | M9: =IF($H9="","",IFERROR(VLOOKUP($O$49&$H9,[2]非表示!$A$1:$H$500,7,FALSE),0)) -> 72 | O9: 30107 | P9: 国分寺台中央７丁目 | Q9: =IF($O9="","",IFERROR(VLOOKUP($O$49&$O9,[2]非表示!$A$1:$H$500,4,FALSE),0)) -> 323 | R9: =IF($O9="","",IFERROR(VLOOKUP($O$49&$O9,[2]非表示!$A$1:$H$500,5,FALSE),0)) -> 745 | S9: =IF($O9="","",IFERROR(VLOOKUP($O$49&$O9,[2]非表示!$A$1:$H$500,6,FALSE),0)) -> 380 | T9: =IF($O9="","",IFERROR(VLOOKUP($O$49&$O9,[2]非表示!$A$1:$H$500,7,FALSE),0)) -> 365
A10: 4651 | B10: 青柳１丁目 | C10: =IF($A10="","",IFERROR(VLOOKUP($O$49&$A10,[2]非表示!$A$1:$H$500,4,FALSE),0)) -> 142 | D10: =IF($A10="","",IFERROR(VLOOKUP($O$49&$A10,[2]非表示!$A$1:$H$500,5,FALSE),0)) -> 301 | E10: =IF($A10="","",IFERROR(VLOOKUP($O$49&$A10,[2]非表示!$A$1:$H$500,6,FALSE),0)) -> 164 | F10: =IF($A10="","",IFERROR(VLOOKUP($O$49&$A10,[2]非表示!$A$1:$H$500,7,FALSE),0)) -> 137 | H10: 8101 | I10: 五井東１丁目 | J10: =IF($H10="","",IFERROR(VLOOKUP($O$49&$H10,[2]非表示!$A$1:$H$500,4,FALSE),0)) -> 638 | K10: =IF($H10="","",IFERROR(VLOOKUP($O$49&$H10,[2]非表示!$A$1:$H$500,5,FALSE),0)) -> 1184 | L10: =IF($H10="","",IFERROR(VLOOKUP($O$49&$H10,[2]非表示!$A$1:$H$500,6,FALSE),0)) -> 639 | M10: =IF($H10="","",IFERROR(VLOOKUP($O$49&$H10,[2]非表示!$A$1:$H$500,7,FALSE),0)) -> 545 | O10: 30201 | P10: 東国分寺台１丁目 | Q10: =IF($O10="","",IFERROR(VLOOKUP($O$49&$O10,[2]非表示!$A$1:$H$500,4,FALSE),0)) -> 335 | R10: =IF($O10="","",IFERROR(VLOOKUP($O$49&$O10,[2]非表示!$A$1:$H$500,5,FALSE),0)) -> 693 | S10: =IF($O10="","",IFERROR(VLOOKUP($O$49&$O10,[2]非表示!$A$1:$H$500,6,FALSE),0)) -> 369 | T10: =IF($O10="","",IFERROR(VLOOKUP($O$49&$O10,[2]非表示!$A$1:$H$500,7,FALSE),0)) -> 324
A11: 4652 | B11: 青柳２丁目 | C11: =IF($A11="","",IFERROR(VLOOKUP($O$49&$A11,[2]非表示!$A$1:$H$500,4,FALSE),0)) -> 84 | D11: =IF($A11="","",IFERROR(VLOOKUP($O$49&$A11,[2]非表示!$A$1:$H$500,5,FALSE),0)) -> 169 | E11: =IF($A11="","",IFERROR(VLOOKUP($O$49&$A11,[2]非表示!$A$1:$H$500,6,FALSE),0)) -> 95 | F11: =IF($A11="","",IFERROR(VLOOKUP($O$49&$A11,[2]非表示!$A$1:$H$500,7,FALSE),0)) -> 74 | H11: 8102 | I11: 五井東２丁目 | J11: =IF($H11="","",IFERROR(VLOOKUP($O$49&$H11,[2]非表示!$A$1:$H$500,4,FALSE),0)) -> 378 | K11: =IF($H11="","",IFERROR(VLOOKUP($O$49&$H11,[2]非表示!$A$1:$H$500,5,FALSE),0)) -> 857 | L11: =IF($H11="","",IFERROR(VLOOKUP($O$49&$H11,[2]非表示!$A$1:$H$500,6,FALSE),0)) -> 443 | M11: =IF($H11="","",IFERROR(VLOOKUP($O$49&$H11,[2]非表示!$A$1:$H$500,7,FALSE),0)) -> 414 | O11: 30202 | P11: 東国分寺台２丁目 | Q11: =IF($O11="","",IFERROR(VLOOKUP($O$49&$O11,[2]非表示!$A$1:$H$500,4,FALSE),0)) -> 187 | R11: =IF($O11="","",IFERROR(VLOOKUP($O$49&$O11,[2]非表示!$A$1:$H$500,5,FALSE),0)) -> 459 | S11: =IF($O11="","",IFERROR(VLOOKUP($O$49&$O11,[2]非表示!$A$1:$H$500,6,FALSE),0)) -> 221 | T11: =IF($O11="","",IFERROR(VLOOKUP($O$49&$O11,[2]非表示!$A$1:$H$500,7,FALSE),0)) -> 238
A12: 4653 | B12: 青柳３丁目 | C12: =IF($A12="","",IFERROR(VLOOKUP($O$49&$A12,[2]非表示!$A$1:$H$500,4,FALSE),0)) -> 186 | D12: =IF($A12="","",IFERROR(VLOOKUP($O$49&$A12,[2]非表示!$A$1:$H$500,5,FALSE),0)) -> 226 | E12: =IF($A12="","",IFERROR(VLOOKUP($O$49&$A12,[2]非表示!$A$1:$H$500,6,FALSE),0)) -> 151 | F12: =IF($A12="","",IFERROR(VLOOKUP($O$49&$A12,[2]非表示!$A$1:$H$500,7,FALSE),0)) -> 75 | H12: 8103 | I12: 五井東３丁目 | J12: =IF($H12="","",IFERROR(VLOOKUP($O$49&$H12,[2]非表示!$A$1:$H$500,4,FALSE),0)) -> 536 | K12: =IF($H12="","",IFERROR(VLOOKUP($O$49&$H12,[2]非表示!$A$1:$H$500,5,FALSE),0)) -> 1095 | L12: =IF($H12="","",IFERROR(VLOOKUP($O$49&$H12,[2]非表示!$A$1:$H$500,6,FALSE),0)) -> 592 | M12: =IF($H12="","",IFERROR(VLOOKUP($O$49&$H12,[2]非表示!$A$1:$H$500,7,FALSE),0)) -> 503 | O12: 30203 | P12: 東国分寺台３丁目 | Q12: =IF($O12="","",IFERROR(VLOOKUP($O$49&$O12,[2]非表示!$A$1:$H$500,4,FALSE),0)) -> 197 | R12: =IF($O12="","",IFERROR(VLOOKUP($O$49&$O12,[2]非表示!$A$1:$H$500,5,FALSE),0)) -> 492 | S12: =IF($O12="","",IFERROR(VLOOKUP($O$49&$O12,[2]非表示!$A$1:$H$500,6,FALSE),0)) -> 249 | T12: =IF($O12="","",IFERROR(VLOOKUP($O$49&$O12,[2]非表示!$A$1:$H$500,7,FALSE),0)) -> 243
A13: 4702 | B13: 青柳北２丁目 | C13: =IF($A13="","",IFERROR(VLOOKUP($O$49&$A13,[2]非表示!$A$1:$H$500,4,FALSE),0)) -> 4 | D13: =IF($A13="","",IFERROR(VLOOKUP($O$49&$A13,[2]非表示!$A$1:$H$500,5,FALSE),0)) -> 9 | E13: =IF($A13="","",IFERROR(VLOOKUP($O$49&$A13,[2]非表示!$A$1:$H$500,6,FALSE),0)) -> 4 | F13: =IF($A13="","",IFERROR(VLOOKUP($O$49&$A13,[2]非表示!$A$1:$H$500,7,FALSE),0)) -> 5 | H13: 8111 | I13: 更級１丁目 | J13: =IF($H13="","",IFERROR(VLOOKUP($O$49&$H13,[2]非表示!$A$1:$H$500,4,FALSE),0)) -> 140 | K13: =IF($H13="","",IFERROR(VLOOKUP($O$49&$H13,[2]非表示!$A$1:$H$500,5,FALSE),0)) -> 249 | L13: =IF($H13="","",IFERROR(VLOOKUP($O$49&$H13,[2]非表示!$A$1:$H$500,6,FALSE),0)) -> 148 | M13: =IF($H13="","",IFERROR(VLOOKUP($O$49&$H13,[2]非表示!$A$1:$H$500,7,FALSE),0)) -> 101 | O13: 30204 | P13: 東国分寺台４丁目 | Q13: =IF($O13="","",IFERROR(VLOOKUP($O$49&$O13,[2]非表示!$A$1:$H$500,4,FALSE),0)) -> 159 | R13: =IF($O13="","",IFERROR(VLOOKUP($O$49&$O13,[2]非表示!$A$1:$H$500,5,FALSE),0)) -> 375 | S13: =IF($O13="","",IFERROR(VLOOKUP($O$49&$O13,[2]非表示!$A$1:$H$500,6,FALSE),0)) -> 197 | T13: =IF($O13="","",IFERROR(VLOOKUP($O$49&$O13,[2]非表示!$A$1:$H$500,7,FALSE),0)) -> 178
A14: 4703 | B14: 青柳北３丁目 | C14: =IF($A14="","",IFERROR(VLOOKUP($O$49&$A14,[2]非表示!$A$1:$H$500,4,FALSE),0)) -> 20 | D14: =IF($A14="","",IFERROR(VLOOKUP($O$49&$A14,[2]非表示!$A$1:$H$500,5,FALSE),0)) -> 37 | E14: =IF($A14="","",IFERROR(VLOOKUP($O$49&$A14,[2]非表示!$A$1:$H$500,6,FALSE),0)) -> 22 | F14: =IF($A14="","",IFERROR(VLOOKUP($O$49&$A14,[2]非表示!$A$1:$H$500,7,FALSE),0)) -> 15 | H14: 8112 | I14: 更級２丁目 | J14: =IF($H14="","",IFERROR(VLOOKUP($O$49&$H14,[2]非表示!$A$1:$H$500,4,FALSE),0)) -> 72 | K14: =IF($H14="","",IFERROR(VLOOKUP($O$49&$H14,[2]非表示!$A$1:$H$500,5,FALSE),0)) -> 157 | L14: =IF($H14="","",IFERROR(VLOOKUP($O$49&$H14,[2]非表示!$A$1:$H$500,6,FALSE),0)) -> 73 | M14: =IF($H14="","",IFERROR(VLOOKUP($O$49&$H14,[2]非表示!$A$1:$H$500,7,FALSE),0)) -> 84 | O14: 30205 | P14: 東国分寺台５丁目 | Q14: =IF($O14="","",IFERROR(VLOOKUP($O$49&$O14,[2]非表示!$A$1:$H$500,4,FALSE),0)) -> 205 | R14: =IF($O14="","",IFERROR(VLOOKUP($O$49&$O14,[2]非表示!$A$1:$H$500,5,FALSE),0)) -> 443 | S14: =IF($O14="","",IFERROR(VLOOKUP($O$49&$O14,[2]非表示!$A$1:$H$500,6,FALSE),0)) -> 226 | T14: =IF($O14="","",IFERROR(VLOOKUP($O$49&$O14,[2]非表示!$A$1:$H$500,7,FALSE),0)) -> 217
... A37: 6700 | B37: 引田 | C37: =IF($A37="","",IFERROR(VLOOKUP($O$49&$A37,[2]非表示!$A$1:$H$500,4,FALSE),0)) -> 48 | D37: =IF($A37="","",IFERROR(VLOOKUP($O$49&$A37,[2]非表示!$A$1:$H$500,5,FALSE),0)) -> 130 | E37: =IF($A37="","",IFERROR(VLOOKUP($O$49&$A37,[2]非表示!$A$1:$H$500,6,FALSE),0)) -> 62 | F37: =IF($A37="","",IFERROR(VLOOKUP($O$49&$A37,[2]非表示!$A$1:$H$500,7,FALSE),0)) -> 68 | H37: 9100 | I37: 宮原 | J37: =IF($H37="","",IFERROR(VLOOKUP($O$49&$H37,[2]非表示!$A$1:$H$500,4,FALSE),0)) -> 8 | K37: =IF($H37="","",IFERROR(VLOOKUP($O$49&$H37,[2]非表示!$A$1:$H$500,5,FALSE),0)) -> 19 | L37: =IF($H37="","",IFERROR(VLOOKUP($O$49&$H37,[2]非表示!$A$1:$H$500,6,FALSE),0)) -> 10 | M37: =IF($H37="","",IFERROR(VLOOKUP($O$49&$H37,[2]非表示!$A$1:$H$500,7,FALSE),0)) -> 9 | O37: 30806 | P37: 西広６丁目 | Q37: =IF($O37="","",IFERROR(VLOOKUP($O$49&$O37,[2]非表示!$A$1:$H$500,4,FALSE),0)) -> 465 | R37: =IF($O37="","",IFERROR(VLOOKUP($O$49&$O37,[2]非表示!$A$1:$H$500,5,FALSE),0)) -> 1096 | S37: =IF($O37="","",IFERROR(VLOOKUP($O$49&$O37,[2]非表示!$A$1:$H$500,6,FALSE),0)) -> 555 | T37: =IF($O37="","",IFERROR(VLOOKUP($O$49&$O37,[2]非表示!$A$1:$H$500,7,FALSE),0)) -> 541
A38: 6800 | B38: 神代 | C38: =IF($A38="","",IFERROR(VLOOKUP($O$49&$A38,[2]非表示!$A$1:$H$500,4,FALSE),0)) -> 48 | D38: =IF($A38="","",IFERROR(VLOOKUP($O$49&$A38,[2]非表示!$A$1:$H$500,5,FALSE),0)) -> 123 | E38: =IF($A38="","",IFERROR(VLOOKUP($O$49&$A38,[2]非表示!$A$1:$H$500,6,FALSE),0)) -> 65 | F38: =IF($A38="","",IFERROR(VLOOKUP($O$49&$A38,[2]非表示!$A$1:$H$500,7,FALSE),0)) -> 58 | J38: =IF($H38="","",IFERROR(VLOOKUP($O$49&$H38,[2]非表示!$A$1:$H$500,4,FALSE),0)) | K38: =IF($H38="","",IFERROR(VLOOKUP($O$49&$H38,[2]非表示!$A$1:$H$500,5,FALSE),0)) | L38: =IF($H38="","",IFERROR(VLOOKUP($O$49&$H38,[2]非表示!$A$1:$H$500,6,FALSE),0)) | M38: =IF($H38="","",IFERROR(VLOOKUP($O$49&$H38,[2]非表示!$A$1:$H$500,7,FALSE),0)) | O38: 30901 | P38: 惣社１丁目 | Q38: =IF($O38="","",IFERROR(VLOOKUP($O$49&$O38,[2]非表示!$A$1:$H$500,4,FALSE),0)) -> 208 | R38: =IF($O38="","",IFERROR(VLOOKUP($O$49&$O38,[2]非表示!$A$1:$H$500,5,FALSE),0)) -> 499 | S38: =IF($O38="","",IFERROR(VLOOKUP($O$49&$O38,[2]非表示!$A$1:$H$500,6,FALSE),0)) -> 254 | T38: =IF($O38="","",IFERROR(VLOOKUP($O$49&$O38,[2]非表示!$A$1:$H$500,7,FALSE),0)) -> 245
A39: 6900 | B39: 十五沢 | C39: =IF($A39="","",IFERROR(VLOOKUP($O$49&$A39,[2]非表示!$A$1:$H$500,4,FALSE),0)) -> 51 | D39: =IF($A39="","",IFERROR(VLOOKUP($O$49&$A39,[2]非表示!$A$1:$H$500,5,FALSE),0)) -> 128 | E39: =IF($A39="","",IFERROR(VLOOKUP($O$49&$A39,[2]非表示!$A$1:$H$500,6,FALSE),0)) -> 56 | F39: =IF($A39="","",IFERROR(VLOOKUP($O$49&$A39,[2]非表示!$A$1:$H$500,7,FALSE),0)) -> 72 | J39: =IF($H39="","",IFERROR(VLOOKUP($O$49&$H39,[2]非表示!$A$1:$H$500,4,FALSE),0)) | K39: =IF($H39="","",IFERROR(VLOOKUP($O$49&$H39,[2]非表示!$A$1:$H$500,5,FALSE),0)) | L39: =IF($H39="","",IFERROR(VLOOKUP($O$49&$H39,[2]非表示!$A$1:$H$500,6,FALSE),0)) | M39: =IF($H39="","",IFERROR(VLOOKUP($O$49&$H39,[2]非表示!$A$1:$H$500,7,FALSE),0)) | O39: 30902 | P39: 惣社２丁目 | Q39: =IF($O39="","",IFERROR(VLOOKUP($O$49&$O39,[2]非表示!$A$1:$H$500,4,FALSE),0)) -> 168 | R39: =IF($O39="","",IFERROR(VLOOKUP($O$49&$O39,[2]非表示!$A$1:$H$500,5,FALSE),0)) -> 398 | S39: =IF($O39="","",IFERROR(VLOOKUP($O$49&$O39,[2]非表示!$A$1:$H$500,6,FALSE),0)) -> 197 | T39: =IF($O39="","",IFERROR(VLOOKUP($O$49&$O39,[2]非表示!$A$1:$H$500,7,FALSE),0)) -> 201
A40: 7000 | B40: 小折 | C40: =IF($A40="","",IFERROR(VLOOKUP($O$49&$A40,[2]非表示!$A$1:$H$500,4,FALSE),0)) -> 33 | D40: =IF($A40="","",IFERROR(VLOOKUP($O$49&$A40,[2]非表示!$A$1:$H$500,5,FALSE),0)) -> 75 | E40: =IF($A40="","",IFERROR(VLOOKUP($O$49&$A40,[2]非表示!$A$1:$H$500,6,FALSE),0)) -> 31 | F40: =IF($A40="","",IFERROR(VLOOKUP($O$49&$A40,[2]非表示!$A$1:$H$500,7,FALSE),0)) -> 44 | J40: =IF($H40="","",IFERROR(VLOOKUP($O$49&$H40,[2]非表示!$A$1:$H$500,4,FALSE),0)) | K40: =IF($H40="","",IFERROR(VLOOKUP($O$49&$H40,[2]非表示!$A$1:$H$500,5,FALSE),0)) | L40: =IF($H40="","",IFERROR(VLOOKUP($O$49&$H40,[2]非表示!$A$1:$H$500,6,FALSE),0)) | M40: =IF($H40="","",IFERROR(VLOOKUP($O$49&$H40,[2]非表示!$A$1:$H$500,7,FALSE),0)) | O40: 30903 | P40: 惣社３丁目 | Q40: =IF($O40="","",IFERROR(VLOOKUP($O$49&$O40,[2]非表示!$A$1:$H$500,4,FALSE),0)) -> 222 | R40: =IF($O40="","",IFERROR(VLOOKUP($O$49&$O40,[2]非表示!$A$1:$H$500,5,FALSE),0)) -> 526 | S40: =IF($O40="","",IFERROR(VLOOKUP($O$49&$O40,[2]非表示!$A$1:$H$500,6,FALSE),0)) -> 263 | T40: =IF($O40="","",IFERROR(VLOOKUP($O$49&$O40,[2]非表示!$A$1:$H$500,7,FALSE),0)) -> 263
A41: 7100 | B41: 西野 | C41: =IF($A41="","",IFERROR(VLOOKUP($O$49&$A41,[2]非表示!$A$1:$H$500,4,FALSE),0)) -> 50 | D41: =IF($A41="","",IFERROR(VLOOKUP($O$49&$A41,[2]非表示!$A$1:$H$500,5,FALSE),0)) -> 136 | E41: =IF($A41="","",IFERROR(VLOOKUP($O$49&$A41,[2]非表示!$A$1:$H$500,6,FALSE),0)) -> 70 | F41: =IF($A41="","",IFERROR(VLOOKUP($O$49&$A41,[2]非表示!$A$1:$H$500,7,FALSE),0)) -> 66 | J41: =IF($H41="","",IFERROR(VLOOKUP($O$49&$H41,[2]非表示!$A$1:$H$500,4,FALSE),0)) | K41: =IF($H41="","",IFERROR(VLOOKUP($O$49&$H41,[2]非表示!$A$1:$H$500,5,FALSE),0)) | L41: =IF($H41="","",IFERROR(VLOOKUP($O$49&$H41,[2]非表示!$A$1:$H$500,6,FALSE),0)) | M41: =IF($H41="","",IFERROR(VLOOKUP($O$49&$H41,[2]非表示!$A$1:$H$500,7,FALSE),0)) | O41: 30904 | P41: 惣社４丁目 | Q41: =IF($O41="","",IFERROR(VLOOKUP($O$49&$O41,[2]非表示!$A$1:$H$500,4,FALSE),0)) -> 171 | R41: =IF($O41="","",IFERROR(VLOOKUP($O$49&$O41,[2]非表示!$A$1:$H$500,5,FALSE),0)) -> 429 | S41: =IF($O41="","",IFERROR(VLOOKUP($O$49&$O41,[2]非表示!$A$1:$H$500,6,FALSE),0)) -> 225 | T41: =IF($O41="","",IFERROR(VLOOKUP($O$49&$O41,[2]非表示!$A$1:$H$500,7,FALSE),0)) -> 204
A42: 7200 | B42: 柳原 | C42: =IF($A42="","",IFERROR(VLOOKUP($O$49&$A42,[2]非表示!$A$1:$H$500,4,FALSE),0)) -> 54 | D42: =IF($A42="","",IFERROR(VLOOKUP($O$49&$A42,[2]非表示!$A$1:$H$500,5,FALSE),0)) -> 134 | E42: =IF($A42="","",IFERROR(VLOOKUP($O$49&$A42,[2]非表示!$A$1:$H$500,6,FALSE),0)) -> 64 | F42: =IF($A42="","",IFERROR(VLOOKUP($O$49&$A42,[2]非表示!$A$1:$H$500,7,FALSE),0)) -> 70 | J42: =IF($H42="","",IFERROR(VLOOKUP($O$49&$H42,[2]非表示!$A$1:$H$500,4,FALSE),0)) | K42: =IF($H42="","",IFERROR(VLOOKUP($O$49&$H42,[2]非表示!$A$1:$H$500,5,FALSE),0)) | L42: =IF($H42="","",IFERROR(VLOOKUP($O$49&$H42,[2]非表示!$A$1:$H$500,6,FALSE),0)) | M42: =IF($H42="","",IFERROR(VLOOKUP($O$49&$H42,[2]非表示!$A$1:$H$500,7,FALSE),0)) | O42: 30905 | P42: 惣社５丁目 | Q42: =IF($O42="","",IFERROR(VLOOKUP($O$49&$O42,[2]非表示!$A$1:$H$500,4,FALSE),0)) -> 236 | R42: =IF($O42="","",IFERROR(VLOOKUP($O$49&$O42,[2]非表示!$A$1:$H$500,5,FALSE),0)) -> 663 | S42: =IF($O42="","",IFERROR(VLOOKUP($O$49&$O42,[2]非表示!$A$1:$H$500,6,FALSE),0)) -> 320 | T42: =IF($O42="","",IFERROR(VLOOKUP($O$49&$O42,[2]非表示!$A$1:$H$500,7,FALSE),0)) -> 343
A43: 7300 | B43: 村上 | C43: =IF($A43="","",IFERROR(VLOOKUP($O$49&$A43,[2]非表示!$A$1:$H$500,4,FALSE),0)) -> 620 | D43: =IF($A43="","",IFERROR(VLOOKUP($O$49&$A43,[2]非表示!$A$1:$H$500,5,FALSE),0)) -> 1445 | E43: =IF($A43="","",IFERROR(VLOOKUP($O$49&$A43,[2]非表示!$A$1:$H$500,6,FALSE),0)) -> 724 | F43: =IF($A43="","",IFERROR(VLOOKUP($O$49&$A43,[2]非表示!$A$1:$H$500,7,FALSE),0)) -> 721 | J43: =IF($H43="","",IFERROR(VLOOKUP($O$49&$H43,[2]非表示!$A$1:$H$500,4,FALSE),0)) | K43: =IF($H43="","",IFERROR(VLOOKUP($O$49&$H43,[2]非表示!$A$1:$H$500,5,FALSE),0)) | L43: =IF($H43="","",IFERROR(VLOOKUP($O$49&$H43,[2]非表示!$A$1:$H$500,6,FALSE),0)) | M43: =IF($H43="","",IFERROR(VLOOKUP($O$49&$H43,[2]非表示!$A$1:$H$500,7,FALSE),0)) | O43: 31001 | P43: 加茂１丁目 | Q43: =IF($O43="","",IFERROR(VLOOKUP($O$49&$O43,[2]非表示!$A$1:$H$500,4,FALSE),0)) -> 197 | R43: =IF($O43="","",IFERROR(VLOOKUP($O$49&$O43,[2]非表示!$A$1:$H$500,5,FALSE),0)) -> 456 | S43: =IF($O43="","",IFERROR(VLOOKUP($O$49&$O43,[2]非表示!$A$1:$H$500,6,FALSE),0)) -> 232 | T43: =IF($O43="","",IFERROR(VLOOKUP($O$49&$O43,[2]非表示!$A$1:$H$500,7,FALSE),0)) -> 224
A44: 7400 | B44: 西広 | C44: =IF($A44="","",IFERROR(VLOOKUP($O$49&$A44,[2]非表示!$A$1:$H$500,4,FALSE),0)) -> 41 | D44: =IF($A44="","",IFERROR(VLOOKUP($O$49&$A44,[2]非表示!$A$1:$H$500,5,FALSE),0)) -> 97 | E44: =IF($A44="","",IFERROR(VLOOKUP($O$49&$A44,[2]非表示!$A$1:$H$500,6,FALSE),0)) -> 51 | F44: =IF($A44="","",IFERROR(VLOOKUP($O$49&$A44,[2]非表示!$A$1:$H$500,7,FALSE),0)) -> 46 | J44: =IF($H44="","",IFERROR(VLOOKUP($O$49&$H44,[2]非表示!$A$1:$H$500,4,FALSE),0)) | K44: =IF($H44="","",IFERROR(VLOOKUP($O$49&$H44,[2]非表示!$A$1:$H$500,5,FALSE),0)) | L44: =IF($H44="","",IFERROR(VLOOKUP($O$49&$H44,[2]非表示!$A$1:$H$500,6,FALSE),0)) | M44: =IF($H44="","",IFERROR(VLOOKUP($O$49&$H44,[2]非表示!$A$1:$H$500,7,FALSE),0)) | O44: 31002 | P44: 加茂２丁目 | Q44: =IF($O44="","",IFERROR(VLOOKUP($O$49&$O44,[2]非表示!$A$1:$H$500,4,FALSE),0)) -> 159 | R44: =IF($O44="","",IFERROR(VLOOKUP($O$49&$O44,[2]非表示!$A$1:$H$500,5,FALSE),0)) -> 388 | S44: =IF($O44="","",IFERROR(VLOOKUP($O$49&$O44,[2]非表示!$A$1:$H$500,6,FALSE),0)) -> 191 | T44: =IF($O44="","",IFERROR(VLOOKUP($O$49&$O44,[2]非表示!$A$1:$H$500,7,FALSE),0)) -> 197
A45: 7500 | B45: 惣社 | C45: =IF($A45="","",IFERROR(VLOOKUP($O$49&$A45,[2]非表示!$A$1:$H$500,4,FALSE),0)) -> 326 | D45: =IF($A45="","",IFERROR(VLOOKUP($O$49&$A45,[2]非表示!$A$1:$H$500,5,FALSE),0)) -> 683 | E45: =IF($A45="","",IFERROR(VLOOKUP($O$49&$A45,[2]非表示!$A$1:$H$500,6,FALSE),0)) -> 351 | F45: =IF($A45="","",IFERROR(VLOOKUP($O$49&$A45,[2]非表示!$A$1:$H$500,7,FALSE),0)) -> 332 | J45: =IF($H45="","",IFERROR(VLOOKUP($O$49&$H45,[2]非表示!$A$1:$H$500,4,FALSE),0)) | K45: =IF($H45="","",IFERROR(VLOOKUP($O$49&$H45,[2]非表示!$A$1:$H$500,5,FALSE),0)) | L45: =IF($H45="","",IFERROR(VLOOKUP($O$49&$H45,[2]非表示!$A$1:$H$500,6,FALSE),0)) | M45: =IF($H45="","",IFERROR(VLOOKUP($O$49&$H45,[2]非表示!$A$1:$H$500,7,FALSE),0)) | O45: 31101 | P45: 根田１丁目 | Q45: =IF($O45="","",IFERROR(VLOOKUP($O$49&$O45,[2]非表示!$A$1:$H$500,4,FALSE),0)) -> 163 | R45: =IF($O45="","",IFERROR(VLOOKUP($O$49&$O45,[2]非表示!$A$1:$H$500,5,FALSE),0)) -> 380 | S45: =IF($O45="","",IFERROR(VLOOKUP($O$49&$O45,[2]非表示!$A$1:$H$500,6,FALSE),0)) -> 191 | T45: =IF($O45="","",IFERROR(VLOOKUP($O$49&$O45,[2]非表示!$A$1:$H$500,7,FALSE),0)) -> 189
A46: 7600 | B46: 加茂 | C46: =IF($A46="","",IFERROR(VLOOKUP($O$49&$A46,[2]非表示!$A$1:$H$500,4,FALSE),0)) -> 3 | D46: =IF($A46="","",IFERROR(VLOOKUP($O$49&$A46,[2]非表示!$A$1:$H$500,5,FALSE),0)) -> 7 | E46: =IF($A46="","",IFERROR(VLOOKUP($O$49&$A46,[2]非表示!$A$1:$H$500,6,FALSE),0)) -> 3 | F46: =IF($A46="","",IFERROR(VLOOKUP($O$49&$A46,[2]非表示!$A$1:$H$500,7,FALSE),0)) -> 4 | J46: =IF($H46="","",IFERROR(VLOOKUP($O$49&$H46,[2]非表示!$A$1:$H$500,4,FALSE),0)) | K46: =IF($H46="","",IFERROR(VLOOKUP($O$49&$H46,[2]非表示!$A$1:$H$500,5,FALSE),0)) | L46: =IF($H46="","",IFERROR(VLOOKUP($O$49&$H46,[2]非表示!$A$1:$H$500,6,FALSE),0)) | M46: =IF($H46="","",IFERROR(VLOOKUP($O$49&$H46,[2]非表示!$A$1:$H$500,7,FALSE),0)) | O46: 31102 | P46: 根田２丁目 | Q46: =IF($O46="","",IFERROR(VLOOKUP($O$49&$O46,[2]非表示!$A$1:$H$500,4,FALSE),0)) -> 117 | R46: =IF($O46="","",IFERROR(VLOOKUP($O$49&$O46,[2]非表示!$A$1:$H$500,5,FALSE),0)) -> 221 | S46: =IF($O46="","",IFERROR(VLOOKUP($O$49&$O46,[2]非表示!$A$1:$H$500,6,FALSE),0)) -> 129 | T46: =IF($O46="","",IFERROR(VLOOKUP($O$49&$O46,[2]非表示!$A$1:$H$500,7,FALSE),0)) -> 92
A47: 7700 | B47: 根田 | C47: =IF($A47="","",IFERROR(VLOOKUP($O$49&$A47,[2]非表示!$A$1:$H$500,4,FALSE),0)) -> 110 | D47: =IF($A47="","",IFERROR(VLOOKUP($O$49&$A47,[2]非表示!$A$1:$H$500,5,FALSE),0)) -> 241 | E47: =IF($A47="","",IFERROR(VLOOKUP($O$49&$A47,[2]非表示!$A$1:$H$500,6,FALSE),0)) -> 122 | F47: =IF($A47="","",IFERROR(VLOOKUP($O$49&$A47,[2]非表示!$A$1:$H$500,7,FALSE),0)) -> 119 | J47: =IF($H47="","",IFERROR(VLOOKUP($O$49&$H47,[2]非表示!$A$1:$H$500,4,FALSE),0)) | K47: =IF($H47="","",IFERROR(VLOOKUP($O$49&$H47,[2]非表示!$A$1:$H$500,5,FALSE),0)) | L47: =IF($H47="","",IFERROR(VLOOKUP($O$49&$H47,[2]非表示!$A$1:$H$500,6,FALSE),0)) | M47: =IF($H47="","",IFERROR(VLOOKUP($O$49&$H47,[2]非表示!$A$1:$H$500,7,FALSE),0)) | O47: 31103 | P47: 根田３丁目 | Q47: =IF($O47="","",IFERROR(VLOOKUP($O$49&$O47,[2]非表示!$A$1:$H$500,4,FALSE),0)) -> 273 | R47: =IF($O47="","",IFERROR(VLOOKUP($O$49&$O47,[2]非表示!$A$1:$H$500,5,FALSE),0)) -> 571 | S47: =IF($O47="","",IFERROR(VLOOKUP($O$49&$O47,[2]非表示!$A$1:$H$500,6,FALSE),0)) -> 302 | T47: =IF($O47="","",IFERROR(VLOOKUP($O$49&$O47,[2]非表示!$A$1:$H$500,7,FALSE),0)) -> 269
A48: 7800 | B48: 岩野見 | C48: =IF($A48="","",IFERROR(VLOOKUP($O$49&$A48,[2]非表示!$A$1:$H$500,4,FALSE),0)) -> 141 | D48: =IF($A48="","",IFERROR(VLOOKUP($O$49&$A48,[2]非表示!$A$1:$H$500,5,FALSE),0)) -> 340 | E48: =IF($A48="","",IFERROR(VLOOKUP($O$49&$A48,[2]非表示!$A$1:$H$500,6,FALSE),0)) -> 163 | F48: =IF($A48="","",IFERROR(VLOOKUP($O$49&$A48,[2]非表示!$A$1:$H$500,7,FALSE),0)) -> 177 | J48: =IF($H48="","",IFERROR(VLOOKUP($O$49&$H48,[2]非表示!$A$1:$H$500,4,FALSE),0)) | K48: =IF($H48="","",IFERROR(VLOOKUP($O$49&$H48,[2]非表示!$A$1:$H$500,5,FALSE),0)) | L48: =IF($H48="","",IFERROR(VLOOKUP($O$49&$H48,[2]非表示!$A$1:$H$500,6,FALSE),0)) | M48: =IF($H48="","",IFERROR(VLOOKUP($O$49&$H48,[2]非表示!$A$1:$H$500,7,FALSE),0)) | O48: 31104 | P48: 根田４丁目 | Q48: =IF($O48="","",IFERROR(VLOOKUP($O$49&$O48,[2]非表示!$A$1:$H$500,4,FALSE),0)) -> 165 | R48: =IF($O48="","",IFERROR(VLOOKUP($O$49&$O48,[2]非表示!$A$1:$H$500,5,FALSE),0)) -> 415 | S48: =IF($O48="","",IFERROR(VLOOKUP($O$49&$O48,[2]非表示!$A$1:$H$500,6,FALSE),0)) -> 207 | T48: =IF($O48="","",IFERROR(VLOOKUP($O$49&$O48,[2]非表示!$A$1:$H$500,7,FALSE),0)) -> 208
O49: 3 | P49: 五井地区_計 | Q49: =SUM(C3:C48,J3:J48,Q3:Q48) -> 39528 | R49: =SUM(D3:D48,K3:K48,R3:R48) -> 87768 | S49: =SUM(E3:E48,L3:L48,S3:S48) -> 45923 | T49: =SUM(F3:F48,M3:M48,T3:T48) -> 41845
A50: ="平成"&LEFT([2]シート名指定!$B$5,4)-1988 &"年"&IF(LEN([2]シート名指定!$B$5)<7,RIGHT([2]シート名指定!$B$5,1),RIGHT([2]シート名指定!$B$5,2))&"月1日現在 世帯数及び人口" -> 平成27年7月1日現在 世帯数及び人口
A51: CD | B51: 大字名 | C51: 世帯数 | D51: 総数 | E51: 男 | F51: 女 | H51: CD | I51: 大字名 | J51: 世帯数 | K51: 総数 | L51: 男 | M51: 女 | O51: CD | P51: 大字名 | Q51: 世帯数 | R51: 総数 | S51: 男 | T51: 女
A52: 100 | B52: 姉崎海岸 | C52: =IF($A52="","",IFERROR(VLOOKUP($A$98&$A52,[2]非表示!$A$1:$H$500,4,FALSE),0)) -> 30 | D52: =IF($A52="","",IFERROR(VLOOKUP($A$98&$A52,[2]非表示!$A$1:$H$500,5,FALSE),0)) -> 36 | E52: =IF($A52="","",IFERROR(VLOOKUP($A$98&$A52,[2]非表示!$A$1:$H$500,6,FALSE),0)) -> 32 | F52: =IF($A52="","",IFERROR(VLOOKUP($A$98&$A52,[2]非表示!$A$1:$H$500,7,FALSE),0)) -> 4 | H52: 1900 | I52: 八幡海岸通 | J52: =IF($H52="","",IFERROR(VLOOKUP($H$98&$H52,[2]非表示!$A$1:$H$500,4,FALSE),0)) -> 312 | K52: =IF($H52="","",IFERROR(VLOOKUP($H$98&$H52,[2]非表示!$A$1:$H$500,5,FALSE),0)) -> 415 | L52: =IF($H52="","",IFERROR(VLOOKUP($H$98&$H52,[2]非表示!$A$1:$H$500,6,FALSE),0)) -> 321 | M52: =IF($H52="","",IFERROR(VLOOKUP($H$98&$H52,[2]非表示!$A$1:$H$500,7,FALSE),0)) -> 94 | O52: 8400 | P52: 山倉 | Q52: =IF($O52="","",IFERROR(VLOOKUP($O$98&$O52,[2]非表示!$A$1:$H$500,4,FALSE),0)) -> 222 | R52: =IF($O52="","",IFERROR(VLOOKUP($O$98&$O52,[2]非表示!$A$1:$H$500,5,FALSE),0)) -> 487 | S52: =IF($O52="","",IFERROR(VLOOKUP($O$98&$O52,[2]非表示!$A$1:$H$500,6,FALSE),0)) -> 258 | T52: =IF($O52="","",IFERROR(VLOOKUP($O$98&$O52,[2]非表示!$A$1:$H$500,7,FALSE),0)) -> 229
A53: 200 | B53: 椎津 | C53: =IF($A53="","",IFERROR(VLOOKUP($A$98&$A53,[2]非表示!$A$1:$H$500,4,FALSE),0)) -> 1655 | D53: =IF($A53="","",IFERROR(VLOOKUP($A$98&$A53,[2]非表示!$A$1:$H$500,5,FALSE),0)) -> 3562 | E53: =IF($A53="","",IFERROR(VLOOKUP($A$98&$A53,[2]非表示!$A$1:$H$500,6,FALSE),0)) -> 1847 | F53: =IF($A53="","",IFERROR(VLOOKUP($A$98&$A53,[2]非表示!$A$1:$H$500,7,FALSE),0)) -> 1715 | H53: 2001 | I53: 八幡浦１丁目 | J53: =IF($H53="","",IFERROR(VLOOKUP($H$98&$H53,[2]非表示!$A$1:$H$500,4,FALSE),0)) -> 3 | K53: =IF($H53="","",IFERROR(VLOOKUP($H$98&$H53,[2]非表示!$A$1:$H$500,5,FALSE),0)) -> 3 | L53: =IF($H53="","",IFERROR(VLOOKUP($H$98&$H53,[2]非表示!$A$1:$H$500,6,FALSE),0)) -> 3 | M53: =IF($H53="","",IFERROR(VLOOKUP($H$98&$H53,[2]非表示!$A$1:$H$500,7,FALSE),0)) -> 0 | O53: 8500 | P53: 福増 | Q53: =IF($O53="","",IFERROR(VLOOKUP($O$98&$O53,[2]非表示!$A$1:$H$500,4,FALSE),0)) -> 293 | R53: =IF($O53="","",IFERROR(VLOOKUP($O$98&$O53,[2]非表示!$A$1:$H$500,5,FALSE),0)) -> 719 | S53: =IF($O53="","",IFERROR(VLOOKUP($O$98&$O53,[2]非表示!$A$1:$H$500,6,FALSE),0)) -> 369 | T53: =IF($O53="","",IFERROR(VLOOKUP($O$98&$O53,[2]非表示!$A$1:$H$500,7,FALSE),0)) -> 350
A54: 300 | B54: 姉崎 | C54: =IF($A54="","",IFERROR(VLOOKUP($A$98&$A54,[2]非表示!$A$1:$H$500,4,FALSE),0)) -> 6006 | D54: =IF($A54="","",IFERROR(VLOOKUP($A$98&$A54,[2]非表示!$A$1:$H$500,5,FALSE),0)) -> 12421 | E54: =IF($A54="","",IFERROR(VLOOKUP($A$98&$A54,[2]非表示!$A$1:$H$500,6,FALSE),0)) -> 6626 | F54: =IF($A54="","",IFERROR(VLOOKUP($A$98&$A54,[2]非表示!$A$1:$H$500,7,FALSE),0)) -> 5795 | H54: 2100 | I54: 八幡 | J54: =IF($H54="","",IFERROR(VLOOKUP($H$98&$H54,[2]非表示!$A$1:$H$500,4,FALSE),0)) -> 5517 | K54: =IF($H54="","",IFERROR(VLOOKUP($H$98&$H54,[2]非表示!$A$1:$H$500,5,FALSE),0)) -> 11366 | L54: =IF($H54="","",IFERROR(VLOOKUP($H$98&$H54,[2]非表示!$A$1:$H$500,6,FALSE),0)) -> 5924 | M54: =IF($H54="","",IFERROR(VLOOKUP($H$98&$H54,[2]非表示!$A$1:$H$500,7,FALSE),0)) -> 5442 | O54: 8600 | P54: 海士有木 | Q54: =IF($O54="","",IFERROR(VLOOKUP($O$98&$O54,[2]非表示!$A$1:$H$500,4,FALSE),0)) -> 528 | R54: =IF($O54="","",IFERROR(VLOOKUP($O$98&$O54,[2]非表示!$A$1:$H$500,5,FALSE),0)) -> 1280 | S54: =IF($O54="","",IFERROR(VLOOKUP($O$98&$O54,[2]非表示!$A$1:$H$500,6,FALSE),0)) -> 651 | T54: =IF($O54="","",IFERROR(VLOOKUP($O$98&$O54,[2]非表示!$A$1:$H$500,7,FALSE),0)) -> 629
A55: 321 | B55: 姉崎西１丁目 | C55: =IF($A55="","",IFERROR(VLOOKUP($A$98&$A55,[2]非表示!$A$1:$H$500,4,FALSE),0)) -> 206 | D55: =IF($A55="","",IFERROR(VLOOKUP($A$98&$A55,[2]非表示!$A$1:$H$500,5,FALSE),0)) -> 348 | E55: =IF($A55="","",IFERROR(VLOOKUP($A$98&$A55,[2]非表示!$A$1:$H$500,6,FALSE),0)) -> 220 | F55: =IF($A55="","",IFERROR(VLOOKUP($A$98&$A55,[2]非表示!$A$1:$H$500,7,FALSE),0)) -> 128 | H55: 2201 | I55: 八幡北町１丁目 | J55: =IF($H55="","",IFERROR(VLOOKUP($H$98&$H55,[2]非表示!$A$1:$H$500,4,FALSE),0)) -> 227 | K55: =IF($H55="","",IFERROR(VLOOKUP($H$98&$H55,[2]非表示!$A$1:$H$500,5,FALSE),0)) -> 308 | L55: =IF($H55="","",IFERROR(VLOOKUP($H$98&$H55,[2]非表示!$A$1:$H$500,6,FALSE),0)) -> 212 | M55: =IF($H55="","",IFERROR(VLOOKUP($H$98&$H55,[2]非表示!$A$1:$H$500,7,FALSE),0)) -> 96 | O55: 8700 | P55: 大坪 | Q55: =IF($O55="","",IFERROR(VLOOKUP($O$98&$O55,[2]非表示!$A$1:$H$500,4,FALSE),0)) -> 250 | R55: =IF($O55="","",IFERROR(VLOOKUP($O$98&$O55,[2]非表示!$A$1:$H$500,5,FALSE),0)) -> 586 | S55: =IF($O55="","",IFERROR(VLOOKUP($O$98&$O55,[2]非表示!$A$1:$H$500,6,FALSE),0)) -> 318 | T55: =IF($O55="","",IFERROR(VLOOKUP($O$98&$O55,[2]非表示!$A$1:$H$500,7,FALSE),0)) -> 268
A56: 322 | B56: 姉崎西２丁目 | C56: =IF($A56="","",IFERROR(VLOOKUP($A$98&$A56,[2]非表示!$A$1:$H$500,4,FALSE),0)) -> 210 | D56: =IF($A56="","",IFERROR(VLOOKUP($A$98&$A56,[2]非表示!$A$1:$H$500,5,FALSE),0)) -> 425 | E56: =IF($A56="","",IFERROR(VLOOKUP($A$98&$A56,[2]非表示!$A$1:$H$500,6,FALSE),0)) -> 222 | F56: =IF($A56="","",IFERROR(VLOOKUP($A$98&$A56,[2]非表示!$A$1:$H$500,7,FALSE),0)) -> 203 | H56: 2202 | I56: 八幡北町２丁目 | J56: =IF($H56="","",IFERROR(VLOOKUP($H$98&$H56,[2]非表示!$A$1:$H$500,4,FALSE),0)) -> 208 | K56: =IF($H56="","",IFERROR(VLOOKUP($H$98&$H56,[2]非表示!$A$1:$H$500,5,FALSE),0)) -> 379 | L56: =IF($H56="","",IFERROR(VLOOKUP($H$98&$H56,[2]非表示!$A$1:$H$500,6,FALSE),0)) -> 220 | M56: =IF($H56="","",IFERROR(VLOOKUP($H$98&$H56,[2]非表示!$A$1:$H$500,7,FALSE),0)) -> 159 | O56: 8800 | P56: 新生 | Q56: =IF($O56="","",IFERROR(VLOOKUP($O$98&$O56,[2]非表示!$A$1:$H$500,4,FALSE),0)) -> 90 | R56: =IF($O56="","",IFERROR(VLOOKUP($O$98&$O56,[2]非表示!$A$1:$H$500,5,FALSE),0)) -> 239 | S56: =IF($O56="","",IFERROR(VLOOKUP($O$98&$O56,[2]非表示!$A$1:$H$500,6,FALSE),0)) -> 129 | T56: =IF($O56="","",IFERROR(VLOOKUP($O$98&$O56,[2]非表示!$A$1:$H$500,7,FALSE),0)) -> 110
A57: 323 | B57: 姉崎西３丁目 | C57: =IF($A57="","",IFERROR(VLOOKUP($A$98&$A57,[2]非表示!$A$1:$H$500,4,FALSE),0)) -> 207 | D57: =IF($A57="","",IFERROR(VLOOKUP($A$98&$A57,[2]非表示!$A$1:$H$500,5,FALSE),0)) -> 443 | E57: =IF($A57="","",IFERROR(VLOOKUP($A$98&$A57,[2]非表示!$A$1:$H$500,6,FALSE),0)) -> 244 | F57: =IF($A57="","",IFERROR(VLOOKUP($A$98&$A57,[2]非表示!$A$1:$H$500,7,FALSE),0)) -> 199 | H57: 2203 | I57: 八幡北町３丁目 | J57: =IF($H57="","",IFERROR(VLOOKUP($H$98&$H57,[2]非表示!$A$1:$H$500,4,FALSE),0)) -> 135 | K57: =IF($H57="","",IFERROR(VLOOKUP($H$98&$H57,[2]非表示!$A$1:$H$500,5,FALSE),0)) -> 210 | L57: =IF($H57="","",IFERROR(VLOOKUP($H$98&$H57,[2]非表示!$A$1:$H$500,6,FALSE),0)) -> 130 | M57: =IF($H57="","",IFERROR(VLOOKUP($H$98&$H57,[2]非表示!$A$1:$H$500,7,FALSE),0)) -> 80 | O57: 8900 | P57: 権現堂 | Q57: =IF($O57="","",IFERROR(VLOOKUP($O$98&$O57,[2]非表示!$A$1:$H$500,4,FALSE),0)) -> 86 | R57: =IF($O57="","",IFERROR(VLOOKUP($O$98&$O57,[2]非表示!$A$1:$H$500,5,FALSE),0)) -> 231 | S57: =IF($O57="","",IFERROR(VLOOKUP($O$98&$O57,[2]非表示!$A$1:$H$500,6,FALSE),0)) -> 116 | T57: =IF($O57="","",IFERROR(VLOOKUP($O$98&$O57,[2]非表示!$A$1:$H$500,7,FALSE),0)) -> 115
A58: 1300 | B58: 畑木 | C58: =IF($A58="","",IFERROR(VLOOKUP($A$98&$A58,[2]非表示!$A$1:$H$500,4,FALSE),0)) -> 163 | D58: =IF($A58="","",IFERROR(VLOOKUP($A$98&$A58,[2]非表示!$A$1:$H$500,5,FALSE),0)) -> 304 | E58: =IF($A58="","",IFERROR(VLOOKUP($A$98&$A58,[2]非表示!$A$1:$H$500,6,FALSE),0)) -> 141 | F58: =IF($A58="","",IFERROR(VLOOKUP($A$98&$A58,[2]非表示!$A$1:$H$500,7,FALSE),0)) -> 163 | H58: 2301 | I58: 八幡石塚１丁目 | J58: =IF($H58="","",IFERROR(VLOOKUP($H$98&$H58,[2]非表示!$A$1:$H$500,4,FALSE),0)) -> 340 | K58: =IF($H58="","",IFERROR(VLOOKUP($H$98&$H58,[2]非表示!$A$1:$H$500,5,FALSE),0)) -> 708 | L58: =IF($H58="","",IFERROR(VLOOKUP($H$98&$H58,[2]非表示!$A$1:$H$500,6,FALSE),0)) -> 408 | M58: =IF($H58="","",IFERROR(VLOOKUP($H$98&$H58,[2]非表示!$A$1:$H$500,7,FALSE),0)) -> 300 | O58: 9000 | P58: 糸久 | Q58: =IF($O58="","",IFERROR(VLOOKUP($O$98&$O58,[2]非表示!$A$1:$H$500,4,FALSE),0)) -> 33 | R58: =IF($O58="","",IFERROR(VLOOKUP($O$98&$O58,[2]非表示!$A$1:$H$500,5,FALSE),0)) -> 91 | S58: =IF($O58="","",IFERROR(VLOOKUP($O$98&$O58,[2]非表示!$A$1:$H$500,6,FALSE),0)) -> 48 | T58: =IF($O58="","",IFERROR(VLOOKUP($O$98&$O58,[2]非表示!$A$1:$H$500,7,FALSE),0)) -> 43
A59: 1400 | B59: 柏原 | C59: =IF($A59="","",IFERROR(VLOOKUP($A$98&$A59,[2]非表示!$A$1:$H$500,4,FALSE),0)) -> 123 | D59: =IF($A59="","",IFERROR(VLOOKUP($A$98&$A59,[2]非表示!$A$1:$H$500,5,FALSE),0)) -> 261 | E59: =IF($A59="","",IFERROR(VLOOKUP($A$98&$A59,[2]非表示!$A$1:$H$500,6,FALSE),0)) -> 122 | F59: =IF($A59="","",IFERROR(VLOOKUP($A$98&$A59,[2]非表示!$A$1:$H$500,7,FALSE),0)) -> 139 | H59: 2302 | I59: 八幡石塚２丁目 | J59: =IF($H59="","",IFERROR(VLOOKUP($H$98&$H59,[2]非表示!$A$1:$H$500,4,FALSE),0)) -> 353 | K59: =IF($H59="","",IFERROR(VLOOKUP($H$98&$H59,[2]非表示!$A$1:$H$500,5,FALSE),0)) -> 720 | L59: =IF($H59="","",IFERROR(VLOOKUP($H$98&$H59,[2]非表示!$A$1:$H$500,6,FALSE),0)) -> 382 | M59: =IF($H59="","",IFERROR(VLOOKUP($H$98&$H59,[2]非表示!$A$1:$H$500,7,FALSE),0)) -> 338 | O59: 9100 | P59: 宮原 | Q59: =IF($O59="","",IFERROR(VLOOKUP($O$98&$O59,[2]非表示!$A$1:$H$500,4,FALSE),0)) -> 87 | R59: =IF($O59="","",IFERROR(VLOOKUP($O$98&$O59,[2]非表示!$A$1:$H$500,5,FALSE),0)) -> 193 | S59: =IF($O59="","",IFERROR(VLOOKUP($O$98&$O59,[2]非表示!$A$1:$H$500,6,FALSE),0)) -> 94 | T59: =IF($O59="","",IFERROR(VLOOKUP($O$98&$O59,[2]非表示!$A$1:$H$500,7,FALSE),0)) -> 99
A60: 1500 | B60: 白塚 | C60: =IF($A60="","",IFERROR(VLOOKUP($A$98&$A60,[2]非表示!$A$1:$H$500,4,FALSE),0)) -> 336 | D60: =IF($A60="","",IFERROR(VLOOKUP($A$98&$A60,[2]非表示!$A$1:$H$500,5,FALSE),0)) -> 750 | E60: =IF($A60="","",IFERROR(VLOOKUP($A$98&$A60,[2]非表示!$A$1:$H$500,6,FALSE),0)) -> 362 | F60: =IF($A60="","",IFERROR(VLOOKUP($A$98&$A60,[2]非表示!$A$1:$H$500,7,FALSE),0)) -> 388 | H60: 2400 | I60: 五所 | J60: =IF($H60="","",IFERROR(VLOOKUP($H$98&$H60,[2]非表示!$A$1:$H$500,4,FALSE),0)) -> 1288 | K60: =IF($H60="","",IFERROR(VLOOKUP($H$98&$H60,[2]非表示!$A$1:$H$500,5,FALSE),0)) -> 2924 | L60: =IF($H60="","",IFERROR(VLOOKUP($H$98&$H60,[2]非表示!$A$1:$H$500,6,FALSE),0)) -> 1509 | M60: =IF($H60="","",IFERROR(VLOOKUP($H$98&$H60,[2]非表示!$A$1:$H$500,7,FALSE),0)) -> 1415 | O60: 9200 | P60: 分目 | Q60: =IF($O60="","",IFERROR(VLOOKUP($O$98&$O60,[2]非表示!$A$1:$H$500,4,FALSE),0)) -> 79 | R60: =IF($O60="","",IFERROR(VLOOKUP($O$98&$O60,[2]非表示!$A$1:$H$500,5,FALSE),0)) -> 212 | S60: =IF($O60="","",IFERROR(VLOOKUP($O$98&$O60,[2]非表示!$A$1:$H$500,6,FALSE),0)) -> 107 | T60: =IF($O60="","",IFERROR(VLOOKUP($O$98&$O60,[2]非表示!$A$1:$H$500,7,FALSE),0)) -> 105
A61: 1600 | B61: 今津朝山 | C61: =IF($A61="","",IFERROR(VLOOKUP($A$98&$A61,[2]非表示!$A$1:$H$500,4,FALSE),0)) -> 1006 | D61: =IF($A61="","",IFERROR(VLOOKUP($A$98&$A61,[2]非表示!$A$1:$H$500,5,FALSE),0)) -> 1994 | E61: =IF($A61="","",IFERROR(VLOOKUP($A$98&$A61,[2]非表示!$A$1:$H$500,6,FALSE),0)) -> 1117 | F61: =IF($A61="","",IFERROR(VLOOKUP($A$98&$A61,[2]非表示!$A$1:$H$500,7,FALSE),0)) -> 877 | H61: 2500 | I61: 旭五所 | J61: =IF($H61="","",IFERROR(VLOOKUP($H$98&$H61,[2]非表示!$A$1:$H$500,4,FALSE),0)) -> 462 | K61: =IF($H61="","",IFERROR(VLOOKUP($H$98&$H61,[2]非表示!$A$1:$H$500,5,FALSE),0)) -> 937 | L61: =IF($H61="","",IFERROR(VLOOKUP($H$98&$H61,[2]非表示!$A$1:$H$500,6,FALSE),0)) -> 500 | M61: =IF($H61="","",IFERROR(VLOOKUP($H$98&$H61,[2]非表示!$A$1:$H$500,7,FALSE),0)) -> 437 | O61: 9300 | P61: 浅井小向 | Q61: =IF($O61="","",IFERROR(VLOOKUP($O$98&$O61,[2]非表示!$A$1:$H$500,4,FALSE),0)) -> 56 | R61: =IF($O61="","",IFERROR(VLOOKUP($O$98&$O61,[2]非表示!$A$1:$H$500,5,FALSE),0)) -> 168 | S61: =IF($O61="","",IFERROR(VLOOKUP($O$98&$O61,[2]非表示!$A$1:$H$500,6,FALSE),0)) -> 77 | T61: =IF($O61="","",IFERROR(VLOOKUP($O$98&$O61,[2]非表示!$A$1:$H$500,7,FALSE),0)) -> 91
A62: 1651 | B62: 千種１丁目 | C62: =IF($A62="","",IFERROR(VLOOKUP($A$98&$A62,[2]非表示!$A$1:$H$500,4,FALSE),0)) -> 116 | D62: =IF($A62="","",IFERROR(VLOOKUP($A$98&$A62,[2]非表示!$A$1:$H$500,5,FALSE),0)) -> 189 | E62: =IF($A62="","",IFERROR(VLOOKUP($A$98&$A62,[2]非表示!$A$1:$H$500,6,FALSE),0)) -> 125 | F62: =IF($A62="","",IFERROR(VLOOKUP($A$98&$A62,[2]非表示!$A$1:$H$500,7,FALSE),0)) -> 64 | H62: 2600 | I62: 東五所 | J62: =IF($H62="","",IFERROR(VLOOKUP($H$98&$H62,[2]非表示!$A$1:$H$500,4,FALSE),0)) -> 981 | K62: =IF($H62="","",IFERROR(VLOOKUP($H$98&$H62,[2]非表示!$A$1:$H$500,5,FALSE),0)) -> 1965 | L62: =IF($H62="","",IFERROR(VLOOKUP($H$98&$H62,[2]非表示!$A$1:$H$500,6,FALSE),0)) -> 1033 | M62: =IF($H62="","",IFERROR(VLOOKUP($H$98&$H62,[2]非表示!$A$1:$H$500,7,FALSE),0)) -> 932 | O62: 9400 | P62: 相川 | Q62: =IF($O62="","",IFERROR(VLOOKUP($O$98&$O62,[2]非表示!$A$1:$H$500,4,FALSE),0)) -> 42 | R62: =IF($O62="","",IFERROR(VLOOKUP($O$98&$O62,[2]非表示!$A$1:$H$500,5,FALSE),0)) -> 90 | S62: =IF($O62="","",IFERROR(VLOOKUP($O$98&$O62,[2]非表示!$A$1:$H$500,6,FALSE),0)) -> 49 | T62: =IF($O62="","",IFERROR(VLOOKUP($O$98&$O62,[2]非表示!$A$1:$H$500,7,FALSE),0)) -> 41
A63: 1652 | B63: 千種２丁目 | C63: =IF($A63="","",IFERROR(VLOOKUP($A$98&$A63,[2]非表示!$A$1:$H$500,4,FALSE),0)) -> 221 | D63: =IF($A63="","",IFERROR(VLOOKUP($A$98&$A63,[2]非表示!$A$1:$H$500,5,FALSE),0)) -> 546 | E63: =IF($A63="","",IFERROR(VLOOKUP($A$98&$A63,[2]非表示!$A$1:$H$500,6,FALSE),0)) -> 278 | F63: =IF($A63="","",IFERROR(VLOOKUP($A$98&$A63,[2]非表示!$A$1:$H$500,7,FALSE),0)) -> 268 | H63: 2700 | I63: 西五所 | J63: =IF($H63="","",IFERROR(VLOOKUP($H$98&$H63,[2]非表示!$A$1:$H$500,4,FALSE),0)) -> 863 | K63: =IF($H63="","",IFERROR(VLOOKUP($H$98&$H63,[2]非表示!$A$1:$H$500,5,FALSE),0)) -> 1675 | L63: =IF($H63="","",IFERROR(VLOOKUP($H$98&$H63,[2]非表示!$A$1:$H$500,6,FALSE),0)) -> 878 | M63: =IF($H63="","",IFERROR(VLOOKUP($H$98&$H63,[2]非表示!$A$1:$H$500,7,FALSE),0)) -> 797 | O63: 9500 | P63: 新堀 | Q63: =IF($O63="","",IFERROR(VLOOKUP($O$98&$O63,[2]非表示!$A$1:$H$500,4,FALSE),0)) -> 266 | R63: =IF($O63="","",IFERROR(VLOOKUP($O$98&$O63,[2]非表示!$A$1:$H$500,5,FALSE),0)) -> 579 | S63: =IF($O63="","",IFERROR(VLOOKUP($O$98&$O63,[2]非表示!$A$1:$H$500,6,FALSE),0)) -> 277 | T63: =IF($O63="","",IFERROR(VLOOKUP($O$98&$O63,[2]非表示!$A$1:$H$500,7,FALSE),0)) -> 302
... A73: 1708 | B73: 青葉台８丁目 | C73: =IF($A73="","",IFERROR(VLOOKUP($A$98&$A73,[2]非表示!$A$1:$H$500,4,FALSE),0)) -> 195 | D73: =IF($A73="","",IFERROR(VLOOKUP($A$98&$A73,[2]非表示!$A$1:$H$500,5,FALSE),0)) -> 450 | E73: =IF($A73="","",IFERROR(VLOOKUP($A$98&$A73,[2]非表示!$A$1:$H$500,6,FALSE),0)) -> 235 | F73: =IF($A73="","",IFERROR(VLOOKUP($A$98&$A73,[2]非表示!$A$1:$H$500,7,FALSE),0)) -> 215 | H73: 3002 | I73: 藤井２丁目 | J73: =IF($H73="","",IFERROR(VLOOKUP($H$98&$H73,[2]非表示!$A$1:$H$500,4,FALSE),0)) -> 109 | K73: =IF($H73="","",IFERROR(VLOOKUP($H$98&$H73,[2]非表示!$A$1:$H$500,5,FALSE),0)) -> 224 | L73: =IF($H73="","",IFERROR(VLOOKUP($H$98&$H73,[2]非表示!$A$1:$H$500,6,FALSE),0)) -> 116 | M73: =IF($H73="","",IFERROR(VLOOKUP($H$98&$H73,[2]非表示!$A$1:$H$500,7,FALSE),0)) -> 108 | O73: 10500 | P73: 山田 | Q73: =IF($O73="","",IFERROR(VLOOKUP($O$98&$O73,[2]非表示!$A$1:$H$500,4,FALSE),0)) -> 143 | R73: =IF($O73="","",IFERROR(VLOOKUP($O$98&$O73,[2]非表示!$A$1:$H$500,5,FALSE),0)) -> 361 | S73: =IF($O73="","",IFERROR(VLOOKUP($O$98&$O73,[2]非表示!$A$1:$H$500,6,FALSE),0)) -> 184 | T73: =IF($O73="","",IFERROR(VLOOKUP($O$98&$O73,[2]非表示!$A$1:$H$500,7,FALSE),0)) -> 177
C74: =IF($A74="","",IFERROR(VLOOKUP($A$98&$A74,[2]非表示!$A$1:$H$500,4,FALSE),0)) | D74: =IF($A74="","",IFERROR(VLOOKUP($A$98&$A74,[2]非表示!$A$1:$H$500,5,FALSE),0)) | E74: =IF($A74="","",IFERROR(VLOOKUP($A$98&$A74,[2]非表示!$A$1:$H$500,6,FALSE),0)) | F74: =IF($A74="","",IFERROR(VLOOKUP($A$98&$A74,[2]非表示!$A$1:$H$500,7,FALSE),0)) | H74: 3003 | I74: 藤井３丁目 | J74: =IF($H74="","",IFERROR(VLOOKUP($H$98&$H74,[2]非表示!$A$1:$H$500,4,FALSE),0)) -> 161 | K74: =IF($H74="","",IFERROR(VLOOKUP($H$98&$H74,[2]非表示!$A$1:$H$500,5,FALSE),0)) -> 388 | L74: =IF($H74="","",IFERROR(VLOOKUP($H$98&$H74,[2]非表示!$A$1:$H$500,6,FALSE),0)) -> 188 | M74: =IF($H74="","",IFERROR(VLOOKUP($H$98&$H74,[2]非表示!$A$1:$H$500,7,FALSE),0)) -> 200 | O74: 10600 | P74: 安須 | Q74: =IF($O74="","",IFERROR(VLOOKUP($O$98&$O74,[2]非表示!$A$1:$H$500,4,FALSE),0)) -> 69 | R74: =IF($O74="","",IFERROR(VLOOKUP($O$98&$O74,[2]非表示!$A$1:$H$500,5,FALSE),0)) -> 191 | S74: =IF($O74="","",IFERROR(VLOOKUP($O$98&$O74,[2]非表示!$A$1:$H$500,6,FALSE),0)) -> 87 | T74: =IF($O74="","",IFERROR(VLOOKUP($O$98&$O74,[2]非表示!$A$1:$H$500,7,FALSE),0)) -> 104
C75: =IF($A75="","",IFERROR(VLOOKUP($A$98&$A75,[2]非表示!$A$1:$H$500,4,FALSE),0)) | D75: =IF($A75="","",IFERROR(VLOOKUP($A$98&$A75,[2]非表示!$A$1:$H$500,5,FALSE),0)) | E75: =IF($A75="","",IFERROR(VLOOKUP($A$98&$A75,[2]非表示!$A$1:$H$500,6,FALSE),0)) | F75: =IF($A75="","",IFERROR(VLOOKUP($A$98&$A75,[2]非表示!$A$1:$H$500,7,FALSE),0)) | H75: 3100 | I75: 山田橋 | J75: =IF($H75="","",IFERROR(VLOOKUP($H$98&$H75,[2]非表示!$A$1:$H$500,4,FALSE),0)) -> 128 | K75: =IF($H75="","",IFERROR(VLOOKUP($H$98&$H75,[2]非表示!$A$1:$H$500,5,FALSE),0)) -> 265 | L75: =IF($H75="","",IFERROR(VLOOKUP($H$98&$H75,[2]非表示!$A$1:$H$500,6,FALSE),0)) -> 139 | M75: =IF($H75="","",IFERROR(VLOOKUP($H$98&$H75,[2]非表示!$A$1:$H$500,7,FALSE),0)) -> 126 | O75: 10700 | P75: 高坂 | Q75: =IF($O75="","",IFERROR(VLOOKUP($O$98&$O75,[2]非表示!$A$1:$H$500,4,FALSE),0)) -> 50 | R75: =IF($O75="","",IFERROR(VLOOKUP($O$98&$O75,[2]非表示!$A$1:$H$500,5,FALSE),0)) -> 128 | S75: =IF($O75="","",IFERROR(VLOOKUP($O$98&$O75,[2]非表示!$A$1:$H$500,6,FALSE),0)) -> 68 | T75: =IF($O75="","",IFERROR(VLOOKUP($O$98&$O75,[2]非表示!$A$1:$H$500,7,FALSE),0)) -> 60
C76: =IF($A76="","",IFERROR(VLOOKUP($A$98&$A76,[2]非表示!$A$1:$H$500,4,FALSE),0)) | D76: =IF($A76="","",IFERROR(VLOOKUP($A$98&$A76,[2]非表示!$A$1:$H$500,5,FALSE),0)) | E76: =IF($A76="","",IFERROR(VLOOKUP($A$98&$A76,[2]非表示!$A$1:$H$500,6,FALSE),0)) | F76: =IF($A76="","",IFERROR(VLOOKUP($A$98&$A76,[2]非表示!$A$1:$H$500,7,FALSE),0)) | H76: 3200 | I76: 能満 | J76: =IF($H76="","",IFERROR(VLOOKUP($H$98&$H76,[2]非表示!$A$1:$H$500,4,FALSE),0)) -> 2301 | K76: =IF($H76="","",IFERROR(VLOOKUP($H$98&$H76,[2]非表示!$A$1:$H$500,5,FALSE),0)) -> 4989 | L76: =IF($H76="","",IFERROR(VLOOKUP($H$98&$H76,[2]非表示!$A$1:$H$500,6,FALSE),0)) -> 2478 | M76: =IF($H76="","",IFERROR(VLOOKUP($H$98&$H76,[2]非表示!$A$1:$H$500,7,FALSE),0)) -> 2511 | O76: 10801 | P76: 光風台１丁目 | Q76: =IF($O76="","",IFERROR(VLOOKUP($O$98&$O76,[2]非表示!$A$1:$H$500,4,FALSE),0)) -> 357 | R76: =IF($O76="","",IFERROR(VLOOKUP($O$98&$O76,[2]非表示!$A$1:$H$500,5,FALSE),0)) -> 932 | S76: =IF($O76="","",IFERROR(VLOOKUP($O$98&$O76,[2]非表示!$A$1:$H$500,6,FALSE),0)) -> 447 | T76: =IF($O76="","",IFERROR(VLOOKUP($O$98&$O76,[2]非表示!$A$1:$H$500,7,FALSE),0)) -> 485
C77: =IF($A77="","",IFERROR(VLOOKUP($A$98&$A77,[2]非表示!$A$1:$H$500,4,FALSE),0)) | D77: =IF($A77="","",IFERROR(VLOOKUP($A$98&$A77,[2]非表示!$A$1:$H$500,5,FALSE),0)) | E77: =IF($A77="","",IFERROR(VLOOKUP($A$98&$A77,[2]非表示!$A$1:$H$500,6,FALSE),0)) | F77: =IF($A77="","",IFERROR(VLOOKUP($A$98&$A77,[2]非表示!$A$1:$H$500,7,FALSE),0)) | H77: 3300 | I77: 門前 | J77: =IF($H77="","",IFERROR(VLOOKUP($H$98&$H77,[2]非表示!$A$1:$H$500,4,FALSE),0)) -> 2 | K77: =IF($H77="","",IFERROR(VLOOKUP($H$98&$H77,[2]非表示!$A$1:$H$500,5,FALSE),0)) -> 7 | L77: =IF($H77="","",IFERROR(VLOOKUP($H$98&$H77,[2]非表示!$A$1:$H$500,6,FALSE),0)) -> 3 | M77: =IF($H77="","",IFERROR(VLOOKUP($H$98&$H77,[2]非表示!$A$1:$H$500,7,FALSE),0)) -> 4 | O77: 10802 | P77: 光風台２丁目 | Q77: =IF($O77="","",IFERROR(VLOOKUP($O$98&$O77,[2]非表示!$A$1:$H$500,4,FALSE),0)) -> 352 | R77: =IF($O77="","",IFERROR(VLOOKUP($O$98&$O77,[2]非表示!$A$1:$H$500,5,FALSE),0)) -> 881 | S77: =IF($O77="","",IFERROR(VLOOKUP($O$98&$O77,[2]非表示!$A$1:$H$500,6,FALSE),0)) -> 444 | T77: =IF($O77="","",IFERROR(VLOOKUP($O$98&$O77,[2]非表示!$A$1:$H$500,7,FALSE),0)) -> 437
C78: =IF($A78="","",IFERROR(VLOOKUP($A$98&$A78,[2]非表示!$A$1:$H$500,4,FALSE),0)) | D78: =IF($A78="","",IFERROR(VLOOKUP($A$98&$A78,[2]非表示!$A$1:$H$500,5,FALSE),0)) | E78: =IF($A78="","",IFERROR(VLOOKUP($A$98&$A78,[2]非表示!$A$1:$H$500,6,FALSE),0)) | F78: =IF($A78="","",IFERROR(VLOOKUP($A$98&$A78,[2]非表示!$A$1:$H$500,7,FALSE),0)) | H78: 3301 | I78: 門前１丁目 | J78: =IF($H78="","",IFERROR(VLOOKUP($H$98&$H78,[2]非表示!$A$1:$H$500,4,FALSE),0)) -> 74 | K78: =IF($H78="","",IFERROR(VLOOKUP($H$98&$H78,[2]非表示!$A$1:$H$500,5,FALSE),0)) -> 162 | L78: =IF($H78="","",IFERROR(VLOOKUP($H$98&$H78,[2]非表示!$A$1:$H$500,6,FALSE),0)) -> 86 | M78: =IF($H78="","",IFERROR(VLOOKUP($H$98&$H78,[2]非表示!$A$1:$H$500,7,FALSE),0)) -> 76 | O78: 10803 | P78: 光風台３丁目 | Q78: =IF($O78="","",IFERROR(VLOOKUP($O$98&$O78,[2]非表示!$A$1:$H$500,4,FALSE),0)) -> 666 | R78: =IF($O78="","",IFERROR(VLOOKUP($O$98&$O78,[2]非表示!$A$1:$H$500,5,FALSE),0)) -> 1553 | S78: =IF($O78="","",IFERROR(VLOOKUP($O$98&$O78,[2]非表示!$A$1:$H$500,6,FALSE),0)) -> 771 | T78: =IF($O78="","",IFERROR(VLOOKUP($O$98&$O78,[2]非表示!$A$1:$H$500,7,FALSE),0)) -> 782
C79: =IF($A79="","",IFERROR(VLOOKUP($A$98&$A79,[2]非表示!$A$1:$H$500,4,FALSE),0)) | D79: =IF($A79="","",IFERROR(VLOOKUP($A$98&$A79,[2]非表示!$A$1:$H$500,5,FALSE),0)) | E79: =IF($A79="","",IFERROR(VLOOKUP($A$98&$A79,[2]非表示!$A$1:$H$500,6,FALSE),0)) | F79: =IF($A79="","",IFERROR(VLOOKUP($A$98&$A79,[2]非表示!$A$1:$H$500,7,FALSE),0)) | H79: 3302 | I79: 門前２丁目 | J79: =IF($H79="","",IFERROR(VLOOKUP($H$98&$H79,[2]非表示!$A$1:$H$500,4,FALSE),0)) -> 356 | K79: =IF($H79="","",IFERROR(VLOOKUP($H$98&$H79,[2]非表示!$A$1:$H$500,5,FALSE),0)) -> 804 | L79: =IF($H79="","",IFERROR(VLOOKUP($H$98&$H79,[2]非表示!$A$1:$H$500,6,FALSE),0)) -> 414 | M79: =IF($H79="","",IFERROR(VLOOKUP($H$98&$H79,[2]非表示!$A$1:$H$500,7,FALSE),0)) -> 390 | O79: 10804 | P79: 光風台４丁目 | Q79: =IF($O79="","",IFERROR(VLOOKUP($O$98&$O79,[2]非表示!$A$1:$H$500,4,FALSE),0)) -> 652 | R79: =IF($O79="","",IFERROR(VLOOKUP($O$98&$O79,[2]非表示!$A$1:$H$500,5,FALSE),0)) -> 1551 | S79: =IF($O79="","",IFERROR(VLOOKUP($O$98&$O79,[2]非表示!$A$1:$H$500,6,FALSE),0)) -> 782 | T79: =IF($O79="","",IFERROR(VLOOKUP($O$98&$O79,[2]非表示!$A$1:$H$500,7,FALSE),0)) -> 769
C80: =IF($A80="","",IFERROR(VLOOKUP($A$98&$A80,[2]非表示!$A$1:$H$500,4,FALSE),0)) | D80: =IF($A80="","",IFERROR(VLOOKUP($A$98&$A80,[2]非表示!$A$1:$H$500,5,FALSE),0)) | E80: =IF($A80="","",IFERROR(VLOOKUP($A$98&$A80,[2]非表示!$A$1:$H$500,6,FALSE),0)) | F80: =IF($A80="","",IFERROR(VLOOKUP($A$98&$A80,[2]非表示!$A$1:$H$500,7,FALSE),0)) | H80: 3400 | I80: 市原 | J80: =IF($H80="","",IFERROR(VLOOKUP($H$98&$H80,[2]非表示!$A$1:$H$500,4,FALSE),0)) -> 467 | K80: =IF($H80="","",IFERROR(VLOOKUP($H$98&$H80,[2]非表示!$A$1:$H$500,5,FALSE),0)) -> 971 | L80: =IF($H80="","",IFERROR(VLOOKUP($H$98&$H80,[2]非表示!$A$1:$H$500,6,FALSE),0)) -> 485 | M80: =IF($H80="","",IFERROR(VLOOKUP($H$98&$H80,[2]非表示!$A$1:$H$500,7,FALSE),0)) -> 486 | O80: 10805 | P80: 光風台５丁目 | Q80: =IF($O80="","",IFERROR(VLOOKUP($O$98&$O80,[2]非表示!$A$1:$H$500,4,FALSE),0)) -> 544 | R80: =IF($O80="","",IFERROR(VLOOKUP($O$98&$O80,[2]非表示!$A$1:$H$500,5,FALSE),0)) -> 1351 | S80: =IF($O80="","",IFERROR(VLOOKUP($O$98&$O80,[2]非表示!$A$1:$H$500,6,FALSE),0)) -> 673 | T80: =IF($O80="","",IFERROR(VLOOKUP($O$98&$O80,[2]非表示!$A$1:$H$500,7,FALSE),0)) -> 678
C81: =IF($A81="","",IFERROR(VLOOKUP($A$98&$A81,[2]非表示!$A$1:$H$500,4,FALSE),0)) | D81: =IF($A81="","",IFERROR(VLOOKUP($A$98&$A81,[2]非表示!$A$1:$H$500,5,FALSE),0)) | E81: =IF($A81="","",IFERROR(VLOOKUP($A$98&$A81,[2]非表示!$A$1:$H$500,6,FALSE),0)) | F81: =IF($A81="","",IFERROR(VLOOKUP($A$98&$A81,[2]非表示!$A$1:$H$500,7,FALSE),0)) | H81: 3500 | I81: 山木 | J81: =IF($H81="","",IFERROR(VLOOKUP($H$98&$H81,[2]非表示!$A$1:$H$500,4,FALSE),0)) -> 1152 | K81: =IF($H81="","",IFERROR(VLOOKUP($H$98&$H81,[2]非表示!$A$1:$H$500,5,FALSE),0)) -> 2548 | L81: =IF($H81="","",IFERROR(VLOOKUP($H$98&$H81,[2]非表示!$A$1:$H$500,6,FALSE),0)) -> 1347 | M81: =IF($H81="","",IFERROR(VLOOKUP($H$98&$H81,[2]非表示!$A$1:$H$500,7,FALSE),0)) -> 1201 | Q81: =IF($O81="","",IFERROR(VLOOKUP($O$98&$O81,[2]非表示!$A$1:$H$500,4,FALSE),0)) | R81: =IF($O81="","",IFERROR(VLOOKUP($O$98&$O81,[2]非表示!$A$1:$H$500,5,FALSE),0)) | S81: =IF($O81="","",IFERROR(VLOOKUP($O$98&$O81,[2]非表示!$A$1:$H$500,6,FALSE),0)) | T81: =IF($O81="","",IFERROR(VLOOKUP($O$98&$O81,[2]非表示!$A$1:$H$500,7,FALSE),0))
C82: =IF($A82="","",IFERROR(VLOOKUP($A$98&$A82,[2]非表示!$A$1:$H$500,4,FALSE),0)) | D82: =IF($A82="","",IFERROR(VLOOKUP($A$98&$A82,[2]非表示!$A$1:$H$500,5,FALSE),0)) | E82: =IF($A82="","",IFERROR(VLOOKUP($A$98&$A82,[2]非表示!$A$1:$H$500,6,FALSE),0)) | F82: =IF($A82="","",IFERROR(VLOOKUP($A$98&$A82,[2]非表示!$A$1:$H$500,7,FALSE),0)) | H82: 3600 | I82: 菊間 | J82: =IF($H82="","",IFERROR(VLOOKUP($H$98&$H82,[2]非表示!$A$1:$H$500,4,FALSE),0)) -> 2388 | K82: =IF($H82="","",IFERROR(VLOOKUP($H$98&$H82,[2]非表示!$A$1:$H$500,5,FALSE),0)) -> 5604 | L82: =IF($H82="","",IFERROR(VLOOKUP($H$98&$H82,[2]非表示!$A$1:$H$500,6,FALSE),0)) -> 2661 | M82: =IF($H82="","",IFERROR(VLOOKUP($H$98&$H82,[2]非表示!$A$1:$H$500,7,FALSE),0)) -> 2943 | Q82: =IF($O82="","",IFERROR(VLOOKUP($O$98&$O82,[2]非表示!$A$1:$H$500,4,FALSE),0)) | R82: =IF($O82="","",IFERROR(VLOOKUP($O$98&$O82,[2]非表示!$A$1:$H$500,5,FALSE),0)) | S82: =IF($O82="","",IFERROR(VLOOKUP($O$98&$O82,[2]非表示!$A$1:$H$500,6,FALSE),0)) | T82: =IF($O82="","",IFERROR(VLOOKUP($O$98&$O82,[2]非表示!$A$1:$H$500,7,FALSE),0))
C83: =IF($A83="","",IFERROR(VLOOKUP($A$98&$A83,[2]非表示!$A$1:$H$500,4,FALSE),0)) | D83: =IF($A83="","",IFERROR(VLOOKUP($A$98&$A83,[2]非表示!$A$1:$H$500,5,FALSE),0)) | E83: =IF($A83="","",IFERROR(VLOOKUP($A$98&$A83,[2]非表示!$A$1:$H$500,6,FALSE),0)) | F83: =IF($A83="","",IFERROR(VLOOKUP($A$98&$A83,[2]非表示!$A$1:$H$500,7,FALSE),0)) | H83: 3700 | I83: 古市場 | J83: =IF($H83="","",IFERROR(VLOOKUP($H$98&$H83,[2]非表示!$A$1:$H$500,4,FALSE),0)) -> 1124 | K83: =IF($H83="","",IFERROR(VLOOKUP($H$98&$H83,[2]非表示!$A$1:$H$500,5,FALSE),0)) -> 2580 | L83: =IF($H83="","",IFERROR(VLOOKUP($H$98&$H83,[2]非表示!$A$1:$H$500,6,FALSE),0)) -> 1325 | M83: =IF($H83="","",IFERROR(VLOOKUP($H$98&$H83,[2]非表示!$A$1:$H$500,7,FALSE),0)) -> 1255 | Q83: =IF($O83="","",IFERROR(VLOOKUP($O$98&$O83,[2]非表示!$A$1:$H$500,4,FALSE),0)) | R83: =IF($O83="","",IFERROR(VLOOKUP($O$98&$O83,[2]非表示!$A$1:$H$500,5,FALSE),0)) | S83: =IF($O83="","",IFERROR(VLOOKUP($O$98&$O83,[2]非表示!$A$1:$H$500,6,FALSE),0)) | T83: =IF($O83="","",IFERROR(VLOOKUP($O$98&$O83,[2]非表示!$A$1:$H$500,7,FALSE),0))
C84: =IF($A84="","",IFERROR(VLOOKUP($A$98&$A84,[2]非表示!$A$1:$H$500,4,FALSE),0)) | D84: =IF($A84="","",IFERROR(VLOOKUP($A$98&$A84,[2]非表示!$A$1:$H$500,5,FALSE),0)) | E84: =IF($A84="","",IFERROR(VLOOKUP($A$98&$A84,[2]非表示!$A$1:$H$500,6,FALSE),0)) | F84: =IF($A84="","",IFERROR(VLOOKUP($A$98&$A84,[2]非表示!$A$1:$H$500,7,FALSE),0)) | H84: 3800 | I84: 草刈 | J84: =IF($H84="","",IFERROR(VLOOKUP($H$98&$H84,[2]非表示!$A$1:$H$500,4,FALSE),0)) -> 489 | K84: =IF($H84="","",IFERROR(VLOOKUP($H$98&$H84,[2]非表示!$A$1:$H$500,5,FALSE),0)) -> 1183 | L84: =IF($H84="","",IFERROR(VLOOKUP($H$98&$H84,[2]非表示!$A$1:$H$500,6,FALSE),0)) -> 573 | M84: =IF($H84="","",IFERROR(VLOOKUP($H$98&$H84,[2]非表示!$A$1:$H$500,7,FALSE),0)) -> 610 | Q84: =IF($O84="","",IFERROR(VLOOKUP($O$98&$O84,[2]非表示!$A$1:$H$500,4,FALSE),0)) | R84: =IF($O84="","",IFERROR(VLOOKUP($O$98&$O84,[2]非表示!$A$1:$H$500,5,FALSE),0)) | S84: =IF($O84="","",IFERROR(VLOOKUP($O$98&$O84,[2]非表示!$A$1:$H$500,6,FALSE),0)) | T84: =IF($O84="","",IFERROR(VLOOKUP($O$98&$O84,[2]非表示!$A$1:$H$500,7,FALSE),0))
C85: =IF($A85="","",IFERROR(VLOOKUP($A$98&$A85,[2]非表示!$A$1:$H$500,4,FALSE),0)) | D85: =IF($A85="","",IFERROR(VLOOKUP($A$98&$A85,[2]非表示!$A$1:$H$500,5,FALSE),0)) | E85: =IF($A85="","",IFERROR(VLOOKUP($A$98&$A85,[2]非表示!$A$1:$H$500,6,FALSE),0)) | F85: =IF($A85="","",IFERROR(VLOOKUP($A$98&$A85,[2]非表示!$A$1:$H$500,7,FALSE),0)) | H85: 3900 | I85: 大 | J85: =IF($H85="","",IFERROR(VLOOKUP($H$98&$H85,[2]非表示!$A$1:$H$500,4,FALSE),0)) -> 1983 | K85: =IF($H85="","",IFERROR(VLOOKUP($H$98&$H85,[2]非表示!$A$1:$H$500,5,FALSE),0)) -> 4487 | L85: =IF($H85="","",IFERROR(VLOOKUP($H$98&$H85,[2]非表示!$A$1:$H$500,6,FALSE),0)) -> 2311 | M85: =IF($H85="","",IFERROR(VLOOKUP($H$98&$H85,[2]非表示!$A$1:$H$500,7,FALSE),0)) -> 2176 | Q85: =IF($O85="","",IFERROR(VLOOKUP($O$98&$O85,[2]非表示!$A$1:$H$500,4,FALSE),0)) | R85: =IF($O85="","",IFERROR(VLOOKUP($O$98&$O85,[2]非表示!$A$1:$H$500,5,FALSE),0)) | S85: =IF($O85="","",IFERROR(VLOOKUP($O$98&$O85,[2]非表示!$A$1:$H$500,6,FALSE),0)) | T85: =IF($O85="","",IFERROR(VLOOKUP($O$98&$O85,[2]非表示!$A$1:$H$500,7,FALSE),0))
C86: =IF($A86="","",IFERROR(VLOOKUP($A$98&$A86,[2]非表示!$A$1:$H$500,4,FALSE),0)) | D86: =IF($A86="","",IFERROR(VLOOKUP($A$98&$A86,[2]非表示!$A$1:$H$500,5,FALSE),0)) | E86: =IF($A86="","",IFERROR(VLOOKUP($A$98&$A86,[2]非表示!$A$1:$H$500,6,FALSE),0)) | F86: =IF($A86="","",IFERROR(VLOOKUP($A$98&$A86,[2]非表示!$A$1:$H$500,7,FALSE),0)) | H86: 4201 | I86: 若宮１丁目 | J86: =IF($H86="","",IFERROR(VLOOKUP($H$98&$H86,[2]非表示!$A$1:$H$500,4,FALSE),0)) -> 504 | K86: =IF($H86="","",IFERROR(VLOOKUP($H$98&$H86,[2]非表示!$A$1:$H$500,5,FALSE),0)) -> 976 | L86: =IF($H86="","",IFERROR(VLOOKUP($H$98&$H86,[2]非表示!$A$1:$H$500,6,FALSE),0)) -> 512 | M86: =IF($H86="","",IFERROR(VLOOKUP($H$98&$H86,[2]非表示!$A$1:$H$500,7,FALSE),0)) -> 464 | Q86: =IF($O86="","",IFERROR(VLOOKUP($O$98&$O86,[2]非表示!$A$1:$H$500,4,FALSE),0)) | R86: =IF($O86="","",IFERROR(VLOOKUP($O$98&$O86,[2]非表示!$A$1:$H$500,5,FALSE),0)) | S86: =IF($O86="","",IFERROR(VLOOKUP($O$98&$O86,[2]非表示!$A$1:$H$500,6,FALSE),0)) | T86: =IF($O86="","",IFERROR(VLOOKUP($O$98&$O86,[2]非表示!$A$1:$H$500,7,FALSE),0))
C87: =IF($A87="","",IFERROR(VLOOKUP($A$98&$A87,[2]非表示!$A$1:$H$500,4,FALSE),0)) | D87: =IF($A87="","",IFERROR(VLOOKUP($A$98&$A87,[2]非表示!$A$1:$H$500,5,FALSE),0)) | E87: =IF($A87="","",IFERROR(VLOOKUP($A$98&$A87,[2]非表示!$A$1:$H$500,6,FALSE),0)) | F87: =IF($A87="","",IFERROR(VLOOKUP($A$98&$A87,[2]非表示!$A$1:$H$500,7,FALSE),0)) | H87: 4202 | I87: 若宮２丁目 | J87: =IF($H87="","",IFERROR(VLOOKUP($H$98&$H87,[2]非表示!$A$1:$H$500,4,FALSE),0)) -> 343 | K87: =IF($H87="","",IFERROR(VLOOKUP($H$98&$H87,[2]非表示!$A$1:$H$500,5,FALSE),0)) -> 747 | L87: =IF($H87="","",IFERROR(VLOOKUP($H$98&$H87,[2]非表示!$A$1:$H$500,6,FALSE),0)) -> 356 | M87: =IF($H87="","",IFERROR(VLOOKUP($H$98&$H87,[2]非表示!$A$1:$H$500,7,FALSE),0)) -> 391 | Q87: =IF($O87="","",IFERROR(VLOOKUP($O$98&$O87,[2]非表示!$A$1:$H$500,4,FALSE),0)) | R87: =IF($O87="","",IFERROR(VLOOKUP($O$98&$O87,[2]非表示!$A$1:$H$500,5,FALSE),0)) | S87: =IF($O87="","",IFERROR(VLOOKUP($O$98&$O87,[2]非表示!$A$1:$H$500,6,FALSE),0)) | T87: =IF($O87="","",IFERROR(VLOOKUP($O$98&$O87,[2]非表示!$A$1:$H$500,7,FALSE),0))
C88: =IF($A88="","",IFERROR(VLOOKUP($A$98&$A88,[2]非表示!$A$1:$H$500,4,FALSE),0)) | D88: =IF($A88="","",IFERROR(VLOOKUP($A$98&$A88,[2]非表示!$A$1:$H$500,5,FALSE),0)) | E88: =IF($A88="","",IFERROR(VLOOKUP($A$98&$A88,[2]非表示!$A$1:$H$500,6,FALSE),0)) | F88: =IF($A88="","",IFERROR(VLOOKUP($A$98&$A88,[2]非表示!$A$1:$H$500,7,FALSE),0)) | H88: 4203 | I88: 若宮３丁目 | J88: =IF($H88="","",IFERROR(VLOOKUP($H$98&$H88,[2]非表示!$A$1:$H$500,4,FALSE),0)) -> 319 | K88: =IF($H88="","",IFERROR(VLOOKUP($H$98&$H88,[2]非表示!$A$1:$H$500,5,FALSE),0)) -> 682 | L88: =IF($H88="","",IFERROR(VLOOKUP($H$98&$H88,[2]非表示!$A$1:$H$500,6,FALSE),0)) -> 315 | M88: =IF($H88="","",IFERROR(VLOOKUP($H$98&$H88,[2]非表示!$A$1:$H$500,7,FALSE),0)) -> 367 | Q88: =IF($O88="","",IFERROR(VLOOKUP($O$98&$O88,[2]非表示!$A$1:$H$500,4,FALSE),0)) | R88: =IF($O88="","",IFERROR(VLOOKUP($O$98&$O88,[2]非表示!$A$1:$H$500,5,FALSE),0)) | S88: =IF($O88="","",IFERROR(VLOOKUP($O$98&$O88,[2]非表示!$A$1:$H$500,6,FALSE),0)) | T88: =IF($O88="","",IFERROR(VLOOKUP($O$98&$O88,[2]非表示!$A$1:$H$500,7,FALSE),0))
C89: =IF($A89="","",IFERROR(VLOOKUP($A$98&$A89,[2]非表示!$A$1:$H$500,4,FALSE),0)) | D89: =IF($A89="","",IFERROR(VLOOKUP($A$98&$A89,[2]非表示!$A$1:$H$500,5,FALSE),0)) | E89: =IF($A89="","",IFERROR(VLOOKUP($A$98&$A89,[2]非表示!$A$1:$H$500,6,FALSE),0)) | F89: =IF($A89="","",IFERROR(VLOOKUP($A$98&$A89,[2]非表示!$A$1:$H$500,7,FALSE),0)) | H89: 4204 | I89: 若宮４丁目 | J89: =IF($H89="","",IFERROR(VLOOKUP($H$98&$H89,[2]非表示!$A$1:$H$500,4,FALSE),0)) -> 356 | K89: =IF($H89="","",IFERROR(VLOOKUP($H$98&$H89,[2]非表示!$A$1:$H$500,5,FALSE),0)) -> 757 | L89: =IF($H89="","",IFERROR(VLOOKUP($H$98&$H89,[2]非表示!$A$1:$H$500,6,FALSE),0)) -> 356 | M89: =IF($H89="","",IFERROR(VLOOKUP($H$98&$H89,[2]非表示!$A$1:$H$500,7,FALSE),0)) -> 401 | Q89: =IF($O89="","",IFERROR(VLOOKUP($O$98&$O89,[2]非表示!$A$1:$H$500,4,FALSE),0)) | R89: =IF($O89="","",IFERROR(VLOOKUP($O$98&$O89,[2]非表示!$A$1:$H$500,5,FALSE),0)) | S89: =IF($O89="","",IFERROR(VLOOKUP($O$98&$O89,[2]非表示!$A$1:$H$500,6,FALSE),0)) | T89: =IF($O89="","",IFERROR(VLOOKUP($O$98&$O89,[2]非表示!$A$1:$H$500,7,FALSE),0))
C90: =IF($A90="","",IFERROR(VLOOKUP($A$98&$A90,[2]非表示!$A$1:$H$500,4,FALSE),0)) | D90: =IF($A90="","",IFERROR(VLOOKUP($A$98&$A90,[2]非表示!$A$1:$H$500,5,FALSE),0)) | E90: =IF($A90="","",IFERROR(VLOOKUP($A$98&$A90,[2]非表示!$A$1:$H$500,6,FALSE),0)) | F90: =IF($A90="","",IFERROR(VLOOKUP($A$98&$A90,[2]非表示!$A$1:$H$500,7,FALSE),0)) | H90: 4205 | I90: 若宮５丁目 | J90: =IF($H90="","",IFERROR(VLOOKUP($H$98&$H90,[2]非表示!$A$1:$H$500,4,FALSE),0)) -> 238 | K90: =IF($H90="","",IFERROR(VLOOKUP($H$98&$H90,[2]非表示!$A$1:$H$500,5,FALSE),0)) -> 585 | L90: =IF($H90="","",IFERROR(VLOOKUP($H$98&$H90,[2]非表示!$A$1:$H$500,6,FALSE),0)) -> 291 | M90: =IF($H90="","",IFERROR(VLOOKUP($H$98&$H90,[2]非表示!$A$1:$H$500,7,FALSE),0)) -> 294 | Q90: =IF($O90="","",IFERROR(VLOOKUP($O$98&$O90,[2]非表示!$A$1:$H$500,4,FALSE),0)) | R90: =IF($O90="","",IFERROR(VLOOKUP($O$98&$O90,[2]非表示!$A$1:$H$500,5,FALSE),0)) | S90: =IF($O90="","",IFERROR(VLOOKUP($O$98&$O90,[2]非表示!$A$1:$H$500,6,FALSE),0)) | T90: =IF($O90="","",IFERROR(VLOOKUP($O$98&$O90,[2]非表示!$A$1:$H$500,7,FALSE),0))
C91: =IF($A91="","",IFERROR(VLOOKUP($A$98&$A91,[2]非表示!$A$1:$H$500,4,FALSE),0)) | D91: =IF($A91="","",IFERROR(VLOOKUP($A$98&$A91,[2]非表示!$A$1:$H$500,5,FALSE),0)) | E91: =IF($A91="","",IFERROR(VLOOKUP($A$98&$A91,[2]非表示!$A$1:$H$500,6,FALSE),0)) | F91: =IF($A91="","",IFERROR(VLOOKUP($A$98&$A91,[2]非表示!$A$1:$H$500,7,FALSE),0)) | H91: 4206 | I91: 若宮６丁目 | J91: =IF($H91="","",IFERROR(VLOOKUP($H$98&$H91,[2]非表示!$A$1:$H$500,4,FALSE),0)) -> 299 | K91: =IF($H91="","",IFERROR(VLOOKUP($H$98&$H91,[2]非表示!$A$1:$H$500,5,FALSE),0)) -> 696 | L91: =IF($H91="","",IFERROR(VLOOKUP($H$98&$H91,[2]非表示!$A$1:$H$500,6,FALSE),0)) -> 350 | M91: =IF($H91="","",IFERROR(VLOOKUP($H$98&$H91,[2]非表示!$A$1:$H$500,7,FALSE),0)) -> 346 | Q91: =IF($O91="","",IFERROR(VLOOKUP($O$98&$O91,[2]非表示!$A$1:$H$500,4,FALSE),0)) | R91: =IF($O91="","",IFERROR(VLOOKUP($O$98&$O91,[2]非表示!$A$1:$H$500,5,FALSE),0)) | S91: =IF($O91="","",IFERROR(VLOOKUP($O$98&$O91,[2]非表示!$A$1:$H$500,6,FALSE),0)) | T91: =IF($O91="","",IFERROR(VLOOKUP($O$98&$O91,[2]非表示!$A$1:$H$500,7,FALSE),0))
C92: =IF($A92="","",IFERROR(VLOOKUP($A$98&$A92,[2]非表示!$A$1:$H$500,4,FALSE),0)) | D92: =IF($A92="","",IFERROR(VLOOKUP($A$98&$A92,[2]非表示!$A$1:$H$500,5,FALSE),0)) | E92: =IF($A92="","",IFERROR(VLOOKUP($A$98&$A92,[2]非表示!$A$1:$H$500,6,FALSE),0)) | F92: =IF($A92="","",IFERROR(VLOOKUP($A$98&$A92,[2]非表示!$A$1:$H$500,7,FALSE),0)) | H92: 4207 | I92: 若宮７丁目 | J92: =IF($H92="","",IFERROR(VLOOKUP($H$98&$H92,[2]非表示!$A$1:$H$500,4,FALSE),0)) -> 76 | K92: =IF($H92="","",IFERROR(VLOOKUP($H$98&$H92,[2]非表示!$A$1:$H$500,5,FALSE),0)) -> 176 | L92: =IF($H92="","",IFERROR(VLOOKUP($H$98&$H92,[2]非表示!$A$1:$H$500,6,FALSE),0)) -> 83 | M92: =IF($H92="","",IFERROR(VLOOKUP($H$98&$H92,[2]非表示!$A$1:$H$500,7,FALSE),0)) -> 93 | Q92: =IF($O92="","",IFERROR(VLOOKUP($O$98&$O92,[2]非表示!$A$1:$H$500,4,FALSE),0)) | R92: =IF($O92="","",IFERROR(VLOOKUP($O$98&$O92,[2]非表示!$A$1:$H$500,5,FALSE),0)) | S92: =IF($O92="","",IFERROR(VLOOKUP($O$98&$O92,[2]非表示!$A$1:$H$500,6,FALSE),0)) | T92: =IF($O92="","",IFERROR(VLOOKUP($O$98&$O92,[2]非表示!$A$1:$H$500,7,FALSE),0))
C93: =IF($A93="","",IFERROR(VLOOKUP($A$98&$A93,[2]非表示!$A$1:$H$500,4,FALSE),0)) | D93: =IF($A93="","",IFERROR(VLOOKUP($A$98&$A93,[2]非表示!$A$1:$H$500,5,FALSE),0)) | E93: =IF($A93="","",IFERROR(VLOOKUP($A$98&$A93,[2]非表示!$A$1:$H$500,6,FALSE),0)) | F93: =IF($A93="","",IFERROR(VLOOKUP($A$98&$A93,[2]非表示!$A$1:$H$500,7,FALSE),0)) | J93: =IF($H93="","",IFERROR(VLOOKUP($H$98&$H93,[2]非表示!$A$1:$H$500,4,FALSE),0)) | K93: =IF($H93="","",IFERROR(VLOOKUP($H$98&$H93,[2]非表示!$A$1:$H$500,5,FALSE),0)) | L93: =IF($H93="","",IFERROR(VLOOKUP($H$98&$H93,[2]非表示!$A$1:$H$500,6,FALSE),0)) | M93: =IF($H93="","",IFERROR(VLOOKUP($H$98&$H93,[2]非表示!$A$1:$H$500,7,FALSE),0)) | Q93: =IF($O93="","",IFERROR(VLOOKUP($O$98&$O93,[2]非表示!$A$1:$H$500,4,FALSE),0)) | R93: =IF($O93="","",IFERROR(VLOOKUP($O$98&$O93,[2]非表示!$A$1:$H$500,5,FALSE),0)) | S93: =IF($O93="","",IFERROR(VLOOKUP($O$98&$O93,[2]非表示!$A$1:$H$500,6,FALSE),0)) | T93: =IF($O93="","",IFERROR(VLOOKUP($O$98&$O93,[2]非表示!$A$1:$H$500,7,FALSE),0))
C94: =IF($A94="","",IFERROR(VLOOKUP($A$98&$A94,[2]非表示!$A$1:$H$500,4,FALSE),0)) | D94: =IF($A94="","",IFERROR(VLOOKUP($A$98&$A94,[2]非表示!$A$1:$H$500,5,FALSE),0)) | E94: =IF($A94="","",IFERROR(VLOOKUP($A$98&$A94,[2]非表示!$A$1:$H$500,6,FALSE),0)) | F94: =IF($A94="","",IFERROR(VLOOKUP($A$98&$A94,[2]非表示!$A$1:$H$500,7,FALSE),0)) | J94: =IF($H94="","",IFERROR(VLOOKUP($H$98&$H94,[2]非表示!$A$1:$H$500,4,FALSE),0)) | K94: =IF($H94="","",IFERROR(VLOOKUP($H$98&$H94,[2]非表示!$A$1:$H$500,5,FALSE),0)) | L94: =IF($H94="","",IFERROR(VLOOKUP($H$98&$H94,[2]非表示!$A$1:$H$500,6,FALSE),0)) | M94: =IF($H94="","",IFERROR(VLOOKUP($H$98&$H94,[2]非表示!$A$1:$H$500,7,FALSE),0)) | Q94: =IF($O94="","",IFERROR(VLOOKUP($O$98&$O94,[2]非表示!$A$1:$H$500,4,FALSE),0)) | R94: =IF($O94="","",IFERROR(VLOOKUP($O$98&$O94,[2]非表示!$A$1:$H$500,5,FALSE),0)) | S94: =IF($O94="","",IFERROR(VLOOKUP($O$98&$O94,[2]非表示!$A$1:$H$500,6,FALSE),0)) | T94: =IF($O94="","",IFERROR(VLOOKUP($O$98&$O94,[2]非表示!$A$1:$H$500,7,FALSE),0))
C95: =IF($A95="","",IFERROR(VLOOKUP($A$98&$A95,[2]非表示!$A$1:$H$500,4,FALSE),0)) | D95: =IF($A95="","",IFERROR(VLOOKUP($A$98&$A95,[2]非表示!$A$1:$H$500,5,FALSE),0)) | E95: =IF($A95="","",IFERROR(VLOOKUP($A$98&$A95,[2]非表示!$A$1:$H$500,6,FALSE),0)) | F95: =IF($A95="","",IFERROR(VLOOKUP($A$98&$A95,[2]非表示!$A$1:$H$500,7,FALSE),0)) | J95: =IF($H95="","",IFERROR(VLOOKUP($H$98&$H95,[2]非表示!$A$1:$H$500,4,FALSE),0)) | K95: =IF($H95="","",IFERROR(VLOOKUP($H$98&$H95,[2]非表示!$A$1:$H$500,5,FALSE),0)) | L95: =IF($H95="","",IFERROR(VLOOKUP($H$98&$H95,[2]非表示!$A$1:$H$500,6,FALSE),0)) | M95: =IF($H95="","",IFERROR(VLOOKUP($H$98&$H95,[2]非表示!$A$1:$H$500,7,FALSE),0)) | Q95: =IF($O95="","",IFERROR(VLOOKUP($O$98&$O95,[2]非表示!$A$1:$H$500,4,FALSE),0)) | R95: =IF($O95="","",IFERROR(VLOOKUP($O$98&$O95,[2]非表示!$A$1:$H$500,5,FALSE),0)) | S95: =IF($O95="","",IFERROR(VLOOKUP($O$98&$O95,[2]非表示!$A$1:$H$500,6,FALSE),0)) | T95: =IF($O95="","",IFERROR(VLOOKUP($O$98&$O95,[2]非表示!$A$1:$H$500,7,FALSE),0))
C96: =IF($A96="","",IFERROR(VLOOKUP($A$98&$A96,[2]非表示!$A$1:$H$500,4,FALSE),0)) | D96: =IF($A96="","",IFERROR(VLOOKUP($A$98&$A96,[2]非表示!$A$1:$H$500,5,FALSE),0)) | E96: =IF($A96="","",IFERROR(VLOOKUP($A$98&$A96,[2]非表示!$A$1:$H$500,6,FALSE),0)) | F96: =IF($A96="","",IFERROR(VLOOKUP($A$98&$A96,[2]非表示!$A$1:$H$500,7,FALSE),0)) | J96: =IF($H96="","",IFERROR(VLOOKUP($H$98&$H96,[2]非表示!$A$1:$H$500,4,FALSE),0)) | K96: =IF($H96="","",IFERROR(VLOOKUP($H$98&$H96,[2]非表示!$A$1:$H$500,5,FALSE),0)) | L96: =IF($H96="","",IFERROR(VLOOKUP($H$98&$H96,[2]非表示!$A$1:$H$500,6,FALSE),0)) | M96: =IF($H96="","",IFERROR(VLOOKUP($H$98&$H96,[2]非表示!$A$1:$H$500,7,FALSE),0)) | Q96: =IF($O96="","",IFERROR(VLOOKUP($O$98&$O96,[2]非表示!$A$1:$H$500,4,FALSE),0)) | R96: =IF($O96="","",IFERROR(VLOOKUP($O$98&$O96,[2]非表示!$A$1:$H$500,5,FALSE),0)) | S96: =IF($O96="","",IFERROR(VLOOKUP($O$98&$O96,[2]非表示!$A$1:$H$500,6,FALSE),0)) | T96: =IF($O96="","",IFERROR(VLOOKUP($O$98&$O96,[2]非表示!$A$1:$H$500,7,FALSE),0))
C97: =IF($A97="","",IFERROR(VLOOKUP($A$98&$A97,[2]非表示!$A$1:$H$500,4,FALSE),0)) | D97: =IF($A97="","",IFERROR(VLOOKUP($A$98&$A97,[2]非表示!$A$1:$H$500,5,FALSE),0)) | E97: =IF($A97="","",IFERROR(VLOOKUP($A$98&$A97,[2]非表示!$A$1:$H$500,6,FALSE),0)) | F97: =IF($A97="","",IFERROR(VLOOKUP($A$98&$A97,[2]非表示!$A$1:$H$500,7,FALSE),0)) | J97: =IF($H97="","",IFERROR(VLOOKUP($H$98&$H97,[2]非表示!$A$1:$H$500,4,FALSE),0)) | K97: =IF($H97="","",IFERROR(VLOOKUP($H$98&$H97,[2]非表示!$A$1:$H$500,5,FALSE),0)) | L97: =IF($H97="","",IFERROR(VLOOKUP($H$98&$H97,[2]非表示!$A$1:$H$500,6,FALSE),0)) | M97: =IF($H97="","",IFERROR(VLOOKUP($H$98&$H97,[2]非表示!$A$1:$H$500,7,FALSE),0)) | Q97: =IF($O97="","",IFERROR(VLOOKUP($O$98&$O97,[2]非表示!$A$1:$H$500,4,FALSE),0)) | R97: =IF($O97="","",IFERROR(VLOOKUP($O$98&$O97,[2]非表示!$A$1:$H$500,5,FALSE),0)) | S97: =IF($O97="","",IFERROR(VLOOKUP($O$98&$O97,[2]非表示!$A$1:$H$500,6,FALSE),0)) | T97: =IF($O97="","",IFERROR(VLOOKUP($O$98&$O97,[2]非表示!$A$1:$H$500,7,FALSE),0))
A98: 1 | B98: 姉崎地区_計 | C98: =SUM(C52:C97) -> 13934 | D98: =SUM(D52:D97) -> 29977 | E98: =SUM(E52:E97) -> 15635 | F98: =SUM(F52:F97) -> 14342 | H98: 2 | I98: 市原地区_計 | J98: =SUM(J52:J97) -> 24540 | K98: =SUM(K52:K97) -> 52768 | L98: =SUM(L52:L97) -> 27077 | M98: =SUM(M52:M97) -> 25691 | O98: 4 | P98: 三和地区_計 | Q98: =SUM(Q52:Q97) -> 6154 | R98: =SUM(R52:R97) -> 14978 | S98: =SUM(S52:S97) -> 7527 | T98: =SUM(T52:T97) -> 7451
A99: ="平成"&LEFT([2]シート名指定!$B$5,4)-1988 &"年"&IF(LEN([2]シート名指定!$B$5)<7,RIGHT([2]シート名指定!$B$5,1),RIGHT([2]シート名指定!$B$5,2))&"月1日現在 世帯数及び人口" -> 平成27年7月1日現在 世帯数及び人口
A100: CD | B100: 大字名 | C100: 世帯数 | D100: 総数 | E100: 男 | F100: 女 | H100: CD | I100: 大字名 | J100: 世帯数 | K100: 総数 | L100: 男 | M100: 女 | O100: CD | P100: 大字名 | Q100: 世帯数 | R100: 総数 | S100: 男 | T100: 女
A101: 10900 | B101: 久々津 | C101: =IF($A101="","",IFERROR(VLOOKUP($A$147&$A101,[2]非表示!$A$1:$H$500,4,FALSE),0)) -> 67 | D101: =IF($A101="","",IFERROR(VLOOKUP($A$147&$A101,[2]非表示!$A$1:$H$500,5,FALSE),0)) -> 166 | E101: =IF($A101="","",IFERROR(VLOOKUP($A$147&$A101,[2]非表示!$A$1:$H$500,6,FALSE),0)) -> 77 | F101: =IF($A101="","",IFERROR(VLOOKUP($A$147&$A101,[2]非表示!$A$1:$H$500,7,FALSE),0)) -> 89 | H101: 4001 | I101: 辰巳台東１丁目 | J101: =IF($H101="","",IFERROR(VLOOKUP($H$147&$H101,[2]非表示!$A$1:$H$500,4,FALSE),0)) -> 407 | K101: =IF($H101="","",IFERROR(VLOOKUP($H$147&$H101,[2]非表示!$A$1:$H$500,5,FALSE),0)) -> 1150 | L101: =IF($H101="","",IFERROR(VLOOKUP($H$147&$H101,[2]非表示!$A$1:$H$500,6,FALSE),0)) -> 579 | M101: =IF($H101="","",IFERROR(VLOOKUP($H$147&$H101,[2]非表示!$A$1:$H$500,7,FALSE),0)) -> 571 | O101: 13400 | P101: 風戸 | Q101: =IF($O101="","",IFERROR(VLOOKUP($O$147&$O101,[2]非表示!$A$1:$H$500,4,FALSE),0)) -> 21 | R101: =IF($O101="","",IFERROR(VLOOKUP($O$147&$O101,[2]非表示!$A$1:$H$500,5,FALSE),0)) -> 42 | S101: =IF($O101="","",IFERROR(VLOOKUP($O$147&$O101,[2]非表示!$A$1:$H$500,6,FALSE),0)) -> 23 | T101: =IF($O101="","",IFERROR(VLOOKUP($O$147&$O101,[2]非表示!$A$1:$H$500,7,FALSE),0)) -> 19
A102: 11000 | B102: 潤井戸 | C102: =IF($A102="","",IFERROR(VLOOKUP($A$147&$A102,[2]非表示!$A$1:$H$500,4,FALSE),0)) -> 987 | D102: =IF($A102="","",IFERROR(VLOOKUP($A$147&$A102,[2]非表示!$A$1:$H$500,5,FALSE),0)) -> 2206 | E102: =IF($A102="","",IFERROR(VLOOKUP($A$147&$A102,[2]非表示!$A$1:$H$500,6,FALSE),0)) -> 1136 | F102: =IF($A102="","",IFERROR(VLOOKUP($A$147&$A102,[2]非表示!$A$1:$H$500,7,FALSE),0)) -> 1070 | H102: 4002 | I102: 辰巳台東２丁目 | J102: =IF($H102="","",IFERROR(VLOOKUP($H$147&$H102,[2]非表示!$A$1:$H$500,4,FALSE),0)) -> 631 | K102: =IF($H102="","",IFERROR(VLOOKUP($H$147&$H102,[2]非表示!$A$1:$H$500,5,FALSE),0)) -> 1194 | L102: =IF($H102="","",IFERROR(VLOOKUP($H$147&$H102,[2]非表示!$A$1:$H$500,6,FALSE),0)) -> 589 | M102: =IF($H102="","",IFERROR(VLOOKUP($H$147&$H102,[2]非表示!$A$1:$H$500,7,FALSE),0)) -> 605 | O102: 13500 | P102: 中高根 | Q102: =IF($O102="","",IFERROR(VLOOKUP($O$147&$O102,[2]非表示!$A$1:$H$500,4,FALSE),0)) -> 1173 | R102: =IF($O102="","",IFERROR(VLOOKUP($O$147&$O102,[2]非表示!$A$1:$H$500,5,FALSE),0)) -> 2746 | S102: =IF($O102="","",IFERROR(VLOOKUP($O$147&$O102,[2]非表示!$A$1:$H$500,6,FALSE),0)) -> 1431 | T102: =IF($O102="","",IFERROR(VLOOKUP($O$147&$O102,[2]非表示!$A$1:$H$500,7,FALSE),0)) -> 1315
A103: 11051 | B103: うるいど南１丁目 | C103: =IF($A103="","",IFERROR(VLOOKUP($A$147&$A103,[2]非表示!$A$1:$H$500,4,FALSE),0)) -> 198 | D103: =IF($A103="","",IFERROR(VLOOKUP($A$147&$A103,[2]非表示!$A$1:$H$500,5,FALSE),0)) -> 524 | E103: =IF($A103="","",IFERROR(VLOOKUP($A$147&$A103,[2]非表示!$A$1:$H$500,6,FALSE),0)) -> 260 | F103: =IF($A103="","",IFERROR(VLOOKUP($A$147&$A103,[2]非表示!$A$1:$H$500,7,FALSE),0)) -> 264 | H103: 4003 | I103: 辰巳台東３丁目 | J103: =IF($H103="","",IFERROR(VLOOKUP($H$147&$H103,[2]非表示!$A$1:$H$500,4,FALSE),0)) -> 1018 | K103: =IF($H103="","",IFERROR(VLOOKUP($H$147&$H103,[2]非表示!$A$1:$H$500,5,FALSE),0)) -> 2517 | L103: =IF($H103="","",IFERROR(VLOOKUP($H$147&$H103,[2]非表示!$A$1:$H$500,6,FALSE),0)) -> 1342 | M103: =IF($H103="","",IFERROR(VLOOKUP($H$147&$H103,[2]非表示!$A$1:$H$500,7,FALSE),0)) -> 1175 | O103: 13600 | P103: 上高根 | Q103: =IF($O103="","",IFERROR(VLOOKUP($O$147&$O103,[2]非表示!$A$1:$H$500,4,FALSE),0)) -> 785 | R103: =IF($O103="","",IFERROR(VLOOKUP($O$147&$O103,[2]非表示!$A$1:$H$500,5,FALSE),0)) -> 1870 | S103: =IF($O103="","",IFERROR(VLOOKUP($O$147&$O103,[2]非表示!$A$1:$H$500,6,FALSE),0)) -> 943 | T103: =IF($O103="","",IFERROR(VLOOKUP($O$147&$O103,[2]非表示!$A$1:$H$500,7,FALSE),0)) -> 927
A104: 11052 | B104: うるいど南２丁目 | C104: =IF($A104="","",IFERROR(VLOOKUP($A$147&$A104,[2]非表示!$A$1:$H$500,4,FALSE),0)) -> 114 | D104: =IF($A104="","",IFERROR(VLOOKUP($A$147&$A104,[2]非表示!$A$1:$H$500,5,FALSE),0)) -> 283 | E104: =IF($A104="","",IFERROR(VLOOKUP($A$147&$A104,[2]非表示!$A$1:$H$500,6,FALSE),0)) -> 149 | F104: =IF($A104="","",IFERROR(VLOOKUP($A$147&$A104,[2]非表示!$A$1:$H$500,7,FALSE),0)) -> 134 | H104: 4004 | I104: 辰巳台東４丁目 | J104: =IF($H104="","",IFERROR(VLOOKUP($H$147&$H104,[2]非表示!$A$1:$H$500,4,FALSE),0)) -> 891 | K104: =IF($H104="","",IFERROR(VLOOKUP($H$147&$H104,[2]非表示!$A$1:$H$500,5,FALSE),0)) -> 2183 | L104: =IF($H104="","",IFERROR(VLOOKUP($H$147&$H104,[2]非表示!$A$1:$H$500,6,FALSE),0)) -> 1184 | M104: =IF($H104="","",IFERROR(VLOOKUP($H$147&$H104,[2]非表示!$A$1:$H$500,7,FALSE),0)) -> 999 | O104: 13700 | P104: 馬立 | Q104: =IF($O104="","",IFERROR(VLOOKUP($O$147&$O104,[2]非表示!$A$1:$H$500,4,FALSE),0)) -> 1341 | R104: =IF($O104="","",IFERROR(VLOOKUP($O$147&$O104,[2]非表示!$A$1:$H$500,5,FALSE),0)) -> 3079 | S104: =IF($O104="","",IFERROR(VLOOKUP($O$147&$O104,[2]非表示!$A$1:$H$500,6,FALSE),0)) -> 1540 | T104: =IF($O104="","",IFERROR(VLOOKUP($O$147&$O104,[2]非表示!$A$1:$H$500,7,FALSE),0)) -> 1539
A105: 11053 | B105: うるいど南３丁目 | C105: =IF($A105="","",IFERROR(VLOOKUP($A$147&$A105,[2]非表示!$A$1:$H$500,4,FALSE),0)) -> 241 | D105: =IF($A105="","",IFERROR(VLOOKUP($A$147&$A105,[2]非表示!$A$1:$H$500,5,FALSE),0)) -> 680 | E105: =IF($A105="","",IFERROR(VLOOKUP($A$147&$A105,[2]非表示!$A$1:$H$500,6,FALSE),0)) -> 352 | F105: =IF($A105="","",IFERROR(VLOOKUP($A$147&$A105,[2]非表示!$A$1:$H$500,7,FALSE),0)) -> 328 | H105: 4005 | I105: 辰巳台東５丁目 | J105: =IF($H105="","",IFERROR(VLOOKUP($H$147&$H105,[2]非表示!$A$1:$H$500,4,FALSE),0)) -> 277 | K105: =IF($H105="","",IFERROR(VLOOKUP($H$147&$H105,[2]非表示!$A$1:$H$500,5,FALSE),0)) -> 565 | L105: =IF($H105="","",IFERROR(VLOOKUP($H$147&$H105,[2]非表示!$A$1:$H$500,6,FALSE),0)) -> 305 | M105: =IF($H105="","",IFERROR(VLOOKUP($H$147&$H105,[2]非表示!$A$1:$H$500,7,FALSE),0)) -> 260 | O105: 13800 | P105: 上原 | Q105: =IF($O105="","",IFERROR(VLOOKUP($O$147&$O105,[2]非表示!$A$1:$H$500,4,FALSE),0)) -> 64 | R105: =IF($O105="","",IFERROR(VLOOKUP($O$147&$O105,[2]非表示!$A$1:$H$500,5,FALSE),0)) -> 146 | S105: =IF($O105="","",IFERROR(VLOOKUP($O$147&$O105,[2]非表示!$A$1:$H$500,6,FALSE),0)) -> 77 | T105: =IF($O105="","",IFERROR(VLOOKUP($O$147&$O105,[2]非表示!$A$1:$H$500,7,FALSE),0)) -> 69
A106: 11100 | B106: 下野 | C106: =IF($A106="","",IFERROR(VLOOKUP($A$147&$A106,[2]非表示!$A$1:$H$500,4,FALSE),0)) -> 157 | D106: =IF($A106="","",IFERROR(VLOOKUP($A$147&$A106,[2]非表示!$A$1:$H$500,5,FALSE),0)) -> 400 | E106: =IF($A106="","",IFERROR(VLOOKUP($A$147&$A106,[2]非表示!$A$1:$H$500,6,FALSE),0)) -> 187 | F106: =IF($A106="","",IFERROR(VLOOKUP($A$147&$A106,[2]非表示!$A$1:$H$500,7,FALSE),0)) -> 213 | H106: 4101 | I106: 辰巳台西１丁目 | J106: =IF($H106="","",IFERROR(VLOOKUP($H$147&$H106,[2]非表示!$A$1:$H$500,4,FALSE),0)) -> 364 | K106: =IF($H106="","",IFERROR(VLOOKUP($H$147&$H106,[2]非表示!$A$1:$H$500,5,FALSE),0)) -> 969 | L106: =IF($H106="","",IFERROR(VLOOKUP($H$147&$H106,[2]非表示!$A$1:$H$500,6,FALSE),0)) -> 474 | M106: =IF($H106="","",IFERROR(VLOOKUP($H$147&$H106,[2]非表示!$A$1:$H$500,7,FALSE),0)) -> 495 | O106: 13900 | P106: 南岩崎 | Q106: =IF($O106="","",IFERROR(VLOOKUP($O$147&$O106,[2]非表示!$A$1:$H$500,4,FALSE),0)) -> 430 | R106: =IF($O106="","",IFERROR(VLOOKUP($O$147&$O106,[2]非表示!$A$1:$H$500,5,FALSE),0)) -> 1014 | S106: =IF($O106="","",IFERROR(VLOOKUP($O$147&$O106,[2]非表示!$A$1:$H$500,6,FALSE),0)) -> 506 | T106: =IF($O106="","",IFERROR(VLOOKUP($O$147&$O106,[2]非表示!$A$1:$H$500,7,FALSE),0)) -> 508
A107: 11200 | B107: 永吉 | C107: =IF($A107="","",IFERROR(VLOOKUP($A$147&$A107,[2]非表示!$A$1:$H$500,4,FALSE),0)) -> 125 | D107: =IF($A107="","",IFERROR(VLOOKUP($A$147&$A107,[2]非表示!$A$1:$H$500,5,FALSE),0)) -> 290 | E107: =IF($A107="","",IFERROR(VLOOKUP($A$147&$A107,[2]非表示!$A$1:$H$500,6,FALSE),0)) -> 148 | F107: =IF($A107="","",IFERROR(VLOOKUP($A$147&$A107,[2]非表示!$A$1:$H$500,7,FALSE),0)) -> 142 | H107: 4102 | I107: 辰巳台西２丁目 | J107: =IF($H107="","",IFERROR(VLOOKUP($H$147&$H107,[2]非表示!$A$1:$H$500,4,FALSE),0)) -> 388 | K107: =IF($H107="","",IFERROR(VLOOKUP($H$147&$H107,[2]非表示!$A$1:$H$500,5,FALSE),0)) -> 1159 | L107: =IF($H107="","",IFERROR(VLOOKUP($H$147&$H107,[2]非表示!$A$1:$H$500,6,FALSE),0)) -> 575 | M107: =IF($H107="","",IFERROR(VLOOKUP($H$147&$H107,[2]非表示!$A$1:$H$500,7,FALSE),0)) -> 584 | O107: 14000 | P107: 寺谷 | Q107: =IF($O107="","",IFERROR(VLOOKUP($O$147&$O107,[2]非表示!$A$1:$H$500,4,FALSE),0)) -> 104 | R107: =IF($O107="","",IFERROR(VLOOKUP($O$147&$O107,[2]非表示!$A$1:$H$500,5,FALSE),0)) -> 251 | S107: =IF($O107="","",IFERROR(VLOOKUP($O$147&$O107,[2]非表示!$A$1:$H$500,6,FALSE),0)) -> 126 | T107: =IF($O107="","",IFERROR(VLOOKUP($O$147&$O107,[2]非表示!$A$1:$H$500,7,FALSE),0)) -> 125
A108: 11300 | B108: 番場 | C108: =IF($A108="","",IFERROR(VLOOKUP($A$147&$A108,[2]非表示!$A$1:$H$500,4,FALSE),0)) -> 87 | D108: =IF($A108="","",IFERROR(VLOOKUP($A$147&$A108,[2]非表示!$A$1:$H$500,5,FALSE),0)) -> 212 | E108: =IF($A108="","",IFERROR(VLOOKUP($A$147&$A108,[2]非表示!$A$1:$H$500,6,FALSE),0)) -> 109 | F108: =IF($A108="","",IFERROR(VLOOKUP($A$147&$A108,[2]非表示!$A$1:$H$500,7,FALSE),0)) -> 103 | H108: 4103 | I108: 辰巳台西３丁目 | J108: =IF($H108="","",IFERROR(VLOOKUP($H$147&$H108,[2]非表示!$A$1:$H$500,4,FALSE),0)) -> 661 | K108: =IF($H108="","",IFERROR(VLOOKUP($H$147&$H108,[2]非表示!$A$1:$H$500,5,FALSE),0)) -> 1214 | L108: =IF($H108="","",IFERROR(VLOOKUP($H$147&$H108,[2]非表示!$A$1:$H$500,6,FALSE),0)) -> 753 | M108: =IF($H108="","",IFERROR(VLOOKUP($H$147&$H108,[2]非表示!$A$1:$H$500,7,FALSE),0)) -> 461 | O108: 14100 | P108: 栢橋 | Q108: =IF($O108="","",IFERROR(VLOOKUP($O$147&$O108,[2]非表示!$A$1:$H$500,4,FALSE),0)) -> 227 | R108: =IF($O108="","",IFERROR(VLOOKUP($O$147&$O108,[2]非表示!$A$1:$H$500,5,FALSE),0)) -> 562 | S108: =IF($O108="","",IFERROR(VLOOKUP($O$147&$O108,[2]非表示!$A$1:$H$500,6,FALSE),0)) -> 293 | T108: =IF($O108="","",IFERROR(VLOOKUP($O$147&$O108,[2]非表示!$A$1:$H$500,7,FALSE),0)) -> 269
A109: 11400 | B109: 押沼 | C109: =IF($A109="","",IFERROR(VLOOKUP($A$147&$A109,[2]非表示!$A$1:$H$500,4,FALSE),0)) -> 57 | D109: =IF($A109="","",IFERROR(VLOOKUP($A$147&$A109,[2]非表示!$A$1:$H$500,5,FALSE),0)) -> 148 | E109: =IF($A109="","",IFERROR(VLOOKUP($A$147&$A109,[2]非表示!$A$1:$H$500,6,FALSE),0)) -> 78 | F109: =IF($A109="","",IFERROR(VLOOKUP($A$147&$A109,[2]非表示!$A$1:$H$500,7,FALSE),0)) -> 70 | H109: 4104 | I109: 辰巳台西４丁目 | J109: =IF($H109="","",IFERROR(VLOOKUP($H$147&$H109,[2]非表示!$A$1:$H$500,4,FALSE),0)) -> 334 | K109: =IF($H109="","",IFERROR(VLOOKUP($H$147&$H109,[2]非表示!$A$1:$H$500,5,FALSE),0)) -> 804 | L109: =IF($H109="","",IFERROR(VLOOKUP($H$147&$H109,[2]非表示!$A$1:$H$500,6,FALSE),0)) -> 382 | M109: =IF($H109="","",IFERROR(VLOOKUP($H$147&$H109,[2]非表示!$A$1:$H$500,7,FALSE),0)) -> 422 | O109: 14200 | P109: 西国吉 | Q109: =IF($O109="","",IFERROR(VLOOKUP($O$147&$O109,[2]非表示!$A$1:$H$500,4,FALSE),0)) -> 792 | R109: =IF($O109="","",IFERROR(VLOOKUP($O$147&$O109,[2]非表示!$A$1:$H$500,5,FALSE),0)) -> 1853 | S109: =IF($O109="","",IFERROR(VLOOKUP($O$147&$O109,[2]非表示!$A$1:$H$500,6,FALSE),0)) -> 952 | T109: =IF($O109="","",IFERROR(VLOOKUP($O$147&$O109,[2]非表示!$A$1:$H$500,7,FALSE),0)) -> 901
A110: 11500 | B110: 瀬又 | C110: =IF($A110="","",IFERROR(VLOOKUP($A$147&$A110,[2]非表示!$A$1:$H$500,4,FALSE),0)) -> 1605 | D110: =IF($A110="","",IFERROR(VLOOKUP($A$147&$A110,[2]非表示!$A$1:$H$500,5,FALSE),0)) -> 3572 | E110: =IF($A110="","",IFERROR(VLOOKUP($A$147&$A110,[2]非表示!$A$1:$H$500,6,FALSE),0)) -> 1742 | F110: =IF($A110="","",IFERROR(VLOOKUP($A$147&$A110,[2]非表示!$A$1:$H$500,7,FALSE),0)) -> 1830 | H110: 4105 | I110: 辰巳台西５丁目 | J110: =IF($H110="","",IFERROR(VLOOKUP($H$147&$H110,[2]非表示!$A$1:$H$500,4,FALSE),0)) -> 148 | K110: =IF($H110="","",IFERROR(VLOOKUP($H$147&$H110,[2]非表示!$A$1:$H$500,5,FALSE),0)) -> 328 | L110: =IF($H110="","",IFERROR(VLOOKUP($H$147&$H110,[2]非表示!$A$1:$H$500,6,FALSE),0)) -> 158 | M110: =IF($H110="","",IFERROR(VLOOKUP($H$147&$H110,[2]非表示!$A$1:$H$500,7,FALSE),0)) -> 170 | O110: 14300 | P110: 佐是 | Q110: =IF($O110="","",IFERROR(VLOOKUP($O$147&$O110,[2]非表示!$A$1:$H$500,4,FALSE),0)) -> 338 | R110: =IF($O110="","",IFERROR(VLOOKUP($O$147&$O110,[2]非表示!$A$1:$H$500,5,FALSE),0)) -> 853 | S110: =IF($O110="","",IFERROR(VLOOKUP($O$147&$O110,[2]非表示!$A$1:$H$500,6,FALSE),0)) -> 440 | T110: =IF($O110="","",IFERROR(VLOOKUP($O$147&$O110,[2]非表示!$A$1:$H$500,7,FALSE),0)) -> 413
A111: 11600 | B111: 中野 | C111: =IF($A111="","",IFERROR(VLOOKUP($A$147&$A111,[2]非表示!$A$1:$H$500,4,FALSE),0)) -> 35 | D111: =IF($A111="","",IFERROR(VLOOKUP($A$147&$A111,[2]非表示!$A$1:$H$500,5,FALSE),0)) -> 90 | E111: =IF($A111="","",IFERROR(VLOOKUP($A$147&$A111,[2]非表示!$A$1:$H$500,6,FALSE),0)) -> 50 | F111: =IF($A111="","",IFERROR(VLOOKUP($A$147&$A111,[2]非表示!$A$1:$H$500,7,FALSE),0)) -> 40 | J111: =IF($H111="","",IFERROR(VLOOKUP($H$147&$H111,[2]非表示!$A$1:$H$500,4,FALSE),0)) | K111: =IF($H111="","",IFERROR(VLOOKUP($H$147&$H111,[2]非表示!$A$1:$H$500,5,FALSE),0)) | L111: =IF($H111="","",IFERROR(VLOOKUP($H$147&$H111,[2]非表示!$A$1:$H$500,6,FALSE),0)) | M111: =IF($H111="","",IFERROR(VLOOKUP($H$147&$H111,[2]非表示!$A$1:$H$500,7,FALSE),0)) | O111: 14400 | P111: 妙香 | Q111: =IF($O111="","",IFERROR(VLOOKUP($O$147&$O111,[2]非表示!$A$1:$H$500,4,FALSE),0)) -> 82 | R111: =IF($O111="","",IFERROR(VLOOKUP($O$147&$O111,[2]非表示!$A$1:$H$500,5,FALSE),0)) -> 193 | S111: =IF($O111="","",IFERROR(VLOOKUP($O$147&$O111,[2]非表示!$A$1:$H$500,6,FALSE),0)) -> 102 | T111: =IF($O111="","",IFERROR(VLOOKUP($O$147&$O111,[2]非表示!$A$1:$H$500,7,FALSE),0)) -> 91
A112: 11700 | B112: 高田 | C112: =IF($A112="","",IFERROR(VLOOKUP($A$147&$A112,[2]非表示!$A$1:$H$500,4,FALSE),0)) -> 53 | D112: =IF($A112="","",IFERROR(VLOOKUP($A$147&$A112,[2]非表示!$A$1:$H$500,5,FALSE),0)) -> 133 | E112: =IF($A112="","",IFERROR(VLOOKUP($A$147&$A112,[2]非表示!$A$1:$H$500,6,FALSE),0)) -> 68 | F112: =IF($A112="","",IFERROR(VLOOKUP($A$147&$A112,[2]非表示!$A$1:$H$500,7,FALSE),0)) -> 65 | J112: =IF($H112="","",IFERROR(VLOOKUP($H$147&$H112,[2]非表示!$A$1:$H$500,4,FALSE),0)) | K112: =IF($H112="","",IFERROR(VLOOKUP($H$147&$H112,[2]非表示!$A$1:$H$500,5,FALSE),0)) | L112: =IF($H112="","",IFERROR(VLOOKUP($H$147&$H112,[2]非表示!$A$1:$H$500,6,FALSE),0)) | M112: =IF($H112="","",IFERROR(VLOOKUP($H$147&$H112,[2]非表示!$A$1:$H$500,7,FALSE),0)) | O112: 14500 | P112: 奉免 | Q112: =IF($O112="","",IFERROR(VLOOKUP($O$147&$O112,[2]非表示!$A$1:$H$500,4,FALSE),0)) -> 194 | R112: =IF($O112="","",IFERROR(VLOOKUP($O$147&$O112,[2]非表示!$A$1:$H$500,5,FALSE),0)) -> 477 | S112: =IF($O112="","",IFERROR(VLOOKUP($O$147&$O112,[2]非表示!$A$1:$H$500,6,FALSE),0)) -> 226 | T112: =IF($O112="","",IFERROR(VLOOKUP($O$147&$O112,[2]非表示!$A$1:$H$500,7,FALSE),0)) -> 251
A113: 11800 | B113: 高倉 | C113: =IF($A113="","",IFERROR(VLOOKUP($A$147&$A113,[2]非表示!$A$1:$H$500,4,FALSE),0)) -> 52 | D113: =IF($A113="","",IFERROR(VLOOKUP($A$147&$A113,[2]非表示!$A$1:$H$500,5,FALSE),0)) -> 119 | E113: =IF($A113="","",IFERROR(VLOOKUP($A$147&$A113,[2]非表示!$A$1:$H$500,6,FALSE),0)) -> 56 | F113: =IF($A113="","",IFERROR(VLOOKUP($A$147&$A113,[2]非表示!$A$1:$H$500,7,FALSE),0)) -> 63 | J113: =IF($H113="","",IFERROR(VLOOKUP($H$147&$H113,[2]非表示!$A$1:$H$500,4,FALSE),0)) | K113: =IF($H113="","",IFERROR(VLOOKUP($H$147&$H113,[2]非表示!$A$1:$H$500,5,FALSE),0)) | L113: =IF($H113="","",IFERROR(VLOOKUP($H$147&$H113,[2]非表示!$A$1:$H$500,6,FALSE),0)) | M113: =IF($H113="","",IFERROR(VLOOKUP($H$147&$H113,[2]非表示!$A$1:$H$500,7,FALSE),0)) | O113: 14600 | P113: 牛久 | Q113: =IF($O113="","",IFERROR(VLOOKUP($O$147&$O113,[2]非表示!$A$1:$H$500,4,FALSE),0)) -> 915 | R113: =IF($O113="","",IFERROR(VLOOKUP($O$147&$O113,[2]非表示!$A$1:$H$500,5,FALSE),0)) -> 1988 | S113: =IF($O113="","",IFERROR(VLOOKUP($O$147&$O113,[2]非表示!$A$1:$H$500,6,FALSE),0)) -> 1001 | T113: =IF($O113="","",IFERROR(VLOOKUP($O$147&$O113,[2]非表示!$A$1:$H$500,7,FALSE),0)) -> 987
A114: 11900 | B114: 東国吉 | C114: =IF($A114="","",IFERROR(VLOOKUP($A$147&$A114,[2]非表示!$A$1:$H$500,4,FALSE),0)) -> 119 | D114: =IF($A114="","",IFERROR(VLOOKUP($A$147&$A114,[2]非表示!$A$1:$H$500,5,FALSE),0)) -> 304 | E114: =IF($A114="","",IFERROR(VLOOKUP($A$147&$A114,[2]非表示!$A$1:$H$500,6,FALSE),0)) -> 144 | F114: =IF($A114="","",IFERROR(VLOOKUP($A$147&$A114,[2]非表示!$A$1:$H$500,7,FALSE),0)) -> 160 | J114: =IF($H114="","",IFERROR(VLOOKUP($H$147&$H114,[2]非表示!$A$1:$H$500,4,FALSE),0)) | K114: =IF($H114="","",IFERROR(VLOOKUP($H$147&$H114,[2]非表示!$A$1:$H$500,5,FALSE),0)) | L114: =IF($H114="","",IFERROR(VLOOKUP($H$147&$H114,[2]非表示!$A$1:$H$500,6,FALSE),0)) | M114: =IF($H114="","",IFERROR(VLOOKUP($H$147&$H114,[2]非表示!$A$1:$H$500,7,FALSE),0)) | O114: 14700 | P114: 皆吉 | Q114: =IF($O114="","",IFERROR(VLOOKUP($O$147&$O114,[2]非表示!$A$1:$H$500,4,FALSE),0)) -> 749 | R114: =IF($O114="","",IFERROR(VLOOKUP($O$147&$O114,[2]非表示!$A$1:$H$500,5,FALSE),0)) -> 1697 | S114: =IF($O114="","",IFERROR(VLOOKUP($O$147&$O114,[2]非表示!$A$1:$H$500,6,FALSE),0)) -> 851 | T114: =IF($O114="","",IFERROR(VLOOKUP($O$147&$O114,[2]非表示!$A$1:$H$500,7,FALSE),0)) -> 846
A115: 12000 | B115: 金剛地 | C115: =IF($A115="","",IFERROR(VLOOKUP($A$147&$A115,[2]非表示!$A$1:$H$500,4,FALSE),0)) -> 168 | D115: =IF($A115="","",IFERROR(VLOOKUP($A$147&$A115,[2]非表示!$A$1:$H$500,5,FALSE),0)) -> 430 | E115: =IF($A115="","",IFERROR(VLOOKUP($A$147&$A115,[2]非表示!$A$1:$H$500,6,FALSE),0)) -> 220 | F115: =IF($A115="","",IFERROR(VLOOKUP($A$147&$A115,[2]非表示!$A$1:$H$500,7,FALSE),0)) -> 210 | J115: =IF($H115="","",IFERROR(VLOOKUP($H$147&$H115,[2]非表示!$A$1:$H$500,4,FALSE),0)) | K115: =IF($H115="","",IFERROR(VLOOKUP($H$147&$H115,[2]非表示!$A$1:$H$500,5,FALSE),0)) | L115: =IF($H115="","",IFERROR(VLOOKUP($H$147&$H115,[2]非表示!$A$1:$H$500,6,FALSE),0)) | M115: =IF($H115="","",IFERROR(VLOOKUP($H$147&$H115,[2]非表示!$A$1:$H$500,7,FALSE),0)) | O115: 14800 | P115: 金沢 | Q115: =IF($O115="","",IFERROR(VLOOKUP($O$147&$O115,[2]非表示!$A$1:$H$500,4,FALSE),0)) -> 38 | R115: =IF($O115="","",IFERROR(VLOOKUP($O$147&$O115,[2]非表示!$A$1:$H$500,5,FALSE),0)) -> 90 | S115: =IF($O115="","",IFERROR(VLOOKUP($O$147&$O115,[2]非表示!$A$1:$H$500,6,FALSE),0)) -> 47 | T115: =IF($O115="","",IFERROR(VLOOKUP($O$147&$O115,[2]非表示!$A$1:$H$500,7,FALSE),0)) -> 43
A116: 12100 | B116: 奈良 | C116: =IF($A116="","",IFERROR(VLOOKUP($A$147&$A116,[2]非表示!$A$1:$H$500,4,FALSE),0)) -> 67 | D116: =IF($A116="","",IFERROR(VLOOKUP($A$147&$A116,[2]非表示!$A$1:$H$500,5,FALSE),0)) -> 186 | E116: =IF($A116="","",IFERROR(VLOOKUP($A$147&$A116,[2]非表示!$A$1:$H$500,6,FALSE),0)) -> 94 | F116: =IF($A116="","",IFERROR(VLOOKUP($A$147&$A116,[2]非表示!$A$1:$H$500,7,FALSE),0)) -> 92 | J116: =IF($H116="","",IFERROR(VLOOKUP($H$147&$H116,[2]非表示!$A$1:$H$500,4,FALSE),0)) | K116: =IF($H116="","",IFERROR(VLOOKUP($H$147&$H116,[2]非表示!$A$1:$H$500,5,FALSE),0)) | L116: =IF($H116="","",IFERROR(VLOOKUP($H$147&$H116,[2]非表示!$A$1:$H$500,6,FALSE),0)) | M116: =IF($H116="","",IFERROR(VLOOKUP($H$147&$H116,[2]非表示!$A$1:$H$500,7,FALSE),0)) | O116: 14900 | P116: 大蔵 | Q116: =IF($O116="","",IFERROR(VLOOKUP($O$147&$O116,[2]非表示!$A$1:$H$500,4,FALSE),0)) -> 14 | R116: =IF($O116="","",IFERROR(VLOOKUP($O$147&$O116,[2]非表示!$A$1:$H$500,5,FALSE),0)) -> 34 | S116: =IF($O116="","",IFERROR(VLOOKUP($O$147&$O116,[2]非表示!$A$1:$H$500,6,FALSE),0)) -> 21 | T116: =IF($O116="","",IFERROR(VLOOKUP($O$147&$O116,[2]非表示!$A$1:$H$500,7,FALSE),0)) -> 13
A117: 12200 | B117: 古都辺 | C117: =IF($A117="","",IFERROR(VLOOKUP($A$147&$A117,[2]非表示!$A$1:$H$500,4,FALSE),0)) -> 30 | D117: =IF($A117="","",IFERROR(VLOOKUP($A$147&$A117,[2]非表示!$A$1:$H$500,5,FALSE),0)) -> 77 | E117: =IF($A117="","",IFERROR(VLOOKUP($A$147&$A117,[2]非表示!$A$1:$H$500,6,FALSE),0)) -> 37 | F117: =IF($A117="","",IFERROR(VLOOKUP($A$147&$A117,[2]非表示!$A$1:$H$500,7,FALSE),0)) -> 40 | J117: =IF($H117="","",IFERROR(VLOOKUP($H$147&$H117,[2]非表示!$A$1:$H$500,4,FALSE),0)) | K117: =IF($H117="","",IFERROR(VLOOKUP($H$147&$H117,[2]非表示!$A$1:$H$500,5,FALSE),0)) | L117: =IF($H117="","",IFERROR(VLOOKUP($H$147&$H117,[2]非表示!$A$1:$H$500,6,FALSE),0)) | M117: =IF($H117="","",IFERROR(VLOOKUP($H$147&$H117,[2]非表示!$A$1:$H$500,7,FALSE),0)) | O117: 15000 | P117: 岩 | Q117: =IF($O117="","",IFERROR(VLOOKUP($O$147&$O117,[2]非表示!$A$1:$H$500,4,FALSE),0)) -> 48 | R117: =IF($O117="","",IFERROR(VLOOKUP($O$147&$O117,[2]非表示!$A$1:$H$500,5,FALSE),0)) -> 93 | S117: =IF($O117="","",IFERROR(VLOOKUP($O$147&$O117,[2]非表示!$A$1:$H$500,6,FALSE),0)) -> 55 | T117: =IF($O117="","",IFERROR(VLOOKUP($O$147&$O117,[2]非表示!$A$1:$H$500,7,FALSE),0)) -> 38
A118: 12300 | B118: 喜多 | C118: =IF($A118="","",IFERROR(VLOOKUP($A$147&$A118,[2]非表示!$A$1:$H$500,4,FALSE),0)) -> 682 | D118: =IF($A118="","",IFERROR(VLOOKUP($A$147&$A118,[2]非表示!$A$1:$H$500,5,FALSE),0)) -> 1619 | E118: =IF($A118="","",IFERROR(VLOOKUP($A$147&$A118,[2]非表示!$A$1:$H$500,6,FALSE),0)) -> 827 | F118: =IF($A118="","",IFERROR(VLOOKUP($A$147&$A118,[2]非表示!$A$1:$H$500,7,FALSE),0)) -> 792 | J118: =IF($H118="","",IFERROR(VLOOKUP($H$147&$H118,[2]非表示!$A$1:$H$500,4,FALSE),0)) | K118: =IF($H118="","",IFERROR(VLOOKUP($H$147&$H118,[2]非表示!$A$1:$H$500,5,FALSE),0)) | L118: =IF($H118="","",IFERROR(VLOOKUP($H$147&$H118,[2]非表示!$A$1:$H$500,6,FALSE),0)) | M118: =IF($H118="","",IFERROR(VLOOKUP($H$147&$H118,[2]非表示!$A$1:$H$500,7,FALSE),0)) | O118: 15100 | P118: 藪 | Q118: =IF($O118="","",IFERROR(VLOOKUP($O$147&$O118,[2]非表示!$A$1:$H$500,4,FALSE),0)) -> 66 | R118: =IF($O118="","",IFERROR(VLOOKUP($O$147&$O118,[2]非表示!$A$1:$H$500,5,FALSE),0)) -> 187 | S118: =IF($O118="","",IFERROR(VLOOKUP($O$147&$O118,[2]非表示!$A$1:$H$500,6,FALSE),0)) -> 94 | T118: =IF($O118="","",IFERROR(VLOOKUP($O$147&$O118,[2]非表示!$A$1:$H$500,7,FALSE),0)) -> 93
A119: 12400 | B119: 犬成 | C119: =IF($A119="","",IFERROR(VLOOKUP($A$147&$A119,[2]非表示!$A$1:$H$500,4,FALSE),0)) -> 237 | D119: =IF($A119="","",IFERROR(VLOOKUP($A$147&$A119,[2]非表示!$A$1:$H$500,5,FALSE),0)) -> 476 | E119: =IF($A119="","",IFERROR(VLOOKUP($A$147&$A119,[2]非表示!$A$1:$H$500,6,FALSE),0)) -> 270 | F119: =IF($A119="","",IFERROR(VLOOKUP($A$147&$A119,[2]非表示!$A$1:$H$500,7,FALSE),0)) -> 206 | J119: =IF($H119="","",IFERROR(VLOOKUP($H$147&$H119,[2]非表示!$A$1:$H$500,4,FALSE),0)) | K119: =IF($H119="","",IFERROR(VLOOKUP($H$147&$H119,[2]非表示!$A$1:$H$500,5,FALSE),0)) | L119: =IF($H119="","",IFERROR(VLOOKUP($H$147&$H119,[2]非表示!$A$1:$H$500,6,FALSE),0)) | M119: =IF($H119="","",IFERROR(VLOOKUP($H$147&$H119,[2]非表示!$A$1:$H$500,7,FALSE),0)) | O119: 15200 | P119: 中 | Q119: =IF($O119="","",IFERROR(VLOOKUP($O$147&$O119,[2]非表示!$A$1:$H$500,4,FALSE),0)) -> 357 | R119: =IF($O119="","",IFERROR(VLOOKUP($O$147&$O119,[2]非表示!$A$1:$H$500,5,FALSE),0)) -> 835 | S119: =IF($O119="","",IFERROR(VLOOKUP($O$147&$O119,[2]非表示!$A$1:$H$500,6,FALSE),0)) -> 428 | T119: =IF($O119="","",IFERROR(VLOOKUP($O$147&$O119,[2]非表示!$A$1:$H$500,7,FALSE),0)) -> 407
A120: 12500 | B120: 大作 | C120: =IF($A120="","",IFERROR(VLOOKUP($A$147&$A120,[2]非表示!$A$1:$H$500,4,FALSE),0)) -> 43 | D120: =IF($A120="","",IFERROR(VLOOKUP($A$147&$A120,[2]非表示!$A$1:$H$500,5,FALSE),0)) -> 93 | E120: =IF($A120="","",IFERROR(VLOOKUP($A$147&$A120,[2]非表示!$A$1:$H$500,6,FALSE),0)) -> 44 | F120: =IF($A120="","",IFERROR(VLOOKUP($A$147&$A120,[2]非表示!$A$1:$H$500,7,FALSE),0)) -> 49 | J120: =IF($H120="","",IFERROR(VLOOKUP($H$147&$H120,[2]非表示!$A$1:$H$500,4,FALSE),0)) | K120: =IF($H120="","",IFERROR(VLOOKUP($H$147&$H120,[2]非表示!$A$1:$H$500,5,FALSE),0)) | L120: =IF($H120="","",IFERROR(VLOOKUP($H$147&$H120,[2]非表示!$A$1:$H$500,6,FALSE),0)) | M120: =IF($H120="","",IFERROR(VLOOKUP($H$147&$H120,[2]非表示!$A$1:$H$500,7,FALSE),0)) | O120: 15300 | P120: 安久谷 | Q120: =IF($O120="","",IFERROR(VLOOKUP($O$147&$O120,[2]非表示!$A$1:$H$500,4,FALSE),0)) -> 99 | R120: =IF($O120="","",IFERROR(VLOOKUP($O$147&$O120,[2]非表示!$A$1:$H$500,5,FALSE),0)) -> 238 | S120: =IF($O120="","",IFERROR(VLOOKUP($O$147&$O120,[2]非表示!$A$1:$H$500,6,FALSE),0)) -> 117 | T120: =IF($O120="","",IFERROR(VLOOKUP($O$147&$O120,[2]非表示!$A$1:$H$500,7,FALSE),0)) -> 121
