Workbook

Sheet 2015_01
A1: 42005 | O1: ★★ 全地区合計 ★★ | Q1: =SUM(C98,J98,Q49,Q98,C147,J147,Q147,C196,J196,Q196) -> 121562 | R1: =SUM(D98,K98,R49,R98,D147,K147,R147,D196,K196,R196) -> 280340 | S1: =SUM(E98,L98,S49,S98,E147,L147,S147,E196,L196,S196) -> 144003 | T1: =SUM(F98,M98,T49,T98,F147,M147,T147,F196,M196,T196) -> 136337
A2: CD | B2: 大字名 | C2: 世帯数 | D2: 総数 | E2: 男 | F2: 女 | H2: CD | I2: 大字名 | J2: 世帯数 | K2: 総数 | L2: 男 | M2: 女 | O2: CD | P2: 大字名 | Q2: 世帯数 | R2: 総数 | S2: 男 | T2: 女
A3: 1655 | B3: 千種５丁目 | C3: 214 | D3: 565 | E3: 286 | F3: 279 | H3: 7900 | I3: 平田 | J3: 818 | K3: 1691 | L3: 846 | M3: 845 | O3: 30101 | P3: 国分寺台中央１丁目 | Q3: 299 | R3: 702 | S3: 351 | T3: 351
A4: 1656 | B4: 千種６丁目 | C4: 109 | D4: 397 | E4: 205 | F4: 192 | H4: 8000 | I4: 五井 | J4: 7642 | K4: 16686 | L4: 8772 | M4: 7914 | O4: 30102 | P4: 国分寺台中央２丁目 | Q4: 330 | R4: 793 | S4: 411 | T4: 382
A5: 1657 | B5: 千種７丁目 | C5: 349 | D5: 873 | E5: 461 | F5: 412 | H5: 8051 | I5: 五井中央東１丁目 | J5: 322 | K5: 561 | L5: 298 | M5: 263 | O5: 30103 | P5: 国分寺台中央３丁目 | Q5: 250 | R5: 531 | S5: 289 | T5: 242
A6: 4300 | B6: 千種海岸 | C6: 2 | D6: 2 | E6: 2 | F6: 0 | H6: 8052 | I6: 五井中央東２丁目 | J6: 452 | K6: 793 | L6: 429 | M6: 364 | O6: 30104 | P6: 国分寺台中央４丁目 | Q6: 235 | R6: 557 | S6: 286 | T6: 271
A7: 4400 | B7: 五井南海岸 | C7: 1 | D7: 3 | E7: 0 | F7: 3 | H7: 8061 | I7: 五井中央西１丁目 | J7: 382 | K7: 733 | L7: 386 | M7: 347 | O7: 30105 | P7: 国分寺台中央５丁目 | Q7: 252 | R7: 667 | S7: 359 | T7: 308
A8: 4500 | B8: 五井海岸 | C8: 1 | D8: 1 | E8: 1 | F8: 0 | H8: 8062 | I8: 五井中央西２丁目 | J8: 252 | K8: 538 | L8: 273 | M8: 265 | O8: 30106 | P8: 国分寺台中央６丁目 | Q8: 224 | R8: 569 | S8: 259 | T8: 310
A9: 4600 | B9: 青柳 | C9: 1228 | D9: 2690 | E9: 1432 | F9: 1258 | H9: 8063 | I9: 五井中央西３丁目 | J9: 72 | K9: 151 | L9: 80 | M9: 71 | O9: 30107 | P9: 国分寺台中央７丁目 | Q9: 321 | R9: 748 | S9: 379 | T9: 369
A10: 4651 | B10: 青柳１丁目 | C10: 143 | D10: 300 | E10: 164 | F10: 136 | H10: 8101 | I10: 五井東１丁目 | J10: 637 | K10: 1205 | L10: 637 | M10: 568 | O10: 30201 | P10: 東国分寺台１丁目 | Q10: 324 | R10: 686 | S10: 366 | T10: 320
A11: 4652 | B11: 青柳２丁目 | C11: 83 | D11: 169 | E11: 95 | F11: 74 | H11: 8102 | I11: 五井東２丁目 | J11: 387 | K11: 891 | L11: 460 | M11: 431 | O11: 30202 | P11: 東国分寺台２丁目 | Q11: 196 | R11: 469 | S11: 228 | T11: 241
A12: 4653 | B12: 青柳３丁目 | C12: 182 | D12: 222 | E12: 143 | F12: 79 | H12: 8103 | I12: 五井東３丁目 | J12: 527 | K12: 1086 | L12: 586 | M12: 500 | O12: 30203 | P12: 東国分寺台３丁目 | Q12: 197 | R12: 503 | S12: 253 | T12: 250
A13: 4702 | B13: 青柳北２丁目 | C13: 4 | D13: 9 | E13: 4 | F13: 5 | H13: 8111 | I13: 更級１丁目 | J13: 110 | K13: 224 | L13: 123 | M13: 101 | O13: 30204 | P13: 東国分寺台４丁目 | Q13: 158 | R13: 371 | S13: 195 | T13: 176
A14: 4703 | B14: 青柳北３丁目 | C14: 20 | D14: 36 | E14: 22 | F14: 14 | H14: 8112 | I14: 更級２丁目 | J14: 63 | K14: 144 | L14: 66 | M14: 78 | O14: 30205 | P14: 東国分寺台５丁目 | Q14: 195 | R14: 429 | S14: 218 | T14: 211
... A37: 6700 | B37: 引田 | C37: 46 | D37: 125 | E37: 58 | F37: 67 | H37: 9100 | I37: 宮原 | J37: 8 | K37: 20 | L37: 11 | M37: 9 | O37: 30806 | P37: 西広６丁目 | Q37: 458 | R37: 1097 | S37: 558 | T37: 539
A38: 6800 | B38: 神代 | C38: 48 | D38: 127 | E38: 67 | F38: 60 | O38: 30901 | P38: 惣社１丁目 | Q38: 212 | R38: 502 | S38: 258 | T38: 244
A39: 6900 | B39: 十五沢 | C39: 50 | D39: 128 | E39: 56 | F39: 72 | O39: 30902 | P39: 惣社２丁目 | Q39: 167 | R39: 393 | S39: 198 | T39: 195
A40: 7000 | B40: 小折 | C40: 33 | D40: 74 | E40: 31 | F40: 43 | O40: 30903 | P40: 惣社３丁目 | Q40: 215 | R40: 511 | S40: 258 | T40: 253
A41: 7100 | B41: 西野 | C41: 50 | D41: 139 | E41: 71 | F41: 68 | O41: 30904 | P41: 惣社４丁目 | Q41: 166 | R41: 417 | S41: 218 | T41: 199
A42: 7200 | B42: 柳原 | C42: 57 | D42: 142 | E42: 68 | F42: 74 | O42: 30905 | P42: 惣社５丁目 | Q42: 241 | R42: 686 | S42: 330 | T42: 356
A43: 7300 | B43: 村上 | C43: 614 | D43: 1433 | E43: 713 | F43: 720 | O43: 31001 | P43: 加茂１丁目 | Q43: 199 | R43: 463 | S43: 237 | T43: 226
A44: 7400 | B44: 西広 | C44: 40 | D44: 96 | E44: 52 | F44: 44 | O44: 31002 | P44: 加茂２丁目 | Q44: 149 | R44: 376 | S44: 183 | T44: 193
A45: 7500 | B45: 惣社 | C45: 320 | D45: 677 | E45: 352 | F45: 325 | O45: 31101 | P45: 根田１丁目 | Q45: 161 | R45: 379 | S45: 193 | T45: 186
A46: 7600 | B46: 加茂 | C46: 3 | D46: 7 | E46: 3 | F46: 4 | O46: 31102 | P46: 根田２丁目 | Q46: 115 | R46: 220 | S46: 124 | T46: 96
A47: 7700 | B47: 根田 | C47: 112 | D47: 251 | E47: 131 | F47: 120 | O47: 31103 | P47: 根田３丁目 | Q47: 259 | R47: 548 | S47: 293 | T47: 255
A48: 7800 | B48: 岩野見 | C48: 145 | D48: 344 | E48: 165 | F48: 179 | O48: 31104 | P48: 根田４丁目 | Q48: 165 | R48: 414 | S48: 207 | T48: 207
O49: 五井地区_計 | Q49: =SUM(C3:C48,J3:J48,Q3:Q48) -> 39143 | R49: =SUM(D3:D48,K3:K48,R3:R48) -> 87751 | S49: =SUM(E3:E48,L3:L48,S3:S48) -> 45815 | T49: =SUM(F3:F48,M3:M48,T3:T48) -> 41936
A50: =A1 -> 42005
A51: CD | B51: 大字名 | C51: 世帯数 | D51: 総数 | E51: 男 | F51: 女 | H51: CD | I51: 大字名 | J51: 世帯数 | K51: 総数 | L51: 男 | M51: 女 | O51: CD | P51: 大字名 | Q51: 世帯数 | R51: 総数 | S51: 男 | T51: 女
A52: 100 | B52: 姉崎海岸 | C52: 32 | D52: 38 | E52: 34 | F52: 4 | H52: 1900 | I52: 八幡海岸通 | J52: 297 | K52: 396 | L52: 309 | M52: 87 | O52: 8400 | P52: 山倉 | Q52: 218 | R52: 487 | S52: 257 | T52: 230
A53: 200 | B53: 椎津 | C53: 1677 | D53: 3603 | E53: 1855 | F53: 1748 | H53: 2001 | I53: 八幡浦１丁目 | J53: 3 | K53: 3 | L53: 3 | M53: 0 | O53: 8500 | P53: 福増 | Q53: 294 | R53: 727 | S53: 372 | T53: 355
A54: 300 | B54: 姉崎 | C54: 5954 | D54: 12430 | E54: 6617 | F54: 5813 | H54: 2100 | I54: 八幡 | J54: 5468 | K54: 11400 | L54: 5942 | M54: 5458 | O54: 8600 | P54: 海士有木 | Q54: 529 | R54: 1289 | S54: 659 | T54: 630
A55: 321 | B55: 姉崎西１丁目 | C55: 197 | D55: 339 | E55: 216 | F55: 123 | H55: 2201 | I55: 八幡北町１丁目 | J55: 218 | K55: 284 | L55: 196 | M55: 88 | O55: 8700 | P55: 大坪 | Q55: 253 | R55: 594 | S55: 321 | T55: 273
A56: 322 | B56: 姉崎西２丁目 | C56: 202 | D56: 407 | E56: 211 | F56: 196 | H56: 2202 | I56: 八幡北町２丁目 | J56: 208 | K56: 383 | L56: 219 | M56: 164 | O56: 8800 | P56: 新生 | Q56: 89 | R56: 236 | S56: 127 | T56: 109
A57: 323 | B57: 姉崎西３丁目 | C57: 198 | D57: 428 | E57: 239 | F57: 189 | H57: 2203 | I57: 八幡北町３丁目 | J57: 133 | K57: 209 | L57: 129 | M57: 80 | O57: 8900 | P57: 権現堂 | Q57: 84 | R57: 232 | S57: 116 | T57: 116
A58: 1300 | B58: 畑木 | C58: 161 | D58: 308 | E58: 138 | F58: 170 | H58: 2301 | I58: 八幡石塚１丁目 | J58: 328 | K58: 689 | L58: 394 | M58: 295 | O58: 9000 | P58: 糸久 | Q58: 33 | R58: 91 | S58: 48 | T58: 43
A59: 1400 | B59: 柏原 | C59: 120 | D59: 257 | E59: 118 | F59: 139 | H59: 2302 | I59: 八幡石塚２丁目 | J59: 352 | K59: 722 | L59: 385 | M59: 337 | O59: 9100 | P59: 宮原 | Q59: 86 | R59: 196 | S59: 94 | T59: 102
A60: 1500 | B60: 白塚 | C60: 339 | D60: 754 | E60: 365 | F60: 389 | H60: 2400 | I60: 五所 | J60: 1282 | K60: 2925 | L60: 1505 | M60: 1420 | O60: 9200 | P60: 分目 | Q60: 78 | R60: 214 | S60: 108 | T60: 106
A61: 1600 | B61: 今津朝山 | C61: 991 | D61: 1972 | E61: 1101 | F61: 871 | H61: 2500 | I61: 旭五所 | J61: 458 | K61: 940 | L61: 503 | M61: 437 | O61: 9300 | P61: 浅井小向 | Q61: 56 | R61: 166 | S61: 77 | T61: 89
A62: 1651 | B62: 千種１丁目 | C62: 108 | D62: 174 | E62: 115 | F62: 59 | H62: 2600 | I62: 東五所 | J62: 966 | K62: 1944 | L62: 1035 | M62: 909 | O62: 9400 | P62: 相川 | Q62: 41 | R62: 91 | S62: 48 | T62: 43
...

Sheet 2015_02
A1: 42036 | O1: ★★ 全地区合計 ★★ | Q1: =SUM(C98,J98,Q49,Q98,C147,J147,Q147,C196,J196,Q196) -> 121595 | R1: =SUM(D98,K98,R49,R98,D147,K147,R147,D196,K196,R196) -> 280334 | S1: =SUM(E98,L98,S49,S98,E147,L147,S147,E196,L196,S196) -> 144021 | T1: =SUM(F98,M98,T49,T98,F147,M147,T147,F196,M196,T196) -> 136313
A2: CD | B2: 大字名 | C2: 世帯数 | D2: 総数 | E2: 男 | F2: 女 | H2: CD | I2: 大字名 | J2: 世帯数 | K2: 総数 | L2: 男 | M2: 女 | O2: CD | P2: 大字名 | Q2: 世帯数 | R2: 総数 | S2: 男 | T2: 女
A3: 1655 | B3: 千種５丁目 | C3: 211 | D3: 557 | E3: 281 | F3: 276 | H3: 7900 | I3: 平田 | J3: 818 | K3: 1690 | L3: 844 | M3: 846 | O3: 30101 | P3: 国分寺台中央１丁目 | Q3: 301 | R3: 701 | S3: 353 | T3: 348
A4: 1656 | B4: 千種６丁目 | C4: 109 | D4: 397 | E4: 205 | F4: 192 | H4: 8000 | I4: 五井 | J4: 7647 | K4: 16683 | L4: 8776 | M4: 7907 | O4: 30102 | P4: 国分寺台中央２丁目 | Q4: 328 | R4: 792 | S4: 411 | T4: 381
A5: 1657 | B5: 千種７丁目 | C5: 349 | D5: 871 | E5: 461 | F5: 410 | H5: 8051 | I5: 五井中央東１丁目 | J5: 322 | K5: 562 | L5: 298 | M5: 264 | O5: 30103 | P5: 国分寺台中央３丁目 | Q5: 254 | R5: 537 | S5: 291 | T5: 246
A6: 4300 | B6: 千種海岸 | C6: 2 | D6: 2 | E6: 2 | F6: 0 | H6: 8052 | I6: 五井中央東２丁目 | J6: 455 | K6: 797 | L6: 428 | M6: 369 | O6: 30104 | P6: 国分寺台中央４丁目 | Q6: 237 | R6: 557 | S6: 287 | T6: 270
A7: 4400 | B7: 五井南海岸 | C7: 1 | D7: 3 | E7: 0 | F7: 3 | H7: 8061 | I7: 五井中央西１丁目 | J7: 380 | K7: 729 | L7: 385 | M7: 344 | O7: 30105 | P7: 国分寺台中央５丁目 | Q7: 252 | R7: 667 | S7: 359 | T7: 308
A8: 4500 | B8: 五井海岸 | C8: 1 | D8: 1 | E8: 1 | F8: 0 | H8: 8062 | I8: 五井中央西２丁目 | J8: 250 | K8: 536 | L8: 271 | M8: 265 | O8: 30106 | P8: 国分寺台中央６丁目 | Q8: 227 | R8: 574 | S8: 262 | T8: 312
A9: 4600 | B9: 青柳 | C9: 1234 | D9: 2694 | E9: 1438 | F9: 1256 | H9: 8063 | I9: 五井中央西３丁目 | J9: 71 | K9: 150 | L9: 79 | M9: 71 | O9: 30107 | P9: 国分寺台中央７丁目 | Q9: 325 | R9: 755 | S9: 384 | T9: 371
A10: 4651 | B10: 青柳１丁目 | C10: 140 | D10: 295 | E10: 160 | F10: 135 | H10: 8101 | I10: 五井東１丁目 | J10: 636 | K10: 1202 | L10: 633 | M10: 569 | O10: 30201 | P10: 東国分寺台１丁目 | Q10: 326 | R10: 690 | S10: 367 | T10: 323
A11: 4652 | B11: 青柳２丁目 | C11: 83 | D11: 169 | E11: 94 | F11: 75 | H11: 8102 | I11: 五井東２丁目 | J11: 386 | K11: 887 | L11: 460 | M11: 427 | O11: 30202 | P11: 東国分寺台２丁目 | Q11: 195 | R11: 466 | S11: 225 | T11: 241
A12: 4653 | B12: 青柳３丁目 | C12: 181 | D12: 221 | E12: 142 | F12: 79 | H12: 8103 | I12: 五井東３丁目 | J12: 524 | K12: 1082 | L12: 583 | M12: 499 | O12: 30203 | P12: 東国分寺台３丁目 | Q12: 199 | R12: 506 | S12: 255 | T12: 251
A13: 4702 | B13: 青柳北２丁目 | C13: 4 | D13: 9 | E13: 4 | F13: 5 | H13: 8111 | I13: 更級１丁目 | J13: 110 | K13: 228 | L13: 127 | M13: 101 | O13: 30204 | P13: 東国分寺台４丁目 | Q13: 159 | R13: 376 | S13: 198 | T13: 178
A14: 4703 | B14: 青柳北３丁目 | C14: 20 | D14: 36 | E14: 22 | F14: 14 | H14: 8112 | I14: 更級２丁目 | J14: 63 | K14: 140 | L14: 63 | M14: 77 | O14: 30205 | P14: 東国分寺台５丁目 | Q14: 197 | R14: 431 | S14: 219 | T14: 212
... A37: 6700 | B37: 引田 | C37: 46 | D37: 125 | E37: 58 | F37: 67 | H37: 9100 | I37: 宮原 | J37: 8 | K37: 20 | L37: 11 | M37: 9 | O37: 30806 | P37: 西広６丁目 | Q37: 458 | R37: 1095 | S37: 557 | T37: 538
A38: 6800 | B38: 神代 | C38: 48 | D38: 127 | E38: 67 | F38: 60 | O38: 30901 | P38: 惣社１丁目 | Q38: 211 | R38: 500 | S38: 258 | T38: 242
A39: 6900 | B39: 十五沢 | C39: 50 | D39: 128 | E39: 56 | F39: 72 | O39: 30902 | P39: 惣社２丁目 | Q39: 167 | R39: 393 | S39: 197 | T39: 196
A40: 7000 | B40: 小折 | C40: 33 | D40: 74 | E40: 31 | F40: 43 | O40: 30903 | P40: 惣社３丁目 | Q40: 218 | R40: 518 | S40: 263 | T40: 255
A41: 7100 | B41: 西野 | C41: 50 | D41: 139 | E41: 71 | F41: 68 | O41: 30904 | P41: 惣社４丁目 | Q41: 165 | R41: 415 | S41: 217 | T41: 198
A42: 7200 | B42: 柳原 | C42: 56 | D42: 141 | E42: 67 | F42: 74 | O42: 30905 | P42: 惣社５丁目 | Q42: 240 | R42: 684 | S42: 328 | T42: 356
A43: 7300 | B43: 村上 | C43: 615 | D43: 1436 | E43: 716 | F43: 720 | O43: 31001 | P43: 加茂１丁目 | Q43: 197 | R43: 461 | S43: 236 | T43: 225
A44: 7400 | B44: 西広 | C44: 40 | D44: 96 | E44: 52 | F44: 44 | O44: 31002 | P44: 加茂２丁目 | Q44: 153 | R44: 383 | S44: 189 | T44: 194
A45: 7500 | B45: 惣社 | C45: 319 | D45: 676 | E45: 351 | F45: 325 | O45: 31101 | P45: 根田１丁目 | Q45: 163 | R45: 382 | S45: 196 | T45: 186
A46: 7600 | B46: 加茂 | C46: 3 | D46: 7 | E46: 3 | F46: 4 | O46: 31102 | P46: 根田２丁目 | Q46: 115 | R46: 222 | S46: 125 | T46: 97
A47: 7700 | B47: 根田 | C47: 110 | D47: 247 | E47: 129 | F47: 118 | O47: 31103 | P47: 根田３丁目 | Q47: 259 | R47: 544 | S47: 291 | T47: 253
A48: 7800 | B48: 岩野見 | C48: 145 | D48: 345 | E48: 166 | F48: 179 | O48: 31104 | P48: 根田４丁目 | Q48: 164 | R48: 413 | S48: 206 | T48: 207
O49: 五井地区_計 | Q49: =SUM(C3:C48,J3:J48,Q3:Q48) -> 39158 | R49: =SUM(D3:D48,K3:K48,R3:R48) -> 87748 | S49: =SUM(E3:E48,L3:L48,S3:S48) -> 45826 | T49: =SUM(F3:F48,M3:M48,T3:T48) -> 41922
A50: =A1 -> 42036
A51: CD | B51: 大字名 | C51: 世帯数 | D51: 総数 | E51: 男 | F51: 女 | H51: CD | I51: 大字名 | J51: 世帯数 | K51: 総数 | L51: 男 | M51: 女 | O51: CD | P51: 大字名 | Q51: 世帯数 | R51: 総数 | S51: 男 | T51: 女
A52: 100 | B52: 姉崎海岸 | C52: 32 | D52: 38 | E52: 34 | F52: 4 | H52: 1900 | I52: 八幡海岸通 | J52: 300 | K52: 401 | L52: 313 | M52: 88 | O52: 8400 | P52: 山倉 | Q52: 217 | R52: 486 | S52: 256 | T52: 230
A53: 200 | B53: 椎津 | C53: 1681 | D53: 3605 | E53: 1861 | F53: 1744 | H53: 2001 | I53: 八幡浦１丁目 | J53: 3 | K53: 3 | L53: 3 | M53: 0 | O53: 8500 | P53: 福増 | Q53: 293 | R53: 726 | S53: 372 | T53: 354
A54: 300 | B54: 姉崎 | C54: 5937 | D54: 12389 | E54: 6592 | F54: 5797 | H54: 2100 | I54: 八幡 | J54: 5463 | K54: 11395 | L54: 5943 | M54: 5452 | O54: 8600 | P54: 海士有木 | Q54: 525 | R54: 1284 | S54: 656 | T54: 628
A55: 321 | B55: 姉崎西１丁目 | C55: 201 | D55: 349 | E55: 221 | F55: 128 | H55: 2201 | I55: 八幡北町１丁目 | J55: 217 | K55: 285 | L55: 196 | M55: 89 | O55: 8700 | P55: 大坪 | Q55: 252 | R55: 589 | S55: 318 | T55: 271
A56: 322 | B56: 姉崎西２丁目 | C56: 200 | D56: 405 | E56: 209 | F56: 196 | H56: 2202 | I56: 八幡北町２丁目 | J56: 207 | K56: 381 | L56: 217 | M56: 164 | O56: 8800 | P56: 新生 | Q56: 89 | R56: 236 | S56: 128 | T56: 108
A57: 323 | B57: 姉崎西３丁目 | C57: 198 | D57: 429 | E57: 239 | F57: 190 | H57: 2203 | I57: 八幡北町３丁目 | J57: 132 | K57: 207 | L57: 127 | M57: 80 | O57: 8900 | P57: 権現堂 | Q57: 85 | R57: 235 | S57: 118 | T57: 117
A58: 1300 | B58: 畑木 | C58: 158 | D58: 306 | E58: 139 | F58: 167 | H58: 2301 | I58: 八幡石塚１丁目 | J58: 329 | K58: 693 | L58: 395 | M58: 298 | O58: 9000 | P58: 糸久 | Q58: 33 | R58: 91 | S58: 48 | T58: 43
A59: 1400 | B59: 柏原 | C59: 120 | D59: 257 | E59: 118 | F59: 139 | H59: 2302 | I59: 八幡石塚２丁目 | J59: 347 | K59: 719 | L59: 380 | M59: 339 | O59: 9100 | P59: 宮原 | Q59: 86 | R59: 196 | S59: 94 | T59: 102
A60: 1500 | B60: 白塚 | C60: 337 | D60: 756 | E60: 365 | F60: 391 | H60: 2400 | I60: 五所 | J60: 1285 | K60: 2927 | L60: 1509 | M60: 1418 | O60: 9200 | P60: 分目 | Q60: 78 | R60: 214 | S60: 108 | T60: 106
A61: 1600 | B61: 今津朝山 | C61: 997 | D61: 1982 | E61: 1109 | F61: 873 | H61: 2500 | I61: 旭五所 | J61: 459 | K61: 942 | L61: 504 | M61: 438 | O61: 9300 | P61: 浅井小向 | Q61: 56 | R61: 166 | S61: 77 | T61: 89
A62: 1651 | B62: 千種１丁目 | C62: 108 | D62: 174 | E62: 115 | F62: 59 | H62: 2600 | I62: 東五所 | J62: 970 | K62: 1955 | L62: 1035 | M62: 920 | O62: 9400 | P62: 相川 | Q62: 42 | R62: 91 | S62: 49 | T62: 42
...

Sheet 2015_03
A1: 42064 | O1: ★★ 全地区合計 ★★ | Q1: 121692 | R1: 280329 | S1: 144040 | T1: 136289
A2: CD | B2: 大字名 | C2: 世帯数 | D2: 総数 | E2: 男 | F2: 女 | H2: CD | I2: 大字名 | J2: 世帯数 | K2: 総数 | L2: 男 | M2: 女 | O2: CD | P2: 大字名 | Q2: 世帯数 | R2: 総数 | S2: 男 | T2: 女
A3: 1655 | B3: 千種５丁目 | C3: 211 | D3: 557 | E3: 280 | F3: 277 | H3: 7900 | I3: 平田 | J3: 812 | K3: 1683 | L3: 838 | M3: 845 | O3: 30101 | P3: 国分寺台中央１丁目 | Q3: 297 | R3: 693 | S3: 349 | T3: 344
A4: 1656 | B4: 千種６丁目 | C4: 109 | D4: 397 | E4: 205 | F4: 192 | H4: 8000 | I4: 五井 | J4: 7630 | K4: 16657 | L4: 8766 | M4: 7891 | O4: 30102 | P4: 国分寺台中央２丁目 | Q4: 331 | R4: 797 | S4: 415 | T4: 382
A5: 1657 | B5: 千種７丁目 | C5: 352 | D5: 871 | E5: 462 | F5: 409 | H5: 8051 | I5: 五井中央東１丁目 | J5: 323 | K5: 565 | L5: 303 | M5: 262 | O5: 30103 | P5: 国分寺台中央３丁目 | Q5: 261 | R5: 543 | S5: 296 | T5: 247
A6: 4300 | B6: 千種海岸 | C6: 2 | D6: 2 | E6: 2 | F6: 0 | H6: 8052 | I6: 五井中央東２丁目 | J6: 464 | K6: 812 | L6: 437 | M6: 375 | O6: 30104 | P6: 国分寺台中央４丁目 | Q6: 235 | R6: 552 | S6: 286 | T6: 266
A7: 4400 | B7: 五井南海岸 | C7: 1 | D7: 3 | E7: 0 | F7: 3 | H7: 8061 | I7: 五井中央西１丁目 | J7: 384 | K7: 734 | L7: 390 | M7: 344 | O7: 30105 | P7: 国分寺台中央５丁目 | Q7: 254 | R7: 671 | S7: 360 | T7: 311
A8: 4500 | B8: 五井海岸 | C8: 1 | D8: 1 | E8: 1 | F8: 0 | H8: 8062 | I8: 五井中央西２丁目 | J8: 255 | K8: 544 | L8: 277 | M8: 267 | O8: 30106 | P8: 国分寺台中央６丁目 | Q8: 229 | R8: 577 | S8: 264 | T8: 313
A9: 4600 | B9: 青柳 | C9: 1239 | D9: 2699 | E9: 1444 | F9: 1255 | H9: 8063 | I9: 五井中央西３丁目 | J9: 71 | K9: 150 | L9: 79 | M9: 71 | O9: 30107 | P9: 国分寺台中央７丁目 | Q9: 323 | R9: 752 | S9: 382 | T9: 370
A10: 4651 | B10: 青柳１丁目 | C10: 139 | D10: 294 | E10: 161 | F10: 133 | H10: 8101 | I10: 五井東１丁目 | J10: 649 | K10: 1211 | L10: 646 | M10: 565 | O10: 30201 | P10: 東国分寺台１丁目 | Q10: 320 | R10: 684 | S10: 355 | T10: 329
A11: 4652 | B11: 青柳２丁目 | C11: 83 | D11: 167 | E11: 93 | F11: 74 | H11: 8102 | I11: 五井東２丁目 | J11: 386 | K11: 888 | L11: 460 | M11: 428 | O11: 30202 | P11: 東国分寺台２丁目 | Q11: 192 | R11: 465 | S11: 224 | T11: 241
A12: 4653 | B12: 青柳３丁目 | C12: 183 | D12: 223 | E12: 145 | F12: 78 | H12: 8103 | I12: 五井東３丁目 | J12: 523 | K12: 1079 | L12: 582 | M12: 497 | O12: 30203 | P12: 東国分寺台３丁目 | Q12: 199 | R12: 504 | S12: 255 | T12: 249
A13: 4702 | B13: 青柳北２丁目 | C13: 4 | D13: 9 | E13: 4 | F13: 5 | H13: 8111 | I13: 更級１丁目 | J13: 125 | K13: 242 | L13: 141 | M13: 101 | O13: 30204 | P13: 東国分寺台４丁目 | Q13: 158 | R13: 374 | S13: 196 | T13: 178
A14: 4703 | B14: 青柳北３丁目 | C14: 20 | D14: 37 | E14: 22 | F14: 15 | H14: 8112 | I14: 更級２丁目 | J14: 70 | K14: 149 | L14: 69 | M14: 80 | O14: 30205 | P14: 東国分寺台５丁目 | Q14: 198 | R14: 430 | S14: 219 | T14: 211
... A37: 6700 | B37: 引田 | C37: 46 | D37: 125 | E37: 58 | F37: 67 | H37: 9100 | I37: 宮原 | J37: 8 | K37: 19 | L37: 10 | M37: 9 | O37: 30806 | P37: 西広６丁目 | Q37: 458 | R37: 1098 | S37: 557 | T37: 541
A38: 6800 | B38: 神代 | C38: 48 | D38: 125 | E38: 66 | F38: 59 | O38: 30901 | P38: 惣社１丁目 | Q38: 211 | R38: 503 | S38: 259 | T38: 244
A39: 6900 | B39: 十五沢 | C39: 50 | D39: 127 | E39: 56 | F39: 71 | O39: 30902 | P39: 惣社２丁目 | Q39: 164 | R39: 390 | S39: 195 | T39: 195
A40: 7000 | B40: 小折 | C40: 33 | D40: 75 | E40: 31 | F40: 44 | O40: 30903 | P40: 惣社３丁目 | Q40: 217 | R40: 516 | S40: 261 | T40: 255
A41: 7100 | B41: 西野 | C41: 50 | D41: 139 | E41: 71 | F41: 68 | O41: 30904 | P41: 惣社４丁目 | Q41: 167 | R41: 414 | S41: 216 | T41: 198
A42: 7200 | B42: 柳原 | C42: 55 | D42: 140 | E42: 66 | F42: 74 | O42: 30905 | P42: 惣社５丁目 | Q42: 239 | R42: 680 | S42: 326 | T42: 354
A43: 7300 | B43: 村上 | C43: 618 | D43: 1442 | E43: 720 | F43: 722 | O43: 31001 | P43: 加茂１丁目 | Q43: 197 | R43: 461 | S43: 235 | T43: 226
A44: 7400 | B44: 西広 | C44: 40 | D44: 96 | E44: 52 | F44: 44 | O44: 31002 | P44: 加茂２丁目 | Q44: 154 | R44: 385 | S44: 191 | T44: 194
A45: 7500 | B45: 惣社 | C45: 318 | D45: 677 | E45: 352 | F45: 325 | O45: 31101 | P45: 根田１丁目 | Q45: 160 | R45: 374 | S45: 192 | T45: 182
A46: 7600 | B46: 加茂 | C46: 3 | D46: 7 | E46: 3 | F46: 4 | O46: 31102 | P46: 根田２丁目 | Q46: 116 | R46: 223 | S46: 127 | T46: 96
A47: 7700 | B47: 根田 | C47: 111 | D47: 250 | E47: 130 | F47: 120 | O47: 31103 | P47: 根田３丁目 | Q47: 250 | R47: 532 | S47: 281 | T47: 251
A48: 7800 | B48: 岩野見 | C48: 145 | D48: 344 | E48: 166 | F48: 178 | O48: 31104 | P48: 根田４丁目 | Q48: 165 | R48: 413 | S48: 206 | T48: 207
O49: 五井地区_計 | Q49: 39197 | R49: 87729 | S49: 45845 | T49: 41884
A50: 42064
A51: CD | B51: 大字名 | C51: 世帯数 | D51: 総数 | E51: 男 | F51: 女 | H51: CD | I51: 大字名 | J51: 世帯数 | K51: 総数 | L51: 男 | M51: 女 | O51: CD | P51: 大字名 | Q51: 世帯数 | R51: 総数 | S51: 男 | T51: 女
A52: 100 | B52: 姉崎海岸 | C52: 32 | D52: 38 | E52: 34 | F52: 4 | H52: 1900 | I52: 八幡海岸通 | J52: 300 | K52: 402 | L52: 313 | M52: 89 | O52: 8400 | P52: 山倉 | Q52: 217 | R52: 485 | S52: 255 | T52: 230
A53: 200 | B53: 椎津 | C53: 1676 | D53: 3602 | E53: 1859 | F53: 1743 | H53: 2001 | I53: 八幡浦１丁目 | J53: 3 | K53: 3 | L53: 3 | M53: 0 | O53: 8500 | P53: 福増 | Q53: 293 | R53: 723 | S53: 371 | T53: 352
A54: 300 | B54: 姉崎 | C54: 5953 | D54: 12400 | E54: 6606 | F54: 5794 | H54: 2100 | I54: 八幡 | J54: 5467 | K54: 11383 | L54: 5941 | M54: 5442 | O54: 8600 | P54: 海士有木 | Q54: 528 | R54: 1287 | S54: 659 | T54: 628
A55: 321 | B55: 姉崎西１丁目 | C55: 200 | D55: 345 | E55: 218 | F55: 127 | H55: 2201 | I55: 八幡北町１丁目 | J55: 217 | K55: 288 | L55: 198 | M55: 90 | O55: 8700 | P55: 大坪 | Q55: 252 | R55: 590 | S55: 320 | T55: 270
A56: 322 | B56: 姉崎西２丁目 | C56: 200 | D56: 406 | E56: 208 | F56: 198 | H56: 2202 | I56: 八幡北町２丁目 | J56: 208 | K56: 381 | L56: 218 | M56: 163 | O56: 8800 | P56: 新生 | Q56: 88 | R56: 235 | S56: 127 | T56: 108
A57: 323 | B57: 姉崎西３丁目 | C57: 199 | D57: 433 | E57: 242 | F57: 191 | H57: 2203 | I57: 八幡北町３丁目 | J57: 132 | K57: 206 | L57: 127 | M57: 79 | O57: 8900 | P57: 権現堂 | Q57: 85 | R57: 233 | S57: 117 | T57: 116
A58: 1300 | B58: 畑木 | C58: 157 | D58: 303 | E58: 137 | F58: 166 | H58: 2301 | I58: 八幡石塚１丁目 | J58: 334 | K58: 702 | L58: 400 | M58: 302 | O58: 9000 | P58: 糸久 | Q58: 33 | R58: 91 | S58: 48 | T58: 43
A59: 1400 | B59: 柏原 | C59: 119 | D59: 256 | E59: 118 | F59: 138 | H59: 2302 | I59: 八幡石塚２丁目 | J59: 350 | K59: 723 | L59: 383 | M59: 340 | O59: 9100 | P59: 宮原 | Q59: 86 | R59: 197 | S59: 95 | T59: 102
A60: 1500 | B60: 白塚 | C60: 337 | D60: 754 | E60: 365 | F60: 389 | H60: 2400 | I60: 五所 | J60: 1293 | K60: 2935 | L60: 1516 | M60: 1419 | O60: 9200 | P60: 分目 | Q60: 79 | R60: 214 | S60: 108 | T60: 106
A61: 1600 | B61: 今津朝山 | C61: 995 | D61: 1985 | E61: 1109 | F61: 876 | H61: 2500 | I61: 旭五所 | J61: 459 | K61: 935 | L61: 501 | M61: 434 | O61: 9300 | P61: 浅井小向 | Q61: 56 | R61: 166 | S61: 77 | T61: 89
A62: 1651 | B62: 千種１丁目 | C62: 107 | D62: 171 | E62: 114 | F62: 57 | H62: 2600 | I62: 東五所 | J62: 971 | K62: 1957 | L62: 1034 | M62: 923 | O62: 9400 | P62: 相川 | Q62: 42 | R62: 91 | S62: 49 | T62: 42
...

Sheet 2015_04
A1: 42095 | O1: ★★ 全地区合計 ★★ | Q1: 122155 | R1: 280225 | S1: 144057 | T1: 136168
A2: CD | B2: 大字名 | C2: 世帯数 | D2: 総数 | E2: 男 | F2: 女 | H2: CD | I2: 大字名 | J2: 世帯数 | K2: 総数 | L2: 男 | M2: 女 | O2: CD | P2: 大字名 | Q2: 世帯数 | R2: 総数 | S2: 男 | T2: 女
A3: 1655 | B3: 千種５丁目 | C3: 209 | D3: 554 | E3: 278 | F3: 276 | H3: 7900 | I3: 平田 | J3: 820 | K3: 1684 | L3: 843 | M3: 841 | O3: 30101 | P3: 国分寺台中央１丁目 | Q3: 299 | R3: 692 | S3: 349 | T3: 343
A4: 1656 | B4: 千種６丁目 | C4: 109 | D4: 397 | E4: 205 | F4: 192 | H4: 8000 | I4: 五井 | J4: 7670 | K4: 16681 | L4: 8766 | M4: 7915 | O4: 30102 | P4: 国分寺台中央２丁目 | Q4: 333 | R4: 793 | S4: 413 | T4: 380
A5: 1657 | B5: 千種７丁目 | C5: 351 | D5: 867 | E5: 463 | F5: 404 | H5: 8051 | I5: 五井中央東１丁目 | J5: 319 | K5: 558 | L5: 300 | M5: 258 | O5: 30103 | P5: 国分寺台中央３丁目 | Q5: 260 | R5: 535 | S5: 293 | T5: 242
A6: 4300 | B6: 千種海岸 | C6: 2 | D6: 2 | E6: 2 | F6: 0 | H6: 8052 | I6: 五井中央東２丁目 | J6: 468 | K6: 817 | L6: 439 | M6: 378 | O6: 30104 | P6: 国分寺台中央４丁目 | Q6: 236 | R6: 550 | S6: 284 | T6: 266
A7: 4400 | B7: 五井南海岸 | C7: 1 | D7: 3 | E7: 0 | F7: 3 | H7: 8061 | I7: 五井中央西１丁目 | J7: 388 | K7: 740 | L7: 397 | M7: 343 | O7: 30105 | P7: 国分寺台中央５丁目 | Q7: 254 | R7: 671 | S7: 358 | T7: 313
A8: 4600 | B8: 青柳 | C8: 1246 | D8: 2703 | E8: 1445 | F8: 1258 | H8: 8062 | I8: 五井中央西２丁目 | J8: 264 | K8: 555 | L8: 282 | M8: 273 | O8: 30106 | P8: 国分寺台中央６丁目 | Q8: 229 | R8: 582 | S8: 268 | T8: 314
A9: 4651 | B9: 青柳１丁目 | C9: 138 | D9: 293 | E9: 161 | F9: 132 | H9: 8063 | I9: 五井中央西３丁目 | J9: 73 | K9: 151 | L9: 79 | M9: 72 | O9: 30107 | P9: 国分寺台中央７丁目 | Q9: 326 | R9: 755 | S9: 385 | T9: 370
A10: 4652 | B10: 青柳２丁目 | C10: 84 | D10: 167 | E10: 93 | F10: 74 | H10: 8101 | I10: 五井東１丁目 | J10: 649 | K10: 1203 | L10: 642 | M10: 561 | O10: 30201 | P10: 東国分寺台１丁目 | Q10: 330 | R10: 693 | S10: 369 | T10: 324
A11: 4653 | B11: 青柳３丁目 | C11: 183 | D11: 224 | E11: 146 | F11: 78 | H11: 8102 | I11: 五井東２丁目 | J11: 382 | K11: 874 | L11: 455 | M11: 419 | O11: 30202 | P11: 東国分寺台２丁目 | Q11: 192 | R11: 462 | S11: 222 | T11: 240
A12: 4702 | B12: 青柳北２丁目 | C12: 4 | D12: 9 | E12: 4 | F12: 5 | H12: 8103 | I12: 五井東３丁目 | J12: 531 | K12: 1087 | L12: 589 | M12: 498 | O12: 30203 | P12: 東国分寺台３丁目 | Q12: 196 | R12: 498 | S12: 249 | T12: 249
A13: 4703 | B13: 青柳北３丁目 | C13: 20 | D13: 37 | E13: 22 | F13: 15 | H13: 8111 | I13: 更級１丁目 | J13: 133 | K13: 245 | L13: 143 | M13: 102 | O13: 30204 | P13: 東国分寺台４丁目 | Q13: 161 | R13: 377 | S13: 197 | T13: 180
A14: 4704 | B14: 青柳北４丁目 | C14: 43 | D14: 84 | E14: 48 | F14: 36 | H14: 8112 | I14: 更級２丁目 | J14: 71 | K14: 152 | L14: 70 | M14: 82 | O14: 30205 | P14: 東国分寺台５丁目 | Q14: 202 | R14: 433 | S14: 221 | T14: 212
... A37: 6800 | B37: 神代 | C37: 48 | D37: 125 | E37: 66 | F37: 59 | H37: 9100 | I37: 宮原 | J37: 8 | K37: 19 | L37: 10 | M37: 9 | O37: 30806 | P37: 西広６丁目 | Q37: 458 | R37: 1089 | S37: 551 | T37: 538
A38: 6900 | B38: 十五沢 | C38: 51 | D38: 129 | E38: 57 | F38: 72 | O38: 30901 | P38: 惣社１丁目 | Q38: 211 | R38: 503 | S38: 259 | T38: 244
A39: 7000 | B39: 小折 | C39: 33 | D39: 75 | E39: 31 | F39: 44 | O39: 30902 | P39: 惣社２丁目 | Q39: 165 | R39: 389 | S39: 193 | T39: 196
A40: 7100 | B40: 西野 | C40: 50 | D40: 136 | E40: 70 | F40: 66 | O40: 30903 | P40: 惣社３丁目 | Q40: 218 | R40: 517 | S40: 259 | T40: 258
A41: 7200 | B41: 柳原 | C41: 55 | D41: 135 | E41: 64 | F41: 71 | O41: 30904 | P41: 惣社４丁目 | Q41: 172 | R41: 431 | S41: 226 | T41: 205
A42: 7300 | B42: 村上 | C42: 619 | D42: 1445 | E42: 722 | F42: 723 | O42: 30905 | P42: 惣社５丁目 | Q42: 237 | R42: 675 | S42: 322 | T42: 353
A43: 7400 | B43: 西広 | C43: 40 | D43: 95 | E43: 51 | F43: 44 | O43: 31001 | P43: 加茂１丁目 | Q43: 198 | R43: 460 | S43: 235 | T43: 225
A44: 7500 | B44: 惣社 | C44: 318 | D44: 676 | E44: 352 | F44: 324 | O44: 31002 | P44: 加茂２丁目 | Q44: 159 | R44: 390 | S44: 193 | T44: 197
A45: 7600 | B45: 加茂 | C45: 3 | D45: 7 | E45: 3 | F45: 4 | O45: 31101 | P45: 根田１丁目 | Q45: 161 | R45: 375 | S45: 190 | T45: 185
A46: 7700 | B46: 根田 | C46: 107 | D46: 237 | E46: 121 | F46: 116 | O46: 31102 | P46: 根田２丁目 | Q46: 117 | R46: 222 | S46: 128 | T46: 94
A47: 7800 | B47: 岩野見 | C47: 143 | D47: 342 | E47: 164 | F47: 178 | O47: 31103 | P47: 根田３丁目 | Q47: 269 | R47: 550 | S47: 296 | T47: 254
O48: 31104 | P48: 根田４丁目 | Q48: 165 | R48: 412 | S48: 205 | T48: 207
O49: 五井地区_計 | Q49: 39367 | R49: 87728 | S49: 45862 | T49: 41866
A50: 42095
A51: CD | B51: 大字名 | C51: 世帯数 | D51: 総数 | E51: 男 | F51: 女 | H51: CD | I51: 大字名 | J51: 世帯数 | K51: 総数 | L51: 男 | M51: 女 | O51: CD | P51: 大字名 | Q51: 世帯数 | R51: 総数 | S51: 男 | T51: 女
A52: 100 | B52: 姉崎海岸 | C52: 32 | D52: 38 | E52: 34 | F52: 4 | H52: 1900 | I52: 八幡海岸通 | J52: 314 | K52: 416 | L52: 326 | M52: 90 | O52: 8400 | P52: 山倉 | Q52: 218 | R52: 482 | S52: 255 | T52: 227
A53: 200 | B53: 椎津 | C53: 1674 | D53: 3595 | E53: 1858 | F53: 1737 | H53: 2001 | I53: 八幡浦１丁目 | J53: 3 | K53: 3 | L53: 3 | M53: 0 | O53: 8500 | P53: 福増 | Q53: 293 | R53: 721 | S53: 370 | T53: 351
A54: 300 | B54: 姉崎 | C54: 5975 | D54: 12388 | E54: 6601 | F54: 5787 | H54: 2100 | I54: 八幡 | J54: 5502 | K54: 11386 | L54: 5944 | M54: 5442 | O54: 8600 | P54: 海士有木 | Q54: 528 | R54: 1289 | S54: 658 | T54: 631
A55: 321 | B55: 姉崎西１丁目 | C55: 205 | D55: 348 | E55: 222 | F55: 126 | H55: 2201 | I55: 八幡北町１丁目 | J55: 221 | K55: 298 | L55: 203 | M55: 95 | O55: 8700 | P55: 大坪 | Q55: 253 | R55: 593 | S55: 321 | T55: 272
A56: 322 | B56: 姉崎西２丁目 | C56: 205 | D56: 415 | E56: 216 | F56: 199 | H56: 2202 | I56: 八幡北町２丁目 | J56: 208 | K56: 380 | L56: 218 | M56: 162 | O56: 8800 | P56: 新生 | Q56: 89 | R56: 240 | S56: 131 | T56: 109
A57: 323 | B57: 姉崎西３丁目 | C57: 206 | D57: 439 | E57: 245 | F57: 194 | H57: 2203 | I57: 八幡北町３丁目 | J57: 135 | K57: 209 | L57: 130 | M57: 79 | O57: 8900 | P57: 権現堂 | Q57: 85 | R57: 232 | S57: 117 | T57: 115
A58: 1300 | B58: 畑木 | C58: 163 | D58: 306 | E58: 139 | F58: 167 | H58: 2301 | I58: 八幡石塚１丁目 | J58: 336 | K58: 704 | L58: 401 | M58: 303 | O58: 9000 | P58: 糸久 | Q58: 33 | R58: 91 | S58: 48 | T58: 43
A59: 1400 | B59: 柏原 | C59: 119 | D59: 256 | E59: 118 | F59: 138 | H59: 2302 | I59: 八幡石塚２丁目 | J59: 352 | K59: 724 | L59: 385 | M59: 339 | O59: 9100 | P59: 宮原 | Q59: 86 | R59: 194 | S59: 94 | T59: 100
A60: 1500 | B60: 白塚 | C60: 338 | D60: 755 | E60: 366 | F60: 389 | H60: 2400 | I60: 五所 | J60: 1293 | K60: 2930 | L60: 1516 | M60: 1414 | O60: 9200 | P60: 分目 | Q60: 79 | R60: 213 | S60: 108 | T60: 105
A61: 1600 | B61: 今津朝山 | C61: 996 | D61: 1989 | E61: 1112 | F61: 877 | H61: 2500 | I61: 旭五所 | J61: 463 | K61: 942 | L61: 505 | M61: 437 | O61: 9300 | P61: 浅井小向 | Q61: 57 | R61: 167 | S61: 78 | T61: 89
A62: 1651 | B62: 千種１丁目 | C62: 107 | D62: 170 | E62: 115 | F62: 55 | H62: 2600 | I62: 東五所 | J62: 972 | K62: 1950 | L62: 1032 | M62: 918 | O62: 9400 | P62: 相川 | Q62: 42 | R62: 91 | S62: 49 | T62: 42
...

Sheet 2015_05
A1: 42125 | O1: ★★ 全地区合計 ★★ | Q1: =SUM(C98,J98,Q49,Q98,C147,J147,Q147,C196,J196,Q196) -> 122395 | R1: =SUM(D98,K98,R49,R98,D147,K147,R147,D196,K196,R196) -> 280285 | S1: =SUM(E98,L98,S49,S98,E147,L147,S147,E196,L196,S196) -> 144094 | T1: =SUM(F98,M98,T49,T98,F147,M147,T147,F196,M196,T196) -> 136191
A2: CD | B2: 大字名 | C2: 世帯数 | D2: 総数 | E2: 男 | F2: 女 | H2: CD | I2: 大字名 | J2: 世帯数 | K2: 総数 | L2: 男 | M2: 女 | O2: CD | P2: 大字名 | Q2: 世帯数 | R2: 総数 | S2: 男 | T2: 女
A3: 1655 | B3: 千種５丁目 | C3: 210 | D3: 553 | E3: 279 | F3: 274 | H3: 7900 | I3: 平田 | J3: 822 | K3: 1683 | L3: 841 | M3: 842 | O3: 30101 | P3: 国分寺台中央１丁目 | Q3: 296 | R3: 685 | S3: 345 | T3: 340
A4: 1656 | B4: 千種６丁目 | C4: 109 | D4: 397 | E4: 205 | F4: 192 | H4: 8000 | I4: 五井 | J4: 7696 | K4: 16697 | L4: 8783 | M4: 7914 | O4: 30102 | P4: 国分寺台中央２丁目 | Q4: 334 | R4: 792 | S4: 412 | T4: 380
A5: 1657 | B5: 千種７丁目 | C5: 354 | D5: 866 | E5: 464 | F5: 402 | H5: 8051 | I5: 五井中央東１丁目 | J5: 314 | K5: 553 | L5: 295 | M5: 258 | O5: 30103 | P5: 国分寺台中央３丁目 | Q5: 262 | R5: 537 | S5: 295 | T5: 242
A6: 4300 | B6: 千種海岸 | C6: 2 | D6: 2 | E6: 2 | F6: 0 | H6: 8052 | I6: 五井中央東２丁目 | J6: 467 | K6: 813 | L6: 436 | M6: 377 | O6: 30104 | P6: 国分寺台中央４丁目 | Q6: 241 | R6: 556 | S6: 286 | T6: 270
A7: 4400 | B7: 五井南海岸 | C7: 1 | D7: 3 | E7: 0 | F7: 3 | H7: 8061 | I7: 五井中央西１丁目 | J7: 393 | K7: 743 | L7: 402 | M7: 341 | O7: 30105 | P7: 国分寺台中央５丁目 | Q7: 254 | R7: 669 | S7: 358 | T7: 311
A8: 4600 | B8: 青柳 | C8: 1254 | D8: 2707 | E8: 1448 | F8: 1259 | H8: 8062 | I8: 五井中央西２丁目 | J8: 267 | K8: 555 | L8: 284 | M8: 271 | O8: 30106 | P8: 国分寺台中央６丁目 | Q8: 228 | R8: 580 | S8: 268 | T8: 312
A9: 4651 | B9: 青柳１丁目 | C9: 141 | D9: 299 | E9: 163 | F9: 136 | H9: 8063 | I9: 五井中央西３丁目 | J9: 74 | K9: 152 | L9: 80 | M9: 72 | O9: 30107 | P9: 国分寺台中央７丁目 | Q9: 327 | R9: 759 | S9: 388 | T9: 371
A10: 4652 | B10: 青柳２丁目 | C10: 84 | D10: 168 | E10: 94 | F10: 74 | H10: 8101 | I10: 五井東１丁目 | J10: 642 | K10: 1191 | L10: 641 | M10: 550 | O10: 30201 | P10: 東国分寺台１丁目 | Q10: 333 | R10: 692 | S10: 369 | T10: 323
A11: 4653 | B11: 青柳３丁目 | C11: 184 | D11: 225 | E11: 148 | F11: 77 | H11: 8102 | I11: 五井東２丁目 | J11: 380 | K11: 865 | L11: 449 | M11: 416 | O11: 30202 | P11: 東国分寺台２丁目 | Q11: 188 | R11: 457 | S11: 219 | T11: 238
A12: 4702 | B12: 青柳北２丁目 | C12: 4 | D12: 9 | E12: 4 | F12: 5 | H12: 8103 | I12: 五井東３丁目 | J12: 537 | K12: 1097 | L12: 596 | M12: 501 | O12: 30203 | P12: 東国分寺台３丁目 | Q12: 197 | R12: 500 | S12: 249 | T12: 251
A13: 4703 | B13: 青柳北３丁目 | C13: 20 | D13: 37 | E13: 22 | F13: 15 | H13: 8111 | I13: 更級１丁目 | J13: 136 | K13: 245 | L13: 143 | M13: 102 | O13: 30204 | P13: 東国分寺台４丁目 | Q13: 160 | R13: 377 | S13: 199 | T13: 178
A14: 4704 | B14: 青柳北４丁目 | C14: 44 | D14: 87 | E14: 50 | F14: 37 | H14: 8112 | I14: 更級２丁目 | J14: 69 | K14: 149 | L14: 69 | M14: 80 | O14: 30205 | P14: 東国分寺台５丁目 | Q14: 204 | R14: 437 | S14: 222 | T14: 215
... A37: 6800 | B37: 神代 | C37: 48 | D37: 125 | E37: 66 | F37: 59 | H37: 9100 | I37: 宮原 | J37: 8 | K37: 19 | L37: 10 | M37: 9 | O37: 30806 | P37: 西広６丁目 | Q37: 460 | R37: 1091 | S37: 552 | T37: 539
A38: 6900 | B38: 十五沢 | C38: 51 | D38: 129 | E38: 57 | F38: 72 | J38: =IF($H38="","",VLOOKUP($H38,[1]最新data!$A$1:$H$375,3,FALSE)) | K38: =IF($H38="","",VLOOKUP($H38,[1]最新data!$A$1:$H$375,4,FALSE)) | L38: =IF($H38="","",VLOOKUP($H38,[1]最新data!$A$1:$H$375,5,FALSE)) | M38: =IF($H38="","",VLOOKUP($H38,[1]最新data!$A$1:$H$375,6,FALSE)) | O38: 30901 | P38: 惣社１丁目 | Q38: 211 | R38: 501 | S38: 258 | T38: 243
A39: 7000 | B39: 小折 | C39: 33 | D39: 75 | E39: 31 | F39: 44 | J39: =IF($H39="","",VLOOKUP($H39,[1]最新data!$A$1:$H$375,3,FALSE)) | K39: =IF($H39="","",VLOOKUP($H39,[1]最新data!$A$1:$H$375,4,FALSE)) | L39: =IF($H39="","",VLOOKUP($H39,[1]最新data!$A$1:$H$375,5,FALSE)) | M39: =IF($H39="","",VLOOKUP($H39,[1]最新data!$A$1:$H$375,6,FALSE)) | O39: 30902 | P39: 惣社２丁目 | Q39: 167 | R39: 393 | S39: 194 | T39: 199
A40: 7100 | B40: 西野 | C40: 50 | D40: 136 | E40: 70 | F40: 66 | J40: =IF($H40="","",VLOOKUP($H40,[1]最新data!$A$1:$H$375,3,FALSE)) | K40: =IF($H40="","",VLOOKUP($H40,[1]最新data!$A$1:$H$375,4,FALSE)) | L40: =IF($H40="","",VLOOKUP($H40,[1]最新data!$A$1:$H$375,5,FALSE)) | M40: =IF($H40="","",VLOOKUP($H40,[1]最新data!$A$1:$H$375,6,FALSE)) | O40: 30903 | P40: 惣社３丁目 | Q40: 217 | R40: 516 | S40: 258 | T40: 258
A41: 7200 | B41: 柳原 | C41: 54 | D41: 135 | E41: 64 | F41: 71 | J41: =IF($H41="","",VLOOKUP($H41,[1]最新data!$A$1:$H$375,3,FALSE)) | K41: =IF($H41="","",VLOOKUP($H41,[1]最新data!$A$1:$H$375,4,FALSE)) | L41: =IF($H41="","",VLOOKUP($H41,[1]最新data!$A$1:$H$375,5,FALSE)) | M41: =IF($H41="","",VLOOKUP($H41,[1]最新data!$A$1:$H$375,6,FALSE)) | O41: 30904 | P41: 惣社４丁目 | Q41: 173 | R41: 434 | S41: 227 | T41: 207
A42: 7300 | B42: 村上 | C42: 620 | D42: 1444 | E42: 722 | F42: 722 | J42: =IF($H42="","",VLOOKUP($H42,[1]最新data!$A$1:$H$375,3,FALSE)) | K42: =IF($H42="","",VLOOKUP($H42,[1]最新data!$A$1:$H$375,4,FALSE)) | L42: =IF($H42="","",VLOOKUP($H42,[1]最新data!$A$1:$H$375,5,FALSE)) | M42: =IF($H42="","",VLOOKUP($H42,[1]最新data!$A$1:$H$375,6,FALSE)) | O42: 30905 | P42: 惣社５丁目 | Q42: 237 | R42: 673 | S42: 322 | T42: 351
A43: 7400 | B43: 西広 | C43: 41 | D43: 96 | E43: 51 | F43: 45 | J43: =IF($H43="","",VLOOKUP($H43,[1]最新data!$A$1:$H$375,3,FALSE)) | K43: =IF($H43="","",VLOOKUP($H43,[1]最新data!$A$1:$H$375,4,FALSE)) | L43: =IF($H43="","",VLOOKUP($H43,[1]最新data!$A$1:$H$375,5,FALSE)) | M43: =IF($H43="","",VLOOKUP($H43,[1]最新data!$A$1:$H$375,6,FALSE)) | O43: 31001 | P43: 加茂１丁目 | Q43: 198 | R43: 457 | S43: 233 | T43: 224
A44: 7500 | B44: 惣社 | C44: 318 | D44: 677 | E44: 350 | F44: 327 | J44: =IF($H44="","",VLOOKUP($H44,[1]最新data!$A$1:$H$375,3,FALSE)) | K44: =IF($H44="","",VLOOKUP($H44,[1]最新data!$A$1:$H$375,4,FALSE)) | L44: =IF($H44="","",VLOOKUP($H44,[1]最新data!$A$1:$H$375,5,FALSE)) | M44: =IF($H44="","",VLOOKUP($H44,[1]最新data!$A$1:$H$375,6,FALSE)) | O44: 31002 | P44: 加茂２丁目 | Q44: 159 | R44: 388 | S44: 193 | T44: 195
A45: 7600 | B45: 加茂 | C45: 3 | D45: 7 | E45: 3 | F45: 4 | J45: =IF($H45="","",VLOOKUP($H45,[1]最新data!$A$1:$H$375,3,FALSE)) | K45: =IF($H45="","",VLOOKUP($H45,[1]最新data!$A$1:$H$375,4,FALSE)) | L45: =IF($H45="","",VLOOKUP($H45,[1]最新data!$A$1:$H$375,5,FALSE)) | M45: =IF($H45="","",VLOOKUP($H45,[1]最新data!$A$1:$H$375,6,FALSE)) | O45: 31101 | P45: 根田１丁目 | Q45: 161 | R45: 375 | S45: 190 | T45: 185
A46: 7700 | B46: 根田 | C46: 108 | D46: 237 | E46: 120 | F46: 117 | J46: =IF($H46="","",VLOOKUP($H46,[1]最新data!$A$1:$H$375,3,FALSE)) | K46: =IF($H46="","",VLOOKUP($H46,[1]最新data!$A$1:$H$375,4,FALSE)) | L46: =IF($H46="","",VLOOKUP($H46,[1]最新data!$A$1:$H$375,5,FALSE)) | M46: =IF($H46="","",VLOOKUP($H46,[1]最新data!$A$1:$H$375,6,FALSE)) | O46: 31102 | P46: 根田２丁目 | Q46: 118 | R46: 220 | S46: 129 | T46: 91
A47: 7800 | B47: 岩野見 | C47: 143 | D47: 342 | E47: 164 | F47: 178 | J47: =IF($H47="","",VLOOKUP($H47,[1]最新data!$A$1:$H$375,3,FALSE)) | K47: =IF($H47="","",VLOOKUP($H47,[1]最新data!$A$1:$H$375,4,FALSE)) | L47: =IF($H47="","",VLOOKUP($H47,[1]最新data!$A$1:$H$375,5,FALSE)) | M47: =IF($H47="","",VLOOKUP($H47,[1]最新data!$A$1:$H$375,6,FALSE)) | O47: 31103 | P47: 根田３丁目 | Q47: 273 | R47: 561 | S47: 301 | T47: 260
J48: =IF($H48="","",VLOOKUP($H48,[1]最新data!$A$1:$H$375,3,FALSE)) | K48: =IF($H48="","",VLOOKUP($H48,[1]最新data!$A$1:$H$375,4,FALSE)) | L48: =IF($H48="","",VLOOKUP($H48,[1]最新data!$A$1:$H$375,5,FALSE)) | M48: =IF($H48="","",VLOOKUP($H48,[1]最新data!$A$1:$H$375,6,FALSE)) | O48: 31104 | P48: 根田４丁目 | Q48: 166 | R48: 414 | S48: 206 | T48: 208
O49: 五井地区_計 | Q49: =SUM(C3:C48,J3:J48,Q3:Q48) -> 39460 | R49: =SUM(D3:D48,K3:K48,R3:R48) -> 87734 | S49: =SUM(E3:E48,L3:L48,S3:S48) -> 45901 | T49: =SUM(F3:F48,M3:M48,T3:T48) -> 41833
A50: =A1 -> 42125
A51: CD | B51: 大字名 | C51: 世帯数 | D51: 総数 | E51: 男 | F51: 女 | H51: CD | I51: 大字名 | J51: 世帯数 | K51: 総数 | L51: 男 | M51: 女 | O51: CD | P51: 大字名 | Q51: 世帯数 | R51: 総数 | S51: 男 | T51: 女
A52: 100 | B52: 姉崎海岸 | C52: 32 | D52: 38 | E52: 34 | F52: 4 | H52: 1900 | I52: 八幡海岸通 | J52: 303 | K52: 407 | L52: 316 | M52: 91 | O52: 8400 | P52: 山倉 | Q52: 221 | R52: 488 | S52: 258 | T52: 230
A53: 200 | B53: 椎津 | C53: 1666 | D53: 3580 | E53: 1851 | F53: 1729 | H53: 2001 | I53: 八幡浦１丁目 | J53: 3 | K53: 3 | L53: 3 | M53: 0 | O53: 8500 | P53: 福増 | Q53: 293 | R53: 721 | S53: 371 | T53: 350
A54: 300 | B54: 姉崎 | C54: 5985 | D54: 12403 | E54: 6609 | F54: 5794 | H54: 2100 | I54: 八幡 | J54: 5513 | K54: 11385 | L54: 5938 | M54: 5447 | O54: 8600 | P54: 海士有木 | Q54: 527 | R54: 1288 | S54: 655 | T54: 633
A55: 321 | B55: 姉崎西１丁目 | C55: 208 | D55: 350 | E55: 225 | F55: 125 | H55: 2201 | I55: 八幡北町１丁目 | J55: 221 | K55: 298 | L55: 205 | M55: 93 | O55: 8700 | P55: 大坪 | Q55: 251 | R55: 588 | S55: 318 | T55: 270
A56: 322 | B56: 姉崎西２丁目 | C56: 205 | D56: 417 | E56: 218 | F56: 199 | H56: 2202 | I56: 八幡北町２丁目 | J56: 210 | K56: 383 | L56: 220 | M56: 163 | O56: 8800 | P56: 新生 | Q56: 89 | R56: 238 | S56: 130 | T56: 108
A57: 323 | B57: 姉崎西３丁目 | C57: 207 | D57: 441 | E57: 245 | F57: 196 | H57: 2203 | I57: 八幡北町３丁目 | J57: 133 | K57: 210 | L57: 127 | M57: 83 | O57: 8900 | P57: 権現堂 | Q57: 85 | R57: 231 | S57: 116 | T57: 115
A58: 1300 | B58: 畑木 | C58: 165 | D58: 308 | E58: 142 | F58: 166 | H58: 2301 | I58: 八幡石塚１丁目 | J58: 342 | K58: 714 | L58: 410 | M58: 304 | O58: 9000 | P58: 糸久 | Q58: 33 | R58: 91 | S58: 48 | T58: 43
A59: 1400 | B59: 柏原 | C59: 120 | D59: 257 | E59: 119 | F59: 138 | H59: 2302 | I59: 八幡石塚２丁目 | J59: 351 | K59: 721 | L59: 384 | M59: 337 | O59: 9100 | P59: 宮原 | Q59: 87 | R59: 193 | S59: 94 | T59: 99
A60: 1500 | B60: 白塚 | C60: 338 | D60: 754 | E60: 365 | F60: 389 | H60: 2400 | I60: 五所 | J60: 1289 | K60: 2931 | L60: 1511 | M60: 1420 | O60: 9200 | P60: 分目 | Q60: 78 | R60: 211 | S60: 107 | T60: 104
A61: 1600 | B61: 今津朝山 | C61: 994 | D61: 1982 | E61: 1104 | F61: 878 | H61: 2500 | I61: 旭五所 | J61: 463 | K61: 938 | L61: 502 | M61: 436 | O61: 9300 | P61: 浅井小向 | Q61: 56 | R61: 166 | S61: 77 | T61: 89
A62: 1651 | B62: 千種１丁目 | C62: 108 | D62: 172 | E62: 116 | F62: 56 | H62: 2600 | I62: 東五所 | J62: 976 | K62: 1957 | L62: 1033 | M62: 924 | O62: 9400 | P62: 相川 | Q62: 42 | R62: 90 | S62: 49 | T62: 41
...

Sheet 2015_06
A1: 42156 | O1: ★★ 全地区合計 ★★ | Q1: 122487 | R1: 280265 | S1: 144093 | T1: 136172
A2: CD | B2: 大字名 | C2: 世帯数 | D2: 総数 | E2: 男 | F2: 女 | H2: CD | I2: 大字名 | J2: 世帯数 | K2: 総数 | L2: 男 | M2: 女 | O2: CD | P2: 大字名 | Q2: 世帯数 | R2: 総数 | S2: 男 | T2: 女
A3: 1655 | B3: 千種５丁目 | C3: 211 | D3: 551 | E3: 279 | F3: 272 | H3: 7900 | I3: 平田 | J3: 820 | K3: 1671 | L3: 839 | M3: 832 | O3: 30101 | P3: 国分寺台中央１丁目 | Q3: 295 | R3: 682 | S3: 344 | T3: 338
A4: 1656 | B4: 千種６丁目 | C4: 109 | D4: 397 | E4: 205 | F4: 192 | H4: 8000 | I4: 五井 | J4: 7714 | K4: 16717 | L4: 8796 | M4: 7921 | O4: 30102 | P4: 国分寺台中央２丁目 | Q4: 334 | R4: 793 | S4: 413 | T4: 380
A5: 1657 | B5: 千種７丁目 | C5: 356 | D5: 875 | E5: 467 | F5: 408 | H5: 8051 | I5: 五井中央東１丁目 | J5: 313 | K5: 549 | L5: 290 | M5: 259 | O5: 30103 | P5: 国分寺台中央３丁目 | Q5: 263 | R5: 538 | S5: 296 | T5: 242
A6: 4300 | B6: 千種海岸 | C6: 2 | D6: 2 | E6: 2 | F6: 0 | H6: 8052 | I6: 五井中央東２丁目 | J6: 464 | K6: 807 | L6: 436 | M6: 371 | O6: 30104 | P6: 国分寺台中央４丁目 | Q6: 240 | R6: 554 | S6: 285 | T6: 269
A7: 4400 | B7: 五井南海岸 | C7: 1 | D7: 3 | E7: 0 | F7: 3 | H7: 8061 | I7: 五井中央西１丁目 | J7: 393 | K7: 744 | L7: 402 | M7: 342 | O7: 30105 | P7: 国分寺台中央５丁目 | Q7: 257 | R7: 678 | S7: 362 | T7: 316
A8: 4500 | B8: 五井海岸 | C8: 0 | D8: 0 | E8: 0 | F8: 0 | H8: 8062 | I8: 五井中央西２丁目 | J8: 265 | K8: 552 | L8: 283 | M8: 269 | O8: 30106 | P8: 国分寺台中央６丁目 | Q8: 228 | R8: 581 | S8: 269 | T8: 312
A9: 4600 | B9: 青柳 | C9: 1262 | D9: 2726 | E9: 1455 | F9: 1271 | H9: 8063 | I9: 五井中央西３丁目 | J9: 74 | K9: 152 | L9: 80 | M9: 72 | O9: 30107 | P9: 国分寺台中央７丁目 | Q9: 323 | R9: 747 | S9: 381 | T9: 366
A10: 4651 | B10: 青柳１丁目 | C10: 143 | D10: 301 | E10: 165 | F10: 136 | H10: 8101 | I10: 五井東１丁目 | J10: 638 | K10: 1190 | L10: 640 | M10: 550 | O10: 30201 | P10: 東国分寺台１丁目 | Q10: 336 | R10: 694 | S10: 369 | T10: 325
A11: 4652 | B11: 青柳２丁目 | C11: 84 | D11: 168 | E11: 94 | F11: 74 | H11: 8102 | I11: 五井東２丁目 | J11: 379 | K11: 864 | L11: 446 | M11: 418 | O11: 30202 | P11: 東国分寺台２丁目 | Q11: 189 | R11: 459 | S11: 220 | T11: 239
A12: 4653 | B12: 青柳３丁目 | C12: 185 | D12: 225 | E12: 149 | F12: 76 | H12: 8103 | I12: 五井東３丁目 | J12: 540 | K12: 1103 | L12: 598 | M12: 505 | O12: 30203 | P12: 東国分寺台３丁目 | Q12: 198 | R12: 495 | S12: 250 | T12: 245
A13: 4702 | B13: 青柳北２丁目 | C13: 4 | D13: 9 | E13: 4 | F13: 5 | H13: 8111 | I13: 更級１丁目 | J13: 135 | K13: 242 | L13: 144 | M13: 98 | O13: 30204 | P13: 東国分寺台４丁目 | Q13: 159 | R13: 376 | S13: 198 | T13: 178
A14: 4703 | B14: 青柳北３丁目 | C14: 20 | D14: 37 | E14: 22 | F14: 15 | H14: 8112 | I14: 更級２丁目 | J14: 72 | K14: 152 | L14: 71 | M14: 81 | O14: 30205 | P14: 東国分寺台５丁目 | Q14: 205 | R14: 443 | S14: 225 | T14: 218
... A37: 6700 | B37: 引田 | C37: 48 | D37: 130 | E37: 62 | F37: 68 | H37: 9100 | I37: 宮原 | J37: 8 | K37: 19 | L37: 10 | M37: 9 | O37: 30806 | P37: 西広６丁目 | Q37: 461 | R37: 1091 | S37: 551 | T37: 540
A38: 6800 | B38: 神代 | C38: 48 | D38: 124 | E38: 65 | F38: 59 | O38: 30901 | P38: 惣社１丁目 | Q38: 209 | R38: 499 | S38: 255 | T38: 244
A39: 6900 | B39: 十五沢 | C39: 51 | D39: 128 | E39: 56 | F39: 72 | O39: 30902 | P39: 惣社２丁目 | Q39: 167 | R39: 395 | S39: 196 | T39: 199
A40: 7000 | B40: 小折 | C40: 33 | D40: 75 | E40: 31 | F40: 44 | O40: 30903 | P40: 惣社３丁目 | Q40: 220 | R40: 522 | S40: 260 | T40: 262
A41: 7100 | B41: 西野 | C41: 50 | D41: 136 | E41: 70 | F41: 66 | O41: 30904 | P41: 惣社４丁目 | Q41: 173 | R41: 436 | S41: 229 | T41: 207
A42: 7200 | B42: 柳原 | C42: 54 | D42: 134 | E42: 64 | F42: 70 | O42: 30905 | P42: 惣社５丁目 | Q42: 237 | R42: 666 | S42: 320 | T42: 346
A43: 7300 | B43: 村上 | C43: 621 | D43: 1453 | E43: 727 | F43: 726 | O43: 31001 | P43: 加茂１丁目 | Q43: 196 | R43: 454 | S43: 231 | T43: 223
A44: 7400 | B44: 西広 | C44: 41 | D44: 96 | E44: 51 | F44: 45 | O44: 31002 | P44: 加茂２丁目 | Q44: 158 | R44: 386 | S44: 192 | T44: 194
A45: 7500 | B45: 惣社 | C45: 320 | D45: 673 | E45: 345 | F45: 328 | O45: 31101 | P45: 根田１丁目 | Q45: 161 | R45: 377 | S45: 191 | T45: 186
A46: 7600 | B46: 加茂 | C46: 3 | D46: 7 | E46: 3 | F46: 4 | O46: 31102 | P46: 根田２丁目 | Q46: 117 | R46: 220 | S46: 128 | T46: 92
A47: 7700 | B47: 根田 | C47: 109 | D47: 240 | E47: 121 | F47: 119 | O47: 31103 | P47: 根田３丁目 | Q47: 276 | R47: 568 | S47: 303 | T47: 265
A48: 7800 | B48: 岩野見 | C48: 142 | D48: 341 | E48: 164 | F48: 177 | O48: 31104 | P48: 根田４丁目 | Q48: 164 | R48: 412 | S48: 204 | T48: 208
O49: 3 | P49: 五井地区_計 | Q49: 39490 | R49: 87752 | S49: 45923 | T49: 41829
A50: 42156
A51: CD | B51: 大字名 | C51: 世帯数 | D51: 総数 | E51: 男 | F51: 女 | H51: CD | I51: 大字名 | J51: 世帯数 | K51: 総数 | L51: 男 | M51: 女 | O51: CD | P51: 大字名 | Q51: 世帯数 | R51: 総数 | S51: 男 | T51: 女
A52: 100 | B52: 姉崎海岸 | C52: 32 | D52: 38 | E52: 34 | F52: 4 | H52: 1900 | I52: 八幡海岸通 | J52: 305 | K52: 409 | L52: 318 | M52: 91 | O52: 8400 | P52: 山倉 | Q52: 221 | R52: 489 | S52: 259 | T52: 230
A53: 200 | B53: 椎津 | C53: 1655 | D53: 3562 | E53: 1841 | F53: 1721 | H53: 2001 | I53: 八幡浦１丁目 | J53: 3 | K53: 3 | L53: 3 | M53: 0 | O53: 8500 | P53: 福増 | Q53: 292 | R53: 716 | S53: 367 | T53: 349
A54: 300 | B54: 姉崎 | C54: 6010 | D54: 12418 | E54: 6629 | F54: 5789 | H54: 2100 | I54: 八幡 | J54: 5508 | K54: 11368 | L54: 5924 | M54: 5444 | O54: 8600 | P54: 海士有木 | Q54: 529 | R54: 1287 | S54: 656 | T54: 631
A55: 321 | B55: 姉崎西１丁目 | C55: 206 | D55: 347 | E55: 221 | F55: 126 | H55: 2201 | I55: 八幡北町１丁目 | J55: 225 | K55: 304 | L55: 208 | M55: 96 | O55: 8700 | P55: 大坪 | Q55: 250 | R55: 588 | S55: 318 | T55: 270
A56: 322 | B56: 姉崎西２丁目 | C56: 210 | D56: 426 | E56: 224 | F56: 202 | H56: 2202 | I56: 八幡北町２丁目 | J56: 209 | K56: 381 | L56: 219 | M56: 162 | O56: 8800 | P56: 新生 | Q56: 90 | R56: 239 | S56: 130 | T56: 109
A57: 323 | B57: 姉崎西３丁目 | C57: 209 | D57: 446 | E57: 246 | F57: 200 | H57: 2203 | I57: 八幡北町３丁目 | J57: 134 | K57: 209 | L57: 128 | M57: 81 | O57: 8900 | P57: 権現堂 | Q57: 85 | R57: 231 | S57: 116 | T57: 115
A58: 1300 | B58: 畑木 | C58: 165 | D58: 307 | E58: 142 | F58: 165 | H58: 2301 | I58: 八幡石塚１丁目 | J58: 340 | K58: 712 | L58: 408 | M58: 304 | O58: 9000 | P58: 糸久 | Q58: 33 | R58: 91 | S58: 48 | T58: 43
A59: 1400 | B59: 柏原 | C59: 121 | D59: 258 | E59: 120 | F59: 138 | H59: 2302 | I59: 八幡石塚２丁目 | J59: 351 | K59: 717 | L59: 381 | M59: 336 | O59: 9100 | P59: 宮原 | Q59: 87 | R59: 193 | S59: 94 | T59: 99
A60: 1500 | B60: 白塚 | C60: 338 | D60: 755 | E60: 365 | F60: 390 | H60: 2400 | I60: 五所 | J60: 1290 | K60: 2926 | L60: 1509 | M60: 1417 | O60: 9200 | P60: 分目 | Q60: 79 | R60: 212 | S60: 107 | T60: 105
A61: 1600 | B61: 今津朝山 | C61: 1014 | D61: 2001 | E61: 1122 | F61: 879 | H61: 2500 | I61: 旭五所 | J61: 462 | K61: 938 | L61: 500 | M61: 438 | O61: 9300 | P61: 浅井小向 | Q61: 56 | R61: 168 | S61: 77 | T61: 91
A62: 1651 | B62: 千種１丁目 | C62: 115 | D62: 187 | E62: 123 | F62: 64 | H62: 2600 | I62: 東五所 | J62: 974 | K62: 1962 | L62: 1034 | M62: 928 | O62: 9400 | P62: 相川 | Q62: 42 | R62: 90 | S62: 49 | T62: 41
...

Sheet 2015_07
A1: 42186 | O1: ★★ 全地区合計 ★★ | Q1: =SUM(C98,J98,Q49,Q98,C147,J147,Q147,C196,J196,Q196) -> 122654 | R1: =SUM(D98,K98,R49,R98,D147,K147,R147,D196,K196,R196) -> 280315 | S1: =SUM(E98,L98,S49,S98,E147,L147,S147,E196,L196,S196) -> 144151 | T1: =SUM(F98,M98,T49,T98,F147,M147,T147,F196,M196,T196) -> 136164
A2: CD | B2: 大字名 | C2: 世帯数 | D2: 総数 | E2: 男 | F2: 女 | H2: CD | I2: 大字名 | J2: 世帯数 | K2: 総数 | L2: 男 | M2: 女 | O2: CD | P2: 大字名 | Q2: 世帯数 | R2: 総数 | S2: 男 | T2: 女
A3: 1655 | B3: 千種５丁目 | C3: =IF($A3="","",IFERROR(VLOOKUP($O$49&$A3,[2]非表示!$A$1:$H$500,4,FALSE),0)) -> 210 | D3: =IF($A3="","",IFERROR(VLOOKUP($O$49&$A3,[2]非表示!$A$1:$H$500,5,FALSE),0)) -> 549 | E3: =IF($A3="","",IFERROR(VLOOKUP($O$49&$A3,[2]非表示!$A$1:$H$500,6,FALSE),0)) -> 278 | F3: =IF($A3="","",IFERROR(VLOOKUP($O$49&$A3,[2]非表示!$A$1:$H$500,7,FALSE),0)) -> 271 | H3: 7900 | I3: 平田 | J3: =IF($H3="","",IFERROR(VLOOKUP($O$49&$H3,[2]非表示!$A$1:$H$500,4,FALSE),0)) -> 818 | K3: =IF($H3="","",IFERROR(VLOOKUP($O$49&$H3,[2]非表示!$A$1:$H$500,5,FALSE),0)) -> 1673 | L3: =IF($H3="","",IFERROR(VLOOKUP($O$49&$H3,[2]非表示!$A$1:$H$500,6,FALSE),0)) -> 840 | M3: =IF($H3="","",IFERROR(VLOOKUP($O$49&$H3,[2]非表示!$A$1:$H$500,7,FALSE),0)) -> 833 | O3: 30101 | P3: 国分寺台中央１丁目 | Q3: =IF($O3="","",IFERROR(VLOOKUP($O$49&$O3,[2]非表示!$A$1:$H$500,4,FALSE),0)) -> 292 | R3: =IF($O3="","",IFERROR(VLOOKUP($O$49&$O3,[2]非表示!$A$1:$H$500,5,FALSE),0)) -> 676 | S3: =IF($O3="","",IFERROR(VLOOKUP($O$49&$O3,[2]非表示!$A$1:$H$500,6,FALSE),0)) -> 338 | T3: =IF($O3="","",IFERROR(VLOOKUP($O$49&$O3,[2]非表示!$A$1:$H$500,7,FALSE),0)) -> 338
A4: 1656 | B4: 千種６丁目 | C4: =IF($A4="","",IFERROR(VLOOKUP($O$49&$A4,[2]非表示!$A$1:$H$500,4,FALSE),0)) -> 110 | D4: =IF($A4="","",IFERROR(VLOOKUP($O$49&$A4,[2]非表示!$A$1:$H$500,5,FALSE),0)) -> 400 | E4: =IF($A4="","",IFERROR(VLOOKUP($O$49&$A4,[2]非表示!$A$1:$H$500,6,FALSE),0)) -> 207 | F4: =IF($A4="","",IFERROR(VLOOKUP($O$49&$A4,[2]非表示!$A$1:$H$500,7,FALSE),0)) -> 193 | H4: 8000 | I4: 五井 | J4: =IF($H4="","",IFERROR(VLOOKUP($O$49&$H4,[2]非表示!$A$1:$H$500,4,FALSE),0)) -> 7748 | K4: =IF($H4="","",IFERROR(VLOOKUP($O$49&$H4,[2]非表示!$A$1:$H$500,5,FALSE),0)) -> 16773 | L4: =IF($H4="","",IFERROR(VLOOKUP($O$49&$H4,[2]非表示!$A$1:$H$500,6,FALSE),0)) -> 8822 | M4: =IF($H4="","",IFERROR(VLOOKUP($O$49&$H4,[2]非表示!$A$1:$H$500,7,FALSE),0)) -> 7951 | O4: 30102 | P4: 国分寺台中央２丁目 | Q4: =IF($O4="","",IFERROR(VLOOKUP($O$49&$O4,[2]非表示!$A$1:$H$500,4,FALSE),0)) -> 334 | R4: =IF($O4="","",IFERROR(VLOOKUP($O$49&$O4,[2]非表示!$A$1:$H$500,5,FALSE),0)) -> 792 | S4: =IF($O4="","",IFERROR(VLOOKUP($O$49&$O4,[2]非表示!$A$1:$H$500,6,FALSE),0)) -> 412 | T4: =IF($O4="","",IFERROR(VLOOKUP($O$49&$O4,[2]非表示!$A$1:$H$500,7,FALSE),0)) -> 380
A5: 1657 | B5: 千種７丁目 | C5: =IF($A5="","",IFERROR(VLOOKUP($O$49&$A5,[2]非表示!$A$1:$H$500,4,FALSE),0)) -> 360 | D5: =IF($A5="","",IFERROR(VLOOKUP($O$49&$A5,[2]非表示!$A$1:$H$500,5,FALSE),0)) -> 882 | E5: =IF($A5="","",IFERROR(VLOOKUP($O$49&$A5,[2]非表示!$A$1:$H$500,6,FALSE),0)) -> 471 | F5: =IF($A5="","",IFERROR(VLOOKUP($O$49&$A5,[2]非表示!$A$1:$H$500,7,FALSE),0)) -> 411 | H5: 8051 | I5: 五井中央東１丁目 | J5: =IF($H5="","",IFERROR(VLOOKUP($O$49&$H5,[2]非表示!$A$1:$H$500,4,FALSE),0)) -> 316 | K5: =IF($H5="","",IFERROR(VLOOKUP($O$49&$H5,[2]非表示!$A$1:$H$500,5,FALSE),0)) -> 554 | L5: =IF($H5="","",IFERROR(VLOOKUP($O$49&$H5,[2]非表示!$A$1:$H$500,6,FALSE),0)) -> 291 | M5: =IF($H5="","",IFERROR(VLOOKUP($O$49&$H5,[2]非表示!$A$1:$H$500,7,FALSE),0)) -> 263 | O5: 30103 | P5: 国分寺台中央３丁目 | Q5: =IF($O5="","",IFERROR(VLOOKUP($O$49&$O5,[2]非表示!$A$1:$H$500,4,FALSE),0)) -> 262 | R5: =IF($O5="","",IFERROR(VLOOKUP($O$49&$O5,[2]非表示!$A$1:$H$500,5,FALSE),0)) -> 532 | S5: =IF($O5="","",IFERROR(VLOOKUP($O$49&$O5,[2]非表示!$A$1:$H$500,6,FALSE),0)) -> 293 | T5: =IF($O5="","",IFERROR(VLOOKUP($O$49&$O5,[2]非表示!$A$1:$H$500,7,FALSE),0)) -> 239
A6: 4300 | B6: 千種海岸 | C6: =IF($A6="","",IFERROR(VLOOKUP($O$49&$A6,[2]非表示!$A$1:$H$500,4,FALSE),0)) -> 2 | D6: =IF($A6="","",IFERROR(VLOOKUP($O$49&$A6,[2]非表示!$A$1:$H$500,5,FALSE),0)) -> 2 | E6: =IF($A6="","",IFERROR(VLOOKUP($O$49&$A6,[2]非表示!$A$1:$H$500,6,FALSE),0)) -> 2 | F6: =IF($A6="","",IFERROR(VLOOKUP($O$49&$A6,[2]非表示!$A$1:$H$500,7,FALSE),0)) -> 0 | H6: 8052 | I6: 五井中央東２丁目 | J6: =IF($H6="","",IFERROR(VLOOKUP($O$49&$H6,[2]非表示!$A$1:$H$500,4,FALSE),0)) -> 457 | K6: =IF($H6="","",IFERROR(VLOOKUP($O$49&$H6,[2]非表示!$A$1:$H$500,5,FALSE),0)) -> 791 | L6: =IF($H6="","",IFERROR(VLOOKUP($O$49&$H6,[2]非表示!$A$1:$H$500,6,FALSE),0)) -> 424 | M6: =IF($H6="","",IFERROR(VLOOKUP($O$49&$H6,[2]非表示!$A$1:$H$500,7,FALSE),0)) -> 367 | O6: 30104 | P6: 国分寺台中央４丁目 | Q6: =IF($O6="","",IFERROR(VLOOKUP($O$49&$O6,[2]非表示!$A$1:$H$500,4,FALSE),0)) -> 241 | R6: =IF($O6="","",IFERROR(VLOOKUP($O$49&$O6,[2]非表示!$A$1:$H$500,5,FALSE),0)) -> 555 | S6: =IF($O6="","",IFERROR(VLOOKUP($O$49&$O6,[2]非表示!$A$1:$H$500,6,FALSE),0)) -> 285 | T6: =IF($O6="","",IFERROR(VLOOKUP($O$49&$O6,[2]非表示!$A$1:$H$500,7,FALSE),0)) -> 270
A7: 4400 | B7: 五井南海岸 | C7: =IF($A7="","",IFERROR(VLOOKUP($O$49&$A7,[2]非表示!$A$1:$H$500,4,FALSE),0)) -> 1 | D7: =IF($A7="","",IFERROR(VLOOKUP($O$49&$A7,[2]非表示!$A$1:$H$500,5,FALSE),0)) -> 3 | E7: =IF($A7="","",IFERROR(VLOOKUP($O$49&$A7,[2]非表示!$A$1:$H$500,6,FALSE),0)) -> 0 | F7: =IF($A7="","",IFERROR(VLOOKUP($O$49&$A7,[2]非表示!$A$1:$H$500,7,FALSE),0)) -> 3 | H7: 8061 | I7: 五井中央西１丁目 | J7: =IF($H7="","",IFERROR(VLOOKUP($O$49&$H7,[2]非表示!$A$1:$H$500,4,FALSE),0)) -> 391 | K7: =IF($H7="","",IFERROR(VLOOKUP($O$49&$H7,[2]非表示!$A$1:$H$500,5,FALSE),0)) -> 742 | L7: =IF($H7="","",IFERROR(VLOOKUP($O$49&$H7,[2]非表示!$A$1:$H$500,6,FALSE),0)) -> 398 | M7: =IF($H7="","",IFERROR(VLOOKUP($O$49&$H7,[2]非表示!$A$1:$H$500,7,FALSE),0)) -> 344 | O7: 30105 | P7: 国分寺台中央５丁目 | Q7: =IF($O7="","",IFERROR(VLOOKUP($O$49&$O7,[2]非表示!$A$1:$H$500,4,FALSE),0)) -> 256 | R7: =IF($O7="","",IFERROR(VLOOKUP($O$49&$O7,[2]非表示!$A$1:$H$500,5,FALSE),0)) -> 674 | S7: =IF($O7="","",IFERROR(VLOOKUP($O$49&$O7,[2]非表示!$A$1:$H$500,6,FALSE),0)) -> 359 | T7: =IF($O7="","",IFERROR(VLOOKUP($O$49&$O7,[2]非表示!$A$1:$H$500,7,FALSE),0)) -> 315
A8: 4500 | B8: 五井海岸 | C8: =IF($A8="","",IFERROR(VLOOKUP($O$49&$A8,[2]非表示!$A$1:$H$500,4,FALSE),0)) -> 0 | D8: =IF($A8="","",IFERROR(VLOOKUP($O$49&$A8,[2]非表示!$A$1:$H$500,5,FALSE),0)) -> 0 | E8: =IF($A8="","",IFERROR(VLOOKUP($O$49&$A8,[2]非表示!$A$1:$H$500,6,FALSE),0)) -> 0 | F8: =IF($A8="","",IFERROR(VLOOKUP($O$49&$A8,[2]非表示!$A$1:$H$500,7,FALSE),0)) -> 0 | H8: 8062 | I8: 五井中央西２丁目 | J8: =IF($H8="","",IFERROR(VLOOKUP($O$49&$H8,[2]非表示!$A$1:$H$500,4,FALSE),0)) -> 267 | K8: =IF($H8="","",IFERROR(VLOOKUP($O$49&$H8,[2]非表示!$A$1:$H$500,5,FALSE),0)) -> 554 | L8: =IF($H8="","",IFERROR(VLOOKUP($O$49&$H8,[2]非表示!$A$1:$H$500,6,FALSE),0)) -> 285 | M8: =IF($H8="","",IFERROR(VLOOKUP($O$49&$H8,[2]非表示!$A$1:$H$500,7,FALSE),0)) -> 269 | O8: 30106 | P8: 国分寺台中央６丁目 | Q8: =IF($O8="","",IFERROR(VLOOKUP($O$49&$O8,[2]非表示!$A$1:$H$500,4,FALSE),0)) -> 229 | R8: =IF($O8="","",IFERROR(VLOOKUP($O$49&$O8,[2]非表示!$A$1:$H$500,5,FALSE),0)) -> 582 | S8: =IF($O8="","",IFERROR(VLOOKUP($O$49&$O8,[2]非表示!$A$1:$H$500,6,FALSE),0)) -> 269 | T8: =IF($O8="","",IFERROR(VLOOKUP($O$49&$O8,[2]非表示!$A$1:$H$500,7,FALSE),0)) -> 313
A9: 4600 | B9: 青柳 | C9: =IF($A9="","",IFERROR(VLOOKUP($O$49&$A9,[2]非表示!$A$1:$H$500,4,FALSE),0)) -> 1273 | D9: =IF($A9="","",IFERROR(VLOOKUP($O$49&$A9,[2]非表示!$A$1:$H$500,5,FALSE),0)) -> 2740 | E9: =IF($A9="","",IFERROR(VLOOKUP($O$49&$A9,[2]非表示!$A$1:$H$500,6,FALSE),0)) -> 1466 | F9: =IF($A9="","",IFERROR(VLOOKUP($O$49&$A9,[2]非表示!$A$1:$H$500,7,FALSE),0)) -> 1274 | H9: 8063 | I9: 五井中央西３丁目 | J9: =IF($H9="","",IFERROR(VLOOKUP($O$49&$H9,[2]非表示!$A$1:$H$500,4,FALSE),0)) -> 75 | K9: =IF($H9="","",IFERROR(VLOOKUP($O$49&$H9,[2]非表示!$A$1:$H$500,5,FALSE),0)) -> 153 | L9: =IF($H9="","",IFERROR(VLOOKUP($O$49&$H9,[2]非表示!$A$1:$H$500,6,FALSE),0)) -> 81 | M9: =IF($H9="","",IFERROR(VLOOKUP($O$49&$H9,[2]非表示!$A$1:$H$500,7,FALSE),0)) -> 72 | O9: 30107 | P9: 国分寺台中央７丁目 | Q9: =IF($O9="","",IFERROR(VLOOKUP($O$49&$O9,[2]非表示!$A$1:$H$500,4,FALSE),0)) -> 323 | R9: =IF($O9="","",IFERROR(VLOOKUP($O$49&$O9,[2]非表示!$A$1:$H$500,5,FALSE),0)) -> 745 | S9: =IF($O9="","",IFERROR(VLOOKUP($O$49&$O9,[2]非表示!$A$1:$H$500,6,FALSE),0)) -> 380 | T9: =IF($O9="","",IFERROR(VLOOKUP($O$49&$O9,[2]非表示!$A$1:$H$500,7,FALSE),0)) -> 365
A10: 4651 | B10: 青柳１丁目 | C10: =IF($A10="","",IFERROR(VLOOKUP($O$49&$A10,[2]非表示!$A$1:$H$500,4,FALSE),0)) -> 142 | D10: =IF($A10="","",IFERROR(VLOOKUP($O$49&$A10,[2]非表示!$A$1:$H$500,5,FALSE),0)) -> 301 | E10: =IF($A10="","",IFERROR(VLOOKUP($O$49&$A10,[2]非表示!$A$1:$H$500,6,FALSE),0)) -> 164 | F10: =IF($A10="","",IFERROR(VLOOKUP($O$49&$A10,[2]非表示!$A$1:$H$500,7,FALSE),0)) -> 137 | H10: 8101 | I10: 五井東１丁目 | J10: =IF($H10="","",IFERROR(VLOOKUP($O$49&$H10,[2]非表示!$A$1:$H$500,4,FALSE),0)) -> 638 | K10: =IF($H10="","",IFERROR(VLOOKUP($O$49&$H10,[2]非表示!$A$1:$H$500,5,FALSE),0)) -> 1184 | L10: =IF($H10="","",IFERROR(VLOOKUP($O$49&$H10,[2]非表示!$A$1:$H$500,6,FALSE),0)) -> 639 | M10: =IF($H10="","",IFERROR(VLOOKUP($O$49&$H10,[2]非表示!$A$1:$H$500,7,FALSE),0)) -> 545 | O10: 30201 | P10: 東国分寺台１丁目 | Q10: =IF($O10="","",IFERROR(VLOOKUP($O$49&$O10,[2]非表示!$A$1:$H$500,4,FALSE),0)) -> 335 | R10: =IF($O10="","",IFERROR(VLOOKUP($O$49&$O10,[2]非表示!$A$1:$H$500,5,FALSE),0)) -> 693 | S10: =IF($O10="","",IFERROR(VLOOKUP($O$49&$O10,[2]非表示!$A$1:$H$500,6,FALSE),0)) -> 369 | T10: =IF($O10="","",IFERROR(VLOOKUP($O$49&$O10,[2]非表示!$A$1:$H$500,7,FALSE),0)) -> 324
A11: 4652 | B11: 青柳２丁目 | C11: =IF($A11="","",IFERROR(VLOOKUP($O$49&$A11,[2]非表示!$A$1:$H$500,4,FALSE),0)) -> 84 | D11: =IF($A11="","",IFERROR(VLOOKUP($O$49&$A11,[2]非表示!$A$1:$H$500,5,FALSE),0)) -> 169 | E11: =IF($A11="","",IFERROR(VLOOKUP($O$49&$A11,[2]非表示!$A$1:$H$500,6,FALSE),0)) -> 95 | F11: =IF($A11="","",IFERROR(VLOOKUP($O$49&$A11,[2]非表示!$A$1:$H$500,7,FALSE),0)) -> 74 | H11: 8102 | I11: 五井東２丁目 | J11: =IF($H11="","",IFERROR(VLOOKUP($O$49&$H11,[2]非表示!$A$1:$H$500,4,FALSE),0)) -> 378 | K11: =IF($H11="","",IFERROR(VLOOKUP($O$49&$H11,[2]非表示!$A$1:$H$500,5,FALSE),0)) -> 857 | L11: =IF($H11="","",IFERROR(VLOOKUP($O$49&$H11,[2]非表示!$A$1:$H$500,6,FALSE),0)) -> 443 | M11: =IF($H11="","",IFERROR(VLOOKUP($O$49&$H11,[2]非表示!$A$1:$H$500,7,FALSE),0)) -> 414 | O11: 30202 | P11: 東国分寺台２丁目 | Q11: =IF($O11="","",IFERROR(VLOOKUP($O$49&$O11,[2]非表示!$A$1:$H$500,4,FALSE),0)) -> 187 | R11: =IF($O11="","",IFERROR(VLOOKUP($O$49&$O11,[2]非表示!$A$1:$H$500,5,FALSE),0)) -> 459 | S11: =IF($O11="","",IFERROR(VLOOKUP($O$49&$O11,[2]非表示!$A$1:$H$500,6,FALSE),0)) -> 221 | T11: =IF($O11="","",IFERROR(VLOOKUP($O$49&$O11,[2]非表示!$A$1:$H$500,7,FALSE),0)) -> 238
A12: 4653 | B12: 青柳３丁目 | C12: =IF($A12="","",IFERROR(VLOOKUP($O$49&$A12,[2]非表示!$A$1:$H$500,4,FALSE),0)) -> 186 | D12: =IF($A12="","",IFERROR(VLOOKUP($O$49&$A12,[2]非表示!$A$1:$H$500,5,FALSE),0)) -> 226 | E12: =IF($A12="","",IFERROR(VLOOKUP($O$49&$A12,[2]非表示!$A$1:$H$500,6,FALSE),0)) -> 151 | F12: =IF($A12="","",IFERROR(VLOOKUP($O$49&$A12,[2]非表示!$A$1:$H$500,7,FALSE),0)) -> 75 | H12: 8103 | I12: 五井東３丁目 | J12: =IF($H12="","",IFERROR(VLOOKUP($O$49&$H12,[2]非表示!$A$1:$H$500,4,FALSE),0)) -> 536 | K12: =IF($H12="","",IFERROR(VLOOKUP($O$49&$H12,[2]非表示!$A$1:$H$500,5,FALSE),0)) -> 1095 | L12: =IF($H12="","",IFERROR(VLOOKUP($O$49&$H12,[2]非表示!$A$1:$H$500,6,FALSE),0)) -> 592 | M12: =IF($H12="","",IFERROR(VLOOKUP($O$49&$H12,[2]非表示!$A$1:$H$500,7,FALSE),0)) -> 503 | O12: 30203 | P12: 東国分寺台３丁目 | Q12: =IF($O12="","",IFERROR(VLOOKUP($O$49&$O12,[2]非表示!$A$1:$H$500,4,FALSE),0)) -> 197 | R12: =IF($O12="","",IFERROR(VLOOKUP($O$49&$O12,[2]非表示!$A$1:$H$500,5,FALSE),0)) -> 492 | S12: =IF($O12="","",IFERROR(VLOOKUP($O$49&$O12,[2]非表示!$A$1:$H$500,6,FALSE),0)) -> 249 | T12: =IF($O12="","",IFERROR(VLOOKUP($O$49&$O12,[2]非表示!$A$1:$H$500,7,FALSE),0)) -> 243
A13: 4702 | B13: 青柳北２丁目 | C13: =IF($A13="","",IFERROR(VLOOKUP($O$49&$A13,[2]非表示!$A$1:$H$500,4,FALSE),0)) -> 4 | D13: =IF($A13="","",IFERROR(VLOOKUP($O$49&$A13,[2]非表示!$A$1:$H$500,5,FALSE),0)) -> 9 | E13: =IF($A13="","",IFERROR(VLOOKUP($O$49&$A13,[2]非表示!$A$1:$H$500,6,FALSE),0)) -> 4 | F13: =IF($A13="","",IFERROR(VLOOKUP($O$49&$A13,[2]非表示!$A$1:$H$500,7,FALSE),0)) -> 5 | H13: 8111 | I13: 更級１丁目 | J13: =IF($H13="","",IFERROR(VLOOKUP($O$49&$H13,[2]非表示!$A$1:$H$500,4,FALSE),0)) -> 140 | K13: =IF($H13="","",IFERROR(VLOOKUP($O$49&$H13,[2]非表示!$A$1:$H$500,5,FALSE),0)) -> 249 | L13: =IF($H13="","",IFERROR(VLOOKUP($O$49&$H13,[2]非表示!$A$1:$H$500,6,FALSE),0)) -> 148 | M13: =IF($H13="","",IFERROR(VLOOKUP($O$49&$H13,[2]非表示!$A$1:$H$500,7,FALSE),0)) -> 101 | O13: 30204 | P13: 東国分寺台４丁目 | Q13: =IF($O13="","",IFERROR(VLOOKUP($O$49&$O13,[2]非表示!$A$1:$H$500,4,FALSE),0)) -> 159 | R13: =IF($O13="","",IFERROR(VLOOKUP($O$49&$O13,[2]非表示!$A$1:$H$500,5,FALSE),0)) -> 375 | S13: =IF($O13="","",IFERROR(VLOOKUP($O$49&$O13,[2]非表示!$A$1:$H$500,6,FALSE),0)) -> 197 | T13: =IF($O13="","",IFERROR(VLOOKUP($O$49&$O13,[2]非表示!$A$1:$H$500,7,FALSE),0)) -> 178
A14: 4703 | B14: 青柳北３丁目 | C14: =IF($A14="","",IFERROR(VLOOKUP($O$49&$A14,[2]非表示!$A$1:$H$500,4,FALSE),0)) -> 20 | D14: =IF($A14="","",IFERROR(VLOOKUP($O$49&$A14,[2]非表示!$A$1:$H$500,5,FALSE),0)) -> 37 | E14: =IF($A14="","",IFERROR(VLOOKUP($O$49&$A14,[2]非表示!$A$1:$H$500,6,FALSE),0)) -> 22 | F14: =IF($A14="","",IFERROR(VLOOKUP($O$49&$A14,[2]非表示!$A$1:$H$500,7,FALSE),0)) -> 15 | H14: 8112 | I14: 更級２丁目 | J14: =IF($H14="","",IFERROR(VLOOKUP($O$49&$H14,[2]非表示!$A$1:$H$500,4,FALSE),0)) -> 72 | K14: =IF($H14="","",IFERROR(VLOOKUP($O$49&$H14,[2]非表示!$A$1:$H$500,5,FALSE),0)) -> 157 | L14: =IF($H14="","",IFERROR(VLOOKUP($O$49&$H14,[2]非表示!$A$1:$H$500,6,FALSE),0)) -> 73 | M14: =IF($H14="","",IFERROR(VLOOKUP($O$49&$H14,[2]非表示!$A$1:$H$500,7,FALSE),0)) -> 84 | O14: 30205 | P14: 東国分寺台５丁目 | Q14: =IF($O14="","",IFERROR(VLOOKUP($O$49&$O14,[2]非表示!$A$1:$H$500,4,FALSE),0)) -> 205 | R14: =IF($O14="","",IFERROR(VLOOKUP($O$49&$O14,[2]非表示!$A$1:$H$500,5,FALSE),0)) -> 443 | S14: =IF($O14="","",IFERROR(VLOOKUP($O$49&$O14,[2]非表示!$A$1:$H$500,6,FALSE),0)) -> 226 | T14: =IF($O14="","",IFERROR(VLOOKUP($O$49&$O14,[2]非表示!$A$1:$H$500,7,FALSE),0)) -> 217
... A37: 6700 | B37: 引田 | C37: =IF($A37="","",IFERROR(VLOOKUP($O$49&$A37,[2]非表示!$A$1:$H$500,4,FALSE),0)) -> 48 | D37: =IF($A37="","",IFERROR(VLOOKUP($O$49&$A37,[2]非表示!$A$1:$H$500,5,FALSE),0)) -> 130 | E37: =IF($A37="","",IFERROR(VLOOKUP($O$49&$A37,[2]非表示!$A$1:$H$500,6,FALSE),0)) -> 62 | F37: =IF($A37="","",IFERROR(VLOOKUP($O$49&$A37,[2]非表示!$A$1:$H$500,7,FALSE),0)) -> 68 | H37: 9100 | I37: 宮原 | J37: =IF($H37="","",IFERROR(VLOOKUP($O$49&$H37,[2]非表示!$A$1:$H$500,4,FALSE),0)) -> 8 | K37: =IF($H37="","",IFERROR(VLOOKUP($O$49&$H37,[2]非表示!$A$1:$H$500,5,FALSE),0)) -> 19 | L37: =IF($H37="","",IFERROR(VLOOKUP($O$49&$H37,[2]非表示!$A$1:$H$500,6,FALSE),0)) -> 10 | M37: =IF($H37="","",IFERROR(VLOOKUP($O$49&$H37,[2]非表示!$A$1:$H$500,7,FALSE),0)) -> 9 | O37: 30806 | P37: 西広６丁目 | Q37: =IF($O37="","",IFERROR(VLOOKUP($O$49&$O37,[2]非表示!$A$1:$H$500,4,FALSE),0)) -> 465 | R37: =IF($O37="","",IFERROR(VLOOKUP($O$49&$O37,[2]非表示!$A$1:$H$500,5,FALSE),0)) -> 1096 | S37: =IF($O37="","",IFERROR(VLOOKUP($O$49&$O37,[2]非表示!$A$1:$H$500,6,FALSE),0)) -> 555 | T37: =IF($O37="","",IFERROR(VLOOKUP($O$49&$O37,[2]非表示!$A$1:$H$500,7,FALSE),0)) -> 541
