Workbook

Sheet 1月分
A1: 令和４年１月分
D2: 転入 | H2: 転出 | N2: 転居（＋） | T2: 転居（－）
B3: 世帯数 | C3: 計 | D3: 日本人 | F3: 外国人 | H3: 世帯数 | I3: 計 | J3: 日本人 | L3: 外国人 | N3: 世帯数 | O3: 計 | P3: 日本人 | R3: 外国人 | T3: 世帯数 | U3: 計 | V3: 日本人 | X3: 外国人
D4: 男 | E4: 女 | F4: 男 | G4: 女 | J4: 男 | K4: 女 | L4: 男 | M4: 女 | P4: 男 | Q4: 女 | R4: 男 | S4: 女 | V4: 男 | W4: 女 | X4: 男 | Y4: 女
A5: 五井地区 | B5: 133 | C5: 212 | D5: 118 | E5: 74 | F5: 11 | G5: 9 | H5: 138 | I5: 220 | J5: 125 | K5: 58 | L5: 24 | M5: 13 | N5: 148 | O5: 260 | P5: 120 | Q5: 108 | R5: 14 | S5: 18 | T5: 156 | U5: 280 | V5: 131 | W5: 111 | X5: 17 | Y5: 21
A6: 市原地区 | B6: 79 | C6: 123 | D6: 74 | E6: 43 | F6: 5 | G6: 1 | H6: 62 | I6: 112 | J6: 55 | K6: 44 | L6: 11 | M6: 2 | N6: 90 | O6: 148 | P6: 72 | Q6: 61 | R6: 11 | S6: 4 | T6: 71 | U6: 128 | V6: 59 | W6: 56 | X6: 9 | Y6: 4
A7: 姉崎地区 | B7: 47 | C7: 67 | D7: 37 | E7: 24 | F7: 2 | G7: 4 | H7: 43 | I7: 71 | J7: 35 | K7: 32 | L7: 3 | M7: 1 | N7: 32 | O7: 53 | P7: 30 | Q7: 19 | R7: 1 | S7: 3 | T7: 27 | U7: 49 | V7: 27 | W7: 22 | X7: 0 | Y7: 0
A8: 三和地区 | B8: 7 | C8: 16 | D8: 8 | E8: 8 | F8: 0 | G8: 0 | H8: 10 | I8: 18 | J8: 10 | K8: 8 | L8: 0 | M8: 0 | N8: 13 | O8: 27 | P8: 17 | Q8: 10 | R8: 0 | S8: 0 | T8: 7 | U8: 22 | V8: 11 | W8: 11 | X8: 0 | Y8: 0
A9: 市津地区 | B9: 15 | C9: 39 | D9: 21 | E9: 16 | F9: 0 | G9: 2 | H9: 16 | I9: 32 | J9: 11 | K9: 14 | L9: 1 | M9: 6 | N9: 9 | O9: 15 | P9: 6 | Q9: 9 | R9: 0 | S9: 0 | T9: 9 | U9: 21 | V9: 12 | W9: 9 | X9: 0 | Y9: 0
A10: 南総地区 | B10: 17 | C10: 23 | D10: 14 | E10: 7 | F10: 2 | G10: 0 | H10: 12 | I10: 24 | J10: 14 | K10: 5 | L10: 5 | M10: 0 | N10: 18 | O10: 36 | P10: 18 | Q10: 15 | R10: 3 | S10: 0 | T10: 18 | U10: 34 | V10: 16 | W10: 14 | X10: 3 | Y10: 1
A11: 加茂地区 | B11: 3 | C11: 5 | D11: 4 | E11: 1 | F11: 0 | G11: 0 | H11: 1 | I11: 6 | J11: 4 | K11: 2 | L11: 0 | M11: 0 | N11: 7 | O11: 8 | P11: 2 | Q11: 5 | R11: 0 | S11: 1 | T11: 8 | U11: 10 | V11: 4 | W11: 6 | X11: 0 | Y11: 0
A12: 辰巳台地区 | B12: 11 | C12: 19 | D12: 10 | E12: 5 | F12: 4 | G12: 0 | H12: 16 | I12: 28 | J12: 15 | K12: 8 | L12: 2 | M12: 3 | N12: 24 | O12: 46 | P12: 27 | Q12: 16 | R12: 1 | S12: 2 | T12: 24 | U12: 49 | V12: 29 | W12: 16 | X12: 1 | Y12: 3
A13: 有秋地区 | B13: 17 | C13: 26 | D13: 14 | E13: 9 | F13: 3 | G13: 0 | H13: 19 | I13: 37 | J13: 22 | K13: 12 | L13: 3 | M13: 0 | N13: 13 | O13: 21 | P13: 12 | Q13: 8 | R13: 1 | S13: 0 | T13: 14 | U13: 26 | V13: 15 | W13: 10 | X13: 1 | Y13: 0
A14: ちはら台地区 | B14: 23 | C14: 46 | D14: 24 | E14: 21 | F14: 1 | G14: 0 | H14: 27 | I14: 62 | J14: 28 | K14: 30 | L14: 2 | M14: 2 | N14: 14 | O14: 41 | P14: 17 | Q14: 21 | R14: 2 | S14: 1 | T14: 11 | U14: 36 | V14: 17 | W14: 17 | X14: 2 | Y14: 0
A15: 計 | B15: 352 | C15: 576 | D15: 324 | E15: 208 | F15: 28 | G15: 16 | H15: 344 | I15: 610 | J15: 319 | K15: 213 | L15: 51 | M15: 27 | N15: 368 | O15: 655 | P15: 321 | Q15: 272 | R15: 33 | S15: 29 | T15: 345 | U15: 655 | V15: 321 | W15: 272 | X15: 33 | Y15: 29
B17: 世帯合併 | H17: 世帯分離 | N17: 帰化（＋） | T17: 帰化（－）
B18: 世帯数 | C18: 計 | D18: 日本人 | F18: 外国人 | H18: 世帯数 | I18: 計 | J18: 日本人 | L18: 外国人 | N18: 世帯数 | O18: 計 | P18: 日本人 | R18: 外国人 | T18: 世帯数 | U18: 計 | V18: 日本人 | X18: 外国人
D19: 男 | E19: 女 | F19: 男 | G19: 女 | J19: 男 | K19: 女 | L19: 男 | M19: 女 | P19: 男 | Q19: 女 | R19: 男 | S19: 女 | V19: 男 | W19: 女 | X19: 男 | Y19: 女
A20: 五井地区 | B20: 18 | C20: 23 | D20: 6 | E20: 14 | F20: 1 | G20: 2 | H20: 16 | I20: 17 | J20: 6 | K20: 11 | L20: 0 | M20: 0 | N20: 0 | O20: 1 | P20: 1 | Q20: 0 | R20: 0 | S20: 0 | T20: 0 | U20: 1 | V20: 0 | W20: 0 | X20: 1 | Y20: 0
A21: 市原地区 | B21: 4 | C21: 5 | D21: 2 | E21: 3 | F21: 0 | G21: 0 | H21: 18 | I21: 25 | J21: 6 | K21: 19 | L21: 0 | M21: 0 | N21: 0 | O21: 0 | P21: 0 | Q21: 0 | R21: 0 | S21: 0 | T21: 0 | U21: 0 | V21: 0 | W21: 0 | X21: 0 | Y21: 0
A22: 姉崎地区 | B22: 3 | C22: 3 | D22: 0 | E22: 3 | F22: 0 | G22: 0 | H22: 3 | I22: 3 | J22: 0 | K22: 3 | L22: 0 | M22: 0 | N22: 0 | O22: 0 | P22: 0 | Q22: 0 | R22: 0 | S22: 0 | T22: 0 | U22: 0 | V22: 0 | W22: 0 | X22: 0 | Y22: 0
A23: 三和地区 | B23: 0 | C23: 0 | D23: 0 | E23: 0 | F23: 0 | G23: 0 | H23: 3 | I23: 4 | J23: 2 | K23: 2 | L23: 0 | M23: 0 | N23: 0 | O23: 0 | P23: 0 | Q23: 0 | R23: 0 | S23: 0 | T23: 0 | U23: 0 | V23: 0 | W23: 0 | X23: 0 | Y23: 0
A24: 市津地区 | B24: 1 | C24: 1 | D24: 0 | E24: 1 | F24: 0 | G24: 0 | H24: 2 | I24: 2 | J24: 1 | K24: 1 | L24: 0 | M24: 0 | N24: 0 | O24: 0 | P24: 0 | Q24: 0 | R24: 0 | S24: 0 | T24: 0 | U24: 0 | V24: 0 | W24: 0 | X24: 0 | Y24: 0
A25: 南総地区 | B25: 0 | C25: 0 | D25: 0 | E25: 0 | F25: 0 | G25: 0 | H25: 8 | I25: 12 | J25: 4 | K25: 8 | L25: 0 | M25: 0 | N25: 0 | O25: 0 | P25: 0 | Q25: 0 | R25: 0 | S25: 0 | T25: 0 | U25: 0 | V25: 0 | W25: 0 | X25: 0 | Y25: 0
A26: 加茂地区 | B26: 0 | C26: 0 | D26: 0 | E26: 0 | F26: 0 | G26: 0 | H26: 1 | I26: 1 | J26: 1 | K26: 0 | L26: 0 | M26: 0 | N26: 0 | O26: 0 | P26: 0 | Q26: 0 | R26: 0 | S26: 0 | T26: 0 | U26: 0 | V26: 0 | W26: 0 | X26: 0 | Y26: 0
A27: 辰巳台地区 | B27: 1 | C27: 1 | D27: 0 | E27: 1 | F27: 0 | G27: 0 | H27: 1 | I27: 1 | J27: 0 | K27: 1 | L27: 0 | M27: 0 | N27: 0 | O27: 0 | P27: 0 | Q27: 0 | R27: 0 | S27: 0 | T27: 0 | U27: 0 | V27: 0 | W27: 0 | X27: 0 | Y27: 0
A28: 有秋地区 | B28: 1 | C28: 1 | D28: 0 | E28: 0 | F28: 0 | G28: 1 | H28: 2 | I28: 2 | J28: 1 | K28: 1 | L28: 0 | M28: 0 | N28: 0 | O28: 0 | P28: 0 | Q28: 0 | R28: 0 | S28: 0 | T28: 0 | U28: 0 | V28: 0 | W28: 0 | X28: 0 | Y28: 0
A29: ちはら台地区 | B29: 3 | C29: 3 | D29: 0 | E29: 3 | F29: 0 | G29: 0 | H29: 1 | I29: 3 | J29: 2 | K29: 1 | L29: 0 | M29: 0 | N29: 0 | O29: 0 | P29: 0 | Q29: 0 | R29: 0 | S29: 0 | T29: 0 | U29: 0 | V29: 0 | W29: 0 | X29: 0 | Y29: 0
A30: 計 | B30: 31 | C30: 37 | D30: 8 | E30: 25 | F30: 1 | G30: 3 | H30: 55 | I30: 70 | J30: 23 | K30: 47 | L30: 0 | M30: 0 | N30: 0 | O30: 1 | P30: 1 | Q30: 0 | R30: 0 | S30: 0 | T30: 0 | U30: 1 | V30: 0 | W30: 0 | X30: 1 | Y30: 0
B32: 出生 | H32: 死亡 | N32: 総合計
B33: 世帯数 | C33: 計 | D33: 日本人 | F33: 外国人 | H33: 世帯数 | I33: 計 | J33: 日本人 | L33: 外国人 | N33: 世帯数 | O33: 計 | P33: 日本人 | R33: 外国人
D34: 男 | E34: 女 | F34: 男 | G34: 女 | J34: 男 | K34: 女 | L34: 男 | M34: 女 | P34: 男 | Q34: 女 | R34: 男 | S34: 女
A35: 五井地区 | B35: 0 | C35: 57 | D35: 29 | E35: 24 | F35: 2 | G35: 2 | H35: 41 | I35: 88 | J35: 56 | K35: 32 | L35: 0 | M35: 0 | N35: -56 | O35: -59 | P35: -44 | Q35: 5 | R35: -15 | S35: -5
A36: 市原地区 | B36: 0 | C36: 22 | D36: 8 | E36: 12 | F36: 2 | G36: 0 | H36: 30 | I36: 71 | J36: 38 | K36: 33 | L36: 0 | M36: 0 | N36: 20 | O36: -18 | P36: 2 | Q36: -17 | R36: -2 | S36: -1
A37: 姉崎地区 | B37: 0 | C37: 8 | D37: 4 | E37: 3 | F37: 1 | G37: 0 | H37: 15 | I37: 38 | J37: 26 | K37: 12 | L37: 0 | M37: 0 | N37: -6 | O37: -30 | P37: -17 | Q37: -20 | R37: 1 | S37: 6
A38: 三和地区 | B38: 0 | C38: 2 | D38: 1 | E38: 1 | F38: 0 | G38: 0 | H38: 5 | I38: 17 | J38: 10 | K38: 7 | L38: 0 | M38: 0 | N38: 1 | O38: -12 | P38: -5 | Q38: -7 | R38: 0 | S38: 0
A39: 市津地区 | B39: 0 | C39: 6 | D39: 2 | E39: 4 | F39: 0 | G39: 0 | H39: 6 | I39: 17 | J39: 7 | K39: 10 | L39: 0 | M39: 0 | N39: -6 | O39: -10 | P39: -1 | Q39: -4 | R39: -1 | S39: -4
A40: 南総地区 | B40: 0 | C40: 7 | D40: 3 | E40: 3 | F40: 1 | G40: 0 | H40: 11 | I40: 23 | J40: 11 | K40: 12 | L40: 0 | M40: 0 | N40: 2 | O40: -15 | P40: -6 | Q40: -6 | R40: -2 | S40: -1
A41: 加茂地区 | B41: 0 | C41: 1 | D41: 1 | E41: 0 | F41: 0 | G41: 0 | H41: 7 | I41: 12 | J41: 2 | K41: 10 | L41: 0 | M41: 0 | N41: -5 | O41: -14 | P41: -3 | Q41: -12 | R41: 0 | S41: 1
A42: 辰巳台地区 | B42: 0 | C42: 0 | D42: 0 | E42: 0 | F42: 0 | G42: 0 | H42: 2 | I42: 15 | J42: 10 | K42: 5 | L42: 0 | M42: 0 | N42: -7 | O42: -27 | P42: -17 | Q42: -8 | R42: 2 | S42: -4
A43: 有秋地区 | B43: 0 | C43: 7 | D43: 4 | E43: 2 | F43: 1 | G43: 0 | H43: 8 | I43: 15 | J43: 5 | K43: 10 | L43: 0 | M43: 0 | N43: -10 | O43: -24 | P43: -12 | Q43: -13 | R43: 1 | S43: 0
A44: ちはら台地区 | B44: 0 | C44: 11 | D44: 4 | E44: 7 | F44: 0 | G44: 0 | H44: 5 | I44: 11 | J44: 8 | K44: 3 | L44: 0 | M44: 0 | N44: -8 | O44: -11 | P44: -8 | Q44: -1 | R44: -1 | S44: -1
A45: 計 | B45: 0 | C45: 121 | D45: 56 | E45: 56 | F45: 7 | G45: 2 | H45: 130 | I45: 307 | J45: 173 | K45: 134 | L45: 0 | M45: 0 | N45: -75 | O45: -220 | P45: -111 | Q45: -83 | R45: -17 | S45: -9

Sheet 2月分
A1: 令和４年２月分
D2: 転入 | H2: 転出 | N2: 転居（＋） | T2: 転居（－）
B3: 世帯数 | C3: 計 | D3: 日本人 | F3: 外国人 | H3: 世帯数 | I3: 計 | J3: 日本人 | L3: 外国人 | N3: 世帯数 | O3: 計 | P3: 日本人 | R3: 外国人 | T3: 世帯数 | U3: 計 | V3: 日本人 | X3: 外国人
D4: 男 | E4: 女 | F4: 男 | G4: 女 | J4: 男 | K4: 女 | L4: 男 | M4: 女 | P4: 男 | Q4: 女 | R4: 男 | S4: 女 | V4: 男 | W4: 女 | X4: 男 | Y4: 女
A5: 五井地区 | B5: 134 | C5: 200 | D5: 109 | E5: 69 | F5: 7 | G5: 15 | H5: 129 | I5: 240 | J5: 118 | K5: 87 | L5: 24 | M5: 11 | N5: 152 | O5: 274 | P5: 139 | Q5: 120 | R5: 9 | S5: 6 | T5: 128 | U5: 269 | V5: 125 | W5: 128 | X5: 9 | Y5: 7
A6: 市原地区 | B6: 89 | C6: 116 | D6: 51 | E6: 49 | F6: 10 | G6: 6 | H6: 74 | I6: 114 | J6: 56 | K6: 44 | L6: 13 | M6: 1 | N6: 75 | O6: 128 | P6: 59 | Q6: 65 | R6: 2 | S6: 2 | T6: 66 | U6: 120 | V6: 65 | W6: 50 | X6: 2 | Y6: 3
A7: 姉崎地区 | B7: 61 | C7: 77 | D7: 44 | E7: 27 | F7: 4 | G7: 2 | H7: 30 | I7: 64 | J7: 33 | K7: 23 | L7: 3 | M7: 5 | N7: 34 | O7: 62 | P7: 31 | Q7: 30 | R7: 0 | S7: 1 | T7: 35 | U7: 64 | V7: 30 | W7: 34 | X7: 0 | Y7: 0
A8: 三和地区 | B8: 10 | C8: 15 | D8: 6 | E8: 8 | F8: 0 | G8: 1 | H8: 9 | I8: 18 | J8: 9 | K8: 6 | L8: 1 | M8: 2 | N8: 17 | O8: 31 | P8: 15 | Q8: 16 | R8: 0 | S8: 0 | T8: 13 | U8: 22 | V8: 13 | W8: 8 | X8: 1 | Y8: 0
A9: 市津地区 | B9: 13 | C9: 18 | D9: 8 | E9: 8 | F9: 1 | G9: 1 | H9: 13 | I9: 29 | J9: 16 | K9: 12 | L9: 1 | M9: 0 | N9: 12 | O9: 22 | P9: 12 | Q9: 7 | R9: 2 | S9: 1 | T9: 8 | U9: 17 | V9: 6 | W9: 10 | X9: 0 | Y9: 1
A10: 南総地区 | B10: 12 | C10: 17 | D10: 13 | E10: 4 | F10: 0 | G10: 0 | H10: 12 | I10: 27 | J10: 16 | K10: 8 | L10: 3 | M10: 0 | N10: 22 | O10: 33 | P10: 14 | Q10: 16 | R10: 3 | S10: 0 | T10: 25 | U10: 48 | V10: 20 | W10: 24 | X10: 4 | Y10: 0
A11: 加茂地区 | B11: 3 | C11: 4 | D11: 2 | E11: 2 | F11: 0 | G11: 0 | H11: 1 | I11: 5 | J11: 3 | K11: 2 | L11: 0 | M11: 0 | N11: 2 | O11: 3 | P11: 1 | Q11: 2 | R11: 0 | S11: 0 | T11: 1 | U11: 2 | V11: 2 | W11: 0 | X11: 0 | Y11: 0
A12: 辰巳台地区 | B12: 12 | C12: 15 | D12: 9 | E12: 6 | F12: 0 | G12: 0 | H12: 16 | I12: 24 | J12: 10 | K12: 8 | L12: 4 | M12: 2 | N12: 10 | O12: 16 | P12: 12 | Q12: 4 | R12: 0 | S12: 0 | T12: 21 | U12: 43 | V12: 29 | W12: 14 | X12: 0 | Y12: 0
A13: 有秋地区 | B13: 13 | C13: 17 | D13: 11 | E13: 6 | F13: 0 | G13: 0 | H13: 23 | I13: 40 | J13: 28 | K13: 10 | L13: 2 | M13: 0 | N13: 14 | O13: 23 | P13: 12 | Q13: 11 | R13: 0 | S13: 0 | T13: 8 | U13: 14 | V13: 9 | W13: 5 | X13: 0 | Y13: 0
A14: ちはら台地区 | B14: 21 | C14: 46 | D14: 26 | E14: 19 | F14: 1 | G14: 0 | H14: 45 | I14: 92 | J14: 44 | K14: 39 | L14: 5 | M14: 4 | N14: 16 | O14: 38 | P14: 21 | Q14: 15 | R14: 1 | S14: 1 | T14: 13 | U14: 31 | V14: 17 | W14: 13 | X14: 1 | Y14: 0
A15: 計 | B15: 368 | C15: 525 | D15: 279 | E15: 198 | F15: 23 | G15: 25 | H15: 352 | I15: 653 | J15: 333 | K15: 239 | L15: 56 | M15: 25 | N15: 354 | O15: 630 | P15: 316 | Q15: 286 | R15: 17 | S15: 11 | T15: 318 | U15: 630 | V15: 316 | W15: 286 | X15: 17 | Y15: 11
B17: 世帯合併 | H17: 世帯分離 | N17: 帰化（＋） | T17: 帰化（－）
B18: 世帯数 | C18: 計 | D18: 日本人 | F18: 外国人 | H18: 世帯数 | I18: 計 | J18: 日本人 | L18: 外国人 | N18: 世帯数 | O18: 計 | P18: 日本人 | R18: 外国人 | T18: 世帯数 | U18: 計 | V18: 日本人 | X18: 外国人
D19: 男 | E19: 女 | F19: 男 | G19: 女 | J19: 男 | K19: 女 | L19: 男 | M19: 女 | P19: 男 | Q19: 女 | R19: 男 | S19: 女 | V19: 男 | W19: 女 | X19: 男 | Y19: 女
A20: 五井地区 | B20: 18 | C20: 20 | D20: 4 | E20: 15 | F20: 0 | G20: 1 | H20: 9 | I20: 13 | J20: 4 | K20: 8 | L20: 1 | M20: 0 | N20: 0 | O20: 0 | P20: 0 | Q20: 0 | R20: 0 | S20: 0 | T20: 0 | U20: 0 | V20: 0 | W20: 0 | X20: 0 | Y20: 0
A21: 市原地区 | B21: 8 | C21: 8 | D21: 2 | E21: 6 | F21: 0 | G21: 0 | H21: 8 | I21: 10 | J21: 6 | K21: 4 | L21: 0 | M21: 0 | N21: 0 | O21: 0 | P21: 0 | Q21: 0 | R21: 0 | S21: 0 | T21: 0 | U21: 0 | V21: 0 | W21: 0 | X21: 0 | Y21: 0
A22: 姉崎地区 | B22: 2 | C22: 2 | D22: 0 | E22: 2 | F22: 0 | G22: 0 | H22: 4 | I22: 7 | J22: 3 | K22: 4 | L22: 0 | M22: 0 | N22: 0 | O22: 0 | P22: 0 | Q22: 0 | R22: 0 | S22: 0 | T22: 0 | U22: 0 | V22: 0 | W22: 0 | X22: 0 | Y22: 0
A23: 三和地区 | B23: 0 | C23: 0 | D23: 0 | E23: 0 | F23: 0 | G23: 0 | H23: 5 | I23: 5 | J23: 1 | K23: 4 | L23: 0 | M23: 0 | N23: 0 | O23: 0 | P23: 0 | Q23: 0 | R23: 0 | S23: 0 | T23: 0 | U23: 0 | V23: 0 | W23: 0 | X23: 0 | Y23: 0
A24: 市津地区 | B24: 0 | C24: 0 | D24: 0 | E24: 0 | F24: 0 | G24: 0 | H24: 2 | I24: 2 | J24: 1 | K24: 1 | L24: 0 | M24: 0 | N24: 0 | O24: 0 | P24: 0 | Q24: 0 | R24: 0 | S24: 0 | T24: 0 | U24: 0 | V24: 0 | W24: 0 | X24: 0 | Y24: 0
A25: 南総地区 | B25: 2 | C25: 5 | D25: 0 | E25: 1 | F25: 2 | G25: 2 | H25: 0 | I25: 0 | J25: 0 | K25: 0 | L25: 0 | M25: 0 | N25: 0 | O25: 0 | P25: 0 | Q25: 0 | R25: 0 | S25: 0 | T25: 0 | U25: 0 | V25: 0 | W25: 0 | X25: 0 | Y25: 0
A26: 加茂地区 | B26: 0 | C26: 0 | D26: 0 | E26: 0 | F26: 0 | G26: 0 | H26: 1 | I26: 1 | J26: 1 | K26: 0 | L26: 0 | M26: 0 | N26: 0 | O26: 0 | P26: 0 | Q26: 0 | R26: 0 | S26: 0 | T26: 0 | U26: 0 | V26: 0 | W26: 0 | X26: 0 | Y26: 0
A27: 辰巳台地区 | B27: 0 | C27: 0 | D27: 0 | E27: 0 | F27: 0 | G27: 0 | H27: 0 | I27: 0 | J27: 0 | K27: 0 | L27: 0 | M27: 0 | N27: 0 | O27: 0 | P27: 0 | Q27: 0 | R27: 0 | S27: 0 | T27: 0 | U27: 0 | V27: 0 | W27: 0 | X27: 0 | Y27: 0
A28: 有秋地区 | B28: 2 | C28: 2 | D28: 0 | E28: 2 | F28: 0 | G28: 0 | H28: 1 | I28: 1 | J28: 1 | K28: 0 | L28: 0 | M28: 0 | N28: 0 | O28: 0 | P28: 0 | Q28: 0 | R28: 0 | S28: 0 | T28: 0 | U28: 0 | V28: 0 | W28: 0 | X28: 0 | Y28: 0
A29: ちはら台地区 | B29: 3 | C29: 3 | D29: 0 | E29: 3 | F29: 0 | G29: 0 | H29: 3 | I29: 3 | J29: 1 | K29: 2 | L29: 0 | M29: 0 | N29: 0 | O29: 0 | P29: 0 | Q29: 0 | R29: 0 | S29: 0 | T29: 0 | U29: 0 | V29: 0 | W29: 0 | X29: 0 | Y29: 0
A30: 計 | B30: 35 | C30: 40 | D30: 6 | E30: 29 | F30: 2 | G30: 3 | H30: 33 | I30: 42 | J30: 18 | K30: 23 | L30: 1 | M30: 0 | N30: 0 | O30: 0 | P30: 0 | Q30: 0 | R30: 0 | S30: 0 | T30: 0 | U30: 0 | V30: 0 | W30: 0 | X30: 0 | Y30: 0
B32: 出生 | H32: 死亡 | N32: 総合計
B33: 世帯数 | C33: 計 | D33: 日本人 | F33: 外国人 | H33: 世帯数 | I33: 計 | J33: 日本人 | L33: 外国人 | N33: 世帯数 | O33: 計 | P33: 日本人 | R33: 外国人
D34: 男 | E34: 女 | F34: 男 | G34: 女 | J34: 男 | K34: 女 | L34: 男 | M34: 女 | P34: 男 | Q34: 女 | R34: 男 | S34: 女
A35: 五井地区 | B35: 0 | C35: 47 | D35: 24 | E35: 21 | F35: 1 | G35: 1 | H35: 33 | I35: 66 | J35: 39 | K35: 27 | L35: 0 | M35: 0 | N35: -13 | O35: -54 | P35: -10 | Q35: -32 | R35: -16 | S35: 4
A36: 市原地区 | B36: 0 | C36: 25 | D36: 12 | E36: 13 | F36: 0 | G36: 0 | H36: 30 | I36: 67 | J36: 42 | K36: 25 | L36: 0 | M36: 0 | N36: -6 | O36: -32 | P36: -41 | Q36: 8 | R36: -3 | S36: 4
A37: 姉崎地区 | B37: 0 | C37: 14 | D37: 7 | E37: 7 | F37: 0 | G37: 0 | H37: 17 | I37: 38 | J37: 19 | K37: 19 | L37: 0 | M37: 0 | N37: 15 | O37: -13 | P37: 0 | Q37: -12 | R37: 1 | S37: -2
A38: 三和地区 | B38: 0 | C38: 5 | D38: 3 | E38: 2 | F38: 0 | G38: 0 | H38: 8 | I38: 17 | J38: 11 | K38: 6 | L38: 0 | M38: 0 | N38: 2 | O38: -6 | P38: -9 | Q38: 6 | R38: -2 | S38: -1
A39: 市津地区 | B39: 0 | C39: 3 | D39: 0 | E39: 3 | F39: 0 | G39: 0 | H39: 13 | I39: 29 | J39: 16 | K39: 13 | L39: 0 | M39: 0 | N39: -7 | O39: -32 | P39: -18 | Q39: -17 | R39: 2 | S39: 1
A40: 南総地区 | B40: 0 | C40: 6 | D40: 5 | E40: 1 | F40: 0 | G40: 0 | H40: 15 | I40: 33 | J40: 18 | K40: 15 | L40: 0 | M40: 0 | N40: -20 | O40: -52 | P40: -22 | Q40: -26 | R40: -4 | S40: 0
A41: 加茂地区 | B41: 0 | C41: 0 | D41: 0 | E41: 0 | F41: 0 | G41: 0 | H41: 5 | I41: 14 | J41: 9 | K41: 5 | L41: 0 | M41: 0 | N41: -1 | O41: -14 | P41: -11 | Q41: -3 | R41: 0 | S41: 0
A42: 辰巳台地区 | B42: 0 | C42: 5 | D42: 4 | E42: 1 | F42: 0 | G42: 0 | H42: 3 | I42: 7 | J42: 3 | K42: 4 | L42: 0 | M42: 0 | N42: -18 | O42: -38 | P42: -17 | Q42: -15 | R42: -4 | S42: -2
A43: 有秋地区 | B43: 0 | C43: 1 | D43: 1 | E43: 0 | F43: 0 | G43: 0 | H43: 3 | I43: 9 | J43: 2 | K43: 6 | L43: 1 | M43: 0 | N43: -8 | O43: -22 | P43: -15 | Q43: -4 | R43: -3 | S43: 0
A44: ちはら台地区 | B44: 0 | C44: 17 | D44: 9 | E44: 8 | F44: 0 | G44: 0 | H44: 5 | I44: 10 | J44: 4 | K44: 6 | L44: 0 | M44: 0 | N44: -26 | O44: -32 | P44: -9 | Q44: -16 | R44: -4 | S44: -3
A45: 計 | B45: 0 | C45: 123 | D45: 65 | E45: 56 | F45: 1 | G45: 1 | H45: 132 | I45: 290 | J45: 163 | K45: 126 | L45: 1 | M45: 0 | N45: -82 | O45: -295 | P45: -152 | Q45: -111 | R45: -33 | S45: 1

Sheet 3月分
A1: 令和４年３月分
D2: 転入 | H2: 転出 | N2: 転居（＋） | T2: 転居（－）
B3: 世帯数 | C3: 計 | D3: 日本人 | F3: 外国人 | H3: 世帯数 | I3: 計 | J3: 日本人 | L3: 外国人 | N3: 世帯数 | O3: 計 | P3: 日本人 | R3: 外国人 | T3: 世帯数 | U3: 計 | V3: 日本人 | X3: 外国人
D4: 男 | E4: 女 | F4: 男 | G4: 女 | J4: 男 | K4: 女 | L4: 男 | M4: 女 | P4: 男 | Q4: 女 | R4: 男 | S4: 女 | V4: 男 | W4: 女 | X4: 男 | Y4: 女
A5: 五井地区 | B5: 453 | C5: 606 | D5: 334 | E5: 229 | F5: 30 | G5: 13 | H5: 241 | I5: 575 | J5: 310 | K5: 224 | L5: 24 | M5: 17 | N5: 204 | O5: 366 | P5: 187 | Q5: 142 | R5: 21 | S5: 16 | T5: 173 | U5: 362 | V5: 187 | W5: 143 | X5: 20 | Y5: 12
A6: 市原地区 | B6: 204 | C6: 295 | D6: 143 | E6: 116 | F6: 22 | G6: 14 | H6: 129 | I6: 275 | J6: 133 | K6: 109 | L6: 22 | M6: 11 | N6: 108 | O6: 186 | P6: 96 | Q6: 78 | R6: 7 | S6: 5 | T6: 126 | U6: 202 | V6: 121 | W6: 64 | X6: 8 | Y6: 9
A7: 姉崎地区 | B7: 129 | C7: 193 | D7: 91 | E7: 85 | F7: 11 | G7: 6 | H7: 81 | I7: 171 | J7: 86 | K7: 73 | L7: 4 | M7: 8 | N7: 97 | O7: 129 | P7: 95 | Q7: 31 | R7: 2 | S7: 1 | T7: 53 | U7: 94 | V7: 57 | W7: 30 | X7: 4 | Y7: 3
A8: 三和地区 | B8: 13 | C8: 34 | D8: 14 | E8: 17 | F8: 2 | G8: 1 | H8: 12 | I8: 56 | J8: 25 | K8: 28 | L8: 2 | M8: 1 | N8: 12 | O8: 23 | P8: 13 | Q8: 10 | R8: 0 | S8: 0 | T8: 12 | U8: 26 | V8: 15 | W8: 11 | X8: 0 | Y8: 0
A9: 市津地区 | B9: 21 | C9: 49 | D9: 20 | E9: 23 | F9: 5 | G9: 1 | H9: 24 | I9: 58 | J9: 24 | K9: 29 | L9: 5 | M9: 0 | N9: 15 | O9: 24 | P9: 15 | Q9: 9 | R9: 0 | S9: 0 | T9: 12 | U9: 28 | V9: 13 | W9: 14 | X9: 1 | Y9: 0
A10: 南総地区 | B10: 44 | C10: 71 | D10: 32 | E10: 27 | F10: 6 | G10: 6 | H10: 25 | I10: 71 | J10: 36 | K10: 30 | L10: 4 | M10: 1 | N10: 23 | O10: 41 | P10: 24 | Q10: 17 | R10: 0 | S10: 0 | T10: 17 | U10: 51 | V10: 28 | W10: 22 | X10: 0 | Y10: 1
A11: 加茂地区 | B11: 2 | C11: 5 | D11: 3 | E11: 2 | F11: 0 | G11: 0 | H11: 4 | I11: 13 | J11: 4 | K11: 7 | L11: 2 | M11: 0 | N11: 3 | O11: 5 | P11: 3 | Q11: 2 | R11: 0 | S11: 0 | T11: 2 | U11: 4 | V11: 3 | W11: 1 | X11: 0 | Y11: 0
A12: 辰巳台地区 | B12: 138 | C12: 160 | D12: 72 | E12: 54 | F12: 10 | G12: 24 | H12: 29 | I12: 82 | J12: 45 | K12: 36 | L12: 1 | M12: 0 | N12: 24 | O12: 33 | P12: 16 | Q12: 15 | R12: 1 | S12: 1 | T12: 24 | U12: 49 | V12: 28 | W12: 20 | X12: 0 | Y12: 1
A13: 有秋地区 | B13: 113 | C13: 138 | D13: 107 | E13: 24 | F13: 3 | G13: 4 | H13: 37 | I13: 88 | J13: 53 | K13: 30 | L13: 5 | M13: 0 | N13: 17 | O13: 29 | P13: 16 | Q13: 8 | R13: 2 | S13: 3 | T13: 16 | U13: 33 | V13: 20 | W13: 13 | X13: 0 | Y13: 0
A14: ちはら台地区 | B14: 73 | C14: 145 | D14: 73 | E14: 67 | F14: 4 | G14: 1 | H14: 45 | I14: 169 | J14: 90 | K14: 76 | L14: 1 | M14: 2 | N14: 27 | O14: 63 | P14: 31 | Q14: 31 | R14: 0 | S14: 1 | T14: 20 | U14: 50 | V14: 24 | W14: 25 | X14: 0 | Y14: 1
A15: 計 | B15: 1190 | C15: 1696 | D15: 889 | E15: 644 | F15: 93 | G15: 70 | H15: 627 | I15: 1558 | J15: 806 | K15: 642 | L15: 70 | M15: 40 | N15: 530 | O15: 899 | P15: 496 | Q15: 343 | R15: 33 | S15: 27 | T15: 455 | U15: 899 | V15: 496 | W15: 343 | X15: 33 | Y15: 27
B17: 世帯合併 | H17: 世帯分離 | N17: 帰化（＋） | T17: 帰化（－）
B18: 世帯数 | C18: 計 | D18: 日本人 | F18: 外国人 | H18: 世帯数 | I18: 計 | J18: 日本人 | L18: 外国人 | N18: 世帯数 | O18: 計 | P18: 日本人 | R18: 外国人 | T18: 世帯数 | U18: 計 | V18: 日本人 | X18: 外国人
D19: 男 | E19: 女 | F19: 男 | G19: 女 | J19: 男 | K19: 女 | L19: 男 | M19: 女 | P19: 男 | Q19: 女 | R19: 男 | S19: 女 | V19: 男 | W19: 女 | X19: 男 | Y19: 女
A20: 五井地区 | B20: 12 | C20: 12 | D20: 2 | E20: 9 | F20: 0 | G20: 1 | H20: 23 | I20: 24 | J20: 10 | K20: 12 | L20: 0 | M20: 2 | N20: 0 | O20: 0 | P20: 0 | Q20: 0 | R20: 0 | S20: 0 | T20: 0 | U20: 0 | V20: 0 | W20: 0 | X20: 0 | Y20: 0
A21: 市原地区 | B21: 8 | C21: 9 | D21: 1 | E21: 8 | F21: 0 | G21: 0 | H21: 13 | I21: 22 | J21: 12 | K21: 10 | L21: 0 | M21: 0 | N21: 1 | O21: 5 | P21: 3 | Q21: 2 | R21: 0 | S21: 0 | T21: 1 | U21: 5 | V21: 0 | W21: 0 | X21: 3 | Y21: 2
A22: 姉崎地区 | B22: 6 | C22: 8 | D22: 1 | E22: 7 | F22: 0 | G22: 0 | H22: 6 | I22: 6 | J22: 1 | K22: 5 | L22: 0 | M22: 0 | N22: 0 | O22: 0 | P22: 0 | Q22: 0 | R22: 0 | S22: 0 | T22: 0 | U22: 0 | V22: 0 | W22: 0 | X22: 0 | Y22: 0
A23: 三和地区 | B23: 1 | C23: 1 | D23: 1 | E23: 0 | F23: 0 | G23: 0 | H23: 4 | I23: 6 | J23: 3 | K23: 3 | L23: 0 | M23: 0 | N23: 0 | O23: 1 | P23: 1 | Q23: 0 | R23: 0 | S23: 0 | T23: 0 | U23: 1 | V23: 0 | W23: 0 | X23: 1 | Y23: 0
A24: 市津地区 | B24: 1 | C24: 1 | D24: 0 | E24: 1 | F24: 0 | G24: 0 | H24: 3 | I24: 3 | J24: 2 | K24: 1 | L24: 0 | M24: 0 | N24: 0 | O24: 0 | P24: 0 | Q24: 0 | R24: 0 | S24: 0 | T24: 0 | U24: 0 | V24: 0 | W24: 0 | X24: 0 | Y24: 0
A25: 南総地区 | B25: 0 | C25: 0 | D25: 0 | E25: 0 | F25: 0 | G25: 0 | H25: 6 | I25: 7 | J25: 3 | K25: 4 | L25: 0 | M25: 0 | N25: 0 | O25: 0 | P25: 0 | Q25: 0 | R25: 0 | S25: 0 | T25: 0 | U25: 0 | V25: 0 | W25: 0 | X25: 0 | Y25: 0
A26: 加茂地区 | B26: 0 | C26: 0 | D26: 0 | E26: 0 | F26: 0 | G26: 0 | H26: 2 | I26: 2 | J26: 0 | K26: 2 | L26: 0 | M26: 0 | N26: 0 | O26: 0 | P26: 0 | Q26: 0 | R26: 0 | S26: 0 | T26: 0 | U26: 0 | V26: 0 | W26: 0 | X26: 0 | Y26: 0
A27: 辰巳台地区 | B27: 0 | C27: 0 | D27: 0 | E27: 0 | F27: 0 | G27: 0 | H27: 2 | I27: 3 | J27: 2 | K27: 1 | L27: 0 | M27: 0 | N27: 0 | O27: 0 | P27: 0 | Q27: 0 | R27: 0 | S27: 0 | T27: 0 | U27: 0 | V27: 0 | W27: 0 | X27: 0 | Y27: 0
A28: 有秋地区 | B28: 2 | C28: 2 | D28: 0 | E28: 2 | F28: 0 | G28: 0 | H28: 2 | I28: 2 | J28: 2 | K28: 0 | L28: 0 | M28: 0 | N28: 0 | O28: 0 | P28: 0 | Q28: 0 | R28: 0 | S28: 0 | T28: 0 | U28: 0 | V28: 0 | W28: 0 | X28: 0 | Y28: 0
A29: ちはら台地区 | B29: 1 | C29: 1 | D29: 0 | E29: 1 | F29: 0 | G29: 0 | H29: 2 | I29: 6 | J29: 2 | K29: 4 | L29: 0 | M29: 0 | N29: 0 | O29: 0 | P29: 0 | Q29: 0 | R29: 0 | S29: 0 | T29: 0 | U29: 0 | V29: 0 | W29: 0 | X29: 0 | Y29: 0
A30: 計 | B30: 31 | C30: 34 | D30: 5 | E30: 28 | F30: 0 | G30: 1 | H30: 63 | I30: 81 | J30: 37 | K30: 42 | L30: 0 | M30: 2 | N30: 1 | O30: 6 | P30: 4 | Q30: 2 | R30: 0 | S30: 0 | T30: 1 | U30: 6 | V30: 0 | W30: 0 | X30: 4 | Y30: 2
B32: 出生 | H32: 死亡 | N32: 総合計
B33: 世帯数 | C33: 計 | D33: 日本人 | F33: 外国人 | H33: 世帯数 | I33: 計 | J33: 日本人 | L33: 外国人 | N33: 世帯数 | O33: 計 | P33: 日本人 | R33: 外国人
D34: 男 | E34: 女 | F34: 男 | G34: 女 | J34: 男 | K34: 女 | L34: 男 | M34: 女 | P34: 男 | Q34: 女 | R34: 男 | S34: 女
A35: 五井地区 | B35: 0 | C35: 29 | D35: 13 | E35: 14 | F35: 1 | G35: 1 | H35: 43 | I35: 80 | J35: 40 | K35: 40 | L35: 0 | M35: 0 | N35: 211 | O35: -16 | P35: -3 | Q35: -22 | R35: 8 | S35: 1
A36: 市原地区 | B36: 0 | C36: 24 | D36: 13 | E36: 9 | F36: 0 | G36: 2 | H36: 34 | I36: 73 | J36: 44 | K36: 28 | L36: 0 | M36: 1 | N36: 28 | O36: -45 | P36: -43 | Q36: 4 | R36: -4 | S36: -2
A37: 姉崎地区 | B37: 0 | C37: 11 | D37: 5 | E37: 5 | F37: 1 | G37: 0 | H37: 14 | I37: 38 | J37: 20 | K37: 18 | L37: 0 | M37: 0 | N37: 78 | O37: 30 | P37: 28 | Q37: 0 | R37: 6 | S37: -4
A38: 三和地区 | B38: 0 | C38: 4 | D38: 2 | E38: 2 | F38: 0 | G38: 0 | H38: 11 | I38: 20 | J38: 10 | K38: 10 | L38: 0 | M38: 0 | N38: -7 | O38: -41 | P38: -20 | Q38: -20 | R38: -1 | S38: 0
A39: 市津地区 | B39: 0 | C39: 10 | D39: 6 | E39: 4 | F39: 0 | G39: 0 | H39: 11 | I39: 21 | J39: 9 | K39: 12 | L39: 0 | M39: 0 | N39: -9 | O39: -24 | P39: -5 | Q39: -19 | R39: -1 | S39: 1
A40: 南総地区 | B40: 0 | C40: 4 | D40: 4 | E40: 0 | F40: 0 | G40: 0 | H40: 12 | I40: 33 | J40: 19 | K40: 14 | L40: 0 | M40: 0 | N40: 19 | O40: -39 | P40: -23 | Q40: -22 | R40: 2 | S40: 4
A41: 加茂地区 | B41: 0 | C41: 2 | D41: 1 | E41: 1 | F41: 0 | G41: 0 | H41: 6 | I41: 12 | J41: 6 | K41: 6 | L41: 0 | M41: 0 | N41: -5 | O41: -17 | P41: -6 | Q41: -9 | R41: -2 | S41: 0
A42: 辰巳台地区 | B42: 0 | C42: 4 | D42: 3 | E42: 1 | F42: 0 | G42: 0 | H42: 0 | I42: 5 | J42: 2 | K42: 3 | L42: 0 | M42: 0 | N42: 111 | O42: 61 | P42: 16 | Q42: 11 | R42: 10 | S42: 24
A43: 有秋地区 | B43: 0 | C43: 5 | D43: 3 | E43: 2 | F43: 0 | G43: 0 | H43: 8 | I43: 15 | J43: 7 | K43: 8 | L43: 0 | M43: 0 | N43: 69 | O43: 36 | P43: 46 | Q43: -17 | R43: 0 | S43: 7
A44: ちはら台地区 | B44: 0 | C44: 14 | D44: 8 | E44: 6 | F44: 0 | G44: 0 | H44: 3 | I44: 14 | J44: 9 | K44: 5 | L44: 0 | M44: 0 | N44: 33 | O44: -11 | P44: -11 | Q44: -2 | R44: 3 | S44: -1
A45: 計 | B45: 0 | C45: 107 | D45: 58 | E45: 44 | F45: 2 | G45: 3 | H45: 142 | I45: 311 | J45: 166 | K45: 144 | L45: 0 | M45: 1 | N45: 528 | O45: -66 | P45: -21 | Q45: -96 | R45: 21 | S45: 30

Sheet 4月分
A1: 令和４年４月分
D2: 転入 | H2: 転出 | N2: 転居（＋） | T2: 転居（－）
B3: 世帯数 | C3: 計 | D3: 日本人 | F3: 外国人 | H3: 世帯数 | I3: 計 | J3: 日本人 | L3: 外国人 | N3: 世帯数 | O3: 計 | P3: 日本人 | R3: 外国人 | T3: 世帯数 | U3: 計 | V3: 日本人 | X3: 外国人
D4: 男 | E4: 女 | F4: 男 | G4: 女 | J4: 男 | K4: 女 | L4: 男 | M4: 女 | P4: 男 | Q4: 女 | R4: 男 | S4: 女 | V4: 男 | W4: 女 | X4: 男 | Y4: 女
A5: 五井地区 | B5: 303 | C5: 408 | D5: 185 | E5: 135 | F5: 64 | G5: 24 | H5: 183 | I5: 336 | J5: 181 | K5: 117 | L5: 27 | M5: 11 | N5: 180 | O5: 306 | P5: 167 | Q5: 118 | R5: 11 | S5: 10 | T5: 153 | U5: 292 | V5: 148 | W5: 124 | X5: 10 | Y5: 10
A6: 市原地区 | B6: 136 | C6: 181 | D6: 93 | E6: 55 | F6: 24 | G6: 9 | H6: 96 | I6: 179 | J6: 93 | K6: 72 | L6: 10 | M6: 4 | N6: 83 | O6: 147 | P6: 75 | Q6: 71 | R6: 1 | S6: 0 | T6: 95 | U6: 158 | V6: 95 | W6: 55 | X6: 4 | Y6: 4
A7: 姉崎地区 | B7: 88 | C7: 127 | D7: 64 | E7: 38 | F7: 14 | G7: 11 | H7: 56 | I7: 110 | J7: 53 | K7: 39 | L7: 10 | M7: 8 | N7: 48 | O7: 81 | P7: 50 | Q7: 24 | R7: 4 | S7: 3 | T7: 42 | U7: 85 | V7: 43 | W7: 38 | X7: 3 | Y7: 1
A8: 三和地区 | B8: 23 | C8: 31 | D8: 17 | E8: 9 | F8: 1 | G8: 4 | H8: 19 | I8: 37 | J8: 22 | K8: 13 | L8: 1 | M8: 1 | N8: 12 | O8: 18 | P8: 10 | Q8: 8 | R8: 0 | S8: 0 | T8: 11 | U8: 25 | V8: 11 | W8: 14 | X8: 0 | Y8: 0
A9: 市津地区 | B9: 26 | C9: 42 | D9: 15 | E9: 15 | F9: 8 | G9: 4 | H9: 13 | I9: 37 | J9: 21 | K9: 13 | L9: 2 | M9: 1 | N9: 15 | O9: 28 | P9: 14 | Q9: 11 | R9: 1 | S9: 2 | T9: 8 | U9: 18 | V9: 10 | W9: 8 | X9: 0 | Y9: 0
A10: 南総地区 | B10: 122 | C10: 138 | D10: 14 | E10: 18 | F10: 103 | G10: 3 | H10: 11 | I10: 38 | J10: 23 | K10: 11 | L10: 4 | M10: 0 | N10: 20 | O10: 32 | P10: 15 | Q10: 15 | R10: 1 | S10: 1 | T10: 18 | U10: 41 | V10: 20 | W10: 18 | X10: 2 | Y10: 1
A11: 加茂地区 | B11: 4 | C11: 5 | D11: 0 | E11: 2 | F11: 3 | G11: 0 | H11: 1 | I11: 7 | J11: 4 | K11: 2 | L11: 1 | M11: 0 | N11: 1 | O11: 1 | P11: 1 | Q11: 0 | R11: 0 | S11: 0 | T11: 3 | U11: 6 | V11: 5 | W11: 1 | X11: 0 | Y11: 0
A12: 辰巳台地区 | B12: 145 | C12: 154 | D12: 16 | E12: 22 | F12: 65 | G12: 51 | H12: 60 | I12: 79 | J12: 16 | K12: 13 | L12: 9 | M12: 41 | N12: 17 | O12: 31 | P12: 16 | Q12: 13 | R12: 1 | S12: 1 | T12: 20 | U12: 38 | V12: 21 | W12: 16 | X12: 0 | Y12: 1
A13: 有秋地区 | B13: 19 | C13: 27 | D13: 18 | E13: 8 | F13: 1 | G13: 0 | H13: 23 | I13: 55 | J13: 32 | K13: 21 | L13: 2 | M13: 0 | N13: 9 | O13: 14 | P13: 7 | Q13: 7 | R13: 0 | S13: 0 | T13: 12 | U13: 16 | V13: 10 | W13: 6 | X13: 0 | Y13: 0
A14: ちはら台地区 | B14: 82 | C14: 157 | D14: 63 | E14: 83 | F14: 4 | G14: 7 | H14: 38 | I14: 126 | J14: 65 | K14: 56 | L14: 4 | M14: 1 | N14: 46 | O14: 90 | P14: 43 | Q14: 47 | R14: 0 | S14: 0 | T14: 30 | U14: 69 | V14: 35 | W14: 34 | X14: 0 | Y14: 0
A15: 計 | B15: 948 | C15: 1270 | D15: 485 | E15: 385 | F15: 287 | G15: 113 | H15: 500 | I15: 1004 | J15: 510 | K15: 357 | L15: 70 | M15: 67 | N15: 431 | O15: 748 | P15: 398 | Q15: 314 | R15: 19 | S15: 17 | T15: 392 | U15: 748 | V15: 398 | W15: 314 | X15: 19 | Y15: 17
B17: 世帯合併 | H17: 世帯分離 | N17: 帰化（＋） | T17: 帰化（－）
B18: 世帯数 | C18: 計 | D18: 日本人 | F18: 外国人 | H18: 世帯数 | I18: 計 | J18: 日本人 | L18: 外国人 | N18: 世帯数 | O18: 計 | P18: 日本人 | R18: 外国人 | T18: 世帯数 | U18: 計 | V18: 日本人 | X18: 外国人
D19: 男 | E19: 女 | F19: 男 | G19: 女 | J19: 男 | K19: 女 | L19: 男 | M19: 女 | P19: 男 | Q19: 女 | R19: 男 | S19: 女 | V19: 男 | W19: 女 | X19: 男 | Y19: 女
A20: 五井地区 | B20: 10 | C20: 15 | D20: 5 | E20: 9 | F20: 0 | G20: 1 | H20: 19 | I20: 21 | J20: 7 | K20: 13 | L20: 0 | M20: 1 | N20: 0 | O20: 1 | P20: 1 | Q20: 0 | R20: 0 | S20: 0 | T20: 0 | U20: 1 | V20: 0 | W20: 0 | X20: 1 | Y20: 0
A21: 市原地区 | B21: 8 | C21: 8 | D21: 1 | E21: 7 | F21: 0 | G21: 0 | H21: 15 | I21: 20 | J21: 7 | K21: 12 | L21: 1 | M21: 0 | N21: 0 | O21: 0 | P21: 0 | Q21: 0 | R21: 0 | S21: 0 | T21: 0 | U21: 0 | V21: 0 | W21: 0 | X21: 0 | Y21: 0
A22: 姉崎地区 | B22: 0 | C22: 0 | D22: 0 | E22: 0 | F22: 0 | G22: 0 | H22: 4 | I22: 5 | J22: 1 | K22: 4 | L22: 0 | M22: 0 | N22: 0 | O22: 0 | P22: 0 | Q22: 0 | R22: 0 | S22: 0 | T22: 0 | U22: 0 | V22: 0 | W22: 0 | X22: 0 | Y22: 0
A23: 三和地区 | B23: 0 | C23: 0 | D23: 0 | E23: 0 | F23: 0 | G23: 0 | H23: 8 | I23: 12 | J23: 6 | K23: 6 | L23: 0 | M23: 0 | N23: 0 | O23: 0 | P23: 0 | Q23: 0 | R23: 0 | S23: 0 | T23: 0 | U23: 0 | V23: 0 | W23: 0 | X23: 0 | Y23: 0
A24: 市津地区 | B24: 0 | C24: 0 | D24: 0 | E24: 0 | F24: 0 | G24: 0 | H24: 3 | I24: 3 | J24: 0 | K24: 3 | L24: 0 | M24: 0 | N24: 0 | O24: 0 | P24: 0 | Q24: 0 | R24: 0 | S24: 0 | T24: 0 | U24: 0 | V24: 0 | W24: 0 | X24: 0 | Y24: 0
A25: 南総地区 | B25: 2 | C25: 3 | D25: 2 | E25: 1 | F25: 0 | G25: 0 | H25: 6 | I25: 14 | J25: 7 | K25: 7 | L25: 0 | M25: 0 | N25: 0 | O25: 0 | P25: 0 | Q25: 0 | R25: 0 | S25: 0 | T25: 0 | U25: 0 | V25: 0 | W25: 0 | X25: 0 | Y25: 0
A26: 加茂地区 | B26: 0 | C26: 0 | D26: 0 | E26: 0 | F26: 0 | G26: 0 | H26: 6 | I26: 10 | J26: 4 | K26: 6 | L26: 0 | M26: 0 | N26: 0 | O26: 0 | P26: 0 | Q26: 0 | R26: 0 | S26: 0 | T26: 0 | U26: 0 | V26: 0 | W26: 0 | X26: 0 | Y26: 0
A27: 辰巳台地区 | B27: 1 | C27: 1 | D27: 0 | E27: 1 | F27: 0 | G27: 0 | H27: 2 | I27: 2 | J27: 1 | K27: 1 | L27: 0 | M27: 0 | N27: 0 | O27: 0 | P27: 0 | Q27: 0 | R27: 0 | S27: 0 | T27: 0 | U27: 0 | V27: 0 | W27: 0 | X27: 0 | Y27: 0
A28: 有秋地区 | B28: 0 | C28: 0 | D28: 0 | E28: 0 | F28: 0 | G28: 0 | H28: 6 | I28: 6 | J28: 0 | K28: 6 | L28: 0 | M28: 0 | N28: 0 | O28: 0 | P28: 0 | Q28: 0 | R28: 0 | S28: 0 | T28: 0 | U28: 0 | V28: 0 | W28: 0 | X28: 0 | Y28: 0
A29: ちはら台地区 | B29: 1 | C29: 1 | D29: 0 | E29: 1 | F29: 0 | G29: 0 | H29: 3 | I29: 3 | J29: 2 | K29: 1 | L29: 0 | M29: 0 | N29: 0 | O29: 0 | P29: 0 | Q29: 0 | R29: 0 | S29: 0 | T29: 0 | U29: 0 | V29: 0 | W29: 0 | X29: 0 | Y29: 0
A30: 計 | B30: 22 | C30: 28 | D30: 8 | E30: 19 | F30: 0 | G30: 1 | H30: 72 | I30: 96 | J30: 35 | K30: 59 | L30: 1 | M30: 1 | N30: 0 | O30: 1 | P30: 1 | Q30: 0 | R30: 0 | S30: 0 | T30: 0 | U30: 1 | V30: 0 | W30: 0 | X30: 1 | Y30: 0
B32: 出生 | H32: 死亡 | N32: 総合計
B33: 世帯数 | C33: 計 | D33: 日本人 | F33: 外国人 | H33: 世帯数 | I33: 計 | J33: 日本人 | L33: 外国人 | N33: 世帯数 | O33: 計 | P33: 日本人 | R33: 外国人
D34: 男 | E34: 女 | F34: 男 | G34: 女 | J34: 男 | K34: 女 | L34: 男 | M34: 女 | P34: 男 | Q34: 女 | R34: 男 | S34: 女
A35: 五井地区 | B35: 0 | C35: 48 | D35: 27 | E35: 21 | F35: 0 | G35: 0 | H35: 35 | I35: 64 | J35: 39 | K35: 24 | L35: 1 | M35: 0 | N35: 121 | O35: 70 | P35: 12 | Q35: 9 | R35: 36 | S35: 13
A36: 市原地区 | B36: 0 | C36: 16 | D36: 10 | E36: 6 | F36: 0 | G36: 0 | H36: 27 | I36: 58 | J36: 35 | K36: 23 | L36: 0 | M36: 0 | N36: 8 | O36: -51 | P36: -45 | Q36: -18 | R36: 11 | S36: 1
A37: 姉崎地区 | B37: 0 | C37: 9 | D37: 8 | E37: 1 | F37: 0 | G37: 0 | H37: 6 | I37: 26 | J37: 10 | K37: 15 | L37: 0 | M37: 1 | N37: 36 | O37: -4 | P37: 16 | Q37: -29 | R37: 5 | S37: 4
A38: 三和地区 | B38: 0 | C38: 2 | D38: 2 | E38: 0 | F38: 0 | G38: 0 | H38: 12 | I38: 25 | J38: 11 | K38: 14 | L38: 0 | M38: 0 | N38: 1 | O38: -36 | P38: -15 | Q38: -24 | R38: 0 | S38: 3
A39: 市津地区 | B39: 0 | C39: 9 | D39: 3 | E39: 6 | F39: 0 | G39: 0 | H39: 4 | I39: 14 | J39: 7 | K39: 7 | L39: 0 | M39: 0 | N39: 19 | O39: 10 | P39: -6 | Q39: 4 | R39: 7 | S39: 5
A40: 南総地区 | B40: 0 | C40: 0 | D40: 0 | E40: 0 | F40: 0 | G40: 0 | H40: 17 | I40: 37 | J40: 20 | K40: 17 | L40: 0 | M40: 0 | N40: 100 | O40: 54 | P40: -34 | Q40: -13 | R40: 98 | S40: 3
A41: 加茂地区 | B41: 0 | C41: 1 | D41: 0 | E41: 1 | F41: 0 | G41: 0 | H41: 5 | I41: 9 | J41: 6 | K41: 3 | L41: 0 | M41: 0 | N41: 2 | O41: -15 | P41: -14 | Q41: -3 | R41: 2 | S41: 0
A42: 辰巳台地区 | B42: 0 | C42: 2 | D42: 0 | E42: 2 | F42: 0 | G42: 0 | H42: 2 | I42: 8 | J42: 2 | K42: 6 | L42: 0 | M42: 0 | N42: 81 | O42: 62 | P42: -7 | Q42: 2 | R42: 57 | S42: 10
A43: 有秋地区 | B43: 0 | C43: 4 | D43: 1 | E43: 2 | F43: 0 | G43: 1 | H43: 3 | I43: 11 | J43: 9 | K43: 2 | L43: 0 | M43: 0 | N43: -4 | O43: -37 | P43: -25 | Q43: -12 | R43: -1 | S43: 1
A44: ちはら台地区 | B44: 0 | C44: 15 | D44: 8 | E44: 7 | F44: 0 | G44: 0 | H44: 7 | I44: 15 | J44: 8 | K44: 7 | L44: 0 | M44: 0 | N44: 55 | O44: 52 | P44: 6 | Q44: 40 | R44: 0 | S44: 6
A45: 計 | B45: 0 | C45: 106 | D45: 59 | E45: 46 | F45: 0 | G45: 1 | H45: 118 | I45: 267 | J45: 147 | K45: 118 | L45: 1 | M45: 1 | N45: 419 | O45: 105 | P45: -112 | Q45: -44 | R45: 215 | S45: 46

Sheet 5月分
A1: 令和４年５月分
D2: 転入 | H2: 転出 | N2: 転居（＋） | T2: 転居（－）
B3: 世帯数 | C3: 計 | D3: 日本人 | F3: 外国人 | H3: 世帯数 | I3: 計 | J3: 日本人 | L3: 外国人 | N3: 世帯数 | O3: 計 | P3: 日本人 | R3: 外国人 | T3: 世帯数 | U3: 計 | V3: 日本人 | X3: 外国人
D4: 男 | E4: 女 | F4: 男 | G4: 女 | J4: 男 | K4: 女 | L4: 男 | M4: 女 | P4: 男 | Q4: 女 | R4: 男 | S4: 女 | V4: 男 | W4: 女 | X4: 男 | Y4: 女
A5: 五井地区 | B5: 256 | C5: 350 | D5: 160 | E5: 100 | F5: 78 | G5: 12 | H5: 170 | I5: 272 | J5: 121 | K5: 84 | L5: 51 | M5: 16 | N5: 183 | O5: 312 | P5: 152 | Q5: 130 | R5: 12 | S5: 18 | T5: 153 | U5: 318 | V5: 150 | W5: 144 | X5: 9 | Y5: 15
A6: 市原地区 | B6: 147 | C6: 202 | D6: 96 | E6: 50 | F6: 46 | G6: 10 | H6: 98 | I6: 161 | J6: 71 | K6: 50 | L6: 31 | M6: 9 | N6: 82 | O6: 134 | P6: 64 | Q6: 50 | R6: 15 | S6: 5 | T6: 75 | U6: 132 | V6: 60 | W6: 54 | X6: 12 | Y6: 6
A7: 姉崎地区 | B7: 88 | C7: 108 | D7: 70 | E7: 24 | F7: 10 | G7: 4 | H7: 49 | I7: 81 | J7: 37 | K7: 33 | L7: 6 | M7: 5 | N7: 42 | O7: 58 | P7: 29 | Q7: 24 | R7: 3 | S7: 2 | T7: 33 | U7: 50 | V7: 28 | W7: 19 | X7: 1 | Y7: 2
A8: 三和地区 | B8: 8 | C8: 13 | D8: 6 | E8: 4 | F8: 2 | G8: 1 | H8: 8 | I8: 15 | J8: 6 | K8: 7 | L8: 1 | M8: 1 | N8: 15 | O8: 38 | P8: 19 | Q8: 19 | R8: 0 | S8: 0 | T8: 4 | U8: 7 | V8: 4 | W8: 3 | X8: 0 | Y8: 0
A9: 市津地区 | B9: 19 | C9: 40 | D9: 15 | E9: 18 | F9: 5 | G9: 2 | H9: 20 | I9: 36 | J9: 14 | K9: 16 | L9: 6 | M9: 0 | N9: 13 | O9: 24 | P9: 10 | Q9: 14 | R9: 0 | S9: 0 | T9: 7 | U9: 17 | V9: 8 | W9: 8 | X9: 1 | Y9: 0
A10: 南総地区 | B10: 110 | C10: 120 | D10: 11 | E10: 9 | F10: 86 | G10: 14 | H10: 110 | I10: 124 | J10: 11 | K10: 12 | L10: 99 | M10: 2 | N10: 17 | O10: 33 | P10: 14 | Q10: 16 | R10: 3 | S10: 0 | T10: 21 | U10: 36 | V10: 10 | W10: 12 | X10: 11 | Y10: 3
A11: 加茂地区 | B11: 7 | C11: 7 | D11: 3 | E11: 2 | F11: 2 | G11: 0 | H11: 2 | I11: 5 | J11: 4 | K11: 0 | L11: 1 | M11: 0 | N11: 0 | O11: 1 | P11: 0 | Q11: 1 | R11: 0 | S11: 0 | T11: 3 | U11: 15 | V11: 9 | W11: 6 | X11: 0 | Y11: 0
A12: 辰巳台地区 | B12: 129 | C12: 133 | D12: 3 | E12: 4 | F12: 44 | G12: 82 | H12: 120 | I12: 126 | J12: 12 | K12: 4 | L12: 76 | M12: 34 | N12: 5 | O12: 7 | P12: 3 | Q12: 3 | R12: 0 | S12: 1 | T12: 10 | U12: 21 | V12: 12 | W12: 9 | X12: 0 | Y12: 0
A13: 有秋地区 | B13: 16 | C13: 33 | D13: 17 | E13: 9 | F13: 7 | G13: 0 | H13: 19 | I13: 35 | J13: 19 | K13: 12 | L13: 3 | M13: 1 | N13: 7 | O13: 15 | P13: 9 | Q13: 6 | R13: 0 | S13: 0 | T13: 6 | U13: 19 | V13: 12 | W13: 7 | X13: 0 | Y13: 0
A14: ちはら台地区 | B14: 64 | C14: 103 | D14: 46 | E14: 47 | F14: 3 | G14: 7 | H14: 25 | I14: 68 | J14: 36 | K14: 29 | L14: 1 | M14: 2 | N14: 10 | O14: 22 | P14: 7 | Q14: 14 | R14: 1 | S14: 0 | T14: 14 | U14: 29 | V14: 14 | W14: 15 | X14: 0 | Y14: 0
A15: 計 | B15: 844 | C15: 1109 | D15: 427 | E15: 267 | F15: 283 | G15: 132 | H15: 621 | I15: 923 | J15: 331 | K15: 247 | L15: 275 | M15: 70 | N15: 374 | O15: 644 | P15: 307 | Q15: 277 | R15: 34 | S15: 26 | T15: 326 | U15: 644 | V15: 307 | W15: 277 | X15: 34 | Y15: 26
B17: 世帯合併 | H17: 世帯分離 | N17: 帰化（＋） | T17: 帰化（－）
B18: 世帯数 | C18: 計 | D18: 日本人 | F18: 外国人 | H18: 世帯数 | I18: 計 | J18: 日本人 | L18: 外国人 | N18: 世帯数 | O18: 計 | P18: 日本人 | R18: 外国人 | T18: 世帯数 | U18: 計 | V18: 日本人 | X18: 外国人
D19: 男 | E19: 女 | F19: 男 | G19: 女 | J19: 男 | K19: 女 | L19: 男 | M19: 女 | P19: 男 | Q19: 女 | R19: 男 | S19: 女 | V19: 男 | W19: 女 | X19: 男 | Y19: 女
A20: 五井地区 | B20: 18 | C20: 21 | D20: 1 | E20: 19 | F20: 1 | G20: 0 | H20: 12 | I20: 14 | J20: 5 | K20: 8 | L20: 0 | M20: 1 | N20: 0 | O20: 0 | P20: 0 | Q20: 0 | R20: 0 | S20: 0 | T20: 0 | U20: 0 | V20: 0 | W20: 0 | X20: 0 | Y20: 0
A21: 市原地区 | B21: 5 | C21: 6 | D21: 2 | E21: 3 | F21: 0 | G21: 1 | H21: 8 | I21: 8 | J21: 3 | K21: 5 | L21: 0 | M21: 0 | N21: 0 | O21: 0 | P21: 0 | Q21: 0 | R21: 0 | S21: 0 | T21: 0 | U21: 0 | V21: 0 | W21: 0 | X21: 0 | Y21: 0
A22: 姉崎地区 | B22: 2 | C22: 2 | D22: 0 | E22: 2 | F22: 0 | G22: 0 | H22: 4 | I22: 4 | J22: 0 | K22: 3 | L22: 0 | M22: 1 | N22: 0 | O22: 0 | P22: 0 | Q22: 0 | R22: 0 | S22: 0 | T22: 0 | U22: 0 | V22: 0 | W22: 0 | X22: 0 | Y22: 0
A23: 三和地区 | B23: 1 | C23: 1 | D23: 0 | E23: 1 | F23: 0 | G23: 0 | H23: 6 | I23: 6 | J23: 2 | K23: 4 | L23: 0 | M23: 0 | N23: 0 | O23: 0 | P23: 0 | Q23: 0 | R23: 0 | S23: 0 | T23: 0 | U23: 0 | V23: 0 | W23: 0 | X23: 0 | Y23: 0
A24: 市津地区 | B24: 2 | C24: 3 | D24: 1 | E24: 2 | F24: 0 | G24: 0 | H24: 4 | I24: 6 | J24: 2 | K24: 4 | L24: 0 | M24: 0 | N24: 0 | O24: 0 | P24: 0 | Q24: 0 | R24: 0 | S24: 0 | T24: 0 | U24: 0 | V24: 0 | W24: 0 | X24: 0 | Y24: 0
A25: 南総地区 | B25: 1 | C25: 1 | D25: 0 | E25: 0 | F25: 0 | G25: 1 | H25: 4 | I25: 4 | J25: 0 | K25: 4 | L25: 0 | M25: 0 | N25: 0 | O25: 0 | P25: 0 | Q25: 0 | R25: 0 | S25: 0 | T25: 0 | U25: 0 | V25: 0 | W25: 0 | X25: 0 | Y25: 0
A26: 加茂地区 | B26: 0 | C26: 0 | D26: 0 | E26: 0 | F26: 0 | G26: 0 | H26: 3 | I26: 4 | J26: 4 | K26: 0 | L26: 0 | M26: 0 | N26: 0 | O26: 0 | P26: 0 | Q26: 0 | R26: 0 | S26: 0 | T26: 0 | U26: 0 | V26: 0 | W26: 0 | X26: 0 | Y26: 0
A27: 辰巳台地区 | B27: 0 | C27: 0 | D27: 0 | E27: 0 | F27: 0 | G27: 0 | H27: 0 | I27: 0 | J27: 0 | K27: 0 | L27: 0 | M27: 0 | N27: 0 | O27: 0 | P27: 0 | Q27: 0 | R27: 0 | S27: 0 | T27: 0 | U27: 0 | V27: 0 | W27: 0 | X27: 0 | Y27: 0
A28: 有秋地区 | B28: 0 | C28: 0 | D28: 0 | E28: 0 | F28: 0 | G28: 0 | H28: 3 | I28: 5 | J28: 3 | K28: 1 | L28: 0 | M28: 1 | N28: 0 | O28: 0 | P28: 0 | Q28: 0 | R28: 0 | S28: 0 | T28: 0 | U28: 0 | V28: 0 | W28: 0 | X28: 0 | Y28: 0
A29: ちはら台地区 | B29: 1 | C29: 1 | D29: 0 | E29: 1 | F29: 0 | G29: 0 | H29: 4 | I29: 4 | J29: 2 | K29: 2 | L29: 0 | M29: 0 | N29: 0 | O29: 0 | P29: 0 | Q29: 0 | R29: 0 | S29: 0 | T29: 0 | U29: 0 | V29: 0 | W29: 0 | X29: 0 | Y29: 0
A30: 計 | B30: 30 | C30: 35 | D30: 4 | E30: 28 | F30: 1 | G30: 2 | H30: 48 | I30: 55 | J30: 21 | K30: 31 | L30: 0 | M30: 3 | N30: 0 | O30: 0 | P30: 0 | Q30: 0 | R30: 0 | S30: 0 | T30: 0 | U30: 0 | V30: 0 | W30: 0 | X30: 0 | Y30: 0
B32: 出生 | H32: 死亡 | N32: 総合計
B33: 世帯数 | C33: 計 | D33: 日本人 | F33: 外国人 | H33: 世帯数 | I33: 計 | J33: 日本人 | L33: 外国人 | N33: 世帯数 | O33: 計 | P33: 日本人 | R33: 外国人
D34: 男 | E34: 女 | F34: 男 | G34: 女 | J34: 男 | K34: 女 | L34: 男 | M34: 女 | P34: 男 | Q34: 女 | R34: 男 | S34: 女
A35: 五井地区 | B35: 0 | C35: 42 | D35: 22 | E35: 20 | F35: 0 | G35: 0 | H35: 19 | I35: 54 | J35: 26 | K35: 28 | L35: 0 | M35: 0 | N35: 91 | O35: 60 | P35: 37 | Q35: -6 | R35: 30 | S35: -1
A36: 市原地区 | B36: 0 | C36: 18 | D36: 10 | E36: 8 | F36: 0 | G36: 0 | H36: 27 | I36: 55 | J36: 26 | K36: 29 | L36: 0 | M36: 0 | N36: 32 | O36: 6 | P36: 13 | Q36: -25 | R36: 18 | S36: 0
A37: 姉崎地区 | B37: 0 | C37: 10 | D37: 5 | E37: 5 | F37: 0 | G37: 0 | H37: 10 | I37: 25 | J37: 23 | K37: 2 | L37: 0 | M37: 0 | N37: 40 | O37: 20 | P37: 16 | Q37: -1 | R37: 6 | S37: -1
A38: 三和地区 | B38: 0 | C38: 0 | D38: 0 | E38: 0 | F38: 0 | G38: 0 | H38: 6 | I38: 15 | J38: 9 | K38: 6 | L38: 0 | M38: 0 | N38: 10 | O38: 14 | P38: 6 | Q38: 7 | R38: 1 | S38: 0
A39: 市津地区 | B39: 0 | C39: 6 | D39: 4 | E39: 2 | F39: 0 | G39: 0 | H39: 9 | I39: 19 | J39: 7 | K39: 12 | L39: 0 | M39: 0 | N39: -2 | O39: -2 | P39: 0 | Q39: -2 | R39: -2 | S39: 2
A40: 南総地区 | B40: 0 | C40: 3 | D40: 1 | E40: 2 | F40: 0 | G40: 0 | H40: 6 | I40: 20 | J40: 10 | K40: 10 | L40: 0 | M40: 0 | N40: -7 | O40: -24 | P40: -5 | Q40: -7 | R40: -21 | S40: 9
A41: 加茂地区 | B41: 0 | C41: 1 | D41: 1 | E41: 0 | F41: 0 | G41: 0 | H41: 4 | I41: 7 | J41: 6 | K41: 1 | L41: 0 | M41: 0 | N41: 1 | O41: -18 | P41: -15 | Q41: -4 | R41: 1 | S41: 0
A42: 辰巳台地区 | B42: 0 | C42: 2 | D42: 1 | E42: 1 | F42: 0 | G42: 0 | H42: 2 | I42: 7 | J42: 4 | K42: 3 | L42: 0 | M42: 0 | N42: 2 | O42: -12 | P42: -21 | Q42: -8 | R42: -32 | S42: 49
A43: 有秋地区 | B43: 0 | C43: 3 | D43: 2 | E43: 1 | F43: 0 | G43: 0 | H43: 3 | I43: 6 | J43: 2 | K43: 4 | L43: 0 | M43: 0 | N43: -2 | O43: -9 | P43: -5 | Q43: -7 | R43: 4 | S43: -1
A44: ちはら台地区 | B44: 0 | C44: 22 | D44: 11 | E44: 11 | F44: 0 | G44: 0 | H44: 5 | I44: 12 | J44: 6 | K44: 6 | L44: 0 | M44: 0 | N44: 33 | O44: 38 | P44: 8 | Q44: 22 | R44: 3 | S44: 5
A45: 計 | B45: 0 | C45: 107 | D45: 57 | E45: 50 | F45: 0 | G45: 0 | H45: 91 | I45: 220 | J45: 119 | K45: 101 | L45: 0 | M45: 0 | N45: 198 | O45: 73 | P45: 34 | Q45: -31 | R45: 8 | S45: 62

Sheet 6月分
A1: 令和４年６月分
D2: 転入 | H2: 転出 | N2: 転居（＋） | T2: 転居（－）
B3: 世帯数 | C3: 計 | D3: 日本人 | F3: 外国人 | H3: 世帯数 | I3: 計 | J3: 日本人 | L3: 外国人 | N3: 世帯数 | O3: 計 | P3: 日本人 | R3: 外国人 | T3: 世帯数 | U3: 計 | V3: 日本人 | X3: 外国人
D4: 男 | E4: 女 | F4: 男 | G4: 女 | J4: 男 | K4: 女 | L4: 男 | M4: 女 | P4: 男 | Q4: 女 | R4: 男 | S4: 女 | V4: 男 | W4: 女 | X4: 男 | Y4: 女
A5: 五井地区 | B5: 229 | C5: 292 | D5: 147 | E5: 75 | F5: 54 | G5: 16 | H5: 179 | I5: 284 | J5: 125 | K5: 90 | L5: 56 | M5: 13 | N5: 171 | O5: 288 | P5: 148 | Q5: 123 | R5: 10 | S5: 7 | T5: 162 | U5: 338 | V5: 168 | W5: 148 | X5: 13 | Y5: 9
A6: 市原地区 | B6: 120 | C6: 172 | D6: 78 | E6: 57 | F6: 34 | G6: 3 | H6: 90 | I6: 150 | J6: 64 | K6: 42 | L6: 29 | M6: 15 | N6: 84 | O6: 152 | P6: 69 | Q6: 70 | R6: 8 | S6: 5 | T6: 61 | U6: 111 | V6: 49 | W6: 55 | X6: 4 | Y6: 3
A7: 姉崎地区 | B7: 53 | C7: 71 | D7: 36 | E7: 19 | F7: 9 | G7: 7 | H7: 60 | I7: 90 | J7: 55 | K7: 23 | L7: 9 | M7: 3 | N7: 47 | O7: 89 | P7: 47 | Q7: 38 | R7: 1 | S7: 3 | T7: 39 | U7: 78 | V7: 36 | W7: 40 | X7: 1 | Y7: 1
A8: 三和地区 | B8: 9 | C8: 16 | D8: 4 | E8: 8 | F8: 4 | G8: 0 | H8: 11 | I8: 27 | J8: 13 | K8: 11 | L8: 3 | M8: 0 | N8: 3 | O8: 8 | P8: 3 | Q8: 5 | R8: 0 | S8: 0 | T8: 7 | U8: 19 | V8: 11 | W8: 6 | X8: 1 | Y8: 1
A9: 市津地区 | B9: 18 | C9: 37 | D9: 19 | E9: 17 | F9: 0 | G9: 1 | H9: 25 | I9: 44 | J9: 16 | K9: 11 | L9: 12 | M9: 5 | N9: 20 | O9: 32 | P9: 15 | Q9: 15 | R9: 0 | S9: 2 | T9: 10 | U9: 21 | V9: 8 | W9: 13 | X9: 0 | Y9: 0
A10: 南総地区 | B10: 108 | C10: 119 | D10: 9 | E10: 10 | F10: 89 | G10: 11 | H10: 110 | I10: 116 | J10: 4 | K10: 6 | L10: 86 | M10: 20 | N10: 15 | O10: 28 | P10: 15 | Q10: 13 | R10: 0 | S10: 0 | T10: 18 | U10: 41 | V10: 21 | W10: 19 | X10: 1 | Y10: 0
A11: 加茂地区 | B11: 5 | C11: 6 | D11: 0 | E11: 1 | F11: 5 | G11: 0 | H11: 3 | I11: 7 | J11: 0 | K11: 6 | L11: 0 | M11: 1 | N11: 6 | O11: 7 | P11: 4 | Q11: 3 | R11: 0 | S11: 0 | T11: 3 | U11: 6 | V11: 3 | W11: 3 | X11: 0 | Y11: 0
A12: 辰巳台地区 | B12: 86 | C12: 90 | D12: 7 | E12: 5 | F12: 48 | G12: 30 | H12: 139 | I12: 142 | J12: 8 | K12: 9 | L12: 45 | M12: 80 | N12: 13 | O12: 28 | P12: 11 | Q12: 17 | R12: 0 | S12: 0 | T12: 16 | U12: 31 | V12: 20 | W12: 11 | X12: 0 | Y12: 0
A13: 有秋地区 | B13: 16 | C13: 34 | D13: 5 | E13: 22 | F13: 6 | G13: 1 | H13: 27 | I13: 42 | J13: 19 | K13: 13 | L13: 8 | M13: 2 | N13: 12 | O13: 27 | P13: 12 | Q13: 14 | R13: 0 | S13: 1 | T13: 13 | U13: 22 | V13: 10 | W13: 8 | X13: 0 | Y13: 4
A14: ちはら台地区 | B14: 36 | C14: 69 | D14: 29 | E14: 32 | F14: 3 | G14: 5 | H14: 29 | I14: 74 | J14: 36 | K14: 37 | L14: 0 | M14: 1 | N14: 19 | O14: 32 | P14: 13 | Q14: 17 | R14: 1 | S14: 1 | T14: 11 | U14: 24 | V14: 11 | W14: 12 | X14: 0 | Y14: 1
A15: 計 | B15: 680 | C15: 906 | D15: 334 | E15: 246 | F15: 252 | G15: 74 | H15: 673 | I15: 976 | J15: 340 | K15: 248 | L15: 248 | M15: 140 | N15: 390 | O15: 691 | P15: 337 | Q15: 315 | R15: 20 | S15: 19 | T15: 340 | U15: 691 | V15: 337 | W15: 315 | X15: 20 | Y15: 19
B17: 世帯合併 | H17: 世帯分離 | N17: 帰化（＋） | T17: 帰化（－）
B18: 世帯数 | C18: 計 | D18: 日本人 | F18: 外国人 | H18: 世帯数 | I18: 計 | J18: 日本人 | L18: 外国人 | N18: 世帯数 | O18: 計 | P18: 日本人 | R18: 外国人 | T18: 世帯数 | U18: 計 | V18: 日本人 | X18: 外国人
D19: 男 | E19: 女 | F19: 男 | G19: 女 | J19: 男 | K19: 女 | L19: 男 | M19: 女 | P19: 男 | Q19: 女 | R19: 男 | S19: 女 | V19: 男 | W19: 女 | X19: 男 | Y19: 女
A20: 五井地区 | B20: 14 | C20: 20 | D20: 3 | E20: 15 | F20: 1 | G20: 1 | H20: 13 | I20: 18 | J20: 8 | K20: 10 | L20: 0 | M20: 0 | N20: 0 | O20: 5 | P20: 3 | Q20: 2 | R20: 0 | S20: 0 | T20: 0 | U20: 5 | V20: 0 | W20: 0 | X20: 3 | Y20: 2
A21: 市原地区 | B21: 11 | C21: 11 | D21: 0 | E21: 11 | F21: 0 | G21: 0 | H21: 6 | I21: 11 | J21: 4 | K21: 7 | L21: 0 | M21: 0 | N21: 0 | O21: 0 | P21: 0 | Q21: 0 | R21: 0 | S21: 0 | T21: 0 | U21: 0 | V21: 0 | W21: 0 | X21: 0 | Y21: 0
A22: 姉崎地区 | B22: 0 | C22: 0 | D22: 0 | E22: 0 | F22: 0 | G22: 0 | H22: 2 | I22: 4 | J22: 2 | K22: 2 | L22: 0 | M22: 0 | N22: 0 | O22: 0 | P22: 0 | Q22: 0 | R22: 0 | S22: 0 | T22: 0 | U22: 0 | V22: 0 | W22: 0 | X22: 0 | Y22: 0
A23: 三和地区 | B23: 0 | C23: 0 | D23: 0 | E23: 0 | F23: 0 | G23: 0 | H23: 5 | I23: 8 | J23: 2 | K23: 6 | L23: 0 | M23: 0 | N23: 0 | O23: 0 | P23: 0 | Q23: 0 | R23: 0 | S23: 0 | T23: 0 | U23: 0 | V23: 0 | W23: 0 | X23: 0 | Y23: 0
A24: 市津地区 | B24: 2 | C24: 2 | D24: 0 | E24: 2 | F24: 0 | G24: 0 | H24: 2 | I24: 2 | J24: 0 | K24: 1 | L24: 0 | M24: 1 | N24: 0 | O24: 0 | P24: 0 | Q24: 0 | R24: 0 | S24: 0 | T24: 0 | U24: 0 | V24: 0 | W24: 0 | X24: 0 | Y24: 0
A25: 南総地区 | B25: 0 | C25: 0 | D25: 0 | E25: 0 | F25: 0 | G25: 0 | H25: 1 | I25: 1 | J25: 1 | K25: 0 | L25: 0 | M25: 0 | N25: 0 | O25: 0 | P25: 0 | Q25: 0 | R25: 0 | S25: 0 | T25: 0 | U25: 0 | V25: 0 | W25: 0 | X25: 0 | Y25: 0
A26: 加茂地区 | B26: 0 | C26: 0 | D26: 0 | E26: 0 | F26: 0 | G26: 0 | H26: 1 | I26: 1 | J26: 0 | K26: 1 | L26: 0 | M26: 0 | N26: 0 | O26: 0 | P26: 0 | Q26: 0 | R26: 0 | S26: 0 | T26: 0 | U26: 0 | V26: 0 | W26: 0 | X26: 0 | Y26: 0
A27: 辰巳台地区 | B27: 0 | C27: 0 | D27: 0 | E27: 0 | F27: 0 | G27: 0 | H27: 0 | I27: 0 | J27: 0 | K27: 0 | L27: 0 | M27: 0 | N27: 0 | O27: 0 | P27: 0 | Q27: 0 | R27: 0 | S27: 0 | T27: 0 | U27: 0 | V27: 0 | W27: 0 | X27: 0 | Y27: 0
A28: 有秋地区 | B28: 1 | C28: 1 | D28: 0 | E28: 1 | F28: 0 | G28: 0 | H28: 2 | I28: 2 | J28: 1 | K28: 1 | L28: 0 | M28: 0 | N28: 0 | O28: 0 | P28: 0 | Q28: 0 | R28: 0 | S28: 0 | T28: 0 | U28: 0 | V28: 0 | W28: 0 | X28: 0 | Y28: 0
A29: ちはら台地区 | B29: 2 | C29: 2 | D29: 0 | E29: 2 | F29: 0 | G29: 0 | H29: 3 | I29: 3 | J29: 1 | K29: 2 | L29: 0 | M29: 0 | N29: 0 | O29: 0 | P29: 0 | Q29: 0 | R29: 0 | S29: 0 | T29: 0 | U29: 0 | V29: 0 | W29: 0 | X29: 0 | Y29: 0
A30: 計 | B30: 30 | C30: 36 | D30: 3 | E30: 31 | F30: 1 | G30: 1 | H30: 35 | I30: 50 | J30: 19 | K30: 30 | L30: 0 | M30: 1 | N30: 0 | O30: 5 | P30: 3 | Q30: 2 | R30: 0 | S30: 0 | T30: 0 | U30: 5 | V30: 0 | W30: 0 | X30: 3 | Y30: 2
B32: 出生 | H32: 死亡 | N32: 総合計
B33: 世帯数 | C33: 計 | D33: 日本人 | F33: 外国人 | H33: 世帯数 | I33: 計 | J33: 日本人 | L33: 外国人 | N33: 世帯数 | O33: 計 | P33: 日本人 | R33: 外国人
D34: 男 | E34: 女 | F34: 男 | G34: 女 | J34: 男 | K34: 女 | L34: 男 | M34: 女 | P34: 男 | Q34: 女 | R34: 男 | S34: 女
A35: 五井地区 | B35: 0 | C35: 40 | D35: 16 | E35: 22 | F35: 2 | G35: 0 | H35: 22 | I35: 57 | J35: 37 | K35: 20 | L35: 0 | M35: 0 | N35: 36 | O35: -59 | P35: -16 | Q35: -36 | R35: -6 | S35: -1
A36: 市原地区 | B36: 0 | C36: 22 | D36: 12 | E36: 9 | F36: 1 | G36: 0 | H36: 27 | I36: 58 | J36: 31 | K36: 26 | L36: 1 | M36: 0 | N36: 21 | O36: 27 | P36: 15 | Q36: 13 | R36: 9 | S36: -10
A37: 姉崎地区 | B37: 0 | C37: 15 | D37: 10 | E37: 5 | F37: 0 | G37: 0 | H37: 10 | I37: 28 | J37: 15 | K37: 13 | L37: 0 | M37: 0 | N37: -7 | O37: -21 | P37: -13 | Q37: -14 | R37: 0 | S37: 6
A38: 三和地区 | B38: 0 | C38: 1 | D38: 0 | E38: 1 | F38: 0 | G38: 0 | H38: 7 | I38: 19 | J38: 11 | K38: 8 | L38: 0 | M38: 0 | N38: -8 | O38: -40 | P38: -28 | Q38: -11 | R38: 0 | S38: -1
A39: 市津地区 | B39: 0 | C39: 5 | D39: 2 | E39: 3 | F39: 0 | G39: 0 | H39: 7 | I39: 19 | J39: 10 | K39: 9 | L39: 0 | M39: 0 | N39: -4 | O39: -10 | P39: 2 | Q39: 2 | R39: -12 | S39: -2
A40: 南総地区 | B40: 0 | C40: 4 | D40: 1 | E40: 3 | F40: 0 | G40: 0 | H40: 11 | I40: 28 | J40: 15 | K40: 13 | L40: 0 | M40: 0 | N40: -15 | O40: -34 | P40: -15 | Q40: -12 | R40: 2 | S40: -9
A41: 加茂地区 | B41: 0 | C41: 2 | D41: 1 | E41: 1 | F41: 0 | G41: 0 | H41: 3 | I41: 4 | J41: 3 | K41: 1 | L41: 0 | M41: 0 | N41: 3 | O41: -2 | P41: -1 | Q41: -5 | R41: 5 | S41: -1
A42: 辰巳台地区 | B42: 0 | C42: 6 | D42: 2 | E42: 4 | F42: 0 | G42: 0 | H42: 1 | I42: 6 | J42: 5 | K42: 1 | L42: 0 | M42: 0 | N42: -57 | O42: -55 | P42: -13 | Q42: 5 | R42: 3 | S42: -50
A43: 有秋地区 | B43: 0 | C43: 5 | D43: 3 | E43: 2 | F43: 0 | G43: 0 | H43: 4 | I43: 11 | J43: 5 | K43: 6 | L43: 0 | M43: 0 | N43: -15 | O43: -9 | P43: -14 | Q43: 11 | R43: -2 | S43: -4
A44: ちはら台地区 | B44: 0 | C44: 15 | D44: 12 | E44: 3 | F44: 0 | G44: 0 | H44: 3 | I44: 11 | J44: 7 | K44: 4 | L44: 0 | M44: 0 | N44: 13 | O44: 7 | P44: 0 | Q44: -1 | R44: 4 | S44: 4
A45: 計 | B45: 0 | C45: 115 | D45: 59 | E45: 53 | F45: 3 | G45: 0 | H45: 95 | I45: 241 | J45: 139 | K45: 101 | L45: 1 | M45: 0 | N45: -33 | O45: -196 | P45: -83 | Q45: -48 | R45: 3 | S45: -68

Sheet 7月分 
A1: 令和４年７月分
D2: 転入 | H2: 転出 | N2: 転居（＋） | T2: 転居（－）
B3: 世帯数 | C3: 計 | D3: 日本人 | F3: 外国人 | H3: 世帯数 | I3: 計 | J3: 日本人 | L3: 外国人 | N3: 世帯数 | O3: 計 | P3: 日本人 | R3: 外国人 | T3: 世帯数 | U3: 計 | V3: 日本人 | X3: 外国人
D4: 男 | E4: 女 | F4: 男 | G4: 女 | J4: 男 | K4: 女 | L4: 男 | M4: 女 | P4: 男 | Q4: 女 | R4: 男 | S4: 女 | V4: 男 | W4: 女 | X4: 男 | Y4: 女
A5: 五井地区 | B5: 206 | C5: 277 | D5: 144 | E5: 86 | F5: 38 | G5: 9 | H5: 168 | I5: 265 | J5: 118 | K5: 94 | L5: 45 | M5: 8 | N5: 160 | O5: 284 | P5: 141 | Q5: 120 | R5: 11 | S5: 12 | T5: 166 | U5: 308 | V5: 167 | W5: 121 | X5: 13 | Y5: 7
A6: 市原地区 | B6: 123 | C6: 168 | D6: 71 | E6: 58 | F6: 33 | G6: 6 | H6: 95 | I6: 156 | J6: 63 | K6: 58 | L6: 30 | M6: 5 | N6: 91 | O6: 176 | P6: 86 | Q6: 76 | R6: 7 | S6: 7 | T6: 72 | U6: 153 | V6: 66 | W6: 76 | X6: 5 | Y6: 6
A7: 姉崎地区 | B7: 60 | C7: 85 | D7: 44 | E7: 22 | F7: 14 | G7: 5 | H7: 53 | I7: 89 | J7: 45 | K7: 29 | L7: 12 | M7: 3 | N7: 46 | O7: 69 | P7: 40 | Q7: 25 | R7: 3 | S7: 1 | T7: 27 | U7: 46 | V7: 27 | W7: 18 | X7: 0 | Y7: 1
A8: 三和地区 | B8: 5 | C8: 7 | D8: 6 | E8: 1 | F8: 0 | G8: 0 | H8: 9 | I8: 21 | J8: 6 | K8: 12 | L8: 1 | M8: 2 | N8: 4 | O8: 9 | P8: 3 | Q8: 4 | R8: 2 | S8: 0 | T8: 4 | U8: 10 | V8: 6 | W8: 4 | X8: 0 | Y8: 0
A9: 市津地区 | B9: 24 | C9: 40 | D9: 16 | E9: 20 | F9: 3 | G9: 1 | H9: 12 | I9: 30 | J9: 18 | K9: 8 | L9: 4 | M9: 0 | N9: 8 | O9: 13 | P9: 8 | Q9: 5 | R9: 0 | S9: 0 | T9: 10 | U9: 20 | V9: 8 | W9: 9 | X9: 0 | Y9: 3
A10: 南総地区 | B10: 53 | C10: 65 | D10: 11 | E10: 12 | F10: 39 | G10: 3 | H10: 89 | I10: 111 | J10: 17 | K10: 19 | L10: 72 | M10: 3 | N10: 17 | O10: 24 | P10: 15 | Q10: 9 | R10: 0 | S10: 0 | T10: 18 | U10: 35 | V10: 19 | W10: 15 | X10: 1 | Y10: 0
A11: 加茂地区 | B11: 2 | C11: 4 | D11: 3 | E11: 1 | F11: 0 | G11: 0 | H11: 3 | I11: 5 | J11: 3 | K11: 1 | L11: 1 | M11: 0 | N11: 2 | O11: 2 | P11: 1 | Q11: 1 | R11: 0 | S11: 0 | T11: 2 | U11: 2 | V11: 1 | W11: 1 | X11: 0 | Y11: 0
A12: 辰巳台地区 | B12: 22 | C12: 30 | D12: 10 | E12: 8 | F12: 6 | G12: 6 | H12: 71 | I12: 78 | J12: 7 | K12: 7 | L12: 32 | M12: 32 | N12: 8 | O12: 12 | P12: 5 | Q12: 6 | R12: 0 | S12: 1 | T12: 15 | U12: 15 | V12: 7 | W12: 4 | X12: 3 | Y12: 1
A13: 有秋地区 | B13: 16 | C13: 25 | D13: 11 | E13: 9 | F13: 3 | G13: 2 | H13: 18 | I13: 43 | J13: 29 | K13: 13 | L13: 1 | M13: 0 | N13: 8 | O13: 16 | P13: 11 | Q13: 5 | R13: 0 | S13: 0 | T13: 6 | U13: 12 | V13: 7 | W13: 5 | X13: 0 | Y13: 0
A14: ちはら台地区 | B14: 36 | C14: 65 | D14: 33 | E14: 23 | F14: 6 | G14: 3 | H14: 23 | I14: 53 | J14: 22 | K14: 26 | L14: 3 | M14: 2 | N14: 18 | O14: 25 | P14: 9 | Q14: 15 | R14: 0 | S14: 1 | T14: 14 | U14: 29 | V14: 11 | W14: 13 | X14: 1 | Y14: 4
A15: 計 | B15: 547 | C15: 766 | D15: 349 | E15: 240 | F15: 142 | G15: 35 | H15: 541 | I15: 851 | J15: 328 | K15: 267 | L15: 201 | M15: 55 | N15: 362 | O15: 630 | P15: 319 | Q15: 266 | R15: 23 | S15: 22 | T15: 334 | U15: 630 | V15: 319 | W15: 266 | X15: 23 | Y15: 22
B17: 世帯合併 | H17: 世帯分離 | N17: 帰化（＋） | T17: 帰化（－）
B18: 世帯数 | C18: 計 | D18: 日本人 | F18: 外国人 | H18: 世帯数 | I18: 計 | J18: 日本人 | L18: 外国人 | N18: 世帯数 | O18: 計 | P18: 日本人 | R18: 外国人 | T18: 世帯数 | U18: 計 | V18: 日本人 | X18: 外国人
D19: 男 | E19: 女 | F19: 男 | G19: 女 | J19: 男 | K19: 女 | L19: 男 | M19: 女 | P19: 男 | Q19: 女 | R19: 男 | S19: 女 | V19: 男 | W19: 女 | X19: 男 | Y19: 女
A20: 五井地区 | B20: 16 | C20: 17 | D20: 4 | E20: 13 | F20: 0 | G20: 0 | H20: 11 | I20: 16 | J20: 5 | K20: 11 | L20: 0 | M20: 0 | N20: 0 | O20: 0 | P20: 0 | Q20: 0 | R20: 0 | S20: 0 | T20: 0 | U20: 0 | V20: 0 | W20: 0 | X20: 0 | Y20: 0
A21: 市原地区 | B21: 3 | C21: 3 | D21: 0 | E21: 3 | F21: 0 | G21: 0 | H21: 10 | I21: 11 | J21: 4 | K21: 6 | L21: 1 | M21: 0 | N21: 0 | O21: 0 | P21: 0 | Q21: 0 | R21: 0 | S21: 0 | T21: 0 | U21: 0 | V21: 0 | W21: 0 | X21: 0 | Y21: 0
A22: 姉崎地区 | B22: 1 | C22: 2 | D22: 1 | E22: 0 | F22: 0 | G22: 1 | H22: 6 | I22: 6 | J22: 2 | K22: 3 | L22: 0 | M22: 1 | N22: 0 | O22: 0 | P22: 0 | Q22: 0 | R22: 0 | S22: 0 | T22: 0 | U22: 0 | V22: 0 | W22: 0 | X22: 0 | Y22: 0
A23: 三和地区 | B23: 1 | C23: 2 | D23: 0 | E23: 2 | F23: 0 | G23: 0 | H23: 5 | I23: 5 | J23: 1 | K23: 4 | L23: 0 | M23: 0 | N23: 0 | O23: 0 | P23: 0 | Q23: 0 | R23: 0 | S23: 0 | T23: 0 | U23: 0 | V23: 0 | W23: 0 | X23: 0 | Y23: 0
A24: 市津地区 | B24: 1 | C24: 1 | D24: 0 | E24: 1 | F24: 0 | G24: 0 | H24: 2 | I24: 2 | J24: 0 | K24: 2 | L24: 0 | M24: 0 | N24: 0 | O24: 0 | P24: 0 | Q24: 0 | R24: 0 | S24: 0 | T24: 0 | U24: 0 | V24: 0 | W24: 0 | X24: 0 | Y24: 0
A25: 南総地区 | B25: 0 | C25: 0 | D25: 0 | E25: 0 | F25: 0 | G25: 0 | H25: 3 | I25: 3 | J25: 2 | K25: 1 | L25: 0 | M25: 0 | N25: 0 | O25: 0 | P25: 0 | Q25: 0 | R25: 0 | S25: 0 | T25: 0 | U25: 0 | V25: 0 | W25: 0 | X25: 0 | Y25: 0
A26: 加茂地区 | B26: 0 | C26: 0 | D26: 0 | E26: 0 | F26: 0 | G26: 0 | H26: 3 | I26: 3 | J26: 2 | K26: 1 | L26: 0 | M26: 0 | N26: 0 | O26: 0 | P26: 0 | Q26: 0 | R26: 0 | S26: 0 | T26: 0 | U26: 0 | V26: 0 | W26: 0 | X26: 0 | Y26: 0
A27: 辰巳台地区 | B27: 0 | C27: 0 | D27: 0 | E27: 0 | F27: 0 | G27: 0 | H27: 2 | I27: 4 | J27: 1 | K27: 3 | L27: 0 | M27: 0 | N27: 0 | O27: 0 | P27: 0 | Q27: 0 | R27: 0 | S27: 0 | T27: 0 | U27: 0 | V27: 0 | W27: 0 | X27: 0 | Y27: 0
A28: 有秋地区 | B28: 0 | C28: 0 | D28: 0 | E28: 0 | F28: 0 | G28: 0 | H28: 2 | I28: 3 | J28: 1 | K28: 2 | L28: 0 | M28: 0 | N28: 0 | O28: 0 | P28: 0 | Q28: 0 | R28: 0 | S28: 0 | T28: 0 | U28: 0 | V28: 0 | W28: 0 | X28: 0 | Y28: 0
A29: ちはら台地区 | B29: 1 | C29: 1 | D29: 0 | E29: 1 | F29: 0 | G29: 0 | H29: 4 | I29: 4 | J29: 2 | K29: 2 | L29: 0 | M29: 0 | N29: 0 | O29: 0 | P29: 0 | Q29: 0 | R29: 0 | S29: 0 | T29: 0 | U29: 0 | V29: 0 | W29: 0 | X29: 0 | Y29: 0
A30: 計 | B30: 23 | C30: 26 | D30: 5 | E30: 20 | F30: 0 | G30: 1 | H30: 48 | I30: 57 | J30: 20 | K30: 35 | L30: 1 | M30: 1 | N30: 0 | O30: 0 | P30: 0 | Q30: 0 | R30: 0 | S30: 0 | T30: 0 | U30: 0 | V30: 0 | W30: 0 | X30: 0 | Y30: 0
B32: 出生 | H32: 死亡 | N32: 総合計
B33: 世帯数 | C33: 計 | D33: 日本人 | F33: 外国人 | H33: 世帯数 | I33: 計 | J33: 日本人 | L33: 外国人 | N33: 世帯数 | O33: 計 | P33: 日本人 | R33: 外国人
D34: 男 | E34: 女 | F34: 男 | G34: 女 | J34: 男 | K34: 女 | L34: 男 | M34: 女 | P34: 男 | Q34: 女 | R34: 男 | S34: 女
A35: 五井地区 | B35: 0 | C35: 44 | D35: 21 | E35: 21 | F35: 1 | G35: 1 | H35: 29 | I35: 62 | J35: 37 | K35: 23 | L35: 1 | M35: 1 | N35: -2 | O35: -30 | P35: -16 | Q35: -11 | R35: -9 | S35: 6
A36: 市原地区 | B36: 0 | C36: 16 | D36: 7 | E36: 9 | F36: 0 | G36: 0 | H36: 24 | I36: 44 | J36: 22 | K36: 22 | L36: 0 | M36: 0 | N36: 30 | O36: 7 | P36: 13 | Q36: -13 | R36: 5 | S36: 2
A37: 姉崎地区 | B37: 0 | C37: 13 | D37: 9 | E37: 4 | F37: 0 | G37: 0 | H37: 6 | I37: 26 | J37: 14 | K37: 12 | L37: 0 | M37: 0 | N37: 25 | O37: 6 | P37: 7 | Q37: -8 | R37: 5 | S37: 2
A38: 三和地区 | B38: 0 | C38: 0 | D38: 0 | E38: 0 | F38: 0 | G38: 0 | H38: 3 | I38: 10 | J38: 7 | K38: 3 | L38: 0 | M38: 0 | N38: -3 | O38: -25 | P38: -10 | Q38: -14 | R38: 1 | S38: -2
A39: 市津地区 | B39: 0 | C39: 8 | D39: 4 | E39: 4 | F39: 0 | G39: 0 | H39: 11 | I39: 19 | J39: 8 | K39: 11 | L39: 0 | M39: 0 | N39: 0 | O39: -8 | P39: -6 | Q39: 1 | R39: -1 | S39: -2
A40: 南総地区 | B40: 0 | C40: 3 | D40: 3 | E40: 0 | F40: 0 | G40: 0 | H40: 7 | I40: 22 | J40: 11 | K40: 11 | L40: 0 | M40: 0 | N40: -41 | O40: -76 | P40: -18 | Q40: -24 | R40: -34 | S40: 0
A41: 加茂地区 | B41: 0 | C41: 1 | D41: 1 | E41: 0 | F41: 0 | G41: 0 | H41: 3 | I41: 9 | J41: 7 | K41: 2 | L41: 0 | M41: 0 | N41: -1 | O41: -9 | P41: -6 | Q41: -2 | R41: -1 | S41: 0
A42: 辰巳台地区 | B42: 0 | C42: 3 | D42: 2 | E42: 1 | F42: 0 | G42: 0 | H42: 2 | I42: 6 | J42: 4 | K42: 2 | L42: 0 | M42: 0 | N42: -56 | O42: -54 | P42: -1 | Q42: 2 | R42: -29 | S42: -26
A43: 有秋地区 | B43: 0 | C43: 1 | D43: 1 | E43: 0 | F43: 0 | G43: 0 | H43: 7 | I43: 15 | J43: 8 | K43: 7 | L43: 0 | M43: 0 | N43: -5 | O43: -28 | P43: -21 | Q43: -11 | R43: 2 | S43: 2
A44: ちはら台地区 | B44: 0 | C44: 15 | D44: 8 | E44: 6 | F44: 0 | G44: 1 | H44: 3 | I44: 8 | J44: 4 | K44: 4 | L44: 0 | M44: 0 | N44: 17 | O44: 15 | P44: 13 | Q44: 1 | R44: 2 | S44: -1
A45: 計 | B45: 0 | C45: 104 | D45: 56 | E45: 45 | F45: 1 | G45: 2 | H45: 95 | I45: 221 | J45: 122 | K45: 97 | L45: 1 | M45: 1 | N45: -36 | O45: -202 | P45: -45 | Q45: -79 | R45: -59 | S45: -19

Sheet 8月分
A1: 令和４年８月分
D2: 転入 | H2: 転出 | N2: 転居（＋） | T2: 転居（－）
B3: 世帯数 | C3: 計 | D3: 日本人 | F3: 外国人 | H3: 世帯数 | I3: 計 | J3: 日本人 | L3: 外国人 | N3: 世帯数 | O3: 計 | P3: 日本人 | R3: 外国人 | T3: 世帯数 | U3: 計 | V3: 日本人 | X3: 外国人
D4: 男 | E4: 女 | F4: 男 | G4: 女 | J4: 男 | K4: 女 | L4: 男 | M4: 女 | P4: 男 | Q4: 女 | R4: 男 | S4: 女 | V4: 男 | W4: 女 | X4: 男 | Y4: 女
A5: 五井地区 | B5: 195 | C5: 270 | D5: 104 | E5: 96 | F5: 51 | G5: 19 | H5: 182 | I5: 296 | J5: 146 | K5: 98 | L5: 34 | M5: 18 | N5: 168 | O5: 326 | P5: 167 | Q5: 146 | R5: 4 | S5: 9 | T5: 147 | U5: 314 | V5: 157 | W5: 138 | X5: 8 | Y5: 11
A6: 市原地区 | B6: 87 | C6: 126 | D6: 63 | E6: 44 | F6: 16 | G6: 3 | H6: 97 | I6: 161 | J6: 65 | K6: 52 | L6: 33 | M6: 11 | N6: 85 | O6: 132 | P6: 74 | Q6: 52 | R6: 6 | S6: 0 | T6: 63 | U6: 114 | V6: 63 | W6: 48 | X6: 0 | Y6: 3
A7: 姉崎地区 | B7: 54 | C7: 90 | D7: 40 | E7: 39 | F7: 5 | G7: 6 | H7: 53 | I7: 87 | J7: 47 | K7: 29 | L7: 8 | M7: 3 | N7: 39 | O7: 60 | P7: 29 | Q7: 29 | R7: 2 | S7: 0 | T7: 42 | U7: 79 | V7: 37 | W7: 39 | X7: 3 | Y7: 0
A8: 三和地区 | B8: 9 | C8: 21 | D8: 7 | E8: 8 | F8: 5 | G8: 1 | H8: 6 | I8: 13 | J8: 5 | K8: 6 | L8: 2 | M8: 0 | N8: 5 | O8: 10 | P8: 3 | Q8: 6 | R8: 1 | S8: 0 | T8: 10 | U8: 30 | V8: 11 | W8: 17 | X8: 2 | Y8: 0
A9: 市津地区 | B9: 28 | C9: 40 | D9: 13 | E9: 9 | F9: 15 | G9: 3 | H9: 9 | I9: 29 | J9: 14 | K9: 12 | L9: 3 | M9: 0 | N9: 19 | O9: 21 | P9: 2 | Q9: 5 | R9: 9 | S9: 5 | T9: 18 | U9: 25 | V9: 6 | W9: 6 | X9: 10 | Y9: 3
A10: 南総地区 | B10: 19 | C10: 24 | D10: 11 | E10: 5 | F10: 8 | G10: 0 | H10: 52 | I10: 73 | J10: 17 | K10: 17 | L10: 35 | M10: 4 | N10: 17 | O10: 30 | P10: 15 | Q10: 15 | R10: 0 | S10: 0 | T10: 17 | U10: 26 | V10: 15 | W10: 11 | X10: 0 | Y10: 0
A11: 加茂地区 | B11: 4 | C11: 5 | D11: 3 | E11: 1 | F11: 1 | G11: 0 | H11: 6 | I11: 11 | J11: 3 | K11: 5 | L11: 3 | M11: 0 | N11: 3 | O11: 3 | P11: 2 | Q11: 1 | R11: 0 | S11: 0 | T11: 3 | U11: 5 | V11: 3 | W11: 2 | X11: 0 | Y11: 0
A12: 辰巳台地区 | B12: 21 | C12: 29 | D12: 12 | E12: 9 | F12: 4 | G12: 4 | H12: 23 | I12: 37 | J12: 13 | K12: 14 | L12: 8 | M12: 2 | N12: 7 | O12: 14 | P12: 5 | Q12: 9 | R12: 0 | S12: 0 | T12: 13 | U12: 19 | V12: 6 | W12: 12 | X12: 1 | Y12: 0
A13: 有秋地区 | B13: 16 | C13: 28 | D13: 12 | E13: 11 | F13: 3 | G13: 2 | H13: 22 | I13: 37 | J13: 22 | K13: 12 | L13: 3 | M13: 0 | N13: 10 | O13: 22 | P13: 9 | Q13: 13 | R13: 0 | S13: 0 | T13: 13 | U13: 22 | V13: 10 | W13: 12 | X13: 0 | Y13: 0
A14: ちはら台地区 | B14: 23 | C14: 41 | D14: 22 | E14: 17 | F14: 1 | G14: 1 | H14: 26 | I14: 77 | J14: 28 | K14: 48 | L14: 1 | M14: 0 | N14: 19 | O14: 40 | P14: 14 | Q14: 21 | R14: 2 | S14: 3 | T14: 10 | U14: 24 | V14: 12 | W14: 12 | X14: 0 | Y14: 0
A15: 計 | B15: 456 | C15: 674 | D15: 287 | E15: 239 | F15: 109 | G15: 39 | H15: 476 | I15: 821 | J15: 360 | K15: 293 | L15: 130 | M15: 38 | N15: 372 | O15: 658 | P15: 320 | Q15: 297 | R15: 24 | S15: 17 | T15: 336 | U15: 658 | V15: 320 | W15: 297 | X15: 24 | Y15: 17
B17: 世帯合併 | H17: 世帯分離 | N17: 帰化（＋） | T17: 帰化（－）
B18: 世帯数 | C18: 計 | D18: 日本人 | F18: 外国人 | H18: 世帯数 | I18: 計 | J18: 日本人 | L18: 外国人 | N18: 世帯数 | O18: 計 | P18: 日本人 | R18: 外国人 | T18: 世帯数 | U18: 計 | V18: 日本人 | X18: 外国人
D19: 男 | E19: 女 | F19: 男 | G19: 女 | J19: 男 | K19: 女 | L19: 男 | M19: 女 | P19: 男 | Q19: 女 | R19: 男 | S19: 女 | V19: 男 | W19: 女 | X19: 男 | Y19: 女
A20: 五井地区 | B20: 10 | C20: 12 | D20: 1 | E20: 10 | F20: 0 | G20: 1 | H20: 9 | I20: 13 | J20: 4 | K20: 5 | L20: 2 | M20: 2 | N20: 0 | O20: 1 | P20: 0 | Q20: 0 | R20: 0 | S20: 1 | T20: 0 | U20: 1 | V20: 0 | W20: 1 | X20: 0 | Y20: 0
A21: 市原地区 | B21: 5 | C21: 5 | D21: 0 | E21: 4 | F21: 0 | G21: 1 | H21: 9 | I21: 12 | J21: 5 | K21: 7 | L21: 0 | M21: 0 | N21: 0 | O21: 0 | P21: 0 | Q21: 0 | R21: 0 | S21: 0 | T21: 0 | U21: 0 | V21: 0 | W21: 0 | X21: 0 | Y21: 0
A22: 姉崎地区 | B22: 4 | C22: 6 | D22: 1 | E22: 5 | F22: 0 | G22: 0 | H22: 2 | I22: 2 | J22: 1 | K22: 1 | L22: 0 | M22: 0 | N22: 0 | O22: 0 | P22: 0 | Q22: 0 | R22: 0 | S22: 0 | T22: 0 | U22: 0 | V22: 0 | W22: 0 | X22: 0 | Y22: 0
A23: 三和地区 | B23: 0 | C23: 0 | D23: 0 | E23: 0 | F23: 0 | G23: 0 | H23: 6 | I23: 9 | J23: 5 | K23: 4 | L23: 0 | M23: 0 | N23: 0 | O23: 0 | P23: 0 | Q23: 0 | R23: 0 | S23: 0 | T23: 0 | U23: 0 | V23: 0 | W23: 0 | X23: 0 | Y23: 0
A24: 市津地区 | B24: 0 | C24: 0 | D24: 0 | E24: 0 | F24: 0 | G24: 0 | H24: 2 | I24: 2 | J24: 0 | K24: 2 | L24: 0 | M24: 0 | N24: 0 | O24: 0 | P24: 0 | Q24: 0 | R24: 0 | S24: 0 | T24: 0 | U24: 0 | V24: 0 | W24: 0 | X24: 0 | Y24: 0
A25: 南総地区 | B25: 0 | C25: 0 | D25: 0 | E25: 0 | F25: 0 | G25: 0 | H25: 6 | I25: 9 | J25: 5 | K25: 4 | L25: 0 | M25: 0 | N25: 0 | O25: 0 | P25: 0 | Q25: 0 | R25: 0 | S25: 0 | T25: 0 | U25: 0 | V25: 0 | W25: 0 | X25: 0 | Y25: 0
A26: 加茂地区 | B26: 0 | C26: 0 | D26: 0 | E26: 0 | F26: 0 | G26: 0 | H26: 1 | I26: 1 | J26: 0 | K26: 1 | L26: 0 | M26: 0 | N26: 0 | O26: 0 | P26: 0 | Q26: 0 | R26: 0 | S26: 0 | T26: 0 | U26: 0 | V26: 0 | W26: 0 | X26: 0 | Y26: 0
A27: 辰巳台地区 | B27: 1 | C27: 1 | D27: 0 | E27: 0 | F27: 0 | G27: 1 | H27: 3 | I27: 3 | J27: 2 | K27: 1 | L27: 0 | M27: 0 | N27: 0 | O27: 0 | P27: 0 | Q27: 0 | R27: 0 | S27: 0 | T27: 0 | U27: 0 | V27: 0 | W27: 0 | X27: 0 | Y27: 0
A28: 有秋地区 | B28: 0 | C28: 0 | D28: 0 | E28: 0 | F28: 0 | G28: 0 | H28: 5 | I28: 12 | J28: 6 | K28: 6 | L28: 0 | M28: 0 | N28: 0 | O28: 0 | P28: 0 | Q28: 0 | R28: 0 | S28: 0 | T28: 0 | U28: 0 | V28: 0 | W28: 0 | X28: 0 | Y28: 0
A29: ちはら台地区 | B29: 1 | C29: 1 | D29: 1 | E29: 0 | F29: 0 | G29: 0 | H29: 2 | I29: 2 | J29: 1 | K29: 1 | L29: 0 | M29: 0 | N29: 0 | O29: 1 | P29: 1 | Q29: 0 | R29: 0 | S29: 0 | T29: 0 | U29: 1 | V29: 0 | W29: 0 | X29: 1 | Y29: 0
A30: 計 | B30: 21 | C30: 25 | D30: 3 | E30: 19 | F30: 0 | G30: 3 | H30: 45 | I30: 65 | J30: 29 | K30: 32 | L30: 2 | M30: 2 | N30: 0 | O30: 2 | P30: 1 | Q30: 0 | R30: 0 | S30: 1 | T30: 0 | U30: 2 | V30: 0 | W30: 1 | X30: 1 | Y30: 0
B32: 出生 | H32: 死亡 | N32: 総合計
B33: 世帯数 | C33: 計 | D33: 日本人 | F33: 外国人 | H33: 世帯数 | I33: 計 | J33: 日本人 | L33: 外国人 | N33: 世帯数 | O33: 計 | P33: 日本人 | R33: 外国人
D34: 男 | E34: 女 | F34: 男 | G34: 女 | J34: 男 | K34: 女 | L34: 男 | M34: 女 | P34: 男 | Q34: 女 | R34: 男 | S34: 女
A35: 五井地区 | B35: 0 | C35: 57 | D35: 23 | E35: 33 | F35: 0 | G35: 1 | H35: 38 | I35: 91 | J35: 51 | K35: 40 | L35: 0 | M35: 0 | N35: -5 | O35: -48 | P35: -60 | Q35: -2 | R35: 13 | S35: 1
A36: 市原地区 | B36: 0 | C36: 37 | D36: 19 | E36: 18 | F36: 0 | G36: 0 | H36: 30 | I36: 78 | J36: 42 | K36: 36 | L36: 0 | M36: 0 | N36: -14 | O36: -58 | P36: -14 | Q36: -22 | R36: -11 | S36: -11
A37: 姉崎地区 | B37: 0 | C37: 12 | D37: 8 | E37: 4 | F37: 0 | G37: 0 | H37: 12 | I37: 26 | J37: 15 | K37: 11 | L37: 0 | M37: 0 | N37: -16 | O37: -30 | P37: -22 | Q37: -7 | R37: -4 | S37: 3
A38: 三和地区 | B38: 0 | C38: 6 | D38: 3 | E38: 3 | F38: 0 | G38: 0 | H38: 6 | I38: 12 | J38: 8 | K38: 4 | L38: 0 | M38: 0 | N38: -2 | O38: -18 | P38: -11 | Q38: -10 | R38: 2 | S38: 1
A39: 市津地区 | B39: 0 | C39: 9 | D39: 5 | E39: 4 | F39: 0 | G39: 0 | H39: 10 | I39: 24 | J39: 11 | K39: 13 | L39: 0 | M39: 0 | N39: 12 | O39: -8 | P39: -11 | Q39: -13 | R39: 11 | S39: 5
A40: 南総地区 | B40: 0 | C40: 2 | D40: 0 | E40: 2 | F40: 0 | G40: 0 | H40: 13 | I40: 36 | J40: 18 | K40: 18 | L40: 0 | M40: 0 | N40: -40 | O40: -79 | P40: -24 | Q40: -24 | R40: -27 | S40: -4
A41: 加茂地区 | B41: 0 | C41: 0 | D41: 0 | E41: 0 | F41: 0 | G41: 0 | H41: 5 | I41: 11 | J41: 5 | K41: 6 | L41: 0 | M41: 0 | N41: -6 | O41: -19 | P41: -6 | Q41: -11 | R41: -2 | S41: 0
A42: 辰巳台地区 | B42: 0 | C42: 2 | D42: 1 | E42: 1 | F42: 0 | G42: 0 | H42: 0 | I42: 6 | J42: 3 | K42: 3 | L42: 0 | M42: 0 | N42: -6 | O42: -17 | P42: -4 | Q42: -10 | R42: -5 | S42: 2
A43: 有秋地区 | B43: 0 | C43: 4 | D43: 2 | E43: 1 | F43: 1 | G43: 0 | H43: 7 | I43: 17 | J43: 9 | K43: 8 | L43: 0 | M43: 0 | N43: -11 | O43: -22 | P43: -18 | Q43: -7 | R43: 1 | S43: 2
A44: ちはら台地区 | B44: 0 | C44: 15 | D44: 8 | E44: 7 | F44: 0 | G44: 0 | H44: 2 | I44: 6 | J44: 2 | K44: 4 | L44: 0 | M44: 0 | N44: 5 | O44: -11 | P44: 3 | Q44: -19 | R44: 1 | S44: 4
A45: 計 | B45: 0 | C45: 144 | D45: 69 | E45: 73 | F45: 1 | G45: 1 | H45: 123 | I45: 307 | J45: 164 | K45: 143 | L45: 0 | M45: 0 | N45: -83 | O45: -310 | P45: -167 | Q45: -125 | R45: -21 | S45: 3

Sheet 9月分
A1: 令和４年９月分
D2: 転入 | H2: 転出 | N2: 転居（＋） | T2: 転居（－）
B3: 世帯数 | C3: 計 | D3: 日本人 | F3: 外国人 | H3: 世帯数 | I3: 計 | J3: 日本人 | L3: 外国人 | N3: 世帯数 | O3: 計 | P3: 日本人 | R3: 外国人 | T3: 世帯数 | U3: 計 | V3: 日本人 | X3: 外国人
D4: 男 | E4: 女 | F4: 男 | G4: 女 | J4: 男 | K4: 女 | L4: 男 | M4: 女 | P4: 男 | Q4: 女 | R4: 男 | S4: 女 | V4: 男 | W4: 女 | X4: 男 | Y4: 女
A5: 五井地区 | B5: 170 | C5: 260 | D5: 111 | E5: 102 | F5: 32 | G5: 15 | H5: 170 | I5: 289 | J5: 136 | K5: 99 | L5: 35 | M5: 19 | N5: 158 | O5: 299 | P5: 145 | Q5: 135 | R5: 11 | S5: 8 | T5: 144 | U5: 309 | V5: 156 | W5: 133 | X5: 11 | Y5: 9
A6: 市原地区 | B6: 95 | C6: 155 | D6: 77 | E6: 64 | F6: 9 | G6: 5 | H6: 90 | I6: 145 | J6: 68 | K6: 52 | L6: 17 | M6: 8 | N6: 76 | O6: 146 | P6: 76 | Q6: 64 | R6: 3 | S6: 3 | T6: 66 | U6: 121 | V6: 63 | W6: 55 | X6: 2 | Y6: 1
A7: 姉崎地区 | B7: 68 | C7: 98 | D7: 51 | E7: 32 | F7: 10 | G7: 5 | H7: 48 | I7: 83 | J7: 38 | K7: 28 | L7: 10 | M7: 7 | N7: 45 | O7: 83 | P7: 43 | Q7: 35 | R7: 3 | S7: 2 | T7: 35 | U7: 82 | V7: 36 | W7: 42 | X7: 1 | Y7: 3
A8: 三和地区 | B8: 11 | C8: 17 | D8: 8 | E8: 8 | F8: 0 | G8: 1 | H8: 12 | I8: 25 | J8: 10 | K8: 6 | L8: 7 | M8: 2 | N8: 12 | O8: 27 | P8: 12 | Q8: 15 | R8: 0 | S8: 0 | T8: 8 | U8: 22 | V8: 8 | W8: 12 | X8: 2 | Y8: 0
A9: 市津地区 | B9: 39 | C9: 50 | D9: 14 | E9: 16 | F9: 10 | G9: 10 | H9: 13 | I9: 24 | J9: 8 | K9: 11 | L9: 3 | M9: 2 | N9: 14 | O9: 31 | P9: 13 | Q9: 18 | R9: 0 | S9: 0 | T9: 9 | U9: 23 | V9: 12 | W9: 11 | X9: 0 | Y9: 0
A10: 南総地区 | B10: 46 | C10: 60 | D10: 15 | E10: 13 | F10: 23 | G10: 9 | H10: 24 | I10: 40 | J10: 16 | K10: 16 | L10: 7 | M10: 1 | N10: 14 | O10: 24 | P10: 12 | Q10: 11 | R10: 1 | S10: 0 | T10: 20 | U10: 42 | V10: 22 | W10: 20 | X10: 0 | Y10: 0
A11: 加茂地区 | B11: 6 | C11: 7 | D11: 3 | E11: 0 | F11: 4 | G11: 0 | H11: 3 | I11: 17 | J11: 7 | K11: 10 | L11: 0 | M11: 0 | N11: 3 | O11: 4 | P11: 1 | Q11: 3 | R11: 0 | S11: 0 | T11: 4 | U11: 11 | V11: 6 | W11: 5 | X11: 0 | Y11: 0
A12: 辰巳台地区 | B12: 37 | C12: 46 | D12: 16 | E12: 8 | F12: 11 | G12: 11 | H12: 29 | I12: 40 | J12: 16 | K12: 12 | L12: 8 | M12: 4 | N12: 9 | O12: 17 | P12: 10 | Q12: 5 | R12: 1 | S12: 1 | T12: 8 | U12: 27 | V12: 14 | W12: 11 | X12: 1 | Y12: 1
A13: 有秋地区 | B13: 18 | C13: 25 | D13: 7 | E13: 10 | F13: 8 | G13: 0 | H13: 22 | I13: 43 | J13: 23 | K13: 16 | L13: 2 | M13: 2 | N13: 11 | O13: 21 | P13: 12 | Q13: 9 | R13: 0 | S13: 0 | T13: 8 | U13: 20 | V13: 12 | W13: 7 | X13: 0 | Y13: 1
A14: ちはら台地区 | B14: 42 | C14: 77 | D14: 42 | E14: 25 | F14: 7 | G14: 3 | H14: 20 | I14: 52 | J14: 26 | K14: 22 | L14: 2 | M14: 2 | N14: 13 | O14: 30 | P14: 14 | Q14: 15 | R14: 0 | S14: 1 | T14: 7 | U14: 25 | V14: 9 | W14: 14 | X14: 2 | Y14: 0
A15: 計 | B15: 532 | C15: 795 | D15: 344 | E15: 278 | F15: 114 | G15: 59 | H15: 431 | I15: 758 | J15: 348 | K15: 272 | L15: 91 | M15: 47 | N15: 355 | O15: 682 | P15: 338 | Q15: 310 | R15: 19 | S15: 15 | T15: 309 | U15: 682 | V15: 338 | W15: 310 | X15: 19 | Y15: 15
B17: 世帯合併 | H17: 世帯分離 | N17: 帰化（＋） | T17: 帰化（－）
B18: 世帯数 | C18: 計 | D18: 日本人 | F18: 外国人 | H18: 世帯数 | I18: 計 | J18: 日本人 | L18: 外国人 | N18: 世帯数 | O18: 計 | P18: 日本人 | R18: 外国人 | T18: 世帯数 | U18: 計 | V18: 日本人 | X18: 外国人
D19: 男 | E19: 女 | F19: 男 | G19: 女 | J19: 男 | K19: 女 | L19: 男 | M19: 女 | P19: 男 | Q19: 女 | R19: 男 | S19: 女 | V19: 男 | W19: 女 | X19: 男 | Y19: 女
A20: 五井地区 | B20: 7 | C20: 7 | D20: 0 | E20: 6 | F20: 0 | G20: 1 | H20: 22 | I20: 32 | J20: 10 | K20: 22 | L20: 0 | M20: 0 | N20: 0 | O20: 0 | P20: 0 | Q20: 0 | R20: 0 | S20: 0 | T20: 0 | U20: 0 | V20: 0 | W20: 0 | X20: 0 | Y20: 0
A21: 市原地区 | B21: 1 | C21: 1 | D21: 1 | E21: 0 | F21: 0 | G21: 0 | H21: 14 | I21: 16 | J21: 7 | K21: 9 | L21: 0 | M21: 0 | N21: 0 | O21: 0 | P21: 0 | Q21: 0 | R21: 0 | S21: 0 | T21: 0 | U21: 0 | V21: 0 | W21: 0 | X21: 0 | Y21: 0
A22: 姉崎地区 | B22: 1 | C22: 3 | D22: 1 | E22: 2 | F22: 0 | G22: 0 | H22: 6 | I22: 9 | J22: 4 | K22: 4 | L22: 1 | M22: 0 | N22: 0 | O22: 0 | P22: 0 | Q22: 0 | R22: 0 | S22: 0 | T22: 0 | U22: 0 | V22: 0 | W22: 0 | X22: 0 | Y22: 0
A23: 三和地区 | B23: 1 | C23: 1 | D23: 0 | E23: 1 | F23: 0 | G23: 0 | H23: 5 | I23: 5 | J23: 3 | K23: 2 | L23: 0 | M23: 0 | N23: 0 | O23: 0 | P23: 0 | Q23: 0 | R23: 0 | S23: 0 | T23: 0 | U23: 0 | V23: 0 | W23: 0 | X23: 0 | Y23: 0
A24: 市津地区 | B24: 1 | C24: 1 | D24: 0 | E24: 1 | F24: 0 | G24: 0 | H24: 6 | I24: 6 | J24: 1 | K24: 5 | L24: 0 | M24: 0 | N24: 0 | O24: 0 | P24: 0 | Q24: 0 | R24: 0 | S24: 0 | T24: 0 | U24: 0 | V24: 0 | W24: 0 | X24: 0 | Y24: 0
A25: 南総地区 | B25: 0 | C25: 0 | D25: 0 | E25: 0 | F25: 0 | G25: 0 | H25: 5 | I25: 6 | J25: 4 | K25: 2 | L25: 0 | M25: 0 | N25: 0 | O25: 0 | P25: 0 | Q25: 0 | R25: 0 | S25: 0 | T25: 0 | U25: 0 | V25: 0 | W25: 0 | X25: 0 | Y25: 0
A26: 加茂地区 | B26: 0 | C26: 0 | D26: 0 | E26: 0 | F26: 0 | G26: 0 | H26: 2 | I26: 2 | J26: 1 | K26: 1 | L26: 0 | M26: 0 | N26: 0 | O26: 0 | P26: 0 | Q26: 0 | R26: 0 | S26: 0 | T26: 0 | U26: 0 | V26: 0 | W26: 0 | X26: 0 | Y26: 0
A27: 辰巳台地区 | B27: 0 | C27: 0 | D27: 0 | E27: 0 | F27: 0 | G27: 0 | H27: 2 | I27: 2 | J27: 1 | K27: 1 | L27: 0 | M27: 0 | N27: 0 | O27: 0 | P27: 0 | Q27: 0 | R27: 0 | S27: 0 | T27: 0 | U27: 0 | V27: 0 | W27: 0 | X27: 0 | Y27: 0
A28: 有秋地区 | B28: 0 | C28: 0 | D28: 0 | E28: 0 | F28: 0 | G28: 0 | H28: 5 | I28: 7 | J28: 3 | K28: 4 | L28: 0 | M28: 0 | N28: 0 | O28: 1 | P28: 0 | Q28: 1 | R28: 0 | S28: 0 | T28: 0 | U28: 1 | V28: 0 | W28: 0 | X28: 0 | Y28: 1
A29: ちはら台地区 | B29: 1 | C29: 1 | D29: 1 | E29: 0 | F29: 0 | G29: 0 | H29: 3 | I29: 7 | J29: 2 | K29: 5 | L29: 0 | M29: 0 | N29: 0 | O29: 0 | P29: 0 | Q29: 0 | R29: 0 | S29: 0 | T29: 0 | U29: 0 | V29: 0 | W29: 0 | X29: 0 | Y29: 0
A30: 計 | B30: 12 | C30: 14 | D30: 3 | E30: 10 | F30: 0 | G30: 1 | H30: 70 | I30: 92 | J30: 36 | K30: 55 | L30: 1 | M30: 0 | N30: 0 | O30: 1 | P30: 0 | Q30: 1 | R30: 0 | S30: 0 | T30: 0 | U30: 1 | V30: 0 | W30: 0 | X30: 0 | Y30: 1
B32: 出生 | H32: 死亡 | N32: 総合計
B33: 世帯数 | C33: 計 | D33: 日本人 | F33: 外国人 | H33: 世帯数 | I33: 計 | J33: 日本人 | L33: 外国人 | N33: 世帯数 | O33: 計 | P33: 日本人 | R33: 外国人
D34: 男 | E34: 女 | F34: 男 | G34: 女 | J34: 男 | K34: 女 | L34: 男 | M34: 女 | P34: 男 | Q34: 女 | R34: 男 | S34: 女
A35: 五井地区 | B35: 0 | C35: 49 | D35: 20 | E35: 26 | F35: 1 | G35: 2 | H35: 26 | I35: 73 | J35: 39 | K35: 34 | L35: 0 | M35: 0 | N35: 3 | O35: -63 | P35: -55 | Q35: -3 | R35: -2 | S35: -3
A36: 市原地区 | B36: 0 | C36: 18 | D36: 11 | E36: 6 | F36: 0 | G36: 1 | H36: 34 | I36: 68 | J36: 42 | K36: 25 | L36: 0 | M36: 1 | N36: -6 | O36: -15 | P36: -9 | Q36: 2 | R36: -7 | S36: -1
A37: 姉崎地区 | B37: 0 | C37: 15 | D37: 7 | E37: 8 | F37: 0 | G37: 0 | H37: 17 | I37: 30 | J37: 18 | K37: 11 | L37: 0 | M37: 1 | N37: 18 | O37: 1 | P37: 9 | Q37: -6 | R37: 2 | S37: -4
A38: 三和地区 | B38: 0 | C38: 3 | D38: 3 | E38: 0 | F38: 0 | G38: 0 | H38: 5 | I38: 10 | J38: 3 | K38: 7 | L38: 0 | M38: 0 | N38: 2 | O38: -10 | P38: 2 | Q38: -2 | R38: -9 | S38: -1
A39: 市津地区 | B39: 0 | C39: 10 | D39: 4 | E39: 6 | F39: 0 | G39: 0 | H39: 11 | I39: 17 | J39: 6 | K39: 11 | L39: 0 | M39: 0 | N39: 25 | O39: 27 | P39: 5 | Q39: 7 | R39: 7 | S39: 8
A40: 南総地区 | B40: 0 | C40: 2 | D40: 1 | E40: 1 | F40: 0 | G40: 0 | H40: 10 | I40: 20 | J40: 9 | K40: 11 | L40: 0 | M40: 0 | N40: 11 | O40: -16 | P40: -19 | Q40: -22 | R40: 17 | S40: 8
A41: 加茂地区 | B41: 0 | C41: 1 | D41: 1 | E41: 0 | F41: 0 | G41: 0 | H41: 5 | I41: 10 | J41: 8 | K41: 2 | L41: 0 | M41: 0 | N41: -1 | O41: -26 | P41: -16 | Q41: -14 | R41: 4 | S41: 0
A42: 辰巳台地区 | B42: 0 | C42: 5 | D42: 3 | E42: 2 | F42: 0 | G42: 0 | H42: 3 | I42: 5 | J42: 3 | K42: 2 | L42: 0 | M42: 0 | N42: 8 | O42: -4 | P42: -4 | Q42: -10 | R42: 3 | S42: 7
A43: 有秋地区 | B43: 0 | C43: 7 | D43: 3 | E43: 4 | F43: 0 | G43: 0 | H43: 2 | I43: 9 | J43: 4 | K43: 5 | L43: 0 | M43: 0 | N43: 2 | O43: -19 | P43: -17 | Q43: -4 | R43: 6 | S43: -4
A44: ちはら台地区 | B44: 0 | C44: 26 | D44: 14 | E44: 12 | F44: 0 | G44: 0 | H44: 2 | I44: 5 | J44: 2 | K44: 3 | L44: 0 | M44: 0 | N44: 28 | O44: 51 | P44: 33 | Q44: 13 | R44: 3 | S44: 2
A45: 計 | B45: 0 | C45: 136 | D45: 67 | E45: 65 | F45: 1 | G45: 3 | H45: 115 | I45: 247 | J45: 134 | K45: 111 | L45: 0 | M45: 2 | N45: 90 | O45: -74 | P45: -71 | Q45: -39 | R45: 24 | S45: 12

Sheet 10月分
A1: 令和４年１０月分
D2: 転入 | H2: 転出 | N2: 転居（＋） | T2: 転居（－）
B3: 世帯数 | C3: 計 | D3: 日本人 | F3: 外国人 | H3: 世帯数 | I3: 計 | J3: 日本人 | L3: 外国人 | N3: 世帯数 | O3: 計 | P3: 日本人 | R3: 外国人 | T3: 世帯数 | U3: 計 | V3: 日本人 | X3: 外国人
D4: 男 | E4: 女 | F4: 男 | G4: 女 | J4: 男 | K4: 女 | L4: 男 | M4: 女 | P4: 男 | Q4: 女 | R4: 男 | S4: 女 | V4: 男 | W4: 女 | X4: 男 | Y4: 女
A5: 五井地区 | B5: 157 | C5: 246 | D5: 125 | E5: 72 | F5: 28 | G5: 21 | H5: 178 | I5: 290 | J5: 144 | K5: 91 | L5: 40 | M5: 15 | N5: 182 | O5: 297 | P5: 158 | Q5: 103 | R5: 13 | S5: 23 | T5: 141 | U5: 265 | V5: 133 | W5: 101 | X5: 14 | Y5: 17
A6: 市原地区 | B6: 122 | C6: 171 | D6: 85 | E6: 49 | F6: 27 | G6: 10 | H6: 77 | I6: 137 | J6: 66 | K6: 53 | L6: 16 | M6: 2 | N6: 84 | O6: 146 | P6: 73 | Q6: 60 | R6: 6 | S6: 7 | T6: 77 | U6: 149 | V6: 76 | W6: 61 | X6: 4 | Y6: 8
A7: 姉崎地区 | B7: 49 | C7: 70 | D7: 34 | E7: 21 | F7: 13 | G7: 2 | H7: 52 | I7: 78 | J7: 42 | K7: 24 | L7: 6 | M7: 6 | N7: 48 | O7: 79 | P7: 41 | Q7: 34 | R7: 2 | S7: 2 | T7: 43 | U7: 81 | V7: 41 | W7: 32 | X7: 3 | Y7: 5
A8: 三和地区 | B8: 13 | C8: 20 | D8: 7 | E8: 7 | F8: 6 | G8: 0 | H8: 9 | I8: 24 | J8: 12 | K8: 8 | L8: 2 | M8: 2 | N8: 8 | O8: 14 | P8: 6 | Q8: 8 | R8: 0 | S8: 0 | T8: 10 | U8: 21 | V8: 10 | W8: 9 | X8: 0 | Y8: 2
A9: 市津地区 | B9: 14 | C9: 28 | D9: 14 | E9: 11 | F9: 3 | G9: 0 | H9: 21 | I9: 38 | J9: 11 | K9: 18 | L9: 9 | M9: 0 | N9: 23 | O9: 49 | P9: 25 | Q9: 21 | R9: 0 | S9: 3 | T9: 10 | U9: 26 | V9: 14 | W9: 7 | X9: 2 | Y9: 3
A10: 南総地区 | B10: 40 | C10: 48 | D10: 9 | E10: 10 | F10: 17 | G10: 12 | H10: 26 | I10: 37 | J10: 9 | K10: 9 | L10: 18 | M10: 1 | N10: 23 | O10: 32 | P10: 12 | Q10: 16 | R10: 3 | S10: 1 | T10: 13 | U10: 30 | V10: 10 | W10: 18 | X10: 2 | Y10: 0
A11: 加茂地区 | B11: 0 | C11: 1 | D11: 0 | E11: 1 | F11: 0 | G11: 0 | H11: 2 | I11: 4 | J11: 0 | K11: 1 | L11: 2 | M11: 1 | N11: 2 | O11: 2 | P11: 2 | Q11: 0 | R11: 0 | S11: 0 | T11: 0 | U11: 5 | V11: 4 | W11: 1 | X11: 0 | Y11: 0
A12: 辰巳台地区 | B12: 31 | C12: 45 | D12: 13 | E12: 8 | F12: 19 | G12: 5 | H12: 32 | I12: 45 | J12: 15 | K12: 11 | L12: 11 | M12: 8 | N12: 8 | O12: 10 | P12: 2 | Q12: 5 | R12: 1 | S12: 2 | T12: 9 | U12: 11 | V12: 7 | W12: 2 | X12: 0 | Y12: 2
A13: 有秋地区 | B13: 14 | C13: 18 | D13: 13 | E13: 3 | F13: 2 | G13: 0 | H13: 20 | I13: 34 | J13: 15 | K13: 9 | L13: 6 | M13: 4 | N13: 8 | O13: 14 | P13: 9 | Q13: 5 | R13: 0 | S13: 0 | T13: 18 | U13: 35 | V13: 24 | W13: 10 | X13: 0 | Y13: 1
A14: ちはら台地区 | B14: 33 | C14: 59 | D14: 27 | E14: 22 | F14: 5 | G14: 5 | H14: 28 | I14: 73 | J14: 29 | K14: 40 | L14: 1 | M14: 3 | N14: 12 | O14: 24 | P14: 10 | Q14: 13 | R14: 1 | S14: 0 | T14: 16 | U14: 44 | V14: 19 | W14: 24 | X14: 1 | Y14: 0
A15: 計 | B15: 473 | C15: 706 | D15: 327 | E15: 204 | F15: 120 | G15: 55 | H15: 445 | I15: 760 | J15: 343 | K15: 264 | L15: 111 | M15: 42 | N15: 398 | O15: 667 | P15: 338 | Q15: 265 | R15: 26 | S15: 38 | T15: 337 | U15: 667 | V15: 338 | W15: 265 | X15: 26 | Y15: 38
B17: 世帯合併 | H17: 世帯分離 | N17: 帰化（＋） | T17: 帰化（－）
B18: 世帯数 | C18: 計 | D18: 日本人 | F18: 外国人 | H18: 世帯数 | I18: 計 | J18: 日本人 | L18: 外国人 | N18: 世帯数 | O18: 計 | P18: 日本人 | R18: 外国人 | T18: 世帯数 | U18: 計 | V18: 日本人 | X18: 外国人
D19: 男 | E19: 女 | F19: 男 | G19: 女 | J19: 男 | K19: 女 | L19: 男 | M19: 女 | P19: 男 | Q19: 女 | R19: 男 | S19: 女 | V19: 男 | W19: 女 | X19: 男 | Y19: 女
A20: 五井地区 | B20: 10 | C20: 10 | D20: 0 | E20: 10 | F20: 0 | G20: 0 | H20: 16 | I20: 23 | J20: 11 | K20: 11 | L20: 0 | M20: 1 | N20: 0 | O20: 0 | P20: 0 | Q20: 0 | R20: 0 | S20: 0 | T20: 0 | U20: 0 | V20: 0 | W20: 0 | X20: 0 | Y20: 0
A21: 市原地区 | B21: 5 | C21: 5 | D21: 0 | E21: 5 | F21: 0 | G21: 0 | H21: 6 | I21: 6 | J21: 3 | K21: 3 | L21: 0 | M21: 0 | N21: 0 | O21: 0 | P21: 0 | Q21: 0 | R21: 0 | S21: 0 | T21: 0 | U21: 0 | V21: 0 | W21: 0 | X21: 0 | Y21: 0
A22: 姉崎地区 | B22: 1 | C22: 1 | D22: 0 | E22: 1 | F22: 0 | G22: 0 | H22: 3 | I22: 4 | J22: 1 | K22: 3 | L22: 0 | M22: 0 | N22: 0 | O22: 0 | P22: 0 | Q22: 0 | R22: 0 | S22: 0 | T22: 0 | U22: 0 | V22: 0 | W22: 0 | X22: 0 | Y22: 0
A23: 三和地区 | B23: 0 | C23: 0 | D23: 0 | E23: 0 | F23: 0 | G23: 0 | H23: 2 | I23: 4 | J23: 2 | K23: 2 | L23: 0 | M23: 0 | N23: 0 | O23: 0 | P23: 0 | Q23: 0 | R23: 0 | S23: 0 | T23: 0 | U23: 0 | V23: 0 | W23: 0 | X23: 0 | Y23: 0
A24: 市津地区 | B24: 0 | C24: 0 | D24: 0 | E24: 0 | F24: 0 | G24: 0 | H24: 1 | I24: 1 | J24: 0 | K24: 1 | L24: 0 | M24: 0 | N24: 0 | O24: 0 | P24: 0 | Q24: 0 | R24: 0 | S24: 0 | T24: 0 | U24: 0 | V24: 0 | W24: 0 | X24: 0 | Y24: 0
A25: 南総地区 | B25: 0 | C25: 0 | D25: 0 | E25: 0 | F25: 0 | G25: 0 | H25: 3 | I25: 3 | J25: 1 | K25: 2 | L25: 0 | M25: 0 | N25: 0 | O25: 0 | P25: 0 | Q25: 0 | R25: 0 | S25: 0 | T25: 0 | U25: 0 | V25: 0 | W25: 0 | X25: 0 | Y25: 0
A26: 加茂地区 | B26: 0 | C26: 0 | D26: 0 | E26: 0 | F26: 0 | G26: 0 | H26: 0 | I26: 0 | J26: 0 | K26: 0 | L26: 0 | M26: 0 | N26: 0 | O26: 0 | P26: 0 | Q26: 0 | R26: 0 | S26: 0 | T26: 0 | U26: 0 | V26: 0 | W26: 0 | X26: 0 | Y26: 0
A27: 辰巳台地区 | B27: 0 | C27: 0 | D27: 0 | E27: 0 | F27: 0 | G27: 0 | H27: 1 | I27: 3 | J27: 2 | K27: 1 | L27: 0 | M27: 0 | N27: 0 | O27: 0 | P27: 0 | Q27: 0 | R27: 0 | S27: 0 | T27: 0 | U27: 0 | V27: 0 | W27: 0 | X27: 0 | Y27: 0
A28: 有秋地区 | B28: 1 | C28: 1 | D28: 1 | E28: 0 | F28: 0 | G28: 0 | H28: 1 | I28: 1 | J28: 1 | K28: 0 | L28: 0 | M28: 0 | N28: 0 | O28: 0 | P28: 0 | Q28: 0 | R28: 0 | S28: 0 | T28: 0 | U28: 0 | V28: 0 | W28: 0 | X28: 0 | Y28: 0
A29: ちはら台地区 | B29: 0 | C29: 0 | D29: 0 | E29: 0 | F29: 0 | G29: 0 | H29: 3 | I29: 5 | J29: 1 | K29: 4 | L29: 0 | M29: 0 | N29: 0 | O29: 0 | P29: 0 | Q29: 0 | R29: 0 | S29: 0 | T29: 0 | U29: 0 | V29: 0 | W29: 0 | X29: 0 | Y29: 0
A30: 計 | B30: 17 | C30: 17 | D30: 1 | E30: 16 | F30: 0 | G30: 0 | H30: 36 | I30: 50 | J30: 22 | K30: 27 | L30: 0 | M30: 1 | N30: 0 | O30: 0 | P30: 0 | Q30: 0 | R30: 0 | S30: 0 | T30: 0 | U30: 0 | V30: 0 | W30: 0 | X30: 0 | Y30: 0
B32: 出生 | H32: 死亡 | N32: 総合計
B33: 世帯数 | C33: 計 | D33: 日本人 | F33: 外国人 | H33: 世帯数 | I33: 計 | J33: 日本人 | L33: 外国人 | N33: 世帯数 | O33: 計 | P33: 日本人 | R33: 外国人
D34: 男 | E34: 女 | F34: 男 | G34: 女 | J34: 男 | K34: 女 | L34: 男 | M34: 女 | P34: 男 | Q34: 女 | R34: 男 | S34: 女
A35: 五井地区 | B35: 0 | C35: 45 | D35: 26 | E35: 18 | F35: 0 | G35: 1 | H35: 33 | I35: 65 | J35: 31 | K35: 33 | L35: 0 | M35: 1 | N35: -7 | O35: -32 | P35: 1 | Q35: -32 | R35: -13 | S35: 12
A36: 市原地区 | B36: 0 | C36: 29 | D36: 14 | E36: 15 | F36: 0 | G36: 0 | H36: 27 | I36: 66 | J36: 32 | K36: 32 | L36: 0 | M36: 2 | N36: 26 | O36: -6 | P36: -2 | Q36: -22 | R36: 13 | S36: 5
A37: 姉崎地区 | B37: 0 | C37: 14 | D37: 6 | E37: 7 | F37: 1 | G37: 0 | H37: 15 | I37: 25 | J37: 10 | K37: 15 | L37: 0 | M37: 0 | N37: -11 | O37: -21 | P37: -12 | Q37: -9 | R37: 7 | S37: -7
A38: 三和地区 | B38: 0 | C38: 6 | D38: 2 | E38: 4 | F38: 0 | G38: 0 | H38: 7 | I38: 18 | J38: 8 | K38: 10 | L38: 0 | M38: 0 | N38: -3 | O38: -23 | P38: -15 | Q38: -8 | R38: 4 | S38: -4
A39: 市津地区 | B39: 0 | C39: 2 | D39: 1 | E39: 1 | F39: 0 | G39: 0 | H39: 5 | I39: 22 | J39: 14 | K39: 8 | L39: 0 | M39: 0 | N39: 2 | O39: -7 | P39: 1 | Q39: 0 | R39: -8 | S39: 0
A40: 南総地区 | B40: 0 | C40: 4 | D40: 2 | E40: 1 | F40: 0 | G40: 1 | H40: 11 | I40: 26 | J40: 16 | K40: 10 | L40: 0 | M40: 0 | N40: 16 | O40: -9 | P40: -12 | Q40: -10 | R40: 0 | S40: 13
A41: 加茂地区 | B41: 0 | C41: 0 | D41: 0 | E41: 0 | F41: 0 | G41: 0 | H41: 5 | I41: 9 | J41: 4 | K41: 5 | L41: 0 | M41: 0 | N41: -5 | O41: -15 | P41: -6 | Q41: -6 | R41: -2 | S41: -1
A42: 辰巳台地区 | B42: 0 | C42: 1 | D42: 1 | E42: 0 | F42: 0 | G42: 0 | H42: 3 | I42: 5 | J42: 2 | K42: 3 | L42: 0 | M42: 0 | N42: -4 | O42: -5 | P42: -8 | Q42: -3 | R42: 9 | S42: -3
A43: 有秋地区 | B43: 0 | C43: 7 | D43: 4 | E43: 3 | F43: 0 | G43: 0 | H43: 4 | I43: 17 | J43: 14 | K43: 3 | L43: 0 | M43: 0 | N43: -20 | O43: -47 | P43: -27 | Q43: -11 | R43: -4 | S43: -5
A44: ちはら台地区 | B44: 0 | C44: 11 | D44: 6 | E44: 5 | F44: 0 | G44: 0 | H44: 2 | I44: 6 | J44: 4 | K44: 2 | L44: 0 | M44: 0 | N44: 2 | O44: -29 | P44: -9 | Q44: -26 | R44: 4 | S44: 2
A45: 計 | B45: 0 | C45: 119 | D45: 62 | E45: 54 | F45: 1 | G45: 2 | H45: 112 | I45: 259 | J45: 135 | K45: 121 | L45: 0 | M45: 3 | N45: -4 | O45: -194 | P45: -89 | Q45: -127 | R45: 10 | S45: 12

Sheet 11月分
A1: 令和４年１１月分
D2: 転入 | H2: 転出 | N2: 転居（＋） | T2: 転居（－）
B3: 世帯数 | C3: 計 | D3: 日本人 | F3: 外国人 | H3: 世帯数 | I3: 計 | J3: 日本人 | L3: 外国人 | N3: 世帯数 | O3: 計 | P3: 日本人 | R3: 外国人 | T3: 世帯数 | U3: 計 | V3: 日本人 | X3: 外国人
D4: 男 | E4: 女 | F4: 男 | G4: 女 | J4: 男 | K4: 女 | L4: 男 | M4: 女 | P4: 男 | Q4: 女 | R4: 男 | S4: 女 | V4: 男 | W4: 女 | X4: 男 | Y4: 女
A5: 五井地区 | B5: 142 | C5: 190 | D5: 95 | E5: 58 | F5: 24 | G5: 13 | H5: 167 | I5: 262 | J5: 112 | K5: 93 | L5: 35 | M5: 22 | N5: 177 | O5: 288 | P5: 148 | Q5: 113 | R5: 17 | S5: 10 | T5: 150 | U5: 302 | V5: 145 | W5: 133 | X5: 9 | Y5: 15
A6: 市原地区 | B6: 134 | C6: 220 | D6: 105 | E6: 87 | F6: 17 | G6: 11 | H6: 79 | I6: 132 | J6: 55 | K6: 46 | L6: 23 | M6: 8 | N6: 127 | O6: 237 | P6: 113 | Q6: 114 | R6: 5 | S6: 5 | T6: 91 | U6: 179 | V6: 83 | W6: 85 | X6: 9 | Y6: 2
A7: 姉崎地区 | B7: 67 | C7: 103 | D7: 43 | E7: 28 | F7: 21 | G7: 11 | H7: 39 | I7: 67 | J7: 36 | K7: 21 | L7: 8 | M7: 2 | N7: 40 | O7: 63 | P7: 31 | Q7: 32 | R7: 0 | S7: 0 | T7: 36 | U7: 63 | V7: 33 | W7: 27 | X7: 3 | Y7: 0
A8: 三和地区 | B8: 9 | C8: 13 | D8: 5 | E8: 4 | F8: 3 | G8: 1 | H8: 10 | I8: 18 | J8: 8 | K8: 6 | L8: 4 | M8: 0 | N8: 7 | O8: 16 | P8: 7 | Q8: 9 | R8: 0 | S8: 0 | T8: 11 | U8: 20 | V8: 9 | W8: 9 | X8: 2 | Y8: 0
A9: 市津地区 | B9: 25 | C9: 35 | D9: 15 | E9: 10 | F9: 8 | G9: 2 | H9: 15 | I9: 18 | J9: 8 | K9: 6 | L9: 3 | M9: 1 | N9: 12 | O9: 18 | P9: 7 | Q9: 6 | R9: 1 | S9: 4 | T9: 14 | U9: 27 | V9: 13 | W9: 10 | X9: 0 | Y9: 4
A10: 南総地区 | B10: 32 | C10: 38 | D10: 3 | E10: 8 | F10: 20 | G10: 7 | H10: 39 | I10: 48 | J10: 10 | K10: 9 | L10: 17 | M10: 12 | N10: 12 | O10: 25 | P10: 15 | Q10: 9 | R10: 0 | S10: 1 | T10: 8 | U10: 25 | V10: 14 | W10: 11 | X10: 0 | Y10: 0
A11: 加茂地区 | B11: 6 | C11: 11 | D11: 6 | E11: 3 | F11: 2 | G11: 0 | H11: 1 | I11: 6 | J11: 2 | K11: 4 | L11: 0 | M11: 0 | N11: 2 | O11: 4 | P11: 2 | Q11: 2 | R11: 0 | S11: 0 | T11: 5 | U11: 6 | V11: 3 | W11: 3 | X11: 0 | Y11: 0
A12: 辰巳台地区 | B12: 60 | C12: 66 | D12: 15 | E12: 5 | F12: 6 | G12: 40 | H12: 43 | I12: 57 | J12: 25 | K12: 18 | L12: 12 | M12: 2 | N12: 12 | O12: 26 | P12: 11 | Q12: 14 | R12: 1 | S12: 0 | T12: 11 | U12: 25 | V12: 12 | W12: 12 | X12: 1 | Y12: 0
A13: 有秋地区 | B13: 13 | C13: 26 | D13: 13 | E13: 9 | F13: 4 | G13: 0 | H13: 17 | I13: 31 | J13: 16 | K13: 11 | L13: 4 | M13: 0 | N13: 12 | O13: 26 | P13: 12 | Q13: 12 | R13: 1 | S13: 1 | T13: 33 | U13: 52 | V13: 32 | W13: 20 | X13: 0 | Y13: 0
A14: ちはら台地区 | B14: 28 | C14: 55 | D14: 22 | E14: 31 | F14: 1 | G14: 1 | H14: 21 | I14: 54 | J14: 23 | K14: 25 | L14: 4 | M14: 2 | N14: 17 | O14: 38 | P14: 14 | Q14: 24 | R14: 0 | S14: 0 | T14: 12 | U14: 42 | V14: 16 | W14: 25 | X14: 1 | Y14: 0
A15: 計 | B15: 516 | C15: 757 | D15: 322 | E15: 243 | F15: 106 | G15: 86 | H15: 431 | I15: 693 | J15: 295 | K15: 239 | L15: 110 | M15: 49 | N15: 418 | O15: 741 | P15: 360 | Q15: 335 | R15: 25 | S15: 21 | T15: 371 | U15: 741 | V15: 360 | W15: 335 | X15: 25 | Y15: 21
B17: 世帯合併 | H17: 世帯分離 | N17: 帰化（＋） | T17: 帰化（－）
B18: 世帯数 | C18: 計 | D18: 日本人 | F18: 外国人 | H18: 世帯数 | I18: 計 | J18: 日本人 | L18: 外国人 | N18: 世帯数 | O18: 計 | P18: 日本人 | R18: 外国人 | T18: 世帯数 | U18: 計 | V18: 日本人 | X18: 外国人
D19: 男 | E19: 女 | F19: 男 | G19: 女 | J19: 男 | K19: 女 | L19: 男 | M19: 女 | P19: 男 | Q19: 女 | R19: 男 | S19: 女 | V19: 男 | W19: 女 | X19: 男 | Y19: 女
A20: 五井地区 | B20: 16 | C20: 23 | D20: 3 | E20: 18 | F20: 0 | G20: 2 | H20: 13 | I20: 18 | J20: 5 | K20: 13 | L20: 0 | M20: 0 | N20: 0 | O20: 1 | P20: 0 | Q20: 1 | R20: 0 | S20: 0 | T20: 0 | U20: 1 | V20: 0 | W20: 0 | X20: 0 | Y20: 1
A21: 市原地区 | B21: 10 | C21: 12 | D21: 0 | E21: 8 | F21: 1 | G21: 3 | H21: 8 | I21: 11 | J21: 4 | K21: 7 | L21: 0 | M21: 0 | N21: 0 | O21: 1 | P21: 1 | Q21: 0 | R21: 0 | S21: 0 | T21: 0 | U21: 1 | V21: 0 | W21: 0 | X21: 1 | Y21: 0
A22: 姉崎地区 | B22: 3 | C22: 3 | D22: 1 | E22: 2 | F22: 0 | G22: 0 | H22: 5 | I22: 6 | J22: 3 | K22: 3 | L22: 0 | M22: 0 | N22: 0 | O22: 0 | P22: 0 | Q22: 0 | R22: 0 | S22: 0 | T22: 0 | U22: 0 | V22: 0 | W22: 0 | X22: 0 | Y22: 0
A23: 三和地区 | B23: 0 | C23: 0 | D23: 0 | E23: 0 | F23: 0 | G23: 0 | H23: 6 | I23: 12 | J23: 5 | K23: 7 | L23: 0 | M23: 0 | N23: 0 | O23: 0 | P23: 0 | Q23: 0 | R23: 0 | S23: 0 | T23: 0 | U23: 0 | V23: 0 | W23: 0 | X23: 0 | Y23: 0
A24: 市津地区 | B24: 1 | C24: 1 | D24: 0 | E24: 1 | F24: 0 | G24: 0 | H24: 3 | I24: 3 | J24: 2 | K24: 1 | L24: 0 | M24: 0 | N24: 0 | O24: 0 | P24: 0 | Q24: 0 | R24: 0 | S24: 0 | T24: 0 | U24: 0 | V24: 0 | W24: 0 | X24: 0 | Y24: 0
A25: 南総地区 | B25: 0 | C25: 0 | D25: 0 | E25: 0 | F25: 0 | G25: 0 | H25: 4 | I25: 4 | J25: 1 | K25: 3 | L25: 0 | M25: 0 | N25: 0 | O25: 0 | P25: 0 | Q25: 0 | R25: 0 | S25: 0 | T25: 0 | U25: 0 | V25: 0 | W25: 0 | X25: 0 | Y25: 0
A26: 加茂地区 | B26: 1 | C26: 1 | D26: 0 | E26: 1 | F26: 0 | G26: 0 | H26: 3 | I26: 4 | J26: 0 | K26: 4 | L26: 0 | M26: 0 | N26: 0 | O26: 0 | P26: 0 | Q26: 0 | R26: 0 | S26: 0 | T26: 0 | U26: 0 | V26: 0 | W26: 0 | X26: 0 | Y26: 0
A27: 辰巳台地区 | B27: 0 | C27: 0 | D27: 0 | E27: 0 | F27: 0 | G27: 0 | H27: 2 | I27: 2 | J27: 1 | K27: 1 | L27: 0 | M27: 0 | N27: 0 | O27: 0 | P27: 0 | Q27: 0 | R27: 0 | S27: 0 | T27: 0 | U27: 0 | V27: 0 | W27: 0 | X27: 0 | Y27: 0
A28: 有秋地区 | B28: 1 | C28: 1 | D28: 1 | E28: 0 | F28: 0 | G28: 0 | H28: 4 | I28: 4 | J28: 3 | K28: 1 | L28: 0 | M28: 0 | N28: 0 | O28: 0 | P28: 0 | Q28: 0 | R28: 0 | S28: 0 | T28: 0 | U28: 0 | V28: 0 | W28: 0 | X28: 0 | Y28: 0
A29: ちはら台地区 | B29: 1 | C29: 1 | D29: 0 | E29: 1 | F29: 0 | G29: 0 | H29: 3 | I29: 6 | J29: 2 | K29: 4 | L29: 0 | M29: 0 | N29: 0 | O29: 0 | P29: 0 | Q29: 0 | R29: 0 | S29: 0 | T29: 0 | U29: 0 | V29: 0 | W29: 0 | X29: 0 | Y29: 0
A30: 計 | B30: 33 | C30: 42 | D30: 5 | E30: 31 | F30: 1 | G30: 5 | H30: 51 | I30: 70 | J30: 26 | K30: 44 | L30: 0 | M30: 0 | N30: 0 | O30: 2 | P30: 1 | Q30: 1 | R30: 0 | S30: 0 | T30: 0 | U30: 2 | V30: 0 | W30: 0 | X30: 1 | Y30: 1
B32: 出生 | H32: 死亡 | N32: 総合計
B33: 世帯数 | C33: 計 | D33: 日本人 | F33: 外国人 | H33: 世帯数 | I33: 計 | J33: 日本人 | L33: 外国人 | N33: 世帯数 | O33: 計 | P33: 日本人 | R33: 外国人
D34: 男 | E34: 女 | F34: 男 | G34: 女 | J34: 男 | K34: 女 | L34: 男 | M34: 女 | P34: 男 | Q34: 女 | R34: 男 | S34: 女
A35: 五井地区 | B35: 0 | C35: 47 | D35: 27 | E35: 20 | F35: 0 | G35: 0 | H35: 34 | I35: 75 | J35: 37 | K35: 37 | L35: 1 | M35: 0 | N35: -35 | O35: -114 | P35: -24 | Q35: -71 | R35: -4 | S35: -15
A36: 市原地区 | B36: 0 | C36: 22 | D36: 12 | E36: 10 | F36: 0 | G36: 0 | H36: 35 | I36: 76 | J36: 43 | K36: 33 | L36: 0 | M36: 0 | N36: 54 | O36: 92 | P36: 50 | Q36: 47 | R36: -11 | S36: 6
A37: 姉崎地区 | B37: 0 | C37: 11 | D37: 3 | E37: 8 | F37: 0 | G37: 0 | H37: 14 | I37: 28 | J37: 16 | K37: 12 | L37: 0 | M37: 0 | N37: 20 | O37: 19 | P37: -8 | Q37: 8 | R37: 10 | S37: 9
A38: 三和地区 | B38: 0 | C38: 2 | D38: 0 | E38: 2 | F38: 0 | G38: 0 | H38: 8 | I38: 20 | J38: 12 | K38: 8 | L38: 0 | M38: 0 | N38: -7 | O38: -27 | P38: -17 | Q38: -8 | R38: -3 | S38: 1
A39: 市津地区 | B39: 0 | C39: 6 | D39: 2 | E39: 3 | F39: 0 | G39: 1 | H39: 11 | I39: 21 | J39: 10 | K39: 10 | L39: 0 | M39: 1 | N39: -1 | O39: -7 | P39: -7 | Q39: -7 | R39: 6 | S39: 1
A40: 南総地区 | B40: 0 | C40: 1 | D40: 1 | E40: 0 | F40: 0 | G40: 0 | H40: 16 | I40: 37 | J40: 18 | K40: 19 | L40: 0 | M40: 0 | N40: -15 | O40: -46 | P40: -23 | Q40: -22 | R40: 3 | S40: -4
A41: 加茂地区 | B41: 0 | C41: 0 | D41: 0 | E41: 0 | F41: 0 | G41: 0 | H41: 6 | I41: 11 | J41: 4 | K41: 7 | L41: 0 | M41: 0 | N41: -2 | O41: -8 | P41: -1 | Q41: -9 | R41: 2 | S41: 0
A42: 辰巳台地区 | B42: 0 | C42: 6 | D42: 3 | E42: 3 | F42: 0 | G42: 0 | H42: 4 | I42: 10 | J42: 3 | K42: 6 | L42: 1 | M42: 0 | N42: 16 | O42: 6 | P42: -11 | Q42: -14 | R42: -7 | S42: 38
A43: 有秋地区 | B43: 0 | C43: 7 | D43: 4 | E43: 3 | F43: 0 | G43: 0 | H43: 4 | I43: 14 | J43: 9 | K43: 5 | L43: 0 | M43: 0 | N43: -26 | O43: -38 | P43: -28 | Q43: -12 | R43: 1 | S43: 1
A44: ちはら台地区 | B44: 0 | C44: 15 | D44: 7 | E44: 8 | F44: 0 | G44: 0 | H44: 3 | I44: 11 | J44: 7 | K44: 4 | L44: 0 | M44: 0 | N44: 11 | O44: 1 | P44: -3 | Q44: 9 | R44: -4 | S44: -1
A45: 計 | B45: 0 | C45: 117 | D45: 59 | E45: 57 | F45: 0 | G45: 1 | H45: 135 | I45: 303 | J45: 159 | K45: 141 | L45: 2 | M45: 1 | N45: 15 | O45: -122 | P45: -72 | Q45: -79 | R45: -7 | S45: 36

Sheet 12月分
A1: 令和４年１２月分
D2: 転入 | H2: 転出 | N2: 転居（＋） | T2: 転居（－）
B3: 世帯数 | C3: 計 | D3: 日本人 | F3: 外国人 | H3: 世帯数 | I3: 計 | J3: 日本人 | L3: 外国人 | N3: 世帯数 | O3: 計 | P3: 日本人 | R3: 外国人 | T3: 世帯数 | U3: 計 | V3: 日本人 | X3: 外国人
D4: 男 | E4: 女 | F4: 男 | G4: 女 | J4: 男 | K4: 女 | L4: 男 | M4: 女 | P4: 男 | Q4: 女 | R4: 男 | S4: 女 | V4: 男 | W4: 女 | X4: 男 | Y4: 女
A5: 五井地区 | B5: 160 | C5: 245 | D5: 124 | E5: 83 | F5: 24 | G5: 14 | H5: 149 | I5: 246 | J5: 118 | K5: 91 | L5: 28 | M5: 9 | N5: 162 | O5: 291 | P5: 152 | Q5: 124 | R5: 10 | S5: 5 | T5: 155 | U5: 305 | V5: 150 | W5: 130 | X5: 11 | Y5: 14
A6: 市原地区 | B6: 92 | C6: 150 | D6: 81 | E6: 48 | F6: 14 | G6: 7 | H6: 83 | I6: 133 | J6: 71 | K6: 42 | L6: 15 | M6: 5 | N6: 114 | O6: 193 | P6: 99 | Q6: 82 | R6: 2 | S6: 10 | T6: 85 | U6: 150 | V6: 79 | W6: 67 | X6: 1 | Y6: 3
A7: 姉崎地区 | B7: 63 | C7: 92 | D7: 39 | E7: 31 | F7: 13 | G7: 9 | H7: 42 | I7: 75 | J7: 36 | K7: 27 | L7: 6 | M7: 6 | N7: 49 | O7: 95 | P7: 46 | Q7: 48 | R7: 0 | S7: 1 | T7: 45 | U7: 104 | V7: 51 | W7: 49 | X7: 2 | Y7: 2
A8: 三和地区 | B8: 7 | C8: 16 | D8: 6 | E8: 7 | F8: 0 | G8: 3 | H8: 9 | I8: 22 | J8: 9 | K8: 9 | L8: 4 | M8: 0 | N8: 18 | O8: 45 | P8: 21 | Q8: 23 | R8: 1 | S8: 0 | T8: 6 | U8: 17 | V8: 11 | W8: 6 | X8: 0 | Y8: 0
A9: 市津地区 | B9: 9 | C9: 20 | D9: 9 | E9: 10 | F9: 1 | G9: 0 | H9: 19 | I9: 36 | J9: 12 | K9: 19 | L9: 5 | M9: 0 | N9: 13 | O9: 26 | P9: 13 | Q9: 12 | R9: 0 | S9: 1 | T9: 13 | U9: 22 | V9: 9 | W9: 7 | X9: 2 | Y9: 4
A10: 南総地区 | B10: 91 | C10: 101 | D10: 7 | E10: 11 | F10: 61 | G10: 22 | H10: 37 | I10: 45 | J10: 5 | K10: 10 | L10: 19 | M10: 11 | N10: 19 | O10: 37 | P10: 24 | Q10: 13 | R10: 0 | S10: 0 | T10: 18 | U10: 49 | V10: 23 | W10: 24 | X10: 2 | Y10: 0
A11: 加茂地区 | B11: 5 | C11: 6 | D11: 0 | E11: 4 | F11: 2 | G11: 0 | H11: 5 | I11: 10 | J11: 2 | K11: 4 | L11: 4 | M11: 0 | N11: 3 | O11: 3 | P11: 2 | Q11: 1 | R11: 0 | S11: 0 | T11: 4 | U11: 4 | V11: 2 | W11: 2 | X11: 0 | Y11: 0
A12: 辰巳台地区 | B12: 29 | C12: 41 | D12: 8 | E12: 10 | F12: 19 | G12: 4 | H12: 61 | I12: 69 | J12: 10 | K12: 5 | L12: 14 | M12: 40 | N12: 10 | O12: 21 | P12: 9 | Q12: 9 | R12: 2 | S12: 1 | T12: 20 | U12: 45 | V12: 24 | W12: 21 | X12: 0 | Y12: 0
A13: 有秋地区 | B13: 16 | C13: 32 | D13: 12 | E13: 13 | F13: 5 | G13: 2 | H13: 25 | I13: 43 | J13: 21 | K13: 15 | L13: 4 | M13: 3 | N13: 19 | O13: 34 | P13: 15 | Q13: 13 | R13: 3 | S13: 3 | T13: 28 | U13: 50 | V13: 30 | W13: 19 | X13: 0 | Y13: 1
A14: ちはら台地区 | B14: 39 | C14: 60 | D14: 23 | E14: 28 | F14: 8 | G14: 1 | H14: 21 | I14: 54 | J14: 20 | K14: 27 | L14: 7 | M14: 0 | N14: 11 | O14: 18 | P14: 9 | Q14: 6 | R14: 0 | S14: 3 | T14: 9 | U14: 17 | V14: 11 | W14: 6 | X14: 0 | Y14: 0
A15: 計 | B15: 511 | C15: 763 | D15: 309 | E15: 245 | F15: 147 | G15: 62 | H15: 451 | I15: 733 | J15: 304 | K15: 249 | L15: 106 | M15: 74 | N15: 418 | O15: 763 | P15: 390 | Q15: 331 | R15: 18 | S15: 24 | T15: 383 | U15: 763 | V15: 390 | W15: 331 | X15: 18 | Y15: 24
B17: 世帯合併 | H17: 世帯分離 | N17: 帰化（＋） | T17: 帰化（－）
B18: 世帯数 | C18: 計 | D18: 日本人 | F18: 外国人 | H18: 世帯数 | I18: 計 | J18: 日本人 | L18: 外国人 | N18: 世帯数 | O18: 計 | P18: 日本人 | R18: 外国人 | T18: 世帯数 | U18: 計 | V18: 日本人 | X18: 外国人
D19: 男 | E19: 女 | F19: 男 | G19: 女 | J19: 男 | K19: 女 | L19: 男 | M19: 女 | P19: 男 | Q19: 女 | R19: 男 | S19: 女 | V19: 男 | W19: 女 | X19: 男 | Y19: 女
A20: 五井地区 | B20: 10 | C20: 11 | D20: 0 | E20: 11 | F20: 0 | G20: 0 | H20: 16 | I20: 21 | J20: 7 | K20: 14 | L20: 0 | M20: 0 | N20: 0 | O20: 1 | P20: 0 | Q20: 1 | R20: 0 | S20: 0 | T20: 0 | U20: 1 | V20: 0 | W20: 0 | X20: 0 | Y20: 1
A21: 市原地区 | B21: 3 | C21: 3 | D21: 0 | E21: 3 | F21: 0 | G21: 0 | H21: 9 | I21: 12 | J21: 4 | K21: 8 | L21: 0 | M21: 0 | N21: 0 | O21: 1 | P21: 1 | Q21: 0 | R21: 0 | S21: 0 | T21: 0 | U21: 1 | V21: 0 | W21: 0 | X21: 1 | Y21: 0
A22: 姉崎地区 | B22: 4 | C22: 4 | D22: 1 | E22: 3 | F22: 0 | G22: 0 | H22: 1 | I22: 1 | J22: 1 | K22: 0 | L22: 0 | M22: 0 | N22: 0 | O22: 0 | P22: 0 | Q22: 0 | R22: 0 | S22: 0 | T22: 0 | U22: 0 | V22: 0 | W22: 0 | X22: 0 | Y22: 0
A23: 三和地区 | B23: 0 | C23: 0 | D23: 0 | E23: 0 | F23: 0 | G23: 0 | H23: 5 | I23: 6 | J23: 4 | K23: 2 | L23: 0 | M23: 0 | N23: 0 | O23: 0 | P23: 0 | Q23: 0 | R23: 0 | S23: 0 | T23: 0 | U23: 0 | V23: 0 | W23: 0 | X23: 0 | Y23: 0
A24: 市津地区 | B24: 2 | C24: 2 | D24: 0 | E24: 2 | F24: 0 | G24: 0 | H24: 3 | I24: 3 | J24: 2 | K24: 1 | L24: 0 | M24: 0 | N24: 0 | O24: 1 | P24: 0 | Q24: 1 | R24: 0 | S24: 0 | T24: 0 | U24: 1 | V24: 0 | W24: 0 | X24: 0 | Y24: 1
A25: 南総地区 | B25: 0 | C25: 0 | D25: 0 | E25: 0 | F25: 0 | G25: 0 | H25: 5 | I25: 7 | J25: 3 | K25: 4 | L25: 0 | M25: 0 | N25: 1 | O25: 1 | P25: 0 | Q25: 1 | R25: 0 | S25: 0 | T25: 1 | U25: 1 | V25: 0 | W25: 0 | X25: 0 | Y25: 1
A26: 加茂地区 | B26: 0 | C26: 0 | D26: 0 | E26: 0 | F26: 0 | G26: 0 | H26: 1 | I26: 2 | J26: 1 | K26: 1 | L26: 0 | M26: 0 | N26: 0 | O26: 0 | P26: 0 | Q26: 0 | R26: 0 | S26: 0 | T26: 0 | U26: 0 | V26: 0 | W26: 0 | X26: 0 | Y26: 0
A27: 辰巳台地区 | B27: 0 | C27: 0 | D27: 0 | E27: 0 | F27: 0 | G27: 0 | H27: 1 | I27: 2 | J27: 1 | K27: 1 | L27: 0 | M27: 0 | N27: 0 | O27: 0 | P27: 0 | Q27: 0 | R27: 0 | S27: 0 | T27: 0 | U27: 0 | V27: 0 | W27: 0 | X27: 0 | Y27: 0
A28: 有秋地区 | B28: 1 | C28: 1 | D28: 0 | E28: 1 | F28: 0 | G28: 0 | H28: 3 | I28: 3 | J28: 2 | K28: 1 | L28: 0 | M28: 0 | N28: 0 | O28: 0 | P28: 0 | Q28: 0 | R28: 0 | S28: 0 | T28: 0 | U28: 0 | V28: 0 | W28: 0 | X28: 0 | Y28: 0
A29: ちはら台地区 | B29: 2 | C29: 2 | D29: 0 | E29: 2 | F29: 0 | G29: 0 | H29: 5 | I29: 11 | J29: 6 | K29: 5 | L29: 0 | M29: 0 | N29: 0 | O29: 1 | P29: 1 | Q29: 0 | R29: 0 | S29: 0 | T29: 0 | U29: 1 | V29: 0 | W29: 0 | X29: 1 | Y29: 0
A30: 計 | B30: 22 | C30: 23 | D30: 1 | E30: 22 | F30: 0 | G30: 0 | H30: 49 | I30: 68 | J30: 31 | K30: 37 | L30: 0 | M30: 0 | N30: 1 | O30: 5 | P30: 2 | Q30: 3 | R30: 0 | S30: 0 | T30: 1 | U30: 5 | V30: 0 | W30: 0 | X30: 2 | Y30: 3
B32: 出生 | H32: 死亡 | N32: 総合計
B33: 世帯数 | C33: 計 | D33: 日本人 | F33: 外国人 | H33: 世帯数 | I33: 計 | J33: 日本人 | L33: 外国人 | N33: 世帯数 | O33: 計 | P33: 日本人 | R33: 外国人
D34: 男 | E34: 女 | F34: 男 | G34: 女 | J34: 男 | K34: 女 | L34: 男 | M34: 女 | P34: 男 | Q34: 女 | R34: 男 | S34: 女
A35: 五井地区 | B35: 0 | C35: 49 | D35: 26 | E35: 21 | F35: 1 | G35: 1 | H35: 24 | I35: 74 | J35: 36 | K35: 36 | L35: 1 | M35: 1 | N35: 0 | O35: -40 | P35: -2 | Q35: -28 | R35: -5 | S35: -5
A36: 市原地区 | B36: 0 | C36: 25 | D36: 12 | E36: 13 | F36: 0 | G36: 0 | H36: 22 | I36: 63 | J36: 28 | K36: 33 | L36: 1 | M36: 1 | N36: 22 | O36: 22 | P36: 15 | Q36: 1 | R36: -2 | S36: 8
A37: 姉崎地区 | B37: 0 | C37: 11 | D37: 7 | E37: 4 | F37: 0 | G37: 0 | H37: 15 | I37: 48 | J37: 24 | K37: 23 | L37: 1 | M37: 0 | N37: 7 | O37: -29 | P37: -19 | Q37: -16 | R37: 4 | S37: 2
A38: 三和地区 | B38: 0 | C38: 5 | D38: 3 | E38: 2 | F38: 0 | G38: 0 | H38: 8 | I38: 19 | J38: 11 | K38: 8 | L38: 0 | M38: 0 | N38: 7 | O38: 8 | P38: -1 | Q38: 9 | R38: -3 | S38: 3
A39: 市津地区 | B39: 0 | C39: 11 | D39: 4 | E39: 7 | F39: 0 | G39: 0 | H39: 14 | I39: 26 | J39: 14 | K39: 12 | L39: 0 | M39: 0 | N39: -23 | O39: -27 | P39: -9 | Q39: -8 | R39: -6 | S39: -4
A40: 南総地区 | B40: 0 | C40: 3 | D40: 2 | E40: 1 | F40: 0 | G40: 0 | H40: 12 | I40: 32 | J40: 18 | K40: 14 | L40: 0 | M40: 0 | N40: 48 | O40: 15 | P40: -13 | Q40: -22 | R40: 40 | S40: 10
A41: 加茂地区 | B41: 0 | C41: 0 | D41: 0 | E41: 0 | F41: 0 | G41: 0 | H41: 7 | I41: 13 | J41: 7 | K41: 6 | L41: 0 | M41: 0 | N41: -7 | O41: -18 | P41: -9 | Q41: -7 | R41: -2 | S41: 0
A42: 辰巳台地区 | B42: 0 | C42: 2 | D42: 2 | E42: 0 | F42: 0 | G42: 0 | H42: 3 | I42: 7 | J42: 4 | K42: 3 | L42: 0 | M42: 0 | N42: -44 | O42: -57 | P42: -19 | Q42: -10 | R42: 7 | S42: -35
A43: 有秋地区 | B43: 0 | C43: 4 | D43: 1 | E43: 3 | F43: 0 | G43: 0 | H43: 6 | I43: 18 | J43: 12 | K43: 6 | L43: 0 | M43: 0 | N43: -22 | O43: -41 | P43: -35 | Q43: -11 | R43: 4 | S43: 1
A44: ちはら台地区 | B44: 0 | C44: 16 | D44: 8 | E44: 8 | F44: 0 | G44: 0 | H44: 4 | I44: 10 | J44: 4 | K44: 6 | L44: 0 | M44: 0 | N44: 19 | O44: 13 | P44: 6 | Q44: 3 | R44: 0 | S44: 4
A45: 計 | B45: 0 | C45: 126 | D45: 65 | E45: 59 | F45: 1 | G45: 1 | H45: 115 | I45: 310 | J45: 158 | K45: 147 | L45: 3 | M45: 2 | N45: 7 | O45: -154 | P45: -86 | Q45: -89 | R45: 37 | S45: -16

Sheet 合計
A1: 令和４年分
D2: 転入 | H2: 転出 | N2: 転居（＋） | T2: 転居（－）
B3: 世帯数 | C3: 計 | D3: 日本人 | F3: 外国人 | H3: 世帯数 | I3: 計 | J3: 日本人 | L3: 外国人 | N3: 世帯数 | O3: 計 | P3: 日本人 | R3: 外国人 | T3: 世帯数 | U3: 計 | V3: 日本人 | X3: 外国人
D4: 男 | E4: 女 | F4: 男 | G4: 女 | J4: 男 | K4: 女 | L4: 男 | M4: 女 | P4: 男 | Q4: 女 | R4: 男 | S4: 女 | V4: 男 | W4: 女 | X4: 男 | Y4: 女
A5: 五井地区 | B5: =SUM('1月分:12月分'!B5) -> 2538 | C5: =SUM('1月分:12月分'!C5) -> 3556 | D5: =SUM('1月分:12月分'!D5) -> 1756 | E5: =SUM('1月分:12月分'!E5) -> 1179 | F5: =SUM('1月分:12月分'!F5) -> 441 | G5: =SUM('1月分:12月分'!G5) -> 180 | H5: =SUM('1月分:12月分'!H5) -> 2054 | I5: =SUM('1月分:12月分'!I5) -> 3575 | ... Y5: =SUM('1月分:12月分'!Y5) -> 147
A6: 市原地区 | B6: =SUM('1月分:12月分'!B6) -> 1428 | C6: =SUM('1月分:12月分'!C6) -> 2079 | D6: =SUM('1月分:12月分'!D6) -> 1017 | E6: =SUM('1月分:12月分'!E6) -> 720 | F6: =SUM('1月分:12月分'!F6) -> 257 | G6: =SUM('1月分:12月分'!G6) -> 85 | H6: =SUM('1月分:12月分'!H6) -> 1070 | I6: =SUM('1月分:12月分'!I6) -> 1855 | ... Y6: =SUM('1月分:12月分'!Y6) -> 52
A7: 姉崎地区 | B7: =SUM('1月分:12月分'!B7) -> 827 | C7: =SUM('1月分:12月分'!C7) -> 1181 | D7: =SUM('1月分:12月分'!D7) -> 593 | E7: =SUM('1月分:12月分'!E7) -> 390 | F7: =SUM('1月分:12月分'!F7) -> 126 | G7: =SUM('1月分:12月分'!G7) -> 72 | H7: =SUM('1月分:12月分'!H7) -> 606 | I7: =SUM('1月分:12月分'!I7) -> 1066 | ... Y7: =SUM('1月分:12月分'!Y7) -> 18
A8: 三和地区 | B8: =SUM('1月分:12月分'!B8) -> 124 | C8: =SUM('1月分:12月分'!C8) -> 219 | D8: =SUM('1月分:12月分'!D8) -> 94 | E8: =SUM('1月分:12月分'!E8) -> 89 | F8: =SUM('1月分:12月分'!F8) -> 23 | G8: =SUM('1月分:12月分'!G8) -> 13 | H8: =SUM('1月分:12月分'!H8) -> 124 | I8: =SUM('1月分:12月分'!I8) -> 294 | ... Y8: =SUM('1月分:12月分'!Y8) -> 3
A9: 市津地区 | B9: =SUM('1月分:12月分'!B9) -> 251 | C9: =SUM('1月分:12月分'!C9) -> 438 | D9: =SUM('1月分:12月分'!D9) -> 179 | E9: =SUM('1月分:12月分'!E9) -> 173 | F9: =SUM('1月分:12月分'!F9) -> 59 | G9: =SUM('1月分:12月分'!G9) -> 27 | H9: =SUM('1月分:12月分'!H9) -> 200 | I9: =SUM('1月分:12月分'!I9) -> 411 | ... Y9: =SUM('1月分:12月分'!Y9) -> 18
A10: 南総地区 | B10: =SUM('1月分:12月分'!B10) -> 694 | C10: =SUM('1月分:12月分'!C10) -> 824 | D10: =SUM('1月分:12月分'!D10) -> 149 | E10: =SUM('1月分:12月分'!E10) -> 134 | F10: =SUM('1月分:12月分'!F10) -> 454 | G10: =SUM('1月分:12月分'!G10) -> 87 | H10: =SUM('1月分:12月分'!H10) -> 547 | I10: =SUM('1月分:12月分'!I10) -> 754 | ... Y10: =SUM('1月分:12月分'!Y10) -> 6
A11: 加茂地区 | B11: =SUM('1月分:12月分'!B11) -> 47 | C11: =SUM('1月分:12月分'!C11) -> 66 | D11: =SUM('1月分:12月分'!D11) -> 27 | E11: =SUM('1月分:12月分'!E11) -> 20 | F11: =SUM('1月分:12月分'!F11) -> 19 | G11: =SUM('1月分:12月分'!G11) -> 0 | H11: =SUM('1月分:12月分'!H11) -> 32 | I11: =SUM('1月分:12月分'!I11) -> 96 | ... Y11: =SUM('1月分:12月分'!Y11) -> 0
A12: 辰巳台地区 | B12: =SUM('1月分:12月分'!B12) -> 721 | C12: =SUM('1月分:12月分'!C12) -> 828 | D12: =SUM('1月分:12月分'!D12) -> 191 | E12: =SUM('1月分:12月分'!E12) -> 144 | F12: =SUM('1月分:12月分'!F12) -> 236 | G12: =SUM('1月分:12月分'!G12) -> 257 | H12: =SUM('1月分:12月分'!H12) -> 639 | I12: =SUM('1月分:12月分'!I12) -> 807 | ... Y12: =SUM('1月分:12月分'!Y12) -> 9
A13: 有秋地区 | B13: =SUM('1月分:12月分'!B13) -> 287 | C13: =SUM('1月分:12月分'!C13) -> 429 | D13: =SUM('1月分:12月分'!D13) -> 240 | E13: =SUM('1月分:12月分'!E13) -> 133 | F13: =SUM('1月分:12月分'!F13) -> 45 | G13: =SUM('1月分:12月分'!G13) -> 11 | H13: =SUM('1月分:12月分'!H13) -> 272 | I13: =SUM('1月分:12月分'!I13) -> 528 | ... Y13: =SUM('1月分:12月分'!Y13) -> 7
A14: ちはら台地区 | B14: =SUM('1月分:12月分'!B14) -> 500 | C14: =SUM('1月分:12月分'!C14) -> 923 | D14: =SUM('1月分:12月分'!D14) -> 430 | E14: =SUM('1月分:12月分'!E14) -> 415 | F14: =SUM('1月分:12月分'!F14) -> 44 | G14: =SUM('1月分:12月分'!G14) -> 34 | H14: =SUM('1月分:12月分'!H14) -> 348 | I14: =SUM('1月分:12月分'!I14) -> 954 | ... Y14: =SUM('1月分:12月分'!Y14) -> 6
A15: 計 | B15: =SUM(B5:B14) -> 7417 | C15: =SUM(C5:C14) -> 10543 | D15: =SUM(D5:D14) -> 4676 | E15: =SUM(E5:E14) -> 3397 | F15: =SUM(F5:F14) -> 1704 | G15: =SUM(G5:G14) -> 766 | H15: =SUM(H5:H14) -> 5892 | I15: =SUM(I5:I14) -> 10340 | ... Y15: =SUM(Y5:Y14) -> 266
B17: 世帯合併 | H17: 世帯分離 | N17: 帰化（＋） | T17: 帰化（－）
B18: 世帯数 | C18: 計 | D18: 日本人 | F18: 外国人 | H18: 世帯数 | I18: 計 | J18: 日本人 | L18: 外国人 | N18: 世帯数 | O18: 計 | P18: 日本人 | R18: 外国人 | T18: 世帯数 | U18: 計 | V18: 日本人 | X18: 外国人
D19: 男 | E19: 女 | F19: 男 | G19: 女 | J19: 男 | K19: 女 | L19: 男 | M19: 女 | P19: 男 | Q19: 女 | R19: 男 | S19: 女 | V19: 男 | W19: 女 | X19: 男 | Y19: 女
A20: =A5 -> 五井地区 | B20: =SUM('1月分:12月分'!B20) -> 159 | C20: =SUM('1月分:12月分'!C20) -> 191 | D20: =SUM('1月分:12月分'!D20) -> 29 | E20: =SUM('1月分:12月分'!E20) -> 149 | F20: =SUM('1月分:12月分'!F20) -> 3 | G20: =SUM('1月分:12月分'!G20) -> 10 | H20: =SUM('1月分:12月分'!H20) -> 179 | I20: =SUM('1月分:12月分'!I20) -> 230 | ... Y20: =SUM('1月分:12月分'!Y20) -> 4
A21: =A6 -> 市原地区 | B21: =SUM('1月分:12月分'!B21) -> 71 | C21: =SUM('1月分:12月分'!C21) -> 76 | D21: =SUM('1月分:12月分'!D21) -> 9 | E21: =SUM('1月分:12月分'!E21) -> 61 | F21: =SUM('1月分:12月分'!F21) -> 1 | G21: =SUM('1月分:12月分'!G21) -> 5 | H21: =SUM('1月分:12月分'!H21) -> 124 | I21: =SUM('1月分:12月分'!I21) -> 164 | ... Y21: =SUM('1月分:12月分'!Y21) -> 2
A22: =A7 -> 姉崎地区 | B22: =SUM('1月分:12月分'!B22) -> 27 | C22: =SUM('1月分:12月分'!C22) -> 34 | D22: =SUM('1月分:12月分'!D22) -> 6 | E22: =SUM('1月分:12月分'!E22) -> 27 | F22: =SUM('1月分:12月分'!F22) -> 0 | G22: =SUM('1月分:12月分'!G22) -> 1 | H22: =SUM('1月分:12月分'!H22) -> 46 | I22: =SUM('1月分:12月分'!I22) -> 57 | ... Y22: =SUM('1月分:12月分'!Y22) -> 0
A23: =A8 -> 三和地区 | B23: =SUM('1月分:12月分'!B23) -> 4 | C23: =SUM('1月分:12月分'!C23) -> 5 | D23: =SUM('1月分:12月分'!D23) -> 1 | E23: =SUM('1月分:12月分'!E23) -> 4 | F23: =SUM('1月分:12月分'!F23) -> 0 | G23: =SUM('1月分:12月分'!G23) -> 0 | H23: =SUM('1月分:12月分'!H23) -> 60 | I23: =SUM('1月分:12月分'!I23) -> 82 | ... Y23: =SUM('1月分:12月分'!Y23) -> 0
A24: =A9 -> 市津地区 | B24: =SUM('1月分:12月分'!B24) -> 11 | C24: =SUM('1月分:12月分'!C24) -> 12 | D24: =SUM('1月分:12月分'!D24) -> 1 | E24: =SUM('1月分:12月分'!E24) -> 11 | F24: =SUM('1月分:12月分'!F24) -> 0 | G24: =SUM('1月分:12月分'!G24) -> 0 | H24: =SUM('1月分:12月分'!H24) -> 33 | I24: =SUM('1月分:12月分'!I24) -> 35 | ... Y24: =SUM('1月分:12月分'!Y24) -> 1
A25: =A10 -> 南総地区 | B25: =SUM('1月分:12月分'!B25) -> 5 | C25: =SUM('1月分:12月分'!C25) -> 9 | D25: =SUM('1月分:12月分'!D25) -> 2 | E25: =SUM('1月分:12月分'!E25) -> 2 | F25: =SUM('1月分:12月分'!F25) -> 2 | G25: =SUM('1月分:12月分'!G25) -> 3 | H25: =SUM('1月分:12月分'!H25) -> 51 | I25: =SUM('1月分:12月分'!I25) -> 70 | ... Y25: =SUM('1月分:12月分'!Y25) -> 1
A26: =A11 -> 加茂地区 | B26: =SUM('1月分:12月分'!B26) -> 1 | C26: =SUM('1月分:12月分'!C26) -> 1 | D26: =SUM('1月分:12月分'!D26) -> 0 | E26: =SUM('1月分:12月分'!E26) -> 1 | F26: =SUM('1月分:12月分'!F26) -> 0 | G26: =SUM('1月分:12月分'!G26) -> 0 | H26: =SUM('1月分:12月分'!H26) -> 24 | I26: =SUM('1月分:12月分'!I26) -> 31 | ... Y26: =SUM('1月分:12月分'!Y26) -> 0
A27: =A12 -> 辰巳台地区 | B27: =SUM('1月分:12月分'!B27) -> 3 | C27: =SUM('1月分:12月分'!C27) -> 3 | D27: =SUM('1月分:12月分'!D27) -> 0 | E27: =SUM('1月分:12月分'!E27) -> 2 | F27: =SUM('1月分:12月分'!F27) -> 0 | G27: =SUM('1月分:12月分'!G27) -> 1 | H27: =SUM('1月分:12月分'!H27) -> 16 | I27: =SUM('1月分:12月分'!I27) -> 22 | ... Y27: =SUM('1月分:12月分'!Y27) -> 0
A28: =A13 -> 有秋地区 | B28: =SUM('1月分:12月分'!B28) -> 9 | C28: =SUM('1月分:12月分'!C28) -> 9 | D28: =SUM('1月分:12月分'!D28) -> 2 | E28: =SUM('1月分:12月分'!E28) -> 6 | F28: =SUM('1月分:12月分'!F28) -> 0 | G28: =SUM('1月分:12月分'!G28) -> 1 | H28: =SUM('1月分:12月分'!H28) -> 36 | I28: =SUM('1月分:12月分'!I28) -> 48 | ... Y28: =SUM('1月分:12月分'!Y28) -> 1
A29: =A14 -> ちはら台地区 | B29: =SUM('1月分:12月分'!B29) -> 17 | C29: =SUM('1月分:12月分'!C29) -> 17 | D29: =SUM('1月分:12月分'!D29) -> 2 | E29: =SUM('1月分:12月分'!E29) -> 15 | F29: =SUM('1月分:12月分'!F29) -> 0 | G29: =SUM('1月分:12月分'!G29) -> 0 | H29: =SUM('1月分:12月分'!H29) -> 36 | I29: =SUM('1月分:12月分'!I29) -> 57 | ... Y29: =SUM('1月分:12月分'!Y29) -> 0
A30: =A15 -> 計 | B30: =SUM(B20:B29) -> 307 | C30: =SUM(C20:C29) -> 357 | D30: =SUM(D20:D29) -> 52 | E30: =SUM(E20:E29) -> 278 | F30: =SUM(F20:F29) -> 6 | G30: =SUM(G20:G29) -> 21 | H30: =SUM(H20:H29) -> 605 | I30: =SUM(I20:I29) -> 796 | ... Y30: =SUM(Y20:Y29) -> 9
B32: 出生 | H32: 死亡 | N32: 総合計
B33: 世帯数 | C33: 計 | D33: 日本人 | F33: 外国人 | H33: 世帯数 | I33: 計 | J33: 日本人 | L33: 外国人 | N33: 世帯数 | O33: 計 | P33: 日本人 | R33: 外国人
D34: 男 | E34: 女 | F34: 男 | G34: 女 | J34: 男 | K34: 女 | L34: 男 | M34: 女 | P34: 男 | Q34: 女 | R34: 男 | S34: 女
A35: =A5 -> 五井地区 | B35: =SUM('1月分:12月分'!B35) -> 0 | C35: =SUM('1月分:12月分'!C35) -> 554 | D35: =SUM('1月分:12月分'!D35) -> 274 | E35: =SUM('1月分:12月分'!E35) -> 261 | F35: =SUM('1月分:12月分'!F35) -> 9 | G35: =SUM('1月分:12月分'!G35) -> 10 | H35: =SUM('1月分:12月分'!H35) -> 377 | I35: =SUM('1月分:12月分'!I35) -> 849 | ... S35: =SUM('1月分:12月分'!S35) -> 7
A36: =A6 -> 市原地区 | B36: =SUM('1月分:12月分'!B36) -> 0 | C36: =SUM('1月分:12月分'!C36) -> 274 | D36: =SUM('1月分:12月分'!D36) -> 140 | E36: =SUM('1月分:12月分'!E36) -> 128 | F36: =SUM('1月分:12月分'!F36) -> 3 | G36: =SUM('1月分:12月分'!G36) -> 3 | H36: =SUM('1月分:12月分'!H36) -> 347 | I36: =SUM('1月分:12月分'!I36) -> 777 | ... S36: =SUM('1月分:12月分'!S36) -> 1
A37: =A7 -> 姉崎地区 | B37: =SUM('1月分:12月分'!B37) -> 0 | C37: =SUM('1月分:12月分'!C37) -> 143 | D37: =SUM('1月分:12月分'!D37) -> 79 | E37: =SUM('1月分:12月分'!E37) -> 61 | F37: =SUM('1月分:12月分'!F37) -> 3 | G37: =SUM('1月分:12月分'!G37) -> 0 | H37: =SUM('1月分:12月分'!H37) -> 151 | I37: =SUM('1月分:12月分'!I37) -> 376 | ... S37: =SUM('1月分:12月分'!S37) -> 14
A38: =A8 -> 三和地区 | B38: =SUM('1月分:12月分'!B38) -> 0 | C38: =SUM('1月分:12月分'!C38) -> 36 | D38: =SUM('1月分:12月分'!D38) -> 19 | E38: =SUM('1月分:12月分'!E38) -> 17 | F38: =SUM('1月分:12月分'!F38) -> 0 | G38: =SUM('1月分:12月分'!G38) -> 0 | H38: =SUM('1月分:12月分'!H38) -> 86 | I38: =SUM('1月分:12月分'!I38) -> 202 | ... S38: =SUM('1月分:12月分'!S38) -> -1
A39: =A9 -> 市津地区 | B39: =SUM('1月分:12月分'!B39) -> 0 | C39: =SUM('1月分:12月分'!C39) -> 85 | D39: =SUM('1月分:12月分'!D39) -> 37 | E39: =SUM('1月分:12月分'!E39) -> 47 | F39: =SUM('1月分:12月分'!F39) -> 0 | G39: =SUM('1月分:12月分'!G39) -> 1 | H39: =SUM('1月分:12月分'!H39) -> 112 | I39: =SUM('1月分:12月分'!I39) -> 248 | ... S39: =SUM('1月分:12月分'!S39) -> 11
A40: =A10 -> 南総地区 | B40: =SUM('1月分:12月分'!B40) -> 0 | C40: =SUM('1月分:12月分'!C40) -> 39 | D40: =SUM('1月分:12月分'!D40) -> 23 | E40: =SUM('1月分:12月分'!E40) -> 14 | F40: =SUM('1月分:12月分'!F40) -> 1 | G40: =SUM('1月分:12月分'!G40) -> 1 | H40: =SUM('1月分:12月分'!H40) -> 141 | I40: =SUM('1月分:12月分'!I40) -> 347 | ... S40: =SUM('1月分:12月分'!S40) -> 29
A41: =A11 -> 加茂地区 | B41: =SUM('1月分:12月分'!B41) -> 0 | C41: =SUM('1月分:12月分'!C41) -> 9 | D41: =SUM('1月分:12月分'!D41) -> 6 | E41: =SUM('1月分:12月分'!E41) -> 3 | F41: =SUM('1月分:12月分'!F41) -> 0 | G41: =SUM('1月分:12月分'!G41) -> 0 | H41: =SUM('1月分:12月分'!H41) -> 61 | I41: =SUM('1月分:12月分'!I41) -> 121 | ... S41: =SUM('1月分:12月分'!S41) -> -1
A42: =A12 -> 辰巳台地区 | B42: =SUM('1月分:12月分'!B42) -> 0 | C42: =SUM('1月分:12月分'!C42) -> 38 | D42: =SUM('1月分:12月分'!D42) -> 22 | E42: =SUM('1月分:12月分'!E42) -> 16 | F42: =SUM('1月分:12月分'!F42) -> 0 | G42: =SUM('1月分:12月分'!G42) -> 0 | H42: =SUM('1月分:12月分'!H42) -> 25 | I42: =SUM('1月分:12月分'!I42) -> 87 | ... S42: =SUM('1月分:12月分'!S42) -> 10
A43: =A13 -> 有秋地区 | B43: =SUM('1月分:12月分'!B43) -> 0 | C43: =SUM('1月分:12月分'!C43) -> 55 | D43: =SUM('1月分:12月分'!D43) -> 29 | E43: =SUM('1月分:12月分'!E43) -> 23 | F43: =SUM('1月分:12月分'!F43) -> 2 | G43: =SUM('1月分:12月分'!G43) -> 1 | H43: =SUM('1月分:12月分'!H43) -> 59 | I43: =SUM('1月分:12月分'!I43) -> 157 | ... S43: =SUM('1月分:12月分'!S43) -> 0
A44: =A14 -> ちはら台地区 | B44: =SUM('1月分:12月分'!B44) -> 0 | C44: =SUM('1月分:12月分'!C44) -> 192 | D44: =SUM('1月分:12月分'!D44) -> 103 | E44: =SUM('1月分:12月分'!E44) -> 88 | F44: =SUM('1月分:12月分'!F44) -> 0 | G44: =SUM('1月分:12月分'!G44) -> 1 | H44: =SUM('1月分:12月分'!H44) -> 44 | I44: =SUM('1月分:12月分'!I44) -> 119 | ... S44: =SUM('1月分:12月分'!S44) -> 20
A45: =A15 -> 計 | B45: =SUM(B35:B44) -> 0 | C45: =SUM(C35:C44) -> 1425 | D45: =SUM(D35:D44) -> 732 | E45: =SUM(E35:E44) -> 658 | F45: =SUM(F35:F44) -> 18 | G45: =SUM(G35:G44) -> 17 | H45: =SUM(H35:H44) -> 1403 | I45: =SUM(I35:I44) -> 3283 | ... S45: =SUM(S35:S44) -> 90
