Workbook

Sheet 1月分
A1: 平成３１年１月分
B2: 転入 | H2: 転出 | N2: 転居（＋） | T2: 転居（－）
B3: 世帯数 | C3: 計 | D3: 日本人 | F3: 外国人 | H3: 世帯数 | I3: 計 | J3: 日本人 | L3: 外国人 | N3: 世帯数 | O3: 計 | P3: 日本人 | R3: 外国人 | T3: 世帯数 | U3: 計 | V3: 日本人 | X3: 外国人
D4: 男 | E4: 女 | F4: 男 | G4: 女 | J4: 男 | K4: 女 | L4: 男 | M4: 女 | P4: 男 | Q4: 女 | R4: 男 | S4: 女 | V4: 男 | W4: 女 | X4: 男 | Y4: 女
A5: 五井地区 | B5: 182 | C5: 249 | D5: 133 | E5: 67 | F5: 37 | G5: 12 | H5: 148 | I5: 238 | J5: 135 | K5: 83 | L5: 11 | M5: 9 | N5: 189 | O5: 335 | P5: 183 | Q5: 130 | R5: 7 | S5: 15 | T5: 146 | U5: 310 | V5: 167 | W5: 134 | X5: 2 | Y5: 7
A6: 市原地区 | B6: 87 | C6: 127 | D6: 67 | E6: 45 | F6: 10 | G6: 5 | H6: 76 | I6: 132 | J6: 70 | K6: 45 | L6: 12 | M6: 5 | N6: 84 | O6: 146 | P6: 85 | Q6: 57 | R6: 3 | S6: 1 | T6: 73 | U6: 141 | V6: 75 | W6: 53 | X6: 6 | Y6: 7
A7: 姉崎地区 | B7: 33 | C7: 57 | D7: 33 | E7: 16 | F7: 5 | G7: 3 | H7: 48 | I7: 70 | J7: 35 | K7: 24 | L7: 7 | M7: 4 | N7: 41 | O7: 80 | P7: 36 | Q7: 40 | R7: 2 | S7: 2 | T7: 47 | U7: 83 | V7: 41 | W7: 36 | X7: 2 | Y7: 4
A8: 三和地区 | B8: 13 | C8: 18 | D8: 9 | E8: 5 | F8: 4 | G8: 0 | H8: 9 | I8: 20 | J8: 6 | K8: 13 | L8: 0 | M8: 1 | N8: 7 | O8: 13 | P8: 6 | Q8: 7 | R8: 0 | S8: 0 | T8: 4 | U8: 16 | V8: 8 | W8: 8 | X8: 0 | Y8: 0
A9: 市津地区 | B9: 14 | C9: 36 | D9: 19 | E9: 17 | F9: 0 | G9: 0 | H9: 10 | I9: 20 | J9: 8 | K9: 9 | L9: 2 | M9: 1 | N9: 12 | O9: 33 | P9: 15 | Q9: 18 | R9: 0 | S9: 0 | T9: 7 | U9: 22 | V9: 10 | W9: 12 | X9: 0 | Y9: 0
A10: 南総地区 | B10: 27 | C10: 40 | D10: 10 | E10: 15 | F10: 13 | G10: 2 | H10: 31 | I10: 46 | J10: 10 | K10: 13 | L10: 20 | M10: 3 | N10: 11 | O10: 20 | P10: 11 | Q10: 9 | R10: 0 | S10: 0 | T10: 16 | U10: 34 | V10: 16 | W10: 14 | X10: 2 | Y10: 2
A11: 加茂地区 | B11: 2 | C11: 4 | D11: 1 | E11: 2 | F11: 1 | G11: 0 | H11: 2 | I11: 6 | J11: 3 | K11: 3 | L11: 0 | M11: 0 | N11: 3 | O11: 3 | P11: 0 | Q11: 3 | R11: 0 | S11: 0 | T11: 3 | U11: 6 | V11: 2 | W11: 4 | X11: 0 | Y11: 0
A12: 辰巳台地区 | B12: 15 | C12: 23 | D12: 6 | E12: 6 | F12: 9 | G12: 2 | H12: 14 | I12: 27 | J12: 15 | K12: 12 | L12: 0 | M12: 0 | N12: 8 | O12: 25 | P12: 14 | Q12: 11 | R12: 0 | S12: 0 | T12: 11 | U12: 20 | V12: 10 | W12: 10 | X12: 0 | Y12: 0
A13: 有秋地区 | B13: 18 | C13: 24 | D13: 12 | E13: 6 | F13: 6 | G13: 0 | H13: 18 | I13: 35 | J13: 25 | K13: 10 | L13: 0 | M13: 0 | N13: 9 | O13: 16 | P13: 5 | Q13: 9 | R13: 0 | S13: 2 | T13: 22 | U13: 45 | V13: 28 | W13: 17 | X13: 0 | Y13: 0
A14: ちはら台地区 | B14: 40 | C14: 102 | D14: 46 | E14: 50 | F14: 3 | G14: 3 | H14: 23 | I14: 48 | J14: 25 | K14: 20 | L14: 1 | M14: 2 | N14: 11 | O14: 18 | P14: 6 | Q14: 12 | R14: 0 | S14: 0 | T14: 8 | U14: 12 | V14: 4 | W14: 8 | X14: 0 | Y14: 0
A15: 計 | B15: 431 | C15: 680 | D15: 336 | E15: 229 | F15: 88 | G15: 27 | H15: 379 | I15: 642 | J15: 332 | K15: 232 | L15: 53 | M15: 25 | N15: 375 | O15: 689 | P15: 361 | Q15: 296 | R15: 12 | S15: 20 | T15: 337 | U15: 689 | V15: 361 | W15: 296 | X15: 12 | Y15: 20
B17: 世帯合併 | H17: 世帯分離 | N17: 帰化（＋） | T17: 帰化（－）
B18: 世帯数 | C18: 計 | D18: 日本人 | F18: 外国人 | H18: 世帯数 | I18: 計 | J18: 日本人 | L18: 外国人 | N18: 世帯数 | O18: 計 | P18: 日本人 | R18: 外国人 | T18: 世帯数 | U18: 計 | V18: 日本人 | X18: 外国人
D19: 男 | E19: 女 | F19: 男 | G19: 女 | J19: 男 | K19: 女 | L19: 男 | M19: 女 | P19: 男 | Q19: 女 | R19: 男 | S19: 女 | V19: 男 | W19: 女 | X19: 男 | Y19: 女
A20: 五井地区 | B20: 10 | C20: 12 | D20: 2 | E20: 9 | F20: 0 | G20: 1 | H20: 16 | I20: 20 | J20: 8 | K20: 11 | L20: 0 | M20: 1 | N20: 1 | O20: 3 | P20: 1 | Q20: 2 | R20: 0 | S20: 0 | T20: 1 | U20: 3 | V20: 0 | W20: 0 | X20: 1 | Y20: 2
A21: 市原地区 | B21: 9 | C21: 11 | D21: 4 | E21: 7 | F21: 0 | G21: 0 | H21: 10 | I21: 15 | J21: 5 | K21: 10 | L21: 0 | M21: 0 | N21: 0 | O21: 0 | P21: 0 | Q21: 0 | R21: 0 | S21: 0 | T21: 0 | U21: 0 | V21: 0 | W21: 0 | X21: 0 | Y21: 0
A22: 姉崎地区 | B22: 0 | C22: 0 | D22: 0 | E22: 0 | F22: 0 | G22: 0 | H22: 4 | I22: 8 | J22: 4 | K22: 4 | L22: 0 | M22: 0 | N22: 0 | O22: 0 | P22: 0 | Q22: 0 | R22: 0 | S22: 0 | T22: 0 | U22: 0 | V22: 0 | W22: 0 | X22: 0 | Y22: 0
A23: 三和地区 | B23: 0 | C23: 0 | D23: 0 | E23: 0 | F23: 0 | G23: 0 | H23: 3 | I23: 7 | J23: 5 | K23: 2 | L23: 0 | M23: 0 | N23: 0 | O23: 0 | P23: 0 | Q23: 0 | R23: 0 | S23: 0 | T23: 0 | U23: 0 | V23: 0 | W23: 0 | X23: 0 | Y23: 0
A24: 市津地区 | B24: 1 | C24: 2 | D24: 0 | E24: 2 | F24: 0 | G24: 0 | H24: 6 | I24: 8 | J24: 3 | K24: 5 | L24: 0 | M24: 0 | N24: 0 | O24: 0 | P24: 0 | Q24: 0 | R24: 0 | S24: 0 | T24: 0 | U24: 0 | V24: 0 | W24: 0 | X24: 0 | Y24: 0
A25: 南総地区 | B25: 1 | C25: 1 | D25: 1 | E25: 0 | F25: 0 | G25: 0 | H25: 6 | I25: 7 | J25: 4 | K25: 3 | L25: 0 | M25: 0 | N25: 0 | O25: 0 | P25: 0 | Q25: 0 | R25: 0 | S25: 0 | T25: 0 | U25: 0 | V25: 0 | W25: 0 | X25: 0 | Y25: 0
A26: 加茂地区 | B26: 1 | C26: 1 | D26: 0 | E26: 1 | F26: 0 | G26: 0 | H26: 5 | I26: 9 | J26: 2 | K26: 7 | L26: 0 | M26: 0 | N26: 0 | O26: 0 | P26: 0 | Q26: 0 | R26: 0 | S26: 0 | T26: 0 | U26: 0 | V26: 0 | W26: 0 | X26: 0 | Y26: 0
A27: 辰巳台地区 | B27: 0 | C27: 0 | D27: 0 | E27: 0 | F27: 0 | G27: 0 | H27: 1 | I27: 1 | J27: 1 | K27: 0 | L27: 0 | M27: 0 | N27: 0 | O27: 0 | P27: 0 | Q27: 0 | R27: 0 | S27: 0 | T27: 0 | U27: 0 | V27: 0 | W27: 0 | X27: 0 | Y27: 0
A28: 有秋地区 | B28: 0 | C28: 0 | D28: 0 | E28: 0 | F28: 0 | G28: 0 | H28: 3 | I28: 4 | J28: 1 | K28: 3 | L28: 0 | M28: 0 | N28: 0 | O28: 0 | P28: 0 | Q28: 0 | R28: 0 | S28: 0 | T28: 0 | U28: 0 | V28: 0 | W28: 0 | X28: 0 | Y28: 0
A29: ちはら台地区 | B29: 3 | C29: 5 | D29: 1 | E29: 4 | F29: 0 | G29: 0 | H29: 2 | I29: 4 | J29: 2 | K29: 2 | L29: 0 | M29: 0 | N29: 0 | O29: 0 | P29: 0 | Q29: 0 | R29: 0 | S29: 0 | T29: 0 | U29: 0 | V29: 0 | W29: 0 | X29: 0 | Y29: 0
A30: 計 | B30: 25 | C30: 32 | D30: 8 | E30: 23 | F30: 0 | G30: 1 | H30: 56 | I30: 83 | J30: 35 | K30: 47 | L30: 0 | M30: 1 | N30: 1 | O30: 3 | P30: 1 | Q30: 2 | R30: 0 | S30: 0 | T30: 1 | U30: 3 | V30: 0 | W30: 0 | X30: 1 | Y30: 2
B32: 出生 | H32: 死亡 | N32: 総合計
B33: 世帯数 | C33: 計 | D33: 日本人 | F33: 外国人 | H33: 世帯数 | I33: 計 | J33: 日本人 | L33: 外国人 | N33: 世帯数 | O33: 計 | P33: 日本人 | R33: 外国人
D34: 男 | E34: 女 | F34: 男 | G34: 女 | J34: 男 | K34: 女 | L34: 男 | M34: 女 | P34: 男 | Q34: 女 | R34: 男 | S34: 女
A35: 五井地区 | B35: 1 | C35: 65 | D35: 33 | E35: 30 | F35: 1 | G35: 1 | H35: 27 | I35: 76 | J35: 42 | K35: 34 | L35: 0 | M35: 0 | N35: 57 | O35: 25 | P35: 6 | Q35: -22 | R35: 31 | S35: 10
A36: 市原地区 | B36: 0 | C36: 13 | D36: 9 | E36: 3 | F36: 1 | G36: 0 | H36: 22 | I36: 54 | J36: 31 | K36: 23 | L36: 0 | M36: 0 | N36: 1 | O36: -41 | P36: -15 | Q36: -16 | R36: -4 | S36: -6
A37: 姉崎地区 | B37: 0 | C37: 15 | D37: 6 | E37: 9 | F37: 0 | G37: 0 | H37: 13 | I37: 30 | J37: 16 | K37: 14 | L37: 0 | M37: 0 | N37: -30 | O37: -31 | P37: -17 | Q37: -9 | R37: -2 | S37: -3
A38: 三和地区 | B38: 0 | C38: 0 | D38: 0 | E38: 0 | F38: 0 | G38: 0 | H38: 10 | I38: 27 | J38: 16 | K38: 11 | L38: 0 | M38: 0 | N38: 0 | O38: -32 | P38: -15 | Q38: -20 | R38: 4 | S38: -1
A39: 市津地区 | B39: 0 | C39: 9 | D39: 7 | E39: 2 | F39: 0 | G39: 0 | H39: 10 | I39: 23 | J39: 17 | K39: 6 | L39: 0 | M39: 0 | N39: 4 | O39: 13 | P39: 6 | Q39: 10 | R39: -2 | S39: -1
A40: 南総地区 | B40: 0 | C40: 8 | D40: 4 | E40: 3 | F40: 1 | G40: 0 | H40: 10 | I40: 33 | J40: 15 | K40: 18 | L40: 0 | M40: 0 | N40: -14 | O40: -45 | P40: -16 | Q40: -18 | R40: -8 | S40: -3
A41: 加茂地区 | B41: 0 | C41: 1 | D41: 1 | E41: 0 | F41: 0 | G41: 0 | H41: 6 | I41: 17 | J41: 9 | K41: 8 | L41: 0 | M41: 0 | N41: -2 | O41: -21 | P41: -12 | Q41: -10 | R41: 1 | S41: 0
A42: 辰巳台地区 | B42: 0 | C42: 3 | D42: 2 | E42: 1 | F42: 0 | G42: 0 | H42: 4 | I42: 9 | J42: 8 | K42: 1 | L42: 0 | M42: 0 | N42: -5 | O42: -5 | P42: -11 | Q42: -5 | R42: 9 | S42: 2
A43: 有秋地区 | B43: 0 | C43: 12 | D43: 6 | E43: 6 | F43: 0 | G43: 0 | H43: 12 | I43: 19 | J43: 8 | K43: 10 | L43: 0 | M43: 1 | N43: -22 | O43: -47 | P43: -38 | Q43: -16 | R43: 6 | S43: 1
A44: ちはら台地区 | B44: 0 | C44: 22 | D44: 6 | E44: 16 | F44: 0 | G44: 0 | H44: 4 | I44: 10 | J44: 6 | K44: 4 | L44: 0 | M44: 0 | N44: 15 | O44: 72 | P44: 23 | Q44: 46 | R44: 2 | S44: 1
A45: 計 | B45: 1 | C45: 148 | D45: 74 | E45: 70 | F45: 3 | G45: 1 | H45: 118 | I45: 298 | J45: 168 | K45: 129 | L45: 0 | M45: 1 | N45: 4 | O45: -112 | P45: -89 | Q45: -60 | R45: 37 | S45: 0

Sheet 2月分
A1: 平成３１年２月分
B2: 転入 | H2: 転出 | N2: 転居（＋） | T2: 転居（－）
B3: 世帯数 | C3: 計 | D3: 日本人 | F3: 外国人 | H3: 世帯数 | I3: 計 | J3: 日本人 | L3: 外国人 | N3: 世帯数 | O3: 計 | P3: 日本人 | R3: 外国人 | T3: 世帯数 | U3: 計 | V3: 日本人 | X3: 外国人
D4: 男 | E4: 女 | F4: 男 | G4: 女 | J4: 男 | K4: 女 | L4: 男 | M4: 女 | P4: 男 | Q4: 女 | R4: 男 | S4: 女 | V4: 男 | W4: 女 | X4: 男 | Y4: 女
A5: 五井地区 | B5: 159 | C5: 241 | D5: 120 | E5: 80 | F5: 26 | G5: 15 | H5: 127 | I5: 231 | J5: 140 | K5: 65 | L5: 11 | M5: 15 | N5: 191 | O5: 328 | P5: 191 | Q5: 125 | R5: 5 | S5: 7 | T5: 166 | U5: 344 | V5: 186 | W5: 145 | X5: 5 | Y5: 8
A6: 市原地区 | B6: 87 | C6: 132 | D6: 69 | E6: 53 | F6: 4 | G6: 6 | H6: 89 | I6: 162 | J6: 81 | K6: 54 | L6: 16 | M6: 11 | N6: 89 | O6: 165 | P6: 84 | Q6: 65 | R6: 4 | S6: 12 | T6: 70 | U6: 132 | V6: 73 | W6: 45 | X6: 4 | Y6: 10
A7: 姉崎地区 | B7: 37 | C7: 54 | D7: 25 | E7: 19 | F7: 7 | G7: 3 | H7: 52 | I7: 85 | J7: 47 | K7: 27 | L7: 5 | M7: 6 | N7: 41 | O7: 73 | P7: 37 | Q7: 31 | R7: 3 | S7: 2 | T7: 41 | U7: 82 | V7: 46 | W7: 33 | X7: 2 | Y7: 1
A8: 三和地区 | B8: 15 | C8: 25 | D8: 11 | E8: 11 | F8: 1 | G8: 2 | H8: 12 | I8: 29 | J8: 15 | K8: 13 | L8: 1 | M8: 0 | N8: 16 | O8: 29 | P8: 16 | Q8: 13 | R8: 0 | S8: 0 | T8: 7 | U8: 26 | V8: 14 | W8: 12 | X8: 0 | Y8: 0
A9: 市津地区 | B9: 31 | C9: 58 | D9: 27 | E9: 24 | F9: 7 | G9: 0 | H9: 23 | I9: 37 | J9: 13 | K9: 17 | L9: 3 | M9: 4 | N9: 12 | O9: 24 | P9: 11 | Q9: 13 | R9: 0 | S9: 0 | T9: 12 | U9: 26 | V9: 13 | W9: 11 | X9: 1 | Y9: 1
A10: 南総地区 | B10: 15 | C10: 27 | D10: 8 | E10: 9 | F10: 8 | G10: 2 | H10: 23 | I10: 53 | J10: 24 | K10: 19 | L10: 7 | M10: 3 | N10: 16 | O10: 34 | P10: 18 | Q10: 15 | R10: 1 | S10: 0 | T10: 14 | U10: 27 | V10: 9 | W10: 17 | X10: 1 | Y10: 0
A11: 加茂地区 | B11: 5 | C11: 9 | D11: 6 | E11: 2 | F11: 1 | G11: 0 | H11: 2 | I11: 5 | J11: 2 | K11: 1 | L11: 2 | M11: 0 | N11: 2 | O11: 6 | P11: 3 | Q11: 3 | R11: 0 | S11: 0 | T11: 2 | U11: 3 | V11: 2 | W11: 1 | X11: 0 | Y11: 0
A12: 辰巳台地区 | B12: 7 | C12: 14 | D12: 4 | E12: 9 | F12: 0 | G12: 1 | H12: 9 | I12: 27 | J12: 15 | K12: 11 | L12: 0 | M12: 1 | N12: 5 | O12: 10 | P12: 7 | Q12: 3 | R12: 0 | S12: 0 | T12: 15 | U12: 31 | V12: 17 | W12: 14 | X12: 0 | Y12: 0
A13: 有秋地区 | B13: 21 | C13: 35 | D13: 22 | E13: 13 | F13: 0 | G13: 0 | H13: 20 | I13: 41 | J13: 28 | K13: 10 | L13: 2 | M13: 1 | N13: 11 | O13: 27 | P13: 12 | Q13: 15 | R13: 0 | S13: 0 | T13: 22 | U13: 39 | V13: 25 | W13: 13 | X13: 0 | Y13: 1
A14: ちはら台地区 | B14: 30 | C14: 60 | D14: 29 | E14: 29 | F14: 2 | G14: 0 | H14: 21 | I14: 77 | J14: 32 | K14: 42 | L14: 2 | M14: 1 | N14: 21 | O14: 44 | P14: 22 | Q14: 22 | R14: 0 | S14: 0 | T14: 12 | U14: 30 | V14: 16 | W14: 14 | X14: 0 | Y14: 0
A15: 計 | B15: 407 | C15: 655 | D15: 321 | E15: 249 | F15: 56 | G15: 29 | H15: 378 | I15: 747 | J15: 397 | K15: 259 | L15: 49 | M15: 42 | N15: 404 | O15: 740 | P15: 401 | Q15: 305 | R15: 13 | S15: 21 | T15: 361 | U15: 740 | V15: 401 | W15: 305 | X15: 13 | Y15: 21
B17: 世帯合併 | H17: 世帯分離 | N17: 帰化（＋） | T17: 帰化（－）
B18: 世帯数 | C18: 計 | D18: 日本人 | F18: 外国人 | H18: 世帯数 | I18: 計 | J18: 日本人 | L18: 外国人 | N18: 世帯数 | O18: 計 | P18: 日本人 | R18: 外国人 | T18: 世帯数 | U18: 計 | V18: 日本人 | X18: 外国人
D19: 男 | E19: 女 | F19: 男 | G19: 女 | J19: 男 | K19: 女 | L19: 男 | M19: 女 | P19: 男 | Q19: 女 | R19: 男 | S19: 女 | V19: 男 | W19: 女 | X19: 男 | Y19: 女
A20: 五井地区 | B20: 16 | C20: 23 | D20: 8 | E20: 15 | F20: 0 | G20: 0 | H20: 15 | I20: 26 | J20: 13 | K20: 11 | L20: 0 | M20: 2 | N20: 0 | O20: 0 | P20: 0 | Q20: 0 | R20: 0 | S20: 0 | T20: 0 | U20: 0 | V20: 0 | W20: 0 | X20: 0 | Y20: 0
A21: 市原地区 | B21: 4 | C21: 4 | D21: 1 | E21: 2 | F21: 1 | G21: 0 | H21: 11 | I21: 11 | J21: 7 | K21: 4 | L21: 0 | M21: 0 | N21: 0 | O21: 3 | P21: 0 | Q21: 3 | R21: 0 | S21: 0 | T21: 0 | U21: 3 | V21: 0 | W21: 0 | X21: 0 | Y21: 3
A22: 姉崎地区 | B22: 3 | C22: 3 | D22: 1 | E22: 1 | F22: 0 | G22: 1 | H22: 3 | I22: 4 | J22: 3 | K22: 0 | L22: 0 | M22: 1 | N22: 0 | O22: 0 | P22: 0 | Q22: 0 | R22: 0 | S22: 0 | T22: 0 | U22: 0 | V22: 0 | W22: 0 | X22: 0 | Y22: 0
A23: 三和地区 | B23: 0 | C23: 0 | D23: 0 | E23: 0 | F23: 0 | G23: 0 | H23: 7 | I23: 10 | J23: 2 | K23: 8 | L23: 0 | M23: 0 | N23: 0 | O23: 0 | P23: 0 | Q23: 0 | R23: 0 | S23: 0 | T23: 0 | U23: 0 | V23: 0 | W23: 0 | X23: 0 | Y23: 0
A24: 市津地区 | B24: 0 | C24: 0 | D24: 0 | E24: 0 | F24: 0 | G24: 0 | H24: 4 | I24: 4 | J24: 0 | K24: 4 | L24: 0 | M24: 0 | N24: 0 | O24: 0 | P24: 0 | Q24: 0 | R24: 0 | S24: 0 | T24: 0 | U24: 0 | V24: 0 | W24: 0 | X24: 0 | Y24: 0
A25: 南総地区 | B25: 0 | C25: 0 | D25: 0 | E25: 0 | F25: 0 | G25: 0 | H25: 11 | I25: 18 | J25: 12 | K25: 6 | L25: 0 | M25: 0 | N25: 0 | O25: 0 | P25: 0 | Q25: 0 | R25: 0 | S25: 0 | T25: 0 | U25: 0 | V25: 0 | W25: 0 | X25: 0 | Y25: 0
A26: 加茂地区 | B26: 0 | C26: 0 | D26: 0 | E26: 0 | F26: 0 | G26: 0 | H26: 2 | I26: 2 | J26: 1 | K26: 1 | L26: 0 | M26: 0 | N26: 0 | O26: 0 | P26: 0 | Q26: 0 | R26: 0 | S26: 0 | T26: 0 | U26: 0 | V26: 0 | W26: 0 | X26: 0 | Y26: 0
A27: 辰巳台地区 | B27: 0 | C27: 0 | D27: 0 | E27: 0 | F27: 0 | G27: 0 | H27: 2 | I27: 2 | J27: 2 | K27: 0 | L27: 0 | M27: 0 | N27: 0 | O27: 0 | P27: 0 | Q27: 0 | R27: 0 | S27: 0 | T27: 0 | U27: 0 | V27: 0 | W27: 0 | X27: 0 | Y27: 0
A28: 有秋地区 | B28: 0 | C28: 0 | D28: 0 | E28: 0 | F28: 0 | G28: 0 | H28: 4 | I28: 8 | J28: 3 | K28: 5 | L28: 0 | M28: 0 | N28: 0 | O28: 0 | P28: 0 | Q28: 0 | R28: 0 | S28: 0 | T28: 0 | U28: 0 | V28: 0 | W28: 0 | X28: 0 | Y28: 0
A29: ちはら台地区 | B29: 4 | C29: 5 | D29: 0 | E29: 5 | F29: 0 | G29: 0 | H29: 5 | I29: 9 | J29: 1 | K29: 8 | L29: 0 | M29: 0 | N29: 0 | O29: 0 | P29: 0 | Q29: 0 | R29: 0 | S29: 0 | T29: 0 | U29: 0 | V29: 0 | W29: 0 | X29: 0 | Y29: 0
A30: 計 | B30: 27 | C30: 35 | D30: 10 | E30: 23 | F30: 1 | G30: 1 | H30: 64 | I30: 94 | J30: 44 | K30: 47 | L30: 0 | M30: 3 | N30: 0 | O30: 3 | P30: 0 | Q30: 3 | R30: 0 | S30: 0 | T30: 0 | U30: 3 | V30: 0 | W30: 0 | X30: 0 | Y30: 3
B32: 出生 | H32: 死亡 | N32: 総合計
B33: 世帯数 | C33: 計 | D33: 日本人 | F33: 外国人 | H33: 世帯数 | I33: 計 | J33: 日本人 | L33: 外国人 | N33: 世帯数 | O33: 計 | P33: 日本人 | R33: 外国人
D34: 男 | E34: 女 | F34: 男 | G34: 女 | J34: 男 | K34: 女 | L34: 男 | M34: 女 | P34: 男 | Q34: 女 | R34: 男 | S34: 女
A35: 五井地区 | B35: 0 | C35: 65 | D35: 24 | E35: 37 | F35: 1 | G35: 3 | H35: 29 | I35: 85 | J35: 49 | K35: 36 | L35: 0 | M35: 0 | N35: 27 | O35: -26 | P35: -40 | Q35: -4 | R35: 16 | S35: 2
A36: 市原地区 | B36: 0 | C36: 26 | D36: 15 | E36: 10 | F36: 0 | G36: 1 | H36: 23 | I36: 53 | J36: 29 | K36: 24 | L36: 0 | M36: 0 | N36: 1 | O36: -24 | P36: -15 | Q36: 8 | R36: -12 | S36: -5
A37: 姉崎地区 | B37: 0 | C37: 11 | D37: 6 | E37: 5 | F37: 0 | G37: 0 | H37: 10 | I37: 26 | J37: 16 | K37: 10 | L37: 0 | M37: 0 | N37: -25 | O37: -55 | P37: -41 | Q37: -15 | R37: 3 | S37: -2
A38: 三和地区 | B38: 0 | C38: 4 | D38: 4 | E38: 0 | F38: 0 | G38: 0 | H38: 5 | I38: 13 | J38: 9 | K38: 4 | L38: 0 | M38: 0 | N38: 14 | O38: -10 | P38: -7 | Q38: -5 | R38: 0 | S38: 2
A39: 市津地区 | B39: 0 | C39: 7 | D39: 5 | E39: 2 | F39: 0 | G39: 0 | H39: 8 | I39: 21 | J39: 13 | K39: 8 | L39: 0 | M39: 0 | N39: 4 | O39: 5 | P39: 4 | Q39: 3 | R39: 3 | S39: -5
A40: 南総地区 | B40: 0 | C40: 2 | D40: 0 | E40: 2 | F40: 0 | G40: 0 | H40: 16 | I40: 35 | J40: 13 | K40: 22 | L40: 0 | M40: 0 | N40: -11 | O40: -52 | P40: -20 | Q40: -32 | R40: 1 | S40: -1
A41: 加茂地区 | B41: 0 | C41: 0 | D41: 0 | E41: 0 | F41: 0 | G41: 0 | H41: 5 | I41: 15 | J41: 8 | K41: 7 | L41: 0 | M41: 0 | N41: 0 | O41: -8 | P41: -3 | Q41: -4 | R41: -1 | S41: 0
A42: 辰巳台地区 | B42: 0 | C42: 5 | D42: 2 | E42: 3 | F42: 0 | G42: 0 | H42: 2 | I42: 6 | J42: 4 | K42: 2 | L42: 0 | M42: 0 | N42: -12 | O42: -35 | P42: -23 | Q42: -12 | R42: 0 | S42: 0
A43: 有秋地区 | B43: 0 | C43: 8 | D43: 7 | E43: 1 | F43: 0 | G43: 0 | H43: 4 | I43: 13 | J43: 3 | K43: 10 | L43: 0 | M43: 0 | N43: -10 | O43: -23 | P43: -15 | Q43: -4 | R43: -2 | S43: -2
A44: ちはら台地区 | B44: 0 | C44: 22 | D44: 10 | E44: 11 | F44: 0 | G44: 1 | H44: 0 | I44: 4 | J44: 0 | K44: 4 | L44: 0 | M44: 0 | N44: 19 | O44: 15 | P44: 13 | Q44: 2 | R44: 0 | S44: 0
A45: 計 | B45: 0 | C45: 150 | D45: 73 | E45: 71 | F45: 1 | G45: 5 | H45: 102 | I45: 271 | J45: 144 | K45: 127 | L45: 0 | M45: 0 | N45: 7 | O45: -213 | P45: -147 | Q45: -63 | R45: 8 | S45: -11

Sheet 3月分
A1: 平成３１年３月分
B2: 転入 | H2: 転出 | N2: 転居（＋） | T2: 転居（－）
B3: 世帯数 | C3: 計 | D3: 日本人 | F3: 外国人 | H3: 世帯数 | I3: 計 | J3: 日本人 | L3: 外国人 | N3: 世帯数 | O3: 計 | P3: 日本人 | R3: 外国人 | T3: 世帯数 | U3: 計 | V3: 日本人 | X3: 外国人
D4: 男 | E4: 女 | F4: 男 | G4: 女 | J4: 男 | K4: 女 | L4: 男 | M4: 女 | P4: 男 | Q4: 女 | R4: 男 | S4: 女 | V4: 男 | W4: 女 | X4: 男 | Y4: 女
A5: 五井地区 | B5: 326 | C5: 507 | D5: 293 | E5: 166 | F5: 27 | G5: 21 | H5: 235 | I5: 563 | J5: 291 | K5: 226 | L5: 31 | M5: 15 | N5: 240 | O5: 481 | P5: 272 | Q5: 190 | R5: 10 | S5: 9 | T5: 188 | U5: 449 | V5: 249 | W5: 182 | X5: 8 | Y5: 10
A6: 市原地区 | B6: 183 | C6: 272 | D6: 145 | E6: 102 | F6: 12 | G6: 13 | H6: 120 | I6: 253 | J6: 137 | K6: 101 | L6: 10 | M6: 5 | N6: 114 | O6: 208 | P6: 109 | Q6: 86 | R6: 5 | S6: 8 | T6: 111 | U6: 217 | V6: 120 | W6: 84 | X6: 8 | Y6: 5
A7: 姉崎地区 | B7: 135 | C7: 200 | D7: 92 | E7: 72 | F7: 23 | G7: 13 | H7: 82 | I7: 186 | J7: 98 | K7: 77 | L7: 10 | M7: 1 | N7: 49 | O7: 100 | P7: 48 | Q7: 42 | R7: 3 | S7: 7 | T7: 51 | U7: 119 | V7: 62 | W7: 46 | X7: 3 | Y7: 8
A8: 三和地区 | B8: 10 | C8: 23 | D8: 15 | E8: 8 | F8: 0 | G8: 0 | H8: 17 | I8: 55 | J8: 25 | K8: 25 | L8: 5 | M8: 0 | N8: 14 | O8: 30 | P8: 15 | Q8: 14 | R8: 1 | S8: 0 | T8: 9 | U8: 41 | V8: 20 | W8: 20 | X8: 1 | Y8: 0
A9: 市津地区 | B9: 21 | C9: 51 | D9: 30 | E9: 19 | F9: 1 | G9: 1 | H9: 14 | I9: 44 | J9: 22 | K9: 17 | L9: 4 | M9: 1 | N9: 23 | O9: 45 | P9: 27 | Q9: 17 | R9: 0 | S9: 1 | T9: 8 | U9: 16 | V9: 9 | W9: 6 | X9: 0 | Y9: 1
A10: 南総地区 | B10: 37 | C10: 56 | D10: 19 | E10: 29 | F10: 7 | G10: 1 | H10: 28 | I10: 80 | J10: 36 | K10: 33 | L10: 8 | M10: 3 | N10: 28 | O10: 69 | P10: 35 | Q10: 31 | R10: 3 | S10: 0 | T10: 25 | U10: 88 | V10: 44 | W10: 41 | X10: 3 | Y10: 0
A11: 加茂地区 | B11: 3 | C11: 13 | D11: 4 | E11: 9 | F11: 0 | G11: 0 | H11: 2 | I11: 13 | J11: 6 | K11: 7 | L11: 0 | M11: 0 | N11: 5 | O11: 7 | P11: 1 | Q11: 6 | R11: 0 | S11: 0 | T11: 6 | U11: 7 | V11: 1 | W11: 6 | X11: 0 | Y11: 0
A12: 辰巳台地区 | B12: 68 | C12: 73 | D12: 46 | E12: 19 | F12: 7 | G12: 1 | H12: 25 | I12: 52 | J12: 19 | K12: 32 | L12: 1 | M12: 0 | N12: 16 | O12: 32 | P12: 16 | Q12: 16 | R12: 0 | S12: 0 | T12: 18 | U12: 59 | V12: 32 | W12: 26 | X12: 0 | Y12: 1
A13: 有秋地区 | B13: 96 | C13: 135 | D13: 97 | E13: 32 | F13: 1 | G13: 5 | H13: 27 | I13: 98 | J13: 62 | K13: 29 | L13: 4 | M13: 3 | N13: 20 | O13: 35 | P13: 19 | Q13: 15 | R13: 0 | S13: 1 | T13: 15 | U13: 41 | V13: 22 | W13: 18 | X13: 0 | Y13: 1
A14: ちはら台地区 | B14: 83 | C14: 206 | D14: 88 | E14: 104 | F14: 6 | G14: 8 | H14: 38 | I14: 180 | J14: 83 | K14: 95 | L14: 1 | M14: 1 | N14: 27 | O14: 71 | P14: 36 | Q14: 34 | R14: 1 | S14: 0 | T14: 15 | U14: 41 | V14: 19 | W14: 22 | X14: 0 | Y14: 0
A15: 計 | B15: 962 | C15: 1536 | D15: 829 | E15: 560 | F15: 84 | G15: 63 | H15: 588 | I15: 1524 | J15: 779 | K15: 642 | L15: 74 | M15: 29 | N15: 536 | O15: 1078 | P15: 578 | Q15: 451 | R15: 23 | S15: 26 | T15: 446 | U15: 1078 | V15: 578 | W15: 451 | X15: 23 | Y15: 26
B17: 世帯合併 | H17: 世帯分離 | N17: 帰化（＋） | T17: 帰化（－）
B18: 世帯数 | C18: 計 | D18: 日本人 | F18: 外国人 | H18: 世帯数 | I18: 計 | J18: 日本人 | L18: 外国人 | N18: 世帯数 | O18: 計 | P18: 日本人 | R18: 外国人 | T18: 世帯数 | U18: 計 | V18: 日本人 | X18: 外国人
D19: 男 | E19: 女 | F19: 男 | G19: 女 | J19: 男 | K19: 女 | L19: 男 | M19: 女 | P19: 男 | Q19: 女 | R19: 男 | S19: 女 | V19: 男 | W19: 女 | X19: 男 | Y19: 女
A20: 五井地区 | B20: 10 | C20: 11 | D20: 3 | E20: 8 | F20: 0 | G20: 0 | H20: 13 | I20: 16 | J20: 8 | K20: 8 | L20: 0 | M20: 0 | N20: 0 | O20: 0 | P20: 0 | Q20: 0 | R20: 0 | S20: 0 | T20: 0 | U20: 0 | V20: 0 | W20: 0 | X20: 0 | Y20: 0
A21: 市原地区 | B21: 3 | C21: 3 | D21: 0 | E21: 3 | F21: 0 | G21: 0 | H21: 7 | I21: 11 | J21: 5 | K21: 6 | L21: 0 | M21: 0 | N21: 0 | O21: 0 | P21: 0 | Q21: 0 | R21: 0 | S21: 0 | T21: 0 | U21: 0 | V21: 0 | W21: 0 | X21: 0 | Y21: 0
A22: 姉崎地区 | B22: 3 | C22: 4 | D22: 0 | E22: 3 | F22: 0 | G22: 1 | H22: 5 | I22: 6 | J22: 2 | K22: 4 | L22: 0 | M22: 0 | N22: 0 | O22: 0 | P22: 0 | Q22: 0 | R22: 0 | S22: 0 | T22: 0 | U22: 0 | V22: 0 | W22: 0 | X22: 0 | Y22: 0
A23: 三和地区 | B23: 2 | C23: 2 | D23: 0 | E23: 2 | F23: 0 | G23: 0 | H23: 2 | I23: 2 | J23: 2 | K23: 0 | L23: 0 | M23: 0 | N23: 0 | O23: 0 | P23: 0 | Q23: 0 | R23: 0 | S23: 0 | T23: 0 | U23: 0 | V23: 0 | W23: 0 | X23: 0 | Y23: 0
A24: 市津地区 | B24: 3 | C24: 3 | D24: 1 | E24: 2 | F24: 0 | G24: 0 | H24: 1 | I24: 1 | J24: 0 | K24: 1 | L24: 0 | M24: 0 | N24: 0 | O24: 0 | P24: 0 | Q24: 0 | R24: 0 | S24: 0 | T24: 0 | U24: 0 | V24: 0 | W24: 0 | X24: 0 | Y24: 0
A25: 南総地区 | B25: 3 | C25: 6 | D25: 1 | E25: 5 | F25: 0 | G25: 0 | H25: 7 | I25: 9 | J25: 4 | K25: 5 | L25: 0 | M25: 0 | N25: 0 | O25: 0 | P25: 0 | Q25: 0 | R25: 0 | S25: 0 | T25: 0 | U25: 0 | V25: 0 | W25: 0 | X25: 0 | Y25: 0
A26: 加茂地区 | B26: 0 | C26: 0 | D26: 0 | E26: 0 | F26: 0 | G26: 0 | H26: 4 | I26: 5 | J26: 3 | K26: 2 | L26: 0 | M26: 0 | N26: 0 | O26: 0 | P26: 0 | Q26: 0 | R26: 0 | S26: 0 | T26: 0 | U26: 0 | V26: 0 | W26: 0 | X26: 0 | Y26: 0
A27: 辰巳台地区 | B27: 1 | C27: 4 | D27: 2 | E27: 2 | F27: 0 | G27: 0 | H27: 2 | I27: 2 | J27: 2 | K27: 0 | L27: 0 | M27: 0 | N27: 0 | O27: 0 | P27: 0 | Q27: 0 | R27: 0 | S27: 0 | T27: 0 | U27: 0 | V27: 0 | W27: 0 | X27: 0 | Y27: 0
A28: 有秋地区 | B28: 0 | C28: 0 | D28: 0 | E28: 0 | F28: 0 | G28: 0 | H28: 1 | I28: 1 | J28: 1 | K28: 0 | L28: 0 | M28: 0 | N28: 0 | O28: 0 | P28: 0 | Q28: 0 | R28: 0 | S28: 0 | T28: 0 | U28: 0 | V28: 0 | W28: 0 | X28: 0 | Y28: 0
A29: ちはら台地区 | B29: 2 | C29: 2 | D29: 0 | E29: 2 | F29: 0 | G29: 0 | H29: 3 | I29: 3 | J29: 0 | K29: 3 | L29: 0 | M29: 0 | N29: 0 | O29: 0 | P29: 0 | Q29: 0 | R29: 0 | S29: 0 | T29: 0 | U29: 0 | V29: 0 | W29: 0 | X29: 0 | Y29: 0
A30: 計 | B30: 27 | C30: 35 | D30: 7 | E30: 27 | F30: 0 | G30: 1 | H30: 45 | I30: 56 | J30: 27 | K30: 29 | L30: 0 | M30: 0 | N30: 0 | O30: 0 | P30: 0 | Q30: 0 | R30: 0 | S30: 0 | T30: 0 | U30: 0 | V30: 0 | W30: 0 | X30: 0 | Y30: 0
B32: 出生 | H32: 死亡 | N32: 総合計
B33: 世帯数 | C33: 計 | D33: 日本人 | F33: 外国人 | H33: 世帯数 | I33: 計 | J33: 日本人 | L33: 外国人 | N33: 世帯数 | O33: 計 | P33: 日本人 | R33: 外国人
D34: 男 | E34: 女 | F34: 男 | G34: 女 | J34: 男 | K34: 女 | L34: 男 | M34: 女 | P34: 男 | Q34: 女 | R34: 男 | S34: 女
A35: 五井地区 | B35: 0 | C35: 55 | D35: 21 | E35: 33 | F35: 0 | G35: 1 | H35: 39 | I35: 76 | J35: 45 | K35: 30 | L35: 1 | M35: 0 | N35: 107 | O35: -45 | P35: 1 | Q35: -49 | R35: -3 | S35: 6
A36: 市原地区 | B36: 0 | C36: 26 | D36: 13 | E36: 13 | F36: 0 | G36: 0 | H36: 24 | I36: 52 | J36: 32 | K36: 20 | L36: 0 | M36: 0 | N36: 46 | O36: -16 | P36: -22 | Q36: -4 | R36: -1 | S36: 11
A37: 姉崎地区 | B37: 0 | C37: 16 | D37: 5 | E37: 9 | F37: 0 | G37: 2 | H37: 8 | I37: 27 | J37: 15 | K37: 12 | L37: 0 | M37: 0 | N37: 45 | O37: -16 | P37: -30 | Q37: -12 | R37: 13 | S37: 13
A38: 三和地区 | B38: 0 | C38: 2 | D38: 0 | E38: 2 | F38: 0 | G38: 0 | H38: 7 | I38: 14 | J38: 9 | K38: 5 | L38: 0 | M38: 0 | N38: -9 | O38: -55 | P38: -24 | Q38: -26 | R38: -5 | S38: 0
A39: 市津地区 | B39: 0 | C39: 5 | D39: 0 | E39: 5 | F39: 0 | G39: 0 | H39: 8 | I39: 14 | J39: 9 | K39: 5 | L39: 0 | M39: 0 | N39: 12 | O39: 27 | P39: 17 | Q39: 13 | R39: -3 | S39: 0
A40: 南総地区 | B40: 0 | C40: 7 | D40: 1 | E40: 6 | F40: 0 | G40: 0 | H40: 8 | I40: 24 | J40: 14 | K40: 10 | L40: 0 | M40: 0 | N40: 8 | O40: -60 | P40: -39 | Q40: -18 | R40: -1 | S40: -2
A41: 加茂地区 | B41: 0 | C41: 0 | D41: 0 | E41: 0 | F41: 0 | G41: 0 | H41: 1 | I41: 7 | J41: 5 | K41: 2 | L41: 0 | M41: 0 | N41: 3 | O41: -7 | P41: -7 | Q41: 0 | R41: 0 | S41: 0
A42: 辰巳台地区 | B42: 0 | C42: 3 | D42: 2 | E42: 1 | F42: 0 | G42: 0 | H42: 1 | I42: 3 | J42: 2 | K42: 1 | L42: 0 | M42: 0 | N42: 41 | O42: -6 | P42: 11 | Q42: -23 | R42: 6 | S42: 0
A43: 有秋地区 | B43: 0 | C43: 1 | D43: 1 | E43: 0 | F43: 0 | G43: 0 | H43: 5 | I43: 14 | J43: 5 | K43: 9 | L43: 0 | M43: 0 | N43: 70 | O43: 18 | P43: 28 | Q43: -9 | R43: -3 | S43: 2
A44: ちはら台地区 | B44: 0 | C44: 15 | D44: 9 | E44: 6 | F44: 0 | G44: 0 | H44: 4 | I44: 7 | J44: 4 | K44: 3 | L44: 0 | M44: 0 | N44: 54 | O44: 64 | P44: 27 | Q44: 24 | R44: 6 | S44: 7
A45: 計 | B45: 0 | C45: 130 | D45: 52 | E45: 75 | F45: 0 | G45: 3 | H45: 105 | I45: 238 | J45: 140 | K45: 97 | L45: 1 | M45: 0 | N45: 377 | O45: -96 | P45: -38 | Q45: -104 | R45: 9 | S45: 37

Sheet 4月分
A1: 平成３１年４月分
D2: 転入 | H2: 転出 | N2: 転居（＋） | T2: 転居（－）
B3: 世帯数 | C3: 計 | D3: 日本人 | F3: 外国人 | H3: 世帯数 | I3: 計 | J3: 日本人 | L3: 外国人 | N3: 世帯数 | O3: 計 | P3: 日本人 | R3: 外国人 | T3: 世帯数 | U3: 計 | V3: 日本人 | X3: 外国人
D4: 男 | E4: 女 | F4: 男 | G4: 女 | J4: 男 | K4: 女 | L4: 男 | M4: 女 | P4: 男 | Q4: 女 | R4: 男 | S4: 女 | V4: 男 | W4: 女 | X4: 男 | Y4: 女
A5: 五井地区 | B5: 254 | C5: 379 | D5: 208 | E5: 142 | F5: 21 | G5: 8 | H5: 169 | I5: 366 | J5: 187 | K5: 147 | L5: 17 | M5: 15 | N5: 203 | O5: 327 | P5: 182 | Q5: 121 | R5: 9 | S5: 15 | T5: 167 | U5: 342 | V5: 189 | W5: 135 | X5: 5 | Y5: 13
A6: 市原地区 | B6: 166 | C6: 227 | D6: 121 | E6: 71 | F6: 26 | G6: 9 | H6: 84 | I6: 164 | J6: 92 | K6: 63 | L6: 8 | M6: 1 | N6: 93 | O6: 163 | P6: 90 | Q6: 67 | R6: 3 | S6: 3 | T6: 87 | U6: 159 | V6: 78 | W6: 72 | X6: 5 | Y6: 4
A7: 姉崎地区 | B7: 95 | C7: 128 | D7: 81 | E7: 35 | F7: 10 | G7: 2 | H7: 59 | I7: 128 | J7: 74 | K7: 49 | L7: 2 | M7: 3 | N7: 43 | O7: 69 | P7: 41 | Q7: 23 | R7: 3 | S7: 2 | T7: 36 | U7: 65 | V7: 41 | W7: 17 | X7: 5 | Y7: 2
A8: 三和地区 | B8: 24 | C8: 37 | D8: 23 | E8: 11 | F8: 3 | G8: 0 | H8: 15 | I8: 45 | J8: 31 | K8: 14 | L8: 0 | M8: 0 | N8: 16 | O8: 31 | P8: 11 | Q8: 20 | R8: 0 | S8: 0 | T8: 10 | U8: 30 | V8: 13 | W8: 17 | X8: 0 | Y8: 0
A9: 市津地区 | B9: 20 | C9: 36 | D9: 22 | E9: 8 | F9: 6 | G9: 0 | H9: 20 | I9: 55 | J9: 22 | K9: 31 | L9: 2 | M9: 0 | N9: 16 | O9: 36 | P9: 19 | Q9: 17 | R9: 0 | S9: 0 | T9: 14 | U9: 27 | V9: 16 | W9: 8 | X9: 3 | Y9: 0
A10: 南総地区 | B10: 45 | C10: 62 | D10: 18 | E10: 20 | F10: 21 | G10: 3 | H10: 24 | I10: 48 | J10: 23 | K10: 16 | L10: 7 | M10: 2 | N10: 25 | O10: 54 | P10: 27 | Q10: 24 | R10: 3 | S10: 0 | T10: 20 | U10: 48 | V10: 28 | W10: 20 | X10: 0 | Y10: 0
A11: 加茂地区 | B11: 3 | C11: 5 | D11: 2 | E11: 3 | F11: 0 | G11: 0 | H11: 0 | I11: 9 | J11: 6 | K11: 3 | L11: 0 | M11: 0 | N11: 5 | O11: 5 | P11: 1 | Q11: 4 | R11: 0 | S11: 0 | T11: 4 | U11: 6 | V11: 2 | W11: 4 | X11: 0 | Y11: 0
A12: 辰巳台地区 | B12: 60 | C12: 74 | D12: 36 | E12: 27 | F12: 10 | G12: 1 | H12: 19 | I12: 40 | J12: 25 | K12: 13 | L12: 0 | M12: 2 | N12: 32 | O12: 61 | P12: 35 | Q12: 23 | R12: 3 | S12: 0 | T12: 31 | U12: 63 | V12: 36 | W12: 24 | X12: 3 | Y12: 0
A13: 有秋地区 | B13: 25 | C13: 46 | D13: 27 | E13: 18 | F13: 0 | G13: 1 | H13: 21 | I13: 43 | J13: 25 | K13: 14 | L13: 3 | M13: 1 | N13: 16 | O13: 30 | P13: 19 | Q13: 11 | R13: 0 | S13: 0 | T13: 21 | U13: 44 | V13: 23 | W13: 20 | X13: 0 | Y13: 1
A14: ちはら台地区 | B14: 49 | C14: 98 | D14: 55 | E14: 42 | F14: 0 | G14: 1 | H14: 37 | I14: 123 | J14: 65 | K14: 58 | L14: 0 | M14: 0 | N14: 17 | O14: 41 | P14: 19 | Q14: 22 | R14: 0 | S14: 0 | T14: 11 | U14: 33 | V14: 18 | W14: 15 | X14: 0 | Y14: 0
A15: 計 | B15: 741 | C15: 1092 | D15: 593 | E15: 377 | F15: 97 | G15: 25 | H15: 448 | I15: 1021 | J15: 550 | K15: 408 | L15: 39 | M15: 24 | N15: 466 | O15: 817 | P15: 444 | Q15: 332 | R15: 21 | S15: 20 | T15: 401 | U15: 817 | V15: 444 | W15: 332 | X15: 21 | Y15: 20
B17: 世帯合併 | H17: 世帯分離 | N17: 帰化（＋） | T17: 帰化（－）
B18: 世帯数 | C18: 計 | D18: 日本人 | F18: 外国人 | H18: 世帯数 | I18: 計 | J18: 日本人 | L18: 外国人 | N18: 世帯数 | O18: 計 | P18: 日本人 | R18: 外国人 | T18: 世帯数 | U18: 計 | V18: 日本人 | X18: 外国人
D19: 男 | E19: 女 | F19: 男 | G19: 女 | J19: 男 | K19: 女 | L19: 男 | M19: 女 | P19: 男 | Q19: 女 | R19: 男 | S19: 女 | V19: 男 | W19: 女 | X19: 男 | Y19: 女
A20: 五井地区 | B20: 13 | C20: 16 | D20: 7 | E20: 9 | F20: 0 | G20: 0 | H20: 13 | I20: 14 | J20: 8 | K20: 6 | L20: 0 | M20: 0 | N20: 0 | O20: 0 | P20: 0 | Q20: 0 | R20: 0 | S20: 0 | T20: 0 | U20: 0 | V20: 0 | W20: 0 | X20: 0 | Y20: 0
A21: 市原地区 | B21: 7 | C21: 9 | D21: 0 | E21: 5 | F21: 0 | G21: 4 | H21: 11 | I21: 12 | J21: 4 | K21: 8 | L21: 0 | M21: 0 | N21: 0 | O21: 0 | P21: 0 | Q21: 0 | R21: 0 | S21: 0 | T21: 0 | U21: 0 | V21: 0 | W21: 0 | X21: 0 | Y21: 0
A22: 姉崎地区 | B22: 0 | C22: 0 | D22: 0 | E22: 0 | F22: 0 | G22: 0 | H22: 6 | I22: 6 | J22: 2 | K22: 4 | L22: 0 | M22: 0 | N22: 0 | O22: 0 | P22: 0 | Q22: 0 | R22: 0 | S22: 0 | T22: 0 | U22: 0 | V22: 0 | W22: 0 | X22: 0 | Y22: 0
A23: 三和地区 | B23: 0 | C23: 0 | D23: 0 | E23: 0 | F23: 0 | G23: 0 | H23: 1 | I23: 1 | J23: 1 | K23: 0 | L23: 0 | M23: 0 | N23: 0 | O23: 0 | P23: 0 | Q23: 0 | R23: 0 | S23: 0 | T23: 0 | U23: 0 | V23: 0 | W23: 0 | X23: 0 | Y23: 0
A24: 市津地区 | B24: 1 | C24: 1 | D24: 0 | E24: 1 | F24: 0 | G24: 0 | H24: 5 | I24: 6 | J24: 3 | K24: 3 | L24: 0 | M24: 0 | N24: 0 | O24: 0 | P24: 0 | Q24: 0 | R24: 0 | S24: 0 | T24: 0 | U24: 0 | V24: 0 | W24: 0 | X24: 0 | Y24: 0
A25: 南総地区 | B25: 2 | C25: 3 | D25: 1 | E25: 1 | F25: 0 | G25: 1 | H25: 4 | I25: 6 | J25: 4 | K25: 2 | L25: 0 | M25: 0 | N25: 0 | O25: 0 | P25: 0 | Q25: 0 | R25: 0 | S25: 0 | T25: 0 | U25: 0 | V25: 0 | W25: 0 | X25: 0 | Y25: 0
A26: 加茂地区 | B26: 0 | C26: 0 | D26: 0 | E26: 0 | F26: 0 | G26: 0 | H26: 2 | I26: 8 | J26: 6 | K26: 2 | L26: 0 | M26: 0 | N26: 0 | O26: 0 | P26: 0 | Q26: 0 | R26: 0 | S26: 0 | T26: 0 | U26: 0 | V26: 0 | W26: 0 | X26: 0 | Y26: 0
A27: 辰巳台地区 | B27: 3 | C27: 5 | D27: 3 | E27: 2 | F27: 0 | G27: 0 | H27: 2 | I27: 2 | J27: 1 | K27: 1 | L27: 0 | M27: 0 | N27: 0 | O27: 0 | P27: 0 | Q27: 0 | R27: 0 | S27: 0 | T27: 0 | U27: 0 | V27: 0 | W27: 0 | X27: 0 | Y27: 0
A28: 有秋地区 | B28: 1 | C28: 2 | D28: 1 | E28: 1 | F28: 0 | G28: 0 | H28: 3 | I28: 6 | J28: 2 | K28: 4 | L28: 0 | M28: 0 | N28: 0 | O28: 0 | P28: 0 | Q28: 0 | R28: 0 | S28: 0 | T28: 0 | U28: 0 | V28: 0 | W28: 0 | X28: 0 | Y28: 0
A29: ちはら台地区 | B29: 2 | C29: 3 | D29: 0 | E29: 3 | F29: 0 | G29: 0 | H29: 5 | I29: 8 | J29: 3 | K29: 5 | L29: 0 | M29: 0 | N29: 0 | O29: 0 | P29: 0 | Q29: 0 | R29: 0 | S29: 0 | T29: 0 | U29: 0 | V29: 0 | W29: 0 | X29: 0 | Y29: 0
A30: 計 | B30: 29 | C30: 39 | D30: 12 | E30: 22 | F30: 0 | G30: 5 | H30: 52 | I30: 69 | J30: 34 | K30: 35 | L30: 0 | M30: 0 | N30: 0 | O30: 0 | P30: 0 | Q30: 0 | R30: 0 | S30: 0 | T30: 0 | U30: 0 | V30: 0 | W30: 0 | X30: 0 | Y30: 0
B32: 出生 | H32: 死亡 | N32: 総合計
B33: 世帯数 | C33: 計 | D33: 日本人 | F33: 外国人 | H33: 世帯数 | I33: 計 | J33: 日本人 | L33: 外国人 | N33: 世帯数 | O33: 計 | P33: 日本人 | R33: 外国人
D34: 男 | E34: 女 | F34: 男 | G34: 女 | J34: 男 | K34: 女 | L34: 男 | M34: 女 | P34: 男 | Q34: 女 | R34: 男 | S34: 女
A35: 五井地区 | B35: 0 | C35: 67 | D35: 30 | E35: 37 | F35: 0 | G35: 0 | H35: 17 | I35: 41 | J35: 23 | K35: 17 | L35: 1 | M35: 0 | N35: 104 | O35: 24 | P35: 21 | Q35: 1 | R35: 7 | S35: -5
A36: 市原地区 | B36: 0 | C36: 28 | D36: 17 | E36: 10 | F36: 0 | G36: 1 | H36: 16 | I36: 44 | J36: 27 | K36: 16 | L36: 1 | M36: 0 | N36: 76 | O36: 51 | P36: 31 | Q36: -3 | R36: 15 | S36: 8
A37: 姉崎地区 | B37: 0 | C37: 14 | D37: 6 | E37: 8 | F37: 0 | G37: 0 | H37: 11 | I37: 31 | J37: 18 | K37: 13 | L37: 0 | M37: 0 | N37: 38 | O37: -13 | P37: -5 | Q37: -13 | R37: 6 | S37: -1
A38: 三和地区 | B38: 0 | C38: 3 | D38: 0 | E38: 3 | F38: 0 | G38: 0 | H38: 7 | I38: 17 | J38: 6 | K38: 11 | L38: 0 | M38: 0 | N38: 9 | O38: -21 | P38: -16 | Q38: -8 | R38: 3 | S38: 0
A39: 市津地区 | B39: 0 | C39: 6 | D39: 3 | E39: 3 | F39: 0 | G39: 0 | H39: 5 | I39: 15 | J39: 6 | K39: 9 | L39: 0 | M39: 0 | N39: 1 | O39: -19 | P39: 0 | Q39: -20 | R39: 1 | S39: 0
A40: 南総地区 | B40: 0 | C40: 3 | D40: 1 | E40: 2 | F40: 0 | G40: 0 | H40: 14 | I40: 26 | J40: 12 | K40: 14 | L40: 0 | M40: 0 | N40: 14 | O40: -3 | P40: -17 | Q40: -4 | R40: 17 | S40: 1
A41: 加茂地区 | B41: 0 | C41: 0 | D41: 0 | E41: 0 | F41: 0 | G41: 0 | H41: 6 | I41: 12 | J41: 3 | K41: 9 | L41: 0 | M41: 0 | N41: 0 | O41: -17 | P41: -8 | Q41: -9 | R41: 0 | S41: 0
A42: 辰巳台地区 | B42: 0 | C42: 3 | D42: 2 | E42: 1 | F42: 0 | G42: 0 | H42: 1 | I42: 9 | J42: 5 | K42: 4 | L42: 0 | M42: 0 | N42: 40 | O42: 26 | P42: 7 | Q42: 10 | R42: 10 | S42: -1
A43: 有秋地区 | B43: 0 | C43: 4 | D43: 2 | E43: 2 | F43: 0 | G43: 0 | H43: 6 | I43: 10 | J43: 4 | K43: 6 | L43: 0 | M43: 0 | N43: -5 | O43: -17 | P43: -4 | Q43: -9 | R43: -3 | S43: -1
A44: ちはら台地区 | B44: 0 | C44: 22 | D44: 11 | E44: 10 | F44: 0 | G44: 1 | H44: 4 | I44: 9 | J44: 2 | K44: 7 | L44: 0 | M44: 0 | N44: 17 | O44: -4 | P44: 0 | Q44: -6 | R44: 0 | S44: 2
A45: 計 | B45: 0 | C45: 150 | D45: 72 | E45: 76 | F45: 0 | G45: 2 | H45: 87 | I45: 214 | J45: 106 | K45: 106 | L45: 2 | M45: 0 | N45: 294 | O45: 7 | P45: 9 | Q45: -61 | R45: 56 | S45: 3

Sheet 5月分
A1: 令和元年５月分
D2: 転入 | H2: 転出 | N2: 転居（＋） | T2: 転居（－）
B3: 世帯数 | C3: 計 | D3: 日本人 | F3: 外国人 | H3: 世帯数 | I3: 計 | J3: 日本人 | L3: 外国人 | N3: 世帯数 | O3: 計 | P3: 日本人 | R3: 外国人 | T3: 世帯数 | U3: 計 | V3: 日本人 | X3: 外国人
D4: 男 | E4: 女 | F4: 男 | G4: 女 | J4: 男 | K4: 女 | L4: 男 | M4: 女 | P4: 男 | Q4: 女 | R4: 男 | S4: 女 | V4: 男 | W4: 女 | X4: 男 | Y4: 女
A5: 五井地区 | B5: 227 | C5: 329 | D5: 174 | E5: 106 | F5: 29 | G5: 20 | H5: 125 | I5: 237 | J5: 135 | K5: 85 | L5: 10 | M5: 7 | N5: 173 | O5: 334 | P5: 166 | Q5: 150 | R5: 10 | S5: 8 | T5: 156 | U5: 332 | V5: 161 | W5: 148 | X5: 11 | Y5: 12
A6: 市原地区 | B6: 105 | C6: 172 | D6: 77 | E6: 55 | F6: 22 | G6: 18 | H6: 80 | I6: 152 | J6: 73 | K6: 55 | L6: 17 | M6: 7 | N6: 87 | O6: 158 | P6: 75 | Q6: 68 | R6: 6 | S6: 9 | T6: 72 | U6: 166 | V6: 79 | W6: 74 | X6: 6 | Y6: 7
A7: 姉崎地区 | B7: 110 | C7: 143 | D7: 92 | E7: 31 | F7: 9 | G7: 11 | H7: 41 | I7: 85 | J7: 42 | K7: 29 | L7: 10 | M7: 4 | N7: 47 | O7: 85 | P7: 44 | Q7: 34 | R7: 3 | S7: 4 | T7: 41 | U7: 77 | V7: 38 | W7: 31 | X7: 4 | Y7: 4
A8: 三和地区 | B8: 10 | C8: 23 | D8: 10 | E8: 11 | F8: 1 | G8: 1 | H8: 6 | I8: 16 | J8: 8 | K8: 7 | L8: 1 | M8: 0 | N8: 9 | O8: 12 | P8: 5 | Q8: 7 | R8: 0 | S8: 0 | T8: 10 | U8: 24 | V8: 11 | W8: 13 | X8: 0 | Y8: 0
A9: 市津地区 | B9: 17 | C9: 27 | D9: 14 | E9: 9 | F9: 4 | G9: 0 | H9: 10 | I9: 25 | J9: 13 | K9: 11 | L9: 1 | M9: 0 | N9: 10 | O9: 20 | P9: 6 | Q9: 11 | R9: 2 | S9: 1 | T9: 4 | U9: 14 | V9: 7 | W9: 5 | X9: 1 | Y9: 1
A10: 南総地区 | B10: 37 | C10: 44 | D10: 15 | E10: 10 | F10: 18 | G10: 1 | H10: 34 | I10: 56 | J10: 18 | K10: 12 | L10: 21 | M10: 5 | N10: 19 | O10: 32 | P10: 15 | Q10: 13 | R10: 3 | S10: 1 | T10: 13 | U10: 29 | V10: 11 | W10: 14 | X10: 4 | Y10: 0
A11: 加茂地区 | B11: 6 | C11: 8 | D11: 1 | E11: 6 | F11: 1 | G11: 0 | H11: 1 | I11: 3 | J11: 1 | K11: 1 | L11: 1 | M11: 0 | N11: 0 | O11: 2 | P11: 1 | Q11: 1 | R11: 0 | S11: 0 | T11: 0 | U11: 1 | V11: 1 | W11: 0 | X11: 0 | Y11: 0
A12: 辰巳台地区 | B12: 22 | C12: 33 | D12: 15 | E12: 11 | F12: 7 | G12: 0 | H12: 16 | I12: 35 | J12: 21 | K12: 11 | L12: 3 | M12: 0 | N12: 21 | O12: 47 | P12: 19 | Q12: 20 | R12: 6 | S12: 2 | T12: 23 | U12: 62 | V12: 28 | W12: 26 | X12: 6 | Y12: 2
A13: 有秋地区 | B13: 42 | C13: 63 | D13: 43 | E13: 17 | F13: 2 | G13: 1 | H13: 8 | I13: 31 | J13: 16 | K13: 15 | L13: 0 | M13: 0 | N13: 13 | O13: 18 | P13: 7 | Q13: 9 | R13: 2 | S13: 0 | T13: 11 | U13: 26 | V13: 13 | W13: 11 | X13: 1 | Y13: 1
A14: ちはら台地区 | B14: 46 | C14: 93 | D14: 39 | E14: 46 | F14: 8 | G14: 0 | H14: 23 | I14: 65 | J14: 34 | K14: 31 | L14: 0 | M14: 0 | N14: 24 | O14: 46 | P14: 23 | Q14: 20 | R14: 1 | S14: 2 | T14: 8 | U14: 23 | V14: 12 | W14: 11 | X14: 0 | Y14: 0
A15: 計 | B15: 622 | C15: 935 | D15: 480 | E15: 302 | F15: 101 | G15: 52 | H15: 344 | I15: 705 | J15: 361 | K15: 257 | L15: 64 | M15: 23 | N15: 403 | O15: 754 | P15: 361 | Q15: 333 | R15: 33 | S15: 27 | T15: 338 | U15: 754 | V15: 361 | W15: 333 | X15: 33 | Y15: 27
B17: 世帯合併 | H17: 世帯分離 | N17: 帰化（＋） | T17: 帰化（－）
B18: 世帯数 | C18: 計 | D18: 日本人 | F18: 外国人 | H18: 世帯数 | I18: 計 | J18: 日本人 | L18: 外国人 | N18: 世帯数 | O18: 計 | P18: 日本人 | R18: 外国人 | T18: 世帯数 | U18: 計 | V18: 日本人 | X18: 外国人
D19: 男 | E19: 女 | F19: 男 | G19: 女 | J19: 男 | K19: 女 | L19: 男 | M19: 女 | P19: 男 | Q19: 女 | R19: 男 | S19: 女 | V19: 男 | W19: 女 | X19: 男 | Y19: 女
A20: 五井地区 | B20: 18 | C20: 20 | D20: 1 | E20: 18 | F20: 1 | G20: 0 | H20: 15 | I20: 15 | J20: 5 | K20: 10 | L20: 0 | M20: 0 | N20: 0 | O20: 0 | P20: 0 | Q20: 0 | R20: 0 | S20: 0 | T20: 0 | U20: 0 | V20: 0 | W20: 0 | X20: 0 | Y20: 0
A21: 市原地区 | B21: 9 | C21: 12 | D21: 5 | E21: 7 | F21: 0 | G21: 0 | H21: 3 | I21: 4 | J21: 2 | K21: 2 | L21: 0 | M21: 0 | N21: 0 | O21: 1 | P21: 0 | Q21: 1 | R21: 0 | S21: 0 | T21: 0 | U21: 1 | V21: 0 | W21: 0 | X21: 0 | Y21: 1
A22: 姉崎地区 | B22: 4 | C22: 5 | D22: 2 | E22: 3 | F22: 0 | G22: 0 | H22: 1 | I22: 2 | J22: 1 | K22: 1 | L22: 0 | M22: 0 | N22: 0 | O22: 0 | P22: 0 | Q22: 0 | R22: 0 | S22: 0 | T22: 0 | U22: 0 | V22: 0 | W22: 0 | X22: 0 | Y22: 0
A23: 三和地区 | B23: 1 | C23: 1 | D23: 0 | E23: 1 | F23: 0 | G23: 0 | H23: 0 | I23: 0 | J23: 0 | K23: 0 | L23: 0 | M23: 0 | N23: 0 | O23: 0 | P23: 0 | Q23: 0 | R23: 0 | S23: 0 | T23: 0 | U23: 0 | V23: 0 | W23: 0 | X23: 0 | Y23: 0
A24: 市津地区 | B24: 2 | C24: 2 | D24: 0 | E24: 2 | F24: 0 | G24: 0 | H24: 1 | I24: 1 | J24: 1 | K24: 0 | L24: 0 | M24: 0 | N24: 0 | O24: 0 | P24: 0 | Q24: 0 | R24: 0 | S24: 0 | T24: 0 | U24: 0 | V24: 0 | W24: 0 | X24: 0 | Y24: 0
A25: 南総地区 | B25: 0 | C25: 0 | D25: 0 | E25: 0 | F25: 0 | G25: 0 | H25: 4 | I25: 4 | J25: 3 | K25: 1 | L25: 0 | M25: 0 | N25: 0 | O25: 0 | P25: 0 | Q25: 0 | R25: 0 | S25: 0 | T25: 0 | U25: 0 | V25: 0 | W25: 0 | X25: 0 | Y25: 0
A26: 加茂地区 | B26: 0 | C26: 0 | D26: 0 | E26: 0 | F26: 0 | G26: 0 | H26: 2 | I26: 2 | J26: 0 | K26: 2 | L26: 0 | M26: 0 | N26: 0 | O26: 0 | P26: 0 | Q26: 0 | R26: 0 | S26: 0 | T26: 0 | U26: 0 | V26: 0 | W26: 0 | X26: 0 | Y26: 0
A27: 辰巳台地区 | B27: 0 | C27: 0 | D27: 0 | E27: 0 | F27: 0 | G27: 0 | H27: 2 | I27: 3 | J27: 1 | K27: 2 | L27: 0 | M27: 0 | N27: 0 | O27: 0 | P27: 0 | Q27: 0 | R27: 0 | S27: 0 | T27: 0 | U27: 0 | V27: 0 | W27: 0 | X27: 0 | Y27: 0
A28: 有秋地区 | B28: 1 | C28: 1 | D28: 0 | E28: 1 | F28: 0 | G28: 0 | H28: 2 | I28: 2 | J28: 1 | K28: 1 | L28: 0 | M28: 0 | N28: 0 | O28: 0 | P28: 0 | Q28: 0 | R28: 0 | S28: 0 | T28: 0 | U28: 0 | V28: 0 | W28: 0 | X28: 0 | Y28: 0
A29: ちはら台地区 | B29: 6 | C29: 8 | D29: 2 | E29: 6 | F29: 0 | G29: 0 | H29: 0 | I29: 0 | J29: 0 | K29: 0 | L29: 0 | M29: 0 | N29: 0 | O29: 0 | P29: 0 | Q29: 0 | R29: 0 | S29: 0 | T29: 0 | U29: 0 | V29: 0 | W29: 0 | X29: 0 | Y29: 0
A30: 計 | B30: 41 | C30: 49 | D30: 10 | E30: 38 | F30: 1 | G30: 0 | H30: 30 | I30: 33 | J30: 14 | K30: 19 | L30: 0 | M30: 0 | N30: 0 | O30: 1 | P30: 0 | Q30: 1 | R30: 0 | S30: 0 | T30: 0 | U30: 1 | V30: 0 | W30: 0 | X30: 0 | Y30: 1
B32: 出生 | H32: 死亡 | N32: 総合計
B33: 世帯数 | C33: 計 | D33: 日本人 | F33: 外国人 | H33: 世帯数 | I33: 計 | J33: 日本人 | L33: 外国人 | N33: 世帯数 | O33: 計 | P33: 日本人 | R33: 外国人
D34: 男 | E34: 女 | F34: 男 | G34: 女 | J34: 男 | K34: 女 | L34: 男 | M34: 女 | P34: 男 | Q34: 女 | R34: 男 | S34: 女
A35: 五井地区 | B35: 0 | C35: 53 | D35: 25 | E35: 24 | F35: 2 | G35: 2 | H35: 28 | I35: 64 | J35: 39 | K35: 25 | L35: 0 | M35: 0 | N35: 88 | O35: 83 | P35: 30 | Q35: 22 | R35: 20 | S35: 11
A36: 市原地区 | B36: 0 | C36: 21 | D36: 13 | E36: 8 | F36: 0 | G36: 0 | H36: 14 | I36: 42 | J36: 22 | K36: 20 | L36: 0 | M36: 0 | N36: 20 | O36: -9 | P36: -9 | Q36: -17 | R36: 5 | S36: 12
A37: 姉崎地区 | B37: 0 | C37: 11 | D37: 3 | E37: 8 | F37: 0 | G37: 0 | H37: 7 | I37: 19 | J37: 13 | K37: 5 | L37: 1 | M37: 0 | N37: 65 | O37: 58 | P37: 46 | Q37: 8 | R37: -3 | S37: 7
A38: 三和地区 | B38: 0 | C38: 5 | D38: 2 | E38: 3 | F38: 0 | G38: 0 | H38: 2 | I38: 10 | J38: 6 | K38: 4 | L38: 0 | M38: 0 | N38: 0 | O38: -10 | P38: -8 | Q38: -3 | R38: 0 | S38: 1
A39: 市津地区 | B39: 0 | C39: 7 | D39: 1 | E39: 6 | F39: 0 | G39: 0 | H39: 7 | I39: 12 | J39: 6 | K39: 6 | L39: 0 | M39: 0 | N39: 5 | O39: 3 | P39: -5 | Q39: 4 | R39: 4 | S39: 0
A40: 南総地区 | B40: 0 | C40: 7 | D40: 3 | E40: 4 | F40: 0 | G40: 0 | H40: 7 | I40: 20 | J40: 11 | K40: 9 | L40: 0 | M40: 0 | N40: 6 | O40: -22 | P40: -7 | Q40: -8 | R40: -4 | S40: -3
A41: 加茂地区 | B41: 0 | C41: 1 | D41: 1 | E41: 0 | F41: 0 | G41: 0 | H41: 8 | I41: 11 | J41: 6 | K41: 5 | L41: 0 | M41: 0 | N41: -1 | O41: -4 | P41: -5 | Q41: 1 | R41: 0 | S41: 0
A42: 辰巳台地区 | B42: 0 | C42: 3 | D42: 2 | E42: 1 | F42: 0 | G42: 0 | H42: 3 | I42: 5 | J42: 4 | K42: 1 | L42: 0 | M42: 0 | N42: 3 | O42: -19 | P42: -17 | Q42: -6 | R42: 4 | S42: 0
A43: 有秋地区 | B43: 0 | C43: 7 | D43: 2 | E43: 5 | F43: 0 | G43: 0 | H43: 1 | I43: 8 | J43: 5 | K43: 3 | L43: 0 | M43: 0 | N43: 36 | O43: 23 | P43: 18 | Q43: 2 | R43: 3 | S43: 0
A44: ちはら台地区 | B44: 0 | C44: 27 | D44: 14 | E44: 13 | F44: 0 | G44: 0 | H44: 2 | I44: 7 | J44: 3 | K44: 4 | L44: 0 | M44: 0 | N44: 31 | O44: 71 | P44: 27 | Q44: 33 | R44: 9 | S44: 2
A45: 計 | B45: 0 | C45: 142 | D45: 66 | E45: 72 | F45: 2 | G45: 2 | H45: 79 | I45: 198 | J45: 115 | K45: 82 | L45: 1 | M45: 0 | N45: 253 | O45: 174 | P45: 70 | Q45: 36 | R45: 38 | S45: 30

Sheet 6月分
A1: 令和元年６月分
D2: 転入 | H2: 転出 | N2: 転居（＋） | T2: 転居（－）
B3: 世帯数 | C3: 計 | D3: 日本人 | F3: 外国人 | H3: 世帯数 | I3: 計 | J3: 日本人 | L3: 外国人 | N3: 世帯数 | O3: 計 | P3: 日本人 | R3: 外国人 | T3: 世帯数 | U3: 計 | V3: 日本人 | X3: 外国人
D4: 男 | E4: 女 | F4: 男 | G4: 女 | J4: 男 | K4: 女 | L4: 男 | M4: 女 | P4: 男 | Q4: 女 | R4: 男 | S4: 女 | V4: 男 | W4: 女 | X4: 男 | Y4: 女
A5: 五井地区 | B5: 141 | C5: 205 | D5: 113 | E5: 62 | F5: 23 | G5: 7 | H5: 147 | I5: 264 | J5: 131 | K5: 85 | L5: 30 | M5: 18 | N5: 179 | O5: 337 | P5: 171 | Q5: 142 | R5: 10 | S5: 14 | T5: 173 | U5: 324 | V5: 161 | W5: 138 | X5: 9 | Y5: 16
A6: 市原地区 | B6: 88 | C6: 136 | D6: 63 | E6: 45 | F6: 20 | G6: 8 | H6: 74 | I6: 147 | J6: 72 | K6: 57 | L6: 12 | M6: 6 | N6: 71 | O6: 122 | P6: 71 | Q6: 44 | R6: 3 | S6: 4 | T6: 68 | U6: 138 | V6: 78 | W6: 55 | X6: 3 | Y6: 2
A7: 姉崎地区 | B7: 53 | C7: 93 | D7: 52 | E7: 23 | F7: 11 | G7: 7 | H7: 52 | I7: 90 | J7: 47 | K7: 32 | L7: 7 | M7: 4 | N7: 36 | O7: 77 | P7: 36 | Q7: 38 | R7: 1 | S7: 2 | T7: 40 | U7: 80 | V7: 35 | W7: 40 | X7: 1 | Y7: 4
A8: 三和地区 | B8: 11 | C8: 15 | D8: 2 | E8: 10 | F8: 3 | G8: 0 | H8: 9 | I8: 21 | J8: 9 | K8: 11 | L8: 1 | M8: 0 | N8: 14 | O8: 22 | P8: 11 | Q8: 10 | R8: 1 | S8: 0 | T8: 9 | U8: 29 | V8: 15 | W8: 13 | X8: 1 | Y8: 0
A9: 市津地区 | B9: 11 | C9: 19 | D9: 8 | E9: 6 | F9: 4 | G9: 1 | H9: 5 | I9: 16 | J9: 10 | K9: 5 | L9: 1 | M9: 0 | N9: 10 | O9: 12 | P9: 7 | Q9: 5 | R9: 0 | S9: 0 | T9: 8 | U9: 13 | V9: 7 | W9: 6 | X9: 0 | Y9: 0
A10: 南総地区 | B10: 25 | C10: 32 | D10: 6 | E10: 10 | F10: 12 | G10: 4 | H10: 28 | I10: 50 | J10: 17 | K10: 18 | L10: 14 | M10: 1 | N10: 14 | O10: 38 | P10: 13 | Q10: 24 | R10: 0 | S10: 1 | T10: 13 | U10: 42 | V10: 17 | W10: 24 | X10: 1 | Y10: 0
A11: 加茂地区 | B11: 4 | C11: 5 | D11: 0 | E11: 2 | F11: 3 | G11: 0 | H11: 1 | I11: 3 | J11: 2 | K11: 1 | L11: 0 | M11: 0 | N11: 3 | O11: 3 | P11: 1 | Q11: 2 | R11: 0 | S11: 0 | T11: 2 | U11: 4 | V11: 2 | W11: 2 | X11: 0 | Y11: 0
A12: 辰巳台地区 | B12: 24 | C12: 34 | D12: 19 | E12: 8 | F12: 6 | G12: 1 | H12: 17 | I12: 33 | J12: 13 | K12: 14 | L12: 5 | M12: 1 | N12: 16 | O12: 33 | P12: 15 | Q12: 18 | R12: 0 | S12: 0 | T12: 10 | U12: 22 | V12: 10 | W12: 12 | X12: 0 | Y12: 0
A13: 有秋地区 | B13: 26 | C13: 33 | D13: 20 | E13: 9 | F13: 4 | G13: 0 | H13: 14 | I13: 31 | J13: 21 | K13: 10 | L13: 0 | M13: 0 | N13: 12 | O13: 22 | P13: 7 | Q13: 10 | R13: 4 | S13: 1 | T13: 14 | U13: 23 | V13: 12 | W13: 7 | X13: 4 | Y13: 0
A14: ちはら台地区 | B14: 27 | C14: 76 | D14: 30 | E14: 43 | F14: 1 | G14: 2 | H14: 16 | I14: 58 | J14: 33 | K14: 23 | L14: 2 | M14: 0 | N14: 15 | O14: 41 | P14: 20 | Q14: 20 | R14: 0 | S14: 1 | T14: 13 | U14: 32 | V14: 15 | W14: 16 | X14: 0 | Y14: 1
A15: 計 | B15: 410 | C15: 648 | D15: 313 | E15: 218 | F15: 87 | G15: 30 | H15: 363 | I15: 713 | J15: 355 | K15: 256 | L15: 72 | M15: 30 | N15: 370 | O15: 707 | P15: 352 | Q15: 313 | R15: 19 | S15: 23 | T15: 350 | U15: 707 | V15: 352 | W15: 313 | X15: 19 | Y15: 23
B17: 世帯合併 | H17: 世帯分離 | N17: 帰化（＋） | T17: 帰化（－）
B18: 世帯数 | C18: 計 | D18: 日本人 | F18: 外国人 | H18: 世帯数 | I18: 計 | J18: 日本人 | L18: 外国人 | N18: 世帯数 | O18: 計 | P18: 日本人 | R18: 外国人 | T18: 世帯数 | U18: 計 | V18: 日本人 | X18: 外国人
D19: 男 | E19: 女 | F19: 男 | G19: 女 | J19: 男 | K19: 女 | L19: 男 | M19: 女 | P19: 男 | Q19: 女 | R19: 男 | S19: 女 | V19: 男 | W19: 女 | X19: 男 | Y19: 女
A20: 五井地区 | B20: 5 | C20: 6 | D20: 0 | E20: 4 | F20: 1 | G20: 1 | H20: 10 | I20: 13 | J20: 5 | K20: 8 | L20: 0 | M20: 0 | N20: 0 | O20: 1 | P20: 1 | Q20: 0 | R20: 0 | S20: 0 | T20: 0 | U20: 1 | V20: 0 | W20: 0 | X20: 1 | Y20: 0
A21: 市原地区 | B21: 6 | C21: 7 | D21: 0 | E21: 3 | F21: 0 | G21: 4 | H21: 10 | I21: 16 | J21: 7 | K21: 9 | L21: 0 | M21: 0 | N21: 0 | O21: 0 | P21: 0 | Q21: 0 | R21: 0 | S21: 0 | T21: 0 | U21: 0 | V21: 0 | W21: 0 | X21: 0 | Y21: 0
A22: 姉崎地区 | B22: 2 | C22: 2 | D22: 0 | E22: 2 | F22: 0 | G22: 0 | H22: 2 | I22: 6 | J22: 2 | K22: 1 | L22: 1 | M22: 2 | N22: 0 | O22: 0 | P22: 0 | Q22: 0 | R22: 0 | S22: 0 | T22: 0 | U22: 0 | V22: 0 | W22: 0 | X22: 0 | Y22: 0
A23: 三和地区 | B23: 0 | C23: 0 | D23: 0 | E23: 0 | F23: 0 | G23: 0 | H23: 2 | I23: 2 | J23: 2 | K23: 0 | L23: 0 | M23: 0 | N23: 0 | O23: 0 | P23: 0 | Q23: 0 | R23: 0 | S23: 0 | T23: 0 | U23: 0 | V23: 0 | W23: 0 | X23: 0 | Y23: 0
A24: 市津地区 | B24: 0 | C24: 0 | D24: 0 | E24: 0 | F24: 0 | G24: 0 | H24: 6 | I24: 11 | J24: 7 | K24: 4 | L24: 0 | M24: 0 | N24: 0 | O24: 1 | P24: 1 | Q24: 0 | R24: 0 | S24: 0 | T24: 0 | U24: 1 | V24: 0 | W24: 0 | X24: 1 | Y24: 0
A25: 南総地区 | B25: 1 | C25: 1 | D25: 0 | E25: 1 | F25: 0 | G25: 0 | H25: 4 | I25: 5 | J25: 1 | K25: 4 | L25: 0 | M25: 0 | N25: 0 | O25: 0 | P25: 0 | Q25: 0 | R25: 0 | S25: 0 | T25: 0 | U25: 0 | V25: 0 | W25: 0 | X25: 0 | Y25: 0
A26: 加茂地区 | B26: 0 | C26: 0 | D26: 0 | E26: 0 | F26: 0 | G26: 0 | H26: 0 | I26: 0 | J26: 0 | K26: 0 | L26: 0 | M26: 0 | N26: 0 | O26: 0 | P26: 0 | Q26: 0 | R26: 0 | S26: 0 | T26: 0 | U26: 0 | V26: 0 | W26: 0 | X26: 0 | Y26: 0
A27: 辰巳台地区 | B27: 1 | C27: 2 | D27: 0 | E27: 2 | F27: 0 | G27: 0 | H27: 1 | I27: 1 | J27: 0 | K27: 1 | L27: 0 | M27: 0 | N27: 0 | O27: 0 | P27: 0 | Q27: 0 | R27: 0 | S27: 0 | T27: 0 | U27: 0 | V27: 0 | W27: 0 | X27: 0 | Y27: 0
A28: 有秋地区 | B28: 1 | C28: 1 | D28: 1 | E28: 0 | F28: 0 | G28: 0 | H28: 3 | I28: 9 | J28: 4 | K28: 5 | L28: 0 | M28: 0 | N28: 0 | O28: 0 | P28: 0 | Q28: 0 | R28: 0 | S28: 0 | T28: 0 | U28: 0 | V28: 0 | W28: 0 | X28: 0 | Y28: 0
A29: ちはら台地区 | B29: 4 | C29: 6 | D29: 1 | E29: 5 | F29: 0 | G29: 0 | H29: 1 | I29: 3 | J29: 2 | K29: 1 | L29: 0 | M29: 0 | N29: 0 | O29: 0 | P29: 0 | Q29: 0 | R29: 0 | S29: 0 | T29: 0 | U29: 0 | V29: 0 | W29: 0 | X29: 0 | Y29: 0
A30: 計 | B30: 20 | C30: 25 | D30: 2 | E30: 17 | F30: 1 | G30: 5 | H30: 39 | I30: 66 | J30: 30 | K30: 33 | L30: 1 | M30: 2 | N30: 0 | O30: 2 | P30: 2 | Q30: 0 | R30: 0 | S30: 0 | T30: 0 | U30: 2 | V30: 0 | W30: 0 | X30: 2 | Y30: 0
B32: 出生 | H32: 死亡 | N32: 総合計
B33: 世帯数 | C33: 計 | D33: 日本人 | F33: 外国人 | H33: 世帯数 | I33: 計 | J33: 日本人 | L33: 外国人 | N33: 世帯数 | O33: 計 | P33: 日本人 | R33: 外国人
D34: 男 | E34: 女 | F34: 男 | G34: 女 | J34: 男 | K34: 女 | L34: 男 | M34: 女 | P34: 男 | Q34: 女 | R34: 男 | S34: 女
A35: 五井地区 | B35: 0 | C35: 44 | D35: 16 | E35: 27 | F35: 0 | G35: 1 | H35: 29 | I35: 64 | J35: 32 | K35: 31 | L35: 1 | M35: 0 | N35: -24 | O35: -66 | P35: -23 | Q35: -23 | R35: -8 | S35: -12
A36: 市原地区 | B36: 0 | C36: 21 | D36: 8 | E36: 12 | F36: 1 | G36: 0 | H36: 21 | I36: 51 | J36: 29 | K36: 21 | L36: 0 | M36: 1 | N36: 0 | O36: -57 | P36: -37 | Q36: -32 | R36: 9 | S36: 3
A37: 姉崎地区 | B37: 0 | C37: 6 | D37: 2 | E37: 4 | F37: 0 | G37: 0 | H37: 9 | I37: 24 | J37: 13 | K37: 11 | L37: 0 | M37: 0 | N37: -12 | O37: -18 | P37: -5 | Q37: -18 | R37: 4 | S37: 1
A38: 三和地区 | B38: 0 | C38: 3 | D38: 1 | E38: 2 | F38: 0 | G38: 0 | H38: 8 | I38: 16 | J38: 11 | K38: 5 | L38: 0 | M38: 0 | N38: 1 | O38: -26 | P38: -21 | Q38: -7 | R38: 2 | S38: 0
A39: 市津地区 | B39: 0 | C39: 9 | D39: 4 | E39: 5 | F39: 0 | G39: 0 | H39: 3 | I39: 16 | J39: 9 | K39: 7 | L39: 0 | M39: 0 | N39: 11 | O39: -5 | P39: -6 | Q39: -2 | R39: 2 | S39: 1
A40: 南総地区 | B40: 0 | C40: 10 | D40: 7 | E40: 3 | F40: 0 | G40: 0 | H40: 12 | I40: 27 | J40: 14 | K40: 13 | L40: 0 | M40: 0 | N40: -11 | O40: -39 | P40: -22 | Q40: -18 | R40: -3 | S40: 4
A41: 加茂地区 | B41: 0 | C41: 1 | D41: 0 | E41: 1 | F41: 0 | G41: 0 | H41: 3 | I41: 9 | J41: 6 | K41: 3 | L41: 0 | M41: 0 | N41: 1 | O41: -7 | P41: -9 | Q41: -1 | R41: 3 | S41: 0
A42: 辰巳台地区 | B42: 0 | C42: 3 | D42: 1 | E42: 2 | F42: 0 | G42: 0 | H42: 3 | I42: 9 | J42: 6 | K42: 3 | L42: 0 | M42: 0 | N42: 10 | O42: 6 | P42: 6 | Q42: -1 | R42: 1 | S42: 0
A43: 有秋地区 | B43: 0 | C43: 14 | D43: 7 | E43: 7 | F43: 0 | G43: 0 | H43: 2 | I43: 9 | J43: 7 | K43: 2 | L43: 0 | M43: 0 | N43: 10 | O43: 6 | P43: -6 | Q43: 7 | R43: 4 | S43: 1
A44: ちはら台地区 | B44: 0 | C44: 13 | D44: 6 | E44: 7 | F44: 0 | G44: 0 | H44: 3 | I44: 6 | J44: 1 | K44: 5 | L44: 0 | M44: 0 | N44: 7 | O44: 34 | P44: 7 | Q44: 26 | R44: -1 | S44: 2
A45: 計 | B45: 0 | C45: 124 | D45: 52 | E45: 70 | F45: 1 | G45: 1 | H45: 93 | I45: 231 | J45: 128 | K45: 101 | L45: 1 | M45: 1 | N45: -7 | O45: -172 | P45: -116 | Q45: -69 | R45: 13 | S45: 0

Sheet 7月分
A1: 令和元年７月分
D2: 転入 | H2: 転出 | N2: 転居（＋） | T2: 転居（－）
B3: 世帯数 | C3: 計 | D3: 日本人 | F3: 外国人 | H3: 世帯数 | I3: 計 | J3: 日本人 | L3: 外国人 | N3: 世帯数 | O3: 計 | P3: 日本人 | R3: 外国人 | T3: 世帯数 | U3: 計 | V3: 日本人 | X3: 外国人
D4: 男 | E4: 女 | F4: 男 | G4: 女 | J4: 男 | K4: 女 | L4: 男 | M4: 女 | P4: 男 | Q4: 女 | R4: 男 | S4: 女 | V4: 男 | W4: 女 | X4: 男 | Y4: 女
A5: 五井地区 | B5: 180 | C5: 277 | D5: 147 | E5: 92 | F5: 26 | G5: 12 | H5: 162 | I5: 291 | J5: 155 | K5: 99 | L5: 24 | M5: 13 | N5: 205 | O5: 377 | P5: 191 | Q5: 153 | R5: 13 | S5: 20 | T5: 177 | U5: 361 | V5: 170 | W5: 158 | X5: 12 | Y5: 21
A6: 市原地区 | B6: 101 | C6: 165 | D6: 82 | E6: 47 | F6: 25 | G6: 11 | H6: 68 | I6: 128 | J6: 65 | K6: 53 | L6: 7 | M6: 3 | N6: 99 | O6: 171 | P6: 87 | Q6: 74 | R6: 5 | S6: 5 | T6: 93 | U6: 190 | V6: 100 | W6: 76 | X6: 8 | Y6: 6
A7: 姉崎地区 | B7: 43 | C7: 60 | D7: 36 | E7: 15 | F7: 6 | G7: 3 | H7: 68 | I7: 114 | J7: 60 | K7: 41 | L7: 8 | M7: 5 | N7: 47 | O7: 98 | P7: 46 | Q7: 48 | R7: 1 | S7: 3 | T7: 41 | U7: 88 | V7: 44 | W7: 36 | X7: 3 | Y7: 5
A8: 三和地区 | B8: 4 | C8: 11 | D8: 3 | E8: 6 | F8: 1 | G8: 1 | H8: 4 | I8: 19 | J8: 4 | K8: 12 | L8: 2 | M8: 1 | N8: 13 | O8: 17 | P8: 7 | Q8: 10 | R8: 0 | S8: 0 | T8: 11 | U8: 28 | V8: 13 | W8: 14 | X8: 1 | Y8: 0
A9: 市津地区 | B9: 43 | C9: 55 | D9: 20 | E9: 15 | F9: 10 | G9: 10 | H9: 17 | I9: 38 | J9: 19 | K9: 17 | L9: 2 | M9: 0 | N9: 12 | O9: 18 | P9: 9 | Q9: 9 | R9: 0 | S9: 0 | T9: 14 | U9: 20 | V9: 11 | W9: 9 | X9: 0 | Y9: 0
A10: 南総地区 | B10: 39 | C10: 49 | D10: 13 | E10: 10 | F10: 15 | G10: 11 | H10: 33 | I10: 60 | J10: 16 | K10: 22 | L10: 14 | M10: 8 | N10: 13 | O10: 31 | P10: 13 | Q10: 15 | R10: 3 | S10: 0 | T10: 17 | U10: 45 | V10: 20 | W10: 21 | X10: 4 | Y10: 0
A11: 加茂地区 | B11: 3 | C11: 4 | D11: 1 | E11: 3 | F11: 0 | G11: 0 | H11: 3 | I11: 4 | J11: 0 | K11: 3 | L11: 1 | M11: 0 | N11: 5 | O11: 7 | P11: 2 | Q11: 5 | R11: 0 | S11: 0 | T11: 4 | U11: 10 | V11: 2 | W11: 8 | X11: 0 | Y11: 0
A12: 辰巳台地区 | B12: 17 | C12: 27 | D12: 15 | E12: 9 | F12: 2 | G12: 1 | H12: 25 | I12: 32 | J12: 14 | K12: 6 | L12: 11 | M12: 1 | N12: 15 | O12: 39 | P12: 17 | Q12: 13 | R12: 5 | S12: 4 | T12: 18 | U12: 40 | V12: 18 | W12: 19 | X12: 2 | Y12: 1
A13: 有秋地区 | B13: 14 | C13: 30 | D13: 16 | E13: 12 | F13: 2 | G13: 0 | H13: 15 | I13: 34 | J13: 25 | K13: 6 | L13: 1 | M13: 2 | N13: 7 | O13: 16 | P13: 7 | Q13: 6 | R13: 2 | S13: 1 | T13: 8 | U13: 17 | V13: 8 | W13: 9 | X13: 0 | Y13: 0
A14: ちはら台地区 | B14: 34 | C14: 76 | D14: 32 | E14: 42 | F14: 0 | G14: 2 | H14: 17 | I14: 69 | J14: 36 | K14: 32 | L14: 0 | M14: 1 | N14: 21 | O14: 54 | P14: 23 | Q14: 30 | R14: 1 | S14: 0 | T14: 9 | U14: 29 | V14: 16 | W14: 13 | X14: 0 | Y14: 0
A15: 計 | B15: 478 | C15: 754 | D15: 365 | E15: 251 | F15: 87 | G15: 51 | H15: 412 | I15: 789 | J15: 394 | K15: 291 | L15: 70 | M15: 34 | N15: 437 | O15: 828 | P15: 402 | Q15: 363 | R15: 30 | S15: 33 | T15: 392 | U15: 828 | V15: 402 | W15: 363 | X15: 30 | Y15: 33
B17: 世帯合併 | H17: 世帯分離 | N17: 帰化（＋） | T17: 帰化（－）
B18: 世帯数 | C18: 計 | D18: 日本人 | F18: 外国人 | H18: 世帯数 | I18: 計 | J18: 日本人 | L18: 外国人 | N18: 世帯数 | O18: 計 | P18: 日本人 | R18: 外国人 | T18: 世帯数 | U18: 計 | V18: 日本人 | X18: 外国人
D19: 男 | E19: 女 | F19: 男 | G19: 女 | J19: 男 | K19: 女 | L19: 男 | M19: 女 | P19: 男 | Q19: 女 | R19: 男 | S19: 女 | V19: 男 | W19: 女 | X19: 男 | Y19: 女
A20: 五井地区 | B20: 6 | C20: 10 | D20: 2 | E20: 8 | F20: 0 | G20: 0 | H20: 18 | I20: 23 | J20: 6 | K20: 13 | L20: 2 | M20: 2 | N20: 0 | O20: 0 | P20: 0 | Q20: 0 | R20: 0 | S20: 0 | T20: 0 | U20: 0 | V20: 0 | W20: 0 | X20: 0 | Y20: 0
A21: 市原地区 | B21: 6 | C21: 7 | D21: 2 | E21: 4 | F21: 0 | G21: 1 | H21: 9 | I21: 14 | J21: 8 | K21: 6 | L21: 0 | M21: 0 | N21: 0 | O21: 0 | P21: 0 | Q21: 0 | R21: 0 | S21: 0 | T21: 0 | U21: 0 | V21: 0 | W21: 0 | X21: 0 | Y21: 0
A22: 姉崎地区 | B22: 4 | C22: 4 | D22: 1 | E22: 3 | F22: 0 | G22: 0 | H22: 6 | I22: 9 | J22: 5 | K22: 4 | L22: 0 | M22: 0 | N22: 0 | O22: 0 | P22: 0 | Q22: 0 | R22: 0 | S22: 0 | T22: 0 | U22: 0 | V22: 0 | W22: 0 | X22: 0 | Y22: 0
A23: 三和地区 | B23: 0 | C23: 0 | D23: 0 | E23: 0 | F23: 0 | G23: 0 | H23: 3 | I23: 5 | J23: 3 | K23: 2 | L23: 0 | M23: 0 | N23: 0 | O23: 0 | P23: 0 | Q23: 0 | R23: 0 | S23: 0 | T23: 0 | U23: 0 | V23: 0 | W23: 0 | X23: 0 | Y23: 0
A24: 市津地区 | B24: 0 | C24: 0 | D24: 0 | E24: 0 | F24: 0 | G24: 0 | H24: 4 | I24: 7 | J24: 3 | K24: 4 | L24: 0 | M24: 0 | N24: 0 | O24: 0 | P24: 0 | Q24: 0 | R24: 0 | S24: 0 | T24: 0 | U24: 0 | V24: 0 | W24: 0 | X24: 0 | Y24: 0
A25: 南総地区 | B25: 0 | C25: 0 | D25: 0 | E25: 0 | F25: 0 | G25: 0 | H25: 8 | I25: 13 | J25: 7 | K25: 6 | L25: 0 | M25: 0 | N25: 0 | O25: 0 | P25: 0 | Q25: 0 | R25: 0 | S25: 0 | T25: 0 | U25: 0 | V25: 0 | W25: 0 | X25: 0 | Y25: 0
A26: 加茂地区 | B26: 0 | C26: 0 | D26: 0 | E26: 0 | F26: 0 | G26: 0 | H26: 3 | I26: 3 | J26: 1 | K26: 2 | L26: 0 | M26: 0 | N26: 0 | O26: 0 | P26: 0 | Q26: 0 | R26: 0 | S26: 0 | T26: 0 | U26: 0 | V26: 0 | W26: 0 | X26: 0 | Y26: 0
A27: 辰巳台地区 | B27: 0 | C27: 0 | D27: 0 | E27: 0 | F27: 0 | G27: 0 | H27: 1 | I27: 1 | J27: 1 | K27: 0 | L27: 0 | M27: 0 | N27: 0 | O27: 0 | P27: 0 | Q27: 0 | R27: 0 | S27: 0 | T27: 0 | U27: 0 | V27: 0 | W27: 0 | X27: 0 | Y27: 0
A28: 有秋地区 | B28: 1 | C28: 1 | D28: 0 | E28: 1 | F28: 0 | G28: 0 | H28: 4 | I28: 6 | J28: 3 | K28: 2 | L28: 0 | M28: 1 | N28: 0 | O28: 0 | P28: 0 | Q28: 0 | R28: 0 | S28: 0 | T28: 0 | U28: 0 | V28: 0 | W28: 0 | X28: 0 | Y28: 0
A29: ちはら台地区 | B29: 1 | C29: 1 | D29: 0 | E29: 1 | F29: 0 | G29: 0 | H29: 4 | I29: 7 | J29: 1 | K29: 6 | L29: 0 | M29: 0 | N29: 0 | O29: 0 | P29: 0 | Q29: 0 | R29: 0 | S29: 0 | T29: 0 | U29: 0 | V29: 0 | W29: 0 | X29: 0 | Y29: 0
A30: 計 | B30: 18 | C30: 23 | D30: 5 | E30: 17 | F30: 0 | G30: 1 | H30: 60 | I30: 88 | J30: 38 | K30: 45 | L30: 2 | M30: 3 | N30: 0 | O30: 0 | P30: 0 | Q30: 0 | R30: 0 | S30: 0 | T30: 0 | U30: 0 | V30: 0 | W30: 0 | X30: 0 | Y30: 0
B32: 出生 | H32: 死亡 | N32: 総合計
B33: 世帯数 | C33: 計 | D33: 日本人 | F33: 外国人 | H33: 世帯数 | I33: 計 | J33: 日本人 | L33: 外国人 | N33: 世帯数 | O33: 計 | P33: 日本人 | R33: 外国人
D34: 男 | E34: 女 | F34: 男 | G34: 女 | J34: 男 | K34: 女 | L34: 男 | M34: 女 | P34: 男 | Q34: 女 | R34: 男 | S34: 女
A35: 五井地区 | B35: 0 | C35: 65 | D35: 30 | E35: 35 | F35: 0 | G35: 0 | H35: 25 | I35: 54 | J35: 31 | K35: 23 | L35: 0 | M35: 0 | N35: 33 | O35: 13 | P35: 12 | Q35: 0 | R35: 3 | S35: -2
A36: 市原地区 | B36: 0 | C36: 19 | D36: 9 | E36: 9 | F36: 1 | G36: 0 | H36: 20 | I36: 55 | J36: 32 | K36: 23 | L36: 0 | M36: 0 | N36: 22 | O36: -18 | P36: -19 | Q36: -22 | R36: 16 | S36: 7
A37: 姉崎地区 | B37: 0 | C37: 19 | D37: 8 | E37: 11 | F37: 0 | G37: 0 | H37: 11 | I37: 25 | J37: 18 | K37: 7 | L37: 0 | M37: 0 | N37: -28 | O37: -50 | P37: -32 | Q37: -10 | R37: -4 | S37: -4
A38: 三和地区 | B38: 0 | C38: 3 | D38: 3 | E38: 0 | F38: 0 | G38: 0 | H38: 6 | I38: 11 | J38: 5 | K38: 6 | L38: 0 | M38: 0 | N38: -1 | O38: -27 | P38: -9 | Q38: -16 | R38: -2 | S38: 0
A39: 市津地区 | B39: 0 | C39: 9 | D39: 6 | E39: 3 | F39: 0 | G39: 0 | H39: 11 | I39: 21 | J39: 10 | K39: 10 | L39: 1 | M39: 0 | N39: 17 | O39: 3 | P39: -5 | Q39: -9 | R39: 7 | S39: 10
A40: 南総地区 | B40: 0 | C40: 3 | D40: 0 | E40: 3 | F40: 0 | G40: 0 | H40: 13 | I40: 30 | J40: 21 | K40: 9 | L40: 0 | M40: 0 | N40: -3 | O40: -52 | P40: -31 | Q40: -24 | R40: 0 | S40: 3
A41: 加茂地区 | B41: 0 | C41: 0 | D41: 0 | E41: 0 | F41: 0 | G41: 0 | H41: 2 | I41: 7 | J41: 4 | K41: 3 | L41: 0 | M41: 0 | N41: 2 | O41: -10 | P41: -3 | Q41: -6 | R41: -1 | S41: 0
A42: 辰巳台地区 | B42: 0 | C42: 12 | D42: 4 | E42: 8 | F42: 0 | G42: 0 | H42: 4 | I42: 8 | J42: 3 | K42: 5 | L42: 0 | M42: 0 | N42: -14 | O42: -2 | P42: 1 | Q42: 0 | R42: -6 | S42: 3
A43: 有秋地区 | B43: 0 | C43: 4 | D43: 2 | E43: 2 | F43: 0 | G43: 0 | H43: 2 | I43: 10 | J43: 4 | K43: 6 | L43: 0 | M43: 0 | N43: -1 | O43: -11 | P43: -12 | Q43: -1 | R43: 3 | S43: -1
A44: ちはら台地区 | B44: 0 | C44: 27 | D44: 12 | E44: 15 | F44: 0 | G44: 0 | H44: 4 | I44: 6 | J44: 2 | K44: 4 | L44: 0 | M44: 0 | N44: 28 | O44: 53 | P44: 13 | Q44: 38 | R44: 1 | S44: 1
A45: 計 | B45: 0 | C45: 161 | D45: 74 | E45: 86 | F45: 1 | G45: 0 | H45: 98 | I45: 227 | J45: 130 | K45: 96 | L45: 1 | M45: 0 | N45: 55 | O45: -101 | P45: -85 | Q45: -50 | R45: 17 | S45: 17

Sheet 8月分
A1: 令和元年８月分
D2: 転入 | H2: 転出 | N2: 転居（＋） | T2: 転居（－）
B3: 世帯数 | C3: 計 | D3: 日本人 | F3: 外国人 | H3: 世帯数 | I3: 計 | J3: 日本人 | L3: 外国人 | N3: 世帯数 | O3: 計 | P3: 日本人 | R3: 外国人 | T3: 世帯数 | U3: 計 | V3: 日本人 | X3: 外国人
D4: 男 | E4: 女 | F4: 男 | G4: 女 | J4: 男 | K4: 女 | L4: 男 | M4: 女 | P4: 男 | Q4: 女 | R4: 男 | S4: 女 | V4: 男 | W4: 女 | X4: 男 | Y4: 女
A5: 五井地区 | B5: 166 | C5: 235 | D5: 118 | E5: 75 | F5: 30 | G5: 12 | H5: 151 | I5: 261 | J5: 131 | K5: 81 | L5: 30 | M5: 19 | N5: 197 | O5: 361 | P5: 176 | Q5: 154 | R5: 14 | S5: 17 | T5: 161 | U5: 343 | V5: 162 | W5: 147 | X5: 16 | Y5: 18 | Z5: 32 | AA5: 0 | AB5: -1 | AC5: 1
A6: 市原地区 | B6: 101 | C6: 157 | D6: 71 | E6: 58 | F6: 23 | G6: 5 | H6: 71 | I6: 130 | J6: 56 | K6: 56 | L6: 13 | M6: 5 | N6: 77 | O6: 154 | P6: 80 | Q6: 61 | R6: 6 | S6: 7 | T6: 71 | U6: 148 | V6: 76 | W6: 62 | X6: 5 | Y6: 5 | Z6: 11 | AA6: -2 | AB6: 19 | AC6: -21
A7: 姉崎地区 | B7: 50 | C7: 86 | D7: 43 | E7: 21 | F7: 13 | G7: 9 | H7: 43 | I7: 85 | J7: 49 | K7: 28 | L7: 2 | M7: 6 | N7: 37 | O7: 62 | P7: 24 | Q7: 29 | R7: 5 | S7: 4 | T7: 44 | U7: 72 | V7: 38 | W7: 23 | X7: 5 | Y7: 6 | Z7: -8 | AA7: -25 | AB7: -23 | AC7: -2
A8: 三和地区 | B8: 8 | C8: 15 | D8: 6 | E8: 5 | F8: 3 | G8: 1 | H8: 3 | I8: 20 | J8: 9 | K8: 11 | L8: 0 | M8: 0 | N8: 6 | O8: 9 | P8: 7 | Q8: 2 | R8: 0 | S8: 0 | T8: 4 | U8: 9 | V8: 6 | W8: 3 | X8: 0 | Y8: 0 | Z8: 3 | AA8: -17 | AB8: -7 | AC8: -10
A9: 市津地区 | B9: 16 | C9: 27 | D9: 14 | E9: 13 | F9: 0 | G9: 0 | H9: 14 | I9: 34 | J9: 16 | K9: 17 | L9: 0 | M9: 1 | N9: 13 | O9: 19 | P9: 8 | Q9: 9 | R9: 1 | S9: 1 | T9: 7 | U9: 10 | V9: 6 | W9: 3 | X9: 0 | Y9: 1 | Z9: -4 | AA9: -10 | AB9: -2 | AC9: -8
A10: 南総地区 | B10: 49 | C10: 58 | D10: 8 | E10: 9 | F10: 26 | G10: 15 | H10: 34 | I10: 57 | J10: 20 | K10: 15 | L10: 15 | M10: 7 | N10: 9 | O10: 14 | P10: 8 | Q10: 3 | R10: 3 | S10: 0 | T10: 19 | U10: 51 | V10: 24 | W10: 24 | X10: 3 | Y10: 0
A11: 加茂地区 | B11: 4 | C11: 7 | D11: 4 | E11: 2 | F11: 1 | G11: 0 | H11: 1 | I11: 2 | J11: 1 | K11: 0 | L11: 1 | M11: 0 | N11: 4 | O11: 7 | P11: 3 | Q11: 4 | R11: 0 | S11: 0 | T11: 0 | U11: 4 | V11: 2 | W11: 2 | X11: 0 | Y11: 0
A12: 辰巳台地区 | B12: 13 | C12: 26 | D12: 11 | E12: 13 | F12: 2 | G12: 0 | H12: 35 | I12: 51 | J12: 17 | K12: 14 | L12: 19 | M12: 1 | N12: 15 | O12: 22 | P12: 12 | Q12: 8 | R12: 2 | S12: 0 | T12: 12 | U12: 21 | V12: 12 | W12: 7 | X12: 2 | Y12: 0
A13: 有秋地区 | B13: 11 | C13: 18 | D13: 11 | E13: 6 | F13: 1 | G13: 0 | H13: 15 | I13: 38 | J13: 21 | K13: 15 | L13: 2 | M13: 0 | N13: 8 | O13: 20 | P13: 9 | Q13: 10 | R13: 0 | S13: 1 | T13: 8 | U13: 23 | V13: 11 | W13: 12 | X13: 0 | Y13: 0
A14: ちはら台地区 | B14: 34 | C14: 88 | D14: 37 | E14: 43 | F14: 2 | G14: 6 | H14: 24 | I14: 69 | J14: 34 | K14: 30 | L14: 2 | M14: 3 | N14: 13 | O14: 35 | P14: 18 | Q14: 17 | R14: 0 | S14: 0 | T14: 9 | U14: 22 | V14: 8 | W14: 14 | X14: 0 | Y14: 0
A15: 計 | B15: 452 | C15: 717 | D15: 323 | E15: 245 | F15: 101 | G15: 48 | H15: 391 | I15: 747 | J15: 354 | K15: 267 | L15: 84 | M15: 42 | N15: 379 | O15: 703 | P15: 345 | Q15: 297 | R15: 31 | S15: 30 | T15: 335 | U15: 703 | V15: 345 | W15: 297 | X15: 31 | Y15: 30
B17: 世帯合併 | H17: 世帯分離 | N17: 帰化（＋） | T17: 帰化（－）
B18: 世帯数 | C18: 計 | D18: 日本人 | F18: 外国人 | H18: 世帯数 | I18: 計 | J18: 日本人 | L18: 外国人 | N18: 世帯数 | O18: 計 | P18: 日本人 | R18: 外国人 | T18: 世帯数 | U18: 計 | V18: 日本人 | X18: 外国人
D19: 男 | E19: 女 | F19: 男 | G19: 女 | J19: 男 | K19: 女 | L19: 男 | M19: 女 | P19: 男 | Q19: 女 | R19: 男 | S19: 女 | V19: 男 | W19: 女 | X19: 男 | Y19: 女
A20: 五井地区 | B20: 6 | C20: 9 | D20: 2 | E20: 7 | F20: 0 | G20: 0 | H20: 10 | I20: 12 | J20: 3 | K20: 8 | L20: 0 | M20: 1 | N20: 0 | O20: 0 | P20: 0 | Q20: 0 | R20: 0 | S20: 0 | T20: 0 | U20: 0 | V20: 0 | W20: 0 | X20: 0 | Y20: 0
A21: 市原地区 | B21: 6 | C21: 6 | D21: 0 | E21: 6 | F21: 0 | G21: 0 | H21: 6 | I21: 9 | J21: 2 | K21: 6 | L21: 0 | M21: 1 | N21: 0 | O21: 1 | P21: 0 | Q21: 1 | R21: 0 | S21: 0 | T21: 0 | U21: 1 | V21: 0 | W21: 0 | X21: 0 | Y21: 1
A22: 姉崎地区 | B22: 2 | C22: 4 | D22: 0 | E22: 1 | F22: 1 | G22: 2 | H22: 6 | I22: 11 | J22: 7 | K22: 4 | L22: 0 | M22: 0 | N22: 0 | O22: 0 | P22: 0 | Q22: 0 | R22: 0 | S22: 0 | T22: 0 | U22: 0 | V22: 0 | W22: 0 | X22: 0 | Y22: 0
A23: 三和地区 | B23: 1 | C23: 1 | D23: 0 | E23: 1 | F23: 0 | G23: 0 | H23: 3 | I23: 3 | J23: 1 | K23: 2 | L23: 0 | M23: 0 | N23: 0 | O23: 0 | P23: 0 | Q23: 0 | R23: 0 | S23: 0 | T23: 0 | U23: 0 | V23: 0 | W23: 0 | X23: 0 | Y23: 0
A24: 市津地区 | B24: 2 | C24: 2 | D24: 1 | E24: 1 | F24: 0 | G24: 0 | H24: 1 | I24: 1 | J24: 0 | K24: 1 | L24: 0 | M24: 0 | N24: 0 | O24: 0 | P24: 0 | Q24: 0 | R24: 0 | S24: 0 | T24: 0 | U24: 0 | V24: 0 | W24: 0 | X24: 0 | Y24: 0
A25: 南総地区 | B25: 1 | C25: 1 | D25: 0 | E25: 1 | F25: 0 | G25: 0 | H25: 2 | I25: 2 | J25: 0 | K25: 2 | L25: 0 | M25: 0 | N25: 0 | O25: 0 | P25: 0 | Q25: 0 | R25: 0 | S25: 0 | T25: 0 | U25: 0 | V25: 0 | W25: 0 | X25: 0 | Y25: 0
A26: 加茂地区 | B26: 0 | C26: 0 | D26: 0 | E26: 0 | F26: 0 | G26: 0 | H26: 6 | I26: 6 | J26: 2 | K26: 4 | L26: 0 | M26: 0 | N26: 0 | O26: 0 | P26: 0 | Q26: 0 | R26: 0 | S26: 0 | T26: 0 | U26: 0 | V26: 0 | W26: 0 | X26: 0 | Y26: 0
A27: 辰巳台地区 | B27: 2 | C27: 3 | D27: 3 | E27: 0 | F27: 0 | G27: 0 | H27: 2 | I27: 5 | J27: 2 | K27: 3 | L27: 0 | M27: 0 | N27: 0 | O27: 0 | P27: 0 | Q27: 0 | R27: 0 | S27: 0 | T27: 0 | U27: 0 | V27: 0 | W27: 0 | X27: 0 | Y27: 0
A28: 有秋地区 | B28: 0 | C28: 0 | D28: 0 | E28: 0 | F28: 0 | G28: 0 | H28: 1 | I28: 2 | J28: 1 | K28: 1 | L28: 0 | M28: 0 | N28: 0 | O28: 0 | P28: 0 | Q28: 0 | R28: 0 | S28: 0 | T28: 0 | U28: 0 | V28: 0 | W28: 0 | X28: 0 | Y28: 0
A29: ちはら台地区 | B29: 5 | C29: 5 | D29: 0 | E29: 5 | F29: 0 | G29: 0 | H29: 2 | I29: 6 | J29: 2 | K29: 4 | L29: 0 | M29: 0 | N29: 0 | O29: 0 | P29: 0 | Q29: 0 | R29: 0 | S29: 0 | T29: 0 | U29: 0 | V29: 0 | W29: 0 | X29: 0 | Y29: 0
A30: 計 | B30: 25 | C30: 31 | D30: 6 | E30: 22 | F30: 1 | G30: 2 | H30: 39 | I30: 57 | J30: 20 | K30: 35 | L30: 0 | M30: 2 | N30: 0 | O30: 1 | P30: 0 | Q30: 1 | R30: 0 | S30: 0 | T30: 0 | U30: 1 | V30: 0 | W30: 0 | X30: 0 | Y30: 1
B32: 出生 | H32: 死亡 | N32: 総合計
B33: 世帯数 | C33: 計 | D33: 日本人 | F33: 外国人 | H33: 世帯数 | I33: 計 | J33: 日本人 | L33: 外国人 | N33: 世帯数 | O33: 計 | P33: 日本人 | R33: 外国人
D34: 男 | E34: 女 | F34: 男 | G34: 女 | J34: 男 | K34: 女 | L34: 男 | M34: 女 | P34: 男 | Q34: 女 | R34: 男 | S34: 女
A35: 五井地区 | B35: 0 | C35: 55 | D35: 21 | E35: 29 | F35: 2 | G35: 3 | H35: 23 | I35: 47 | J35: 23 | K35: 23 | L35: 0 | M35: 1 | N35: 32 | O35: 0 | P35: -1 | Q35: 7 | R35: 0 | S35: -6
A36: 市原地区 | B36: 0 | C36: 22 | D36: 13 | E36: 7 | F36: 1 | G36: 1 | H36: 25 | I36: 57 | J36: 25 | K36: 32 | L36: 0 | M36: 0 | N36: 11 | O36: -2 | P36: 7 | Q36: -23 | R36: 12 | S36: 2
A37: 姉崎地区 | B37: 0 | C37: 11 | D37: 2 | E37: 8 | F37: 1 | G37: 0 | H37: 12 | I37: 27 | J37: 16 | K37: 10 | L37: 1 | M37: 0 | N37: -8 | O37: -25 | P37: -34 | Q37: -3 | R37: 11 | S37: 1
A38: 三和地区 | B38: 0 | C38: 3 | D38: 2 | E38: 1 | F38: 0 | G38: 0 | H38: 6 | I38: 15 | J38: 10 | K38: 5 | L38: 0 | M38: 0 | N38: 3 | O38: -17 | P38: -10 | Q38: -11 | R38: 3 | S38: 1
A39: 市津地区 | B39: 0 | C39: 8 | D39: 4 | E39: 4 | F39: 0 | G39: 0 | H39: 11 | I39: 20 | J39: 7 | K39: 13 | L39: 0 | M39: 0 | N39: -4 | O39: -10 | P39: -3 | Q39: -7 | R39: 1 | S39: -1
A40: 南総地区 | B40: 0 | C40: 6 | D40: 3 | E40: 3 | F40: 0 | G40: 0 | H40: 12 | I40: 32 | J40: 14 | K40: 18 | L40: 0 | M40: 0 | N40: -6 | O40: -62 | P40: -39 | Q40: -42 | R40: 11 | S40: 8
A41: 加茂地区 | B41: 0 | C41: 1 | D41: 0 | E41: 1 | F41: 0 | G41: 0 | H41: 6 | I41: 7 | J41: 4 | K41: 3 | L41: 0 | M41: 0 | N41: 7 | O41: 2 | P41: 0 | Q41: 2 | R41: 0 | S41: 0
A42: 辰巳台地区 | B42: 0 | C42: 5 | D42: 4 | E42: 1 | F42: 0 | G42: 0 | H42: 3 | I42: 5 | J42: 0 | K42: 5 | L42: 0 | M42: 0 | N42: -22 | O42: -24 | P42: -2 | Q42: -4 | R42: -17 | S42: -1
A43: 有秋地区 | B43: 0 | C43: 10 | D43: 6 | E43: 4 | F43: 0 | G43: 0 | H43: 4 | I43: 12 | J43: 8 | K43: 4 | L43: 0 | M43: 0 | N43: -7 | O43: -25 | P43: -14 | Q43: -11 | R43: -1 | S43: 1
A44: ちはら台地区 | B44: 0 | C44: 20 | D44: 12 | E44: 8 | F44: 0 | G44: 0 | H44: 3 | I44: 13 | J44: 9 | K44: 4 | L44: 0 | M44: 0 | N44: 8 | O44: 39 | P44: 16 | Q44: 20 | R44: 0 | S44: 3
A45: 計 | B45: 0 | C45: 141 | D45: 67 | E45: 66 | F45: 4 | G45: 4 | H45: 105 | I45: 235 | J45: 116 | K45: 117 | L45: 1 | M45: 1 | N45: 14 | O45: -124 | P45: -80 | Q45: -72 | R45: 20 | S45: 8

Sheet 9月分
A1: 令和元年９月分
D2: 転入 | H2: 転出 | N2: 転居（＋） | T2: 転居（－）
B3: 世帯数 | C3: 計 | D3: 日本人 | F3: 外国人 | H3: 世帯数 | I3: 計 | J3: 日本人 | L3: 外国人 | N3: 世帯数 | O3: 計 | P3: 日本人 | R3: 外国人 | T3: 世帯数 | U3: 計 | V3: 日本人 | X3: 外国人
D4: 男 | E4: 女 | F4: 男 | G4: 女 | J4: 男 | K4: 女 | L4: 男 | M4: 女 | P4: 男 | Q4: 女 | R4: 男 | S4: 女 | V4: 男 | W4: 女 | X4: 男 | Y4: 女
A5: 五井地区 | B5: 175 | C5: 249 | D5: 124 | E5: 86 | F5: 26 | G5: 13 | H5: 138 | I5: 270 | J5: 142 | K5: 102 | L5: 15 | M5: 11 | N5: 162 | O5: 299 | P5: 142 | Q5: 125 | R5: 22 | S5: 10 | T5: 150 | U5: 319 | V5: 145 | W5: 145 | X5: 23 | Y5: 6
A6: 市原地区 | B6: 85 | C6: 129 | D6: 60 | E6: 39 | F6: 16 | G6: 14 | H6: 68 | I6: 143 | J6: 83 | K6: 52 | L6: 3 | M6: 5 | N6: 76 | O6: 131 | P6: 63 | Q6: 62 | R6: 4 | S6: 2 | T6: 64 | U6: 131 | V6: 61 | W6: 61 | X6: 5 | Y6: 4
A7: 姉崎地区 | B7: 44 | C7: 60 | D7: 32 | E7: 16 | F7: 8 | G7: 4 | H7: 119 | I7: 148 | J7: 117 | K7: 22 | L7: 5 | M7: 4 | N7: 31 | O7: 63 | P7: 36 | Q7: 25 | R7: 1 | S7: 1 | T7: 33 | U7: 60 | V7: 40 | W7: 17 | X7: 0 | Y7: 3
A8: 三和地区 | B8: 10 | C8: 13 | D8: 5 | E8: 3 | F8: 5 | G8: 0 | H8: 5 | I8: 16 | J8: 9 | K8: 6 | L8: 1 | M8: 0 | N8: 8 | O8: 16 | P8: 11 | Q8: 5 | R8: 0 | S8: 0 | T8: 10 | U8: 18 | V8: 12 | W8: 6 | X8: 0 | Y8: 0
A9: 市津地区 | B9: 15 | C9: 28 | D9: 9 | E9: 16 | F9: 3 | G9: 0 | H9: 7 | I9: 20 | J9: 10 | K9: 10 | L9: 0 | M9: 0 | N9: 14 | O9: 23 | P9: 11 | Q9: 12 | R9: 0 | S9: 0 | T9: 11 | U9: 20 | V9: 9 | W9: 11 | X9: 0 | Y9: 0
A10: 南総地区 | B10: 41 | C10: 51 | D10: 10 | E10: 6 | F10: 22 | G10: 13 | H10: 42 | I10: 61 | J10: 16 | K10: 20 | L10: 17 | M10: 8 | N10: 17 | O10: 31 | P10: 15 | Q10: 14 | R10: 2 | S10: 0 | T10: 21 | U10: 38 | V10: 17 | W10: 19 | X10: 2 | Y10: 0
A11: 加茂地区 | B11: 0 | C11: 1 | D11: 1 | E11: 0 | F11: 0 | G11: 0 | H11: 4 | I11: 6 | J11: 2 | K11: 2 | L11: 2 | M11: 0 | N11: 4 | O11: 5 | P11: 1 | Q11: 4 | R11: 0 | S11: 0 | T11: 2 | U11: 5 | V11: 1 | W11: 4 | X11: 0 | Y11: 0
A12: 辰巳台地区 | B12: 14 | C12: 18 | D12: 7 | E12: 7 | F12: 4 | G12: 0 | H12: 18 | I12: 33 | J12: 15 | K12: 14 | L12: 3 | M12: 1 | N12: 13 | O12: 23 | P12: 12 | Q12: 9 | R12: 1 | S12: 1 | T12: 10 | U12: 22 | V12: 12 | W12: 7 | X12: 1 | Y12: 2
A13: 有秋地区 | B13: 16 | C13: 25 | D13: 13 | E13: 8 | F13: 3 | G13: 1 | H13: 33 | I13: 56 | J13: 30 | K13: 19 | L13: 7 | M13: 0 | N13: 11 | O13: 20 | P13: 10 | Q13: 9 | R13: 1 | S13: 0 | T13: 8 | U13: 13 | V13: 7 | W13: 6 | X13: 0 | Y13: 0
A14: ちはら台地区 | B14: 34 | C14: 75 | D14: 34 | E14: 37 | F14: 1 | G14: 3 | H14: 21 | I14: 70 | J14: 26 | K14: 39 | L14: 4 | M14: 1 | N14: 20 | O14: 45 | P14: 22 | Q14: 22 | R14: 0 | S14: 1 | T14: 11 | U14: 30 | V14: 19 | W14: 11 | X14: 0 | Y14: 0
A15: 計 | B15: 434 | C15: 649 | D15: 295 | E15: 218 | F15: 88 | G15: 48 | H15: 455 | I15: 823 | J15: 450 | K15: 286 | L15: 57 | M15: 30 | N15: 356 | O15: 656 | P15: 323 | Q15: 287 | R15: 31 | S15: 15 | T15: 320 | U15: 656 | V15: 323 | W15: 287 | X15: 31 | Y15: 15
B17: 世帯合併 | H17: 世帯分離 | N17: 帰化（＋） | T17: 帰化（－）
B18: 世帯数 | C18: 計 | D18: 日本人 | F18: 外国人 | H18: 世帯数 | I18: 計 | J18: 日本人 | L18: 外国人 | N18: 世帯数 | O18: 計 | P18: 日本人 | R18: 外国人 | T18: 世帯数 | U18: 計 | V18: 日本人 | X18: 外国人
D19: 男 | E19: 女 | F19: 男 | G19: 女 | J19: 男 | K19: 女 | L19: 男 | M19: 女 | P19: 男 | Q19: 女 | R19: 男 | S19: 女 | V19: 男 | W19: 女 | X19: 男 | Y19: 女
A20: 五井地区 | B20: 7 | C20: 7 | D20: 0 | E20: 7 | F20: 0 | G20: 0 | H20: 15 | I20: 23 | J20: 9 | K20: 14 | L20: 0 | M20: 0 | N20: 0 | O20: 0 | P20: 0 | Q20: 0 | R20: 0 | S20: 0 | T20: 0 | U20: 0 | V20: 0 | W20: 0 | X20: 0 | Y20: 0
A21: 市原地区 | B21: 7 | C21: 10 | D21: 2 | E21: 8 | F21: 0 | G21: 0 | H21: 3 | I21: 3 | J21: 1 | K21: 2 | L21: 0 | M21: 0 | N21: 0 | O21: 0 | P21: 0 | Q21: 0 | R21: 0 | S21: 0 | T21: 0 | U21: 0 | V21: 0 | W21: 0 | X21: 0 | Y21: 0
A22: 姉崎地区 | B22: 2 | C22: 3 | D22: 2 | E22: 1 | F22: 0 | G22: 0 | H22: 8 | I22: 11 | J22: 2 | K22: 9 | L22: 0 | M22: 0 | N22: 0 | O22: 0 | P22: 0 | Q22: 0 | R22: 0 | S22: 0 | T22: 0 | U22: 0 | V22: 0 | W22: 0 | X22: 0 | Y22: 0
A23: 三和地区 | B23: 1 | C23: 1 | D23: 0 | E23: 1 | F23: 0 | G23: 0 | H23: 4 | I23: 4 | J23: 1 | K23: 3 | L23: 0 | M23: 0 | N23: 0 | O23: 0 | P23: 0 | Q23: 0 | R23: 0 | S23: 0 | T23: 0 | U23: 0 | V23: 0 | W23: 0 | X23: 0 | Y23: 0
A24: 市津地区 | B24: 2 | C24: 3 | D24: 2 | E24: 1 | F24: 0 | G24: 0 | H24: 1 | I24: 1 | J24: 0 | K24: 1 | L24: 0 | M24: 0 | N24: 0 | O24: 0 | P24: 0 | Q24: 0 | R24: 0 | S24: 0 | T24: 0 | U24: 0 | V24: 0 | W24: 0 | X24: 0 | Y24: 0
A25: 南総地区 | B25: 1 | C25: 1 | D25: 1 | E25: 0 | F25: 0 | G25: 0 | H25: 1 | I25: 1 | J25: 0 | K25: 1 | L25: 0 | M25: 0 | N25: 0 | O25: 2 | P25: 2 | Q25: 0 | R25: 0 | S25: 0 | T25: 0 | U25: 2 | V25: 0 | W25: 0 | X25: 2 | Y25: 0
A26: 加茂地区 | B26: 0 | C26: 0 | D26: 0 | E26: 0 | F26: 0 | G26: 0 | H26: 1 | I26: 1 | J26: 0 | K26: 1 | L26: 0 | M26: 0 | N26: 0 | O26: 0 | P26: 0 | Q26: 0 | R26: 0 | S26: 0 | T26: 0 | U26: 0 | V26: 0 | W26: 0 | X26: 0 | Y26: 0
A27: 辰巳台地区 | B27: 1 | C27: 3 | D27: 1 | E27: 2 | F27: 0 | G27: 0 | H27: 1 | I27: 3 | J27: 1 | K27: 2 | L27: 0 | M27: 0 | N27: 0 | O27: 0 | P27: 0 | Q27: 0 | R27: 0 | S27: 0 | T27: 0 | U27: 0 | V27: 0 | W27: 0 | X27: 0 | Y27: 0
A28: 有秋地区 | B28: 0 | C28: 0 | D28: 0 | E28: 0 | F28: 0 | G28: 0 | H28: 1 | I28: 1 | J28: 1 | K28: 0 | L28: 0 | M28: 0 | N28: 0 | O28: 0 | P28: 0 | Q28: 0 | R28: 0 | S28: 0 | T28: 0 | U28: 0 | V28: 0 | W28: 0 | X28: 0 | Y28: 0
A29: ちはら台地区 | B29: 1 | C29: 1 | D29: 1 | E29: 0 | F29: 0 | G29: 0 | H29: 2 | I29: 2 | J29: 1 | K29: 1 | L29: 0 | M29: 0 | N29: 0 | O29: 0 | P29: 0 | Q29: 0 | R29: 0 | S29: 0 | T29: 0 | U29: 0 | V29: 0 | W29: 0 | X29: 0 | Y29: 0
A30: 計 | B30: 22 | C30: 29 | D30: 9 | E30: 20 | F30: 0 | G30: 0 | H30: 37 | I30: 50 | J30: 16 | K30: 34 | L30: 0 | M30: 0 | N30: 0 | O30: 2 | P30: 2 | Q30: 0 | R30: 0 | S30: 0 | T30: 0 | U30: 2 | V30: 0 | W30: 0 | X30: 2 | Y30: 0
B32: 出生 | H32: 死亡 | N32: 総合計
B33: 世帯数 | C33: 計 | D33: 日本人 | F33: 外国人 | H33: 世帯数 | I33: 計 | J33: 日本人 | L33: 外国人 | N33: 世帯数 | O33: 計 | P33: 日本人 | R33: 外国人
D34: 男 | E34: 女 | F34: 男 | G34: 女 | J34: 男 | K34: 女 | L34: 男 | M34: 女 | P34: 男 | Q34: 女 | R34: 男 | S34: 女
A35: 五井地区 | B35: 0 | C35: 61 | D35: 32 | E35: 29 | F35: 0 | G35: 0 | H35: 21 | I35: 48 | J35: 30 | K35: 17 | L35: 1 | M35: 0 | N35: 36 | O35: -28 | P35: -19 | Q35: -24 | R35: 9 | S35: 6
A36: 市原地区 | B36: 0 | C36: 26 | D36: 10 | E36: 13 | F36: 3 | G36: 0 | H36: 18 | I36: 53 | J36: 28 | K36: 25 | L36: 0 | M36: 0 | N36: 7 | O36: -41 | P36: -39 | Q36: -24 | R36: 15 | S36: 7
A37: 姉崎地区 | B37: 0 | C37: 11 | D37: 7 | E37: 4 | F37: 0 | G37: 0 | H37: 9 | I37: 24 | J37: 15 | K37: 9 | L37: 0 | M37: 0 | N37: -80 | O37: -98 | P37: -97 | Q37: -3 | R37: 4 | S37: -2
A38: 三和地区 | B38: 0 | C38: 3 | D38: 2 | E38: 1 | F38: 0 | G38: 0 | H38: 2 | I38: 9 | J38: 7 | K38: 2 | L38: 0 | M38: 0 | N38: 4 | O38: -11 | P38: -10 | Q38: -5 | R38: 4 | S38: 0
A39: 市津地区 | B39: 0 | C39: 5 | D39: 2 | E39: 3 | F39: 0 | G39: 0 | H39: 9 | I39: 20 | J39: 10 | K39: 10 | L39: 0 | M39: 0 | N39: 1 | O39: -4 | P39: -7 | Q39: 0 | R39: 3 | S39: 0
A40: 南総地区 | B40: 0 | C40: 3 | D40: 1 | E40: 2 | F40: 0 | G40: 0 | H40: 13 | I40: 26 | J40: 15 | K40: 11 | L40: 0 | M40: 0 | N40: -18 | O40: -40 | P40: -20 | Q40: -28 | R40: 3 | S40: 5
A41: 加茂地区 | B41: 0 | C41: 0 | D41: 0 | E41: 0 | F41: 0 | G41: 0 | H41: 1 | I41: 4 | J41: 3 | K41: 1 | L41: 0 | M41: 0 | N41: -2 | O41: -9 | P41: -4 | Q41: -3 | R41: -2 | S41: 0
A42: 辰巳台地区 | B42: 0 | C42: 5 | D42: 3 | E42: 2 | F42: 0 | G42: 0 | H42: 6 | I42: 14 | J42: 9 | K42: 5 | L42: 0 | M42: 0 | N42: -7 | O42: -23 | P42: -14 | Q42: -8 | R42: 1 | S42: -2
A43: 有秋地区 | B43: 0 | C43: 5 | D43: 2 | E43: 3 | F43: 0 | G43: 0 | H43: 1 | I43: 8 | J43: 6 | K43: 2 | L43: 0 | M43: 0 | N43: -14 | O43: -27 | P43: -18 | Q43: -7 | R43: -3 | S43: 1
A44: ちはら台地区 | B44: 0 | C44: 21 | D44: 7 | E44: 14 | F44: 0 | G44: 0 | H44: 4 | I44: 10 | J44: 8 | K44: 2 | L44: 0 | M44: 0 | N44: 19 | O44: 31 | P44: 10 | Q44: 21 | R44: -3 | S44: 3
A45: 計 | B45: 0 | C45: 140 | D45: 66 | E45: 71 | F45: 3 | G45: 0 | H45: 84 | I45: 216 | J45: 131 | K45: 84 | L45: 1 | M45: 0 | N45: -54 | O45: -250 | P45: -218 | Q45: -81 | R45: 31 | S45: 18

Sheet 10月分
A1: 令和元年１０月分
D2: 転入 | H2: 転出 | N2: 転居（＋） | T2: 転居（－）
B3: 世帯数 | C3: 計 | D3: 日本人 | F3: 外国人 | H3: 世帯数 | I3: 計 | J3: 日本人 | L3: 外国人 | N3: 世帯数 | O3: 計 | P3: 日本人 | R3: 外国人 | T3: 世帯数 | U3: 計 | V3: 日本人 | X3: 外国人
D4: 男 | E4: 女 | F4: 男 | G4: 女 | J4: 男 | K4: 女 | L4: 男 | M4: 女 | P4: 男 | Q4: 女 | R4: 男 | S4: 女 | V4: 男 | W4: 女 | X4: 男 | Y4: 女
A5: 五井地区 | B5: 140 | C5: 219 | D5: 96 | E5: 88 | F5: 19 | G5: 16 | H5: 137 | I5: 243 | J5: 132 | K5: 91 | L5: 15 | M5: 5 | N5: 217 | O5: 390 | P5: 204 | Q5: 172 | R5: 5 | S5: 9 | T5: 183 | U5: 363 | V5: 183 | W5: 162 | X5: 7 | Y5: 11
A6: 市原地区 | B6: 90 | C6: 139 | D6: 68 | E6: 49 | F6: 18 | G6: 4 | H6: 68 | I6: 118 | J6: 59 | K6: 41 | L6: 1 | M6: 17 | N6: 113 | O6: 204 | P6: 97 | Q6: 86 | R6: 12 | S6: 9 | T6: 101 | U6: 203 | V6: 91 | W6: 97 | X6: 8 | Y6: 7
A7: 姉崎地区 | B7: 54 | C7: 78 | D7: 31 | E7: 22 | F7: 18 | G7: 7 | H7: 63 | I7: 107 | J7: 60 | K7: 31 | L7: 9 | M7: 7 | N7: 58 | O7: 107 | P7: 51 | Q7: 49 | R7: 5 | S7: 2 | T7: 67 | U7: 114 | V7: 53 | W7: 48 | X7: 11 | Y7: 2
A8: 三和地区 | B8: 15 | C8: 22 | D8: 9 | E8: 7 | F8: 6 | G8: 0 | H8: 11 | I8: 22 | J8: 9 | K8: 11 | L8: 2 | M8: 0 | N8: 11 | O8: 14 | P8: 8 | Q8: 6 | R8: 0 | S8: 0 | T8: 16 | U8: 31 | V8: 19 | W8: 11 | X8: 0 | Y8: 1
A9: 市津地区 | B9: 14 | C9: 24 | D9: 13 | E9: 9 | F9: 1 | G9: 1 | H9: 16 | I9: 33 | J9: 12 | K9: 13 | L9: 0 | M9: 8 | N9: 15 | O9: 25 | P9: 14 | Q9: 11 | R9: 0 | S9: 0 | T9: 14 | U9: 24 | V9: 9 | W9: 15 | X9: 0 | Y9: 0
A10: 南総地区 | B10: 43 | C10: 53 | D10: 8 | E10: 7 | F10: 30 | G10: 8 | H10: 48 | I10: 75 | J10: 16 | K10: 26 | L10: 19 | M10: 14 | N10: 14 | O10: 25 | P10: 9 | Q10: 15 | R10: 0 | S10: 1 | T10: 18 | U10: 41 | V10: 20 | W10: 21 | X10: 0 | Y10: 0
A11: 加茂地区 | B11: 4 | C11: 5 | D11: 1 | E11: 2 | F11: 2 | G11: 0 | H11: 2 | I11: 2 | J11: 1 | K11: 1 | L11: 0 | M11: 0 | N11: 2 | O11: 4 | P11: 2 | Q11: 2 | R11: 0 | S11: 0 | T11: 2 | U11: 2 | V11: 0 | W11: 2 | X11: 0 | Y11: 0
A12: 辰巳台地区 | B12: 23 | C12: 28 | D12: 11 | E12: 1 | F12: 9 | G12: 7 | H12: 18 | I12: 29 | J12: 14 | K12: 14 | L12: 0 | M12: 1 | N12: 18 | O12: 43 | P12: 19 | Q12: 22 | R12: 1 | S12: 1 | T12: 21 | U12: 42 | V12: 24 | W12: 11 | X12: 5 | Y12: 2
A13: 有秋地区 | B13: 32 | C13: 47 | D13: 16 | E13: 8 | F13: 20 | G13: 3 | H13: 20 | I13: 40 | J13: 23 | K13: 16 | L13: 1 | M13: 0 | N13: 22 | O13: 33 | P13: 14 | Q13: 9 | R13: 9 | S13: 1 | T13: 17 | U13: 35 | V13: 19 | W13: 13 | X13: 2 | Y13: 1
A14: ちはら台地区 | B14: 40 | C14: 65 | D14: 30 | E14: 32 | F14: 0 | G14: 3 | H14: 14 | I14: 38 | J14: 15 | K14: 23 | L14: 0 | M14: 0 | N14: 30 | O14: 67 | P14: 29 | Q14: 33 | R14: 3 | S14: 2 | T14: 21 | U14: 57 | V14: 29 | W14: 25 | X14: 2 | Y14: 1
A15: 計 | B15: 455 | C15: 680 | D15: 283 | E15: 225 | F15: 123 | G15: 49 | H15: 397 | I15: 707 | J15: 341 | K15: 267 | L15: 47 | M15: 52 | N15: 500 | O15: 912 | P15: 447 | Q15: 405 | R15: 35 | S15: 25 | T15: 460 | U15: 912 | V15: 447 | W15: 405 | X15: 35 | Y15: 25
B17: 世帯合併 | H17: 世帯分離 | N17: 帰化（＋） | T17: 帰化（－）
B18: 世帯数 | C18: 計 | D18: 日本人 | F18: 外国人 | H18: 世帯数 | I18: 計 | J18: 日本人 | L18: 外国人 | N18: 世帯数 | O18: 計 | P18: 日本人 | R18: 外国人 | T18: 世帯数 | U18: 計 | V18: 日本人 | X18: 外国人
D19: 男 | E19: 女 | F19: 男 | G19: 女 | J19: 男 | K19: 女 | L19: 男 | M19: 女 | P19: 男 | Q19: 女 | R19: 男 | S19: 女 | V19: 男 | W19: 女 | X19: 男 | Y19: 女
A20: 五井地区 | B20: 8 | C20: 9 | D20: 1 | E20: 7 | F20: 0 | G20: 1 | H20: 13 | I20: 17 | J20: 8 | K20: 9 | L20: 0 | M20: 0 | N20: 0 | O20: 0 | P20: 0 | Q20: 0 | R20: 0 | S20: 0 | T20: 0 | U20: 0 | V20: 0 | W20: 0 | X20: 0 | Y20: 0
A21: 市原地区 | B21: 3 | C21: 4 | D21: 0 | E21: 4 | F21: 0 | G21: 0 | H21: 8 | I21: 9 | J21: 3 | K21: 5 | L21: 0 | M21: 1 | N21: 0 | O21: 0 | P21: 0 | Q21: 0 | R21: 0 | S21: 0 | T21: 0 | U21: 0 | V21: 0 | W21: 0 | X21: 0 | Y21: 0
A22: 姉崎地区 | B22: 2 | C22: 3 | D22: 1 | E22: 2 | F22: 0 | G22: 0 | H22: 3 | I22: 3 | J22: 1 | K22: 2 | L22: 0 | M22: 0 | N22: 0 | O22: 0 | P22: 0 | Q22: 0 | R22: 0 | S22: 0 | T22: 0 | U22: 0 | V22: 0 | W22: 0 | X22: 0 | Y22: 0
A23: 三和地区 | B23: 0 | C23: 0 | D23: 0 | E23: 0 | F23: 0 | G23: 0 | H23: 2 | I23: 4 | J23: 2 | K23: 2 | L23: 0 | M23: 0 | N23: 0 | O23: 0 | P23: 0 | Q23: 0 | R23: 0 | S23: 0 | T23: 0 | U23: 0 | V23: 0 | W23: 0 | X23: 0 | Y23: 0
A24: 市津地区 | B24: 1 | C24: 1 | D24: 0 | E24: 1 | F24: 0 | G24: 0 | H24: 2 | I24: 3 | J24: 1 | K24: 2 | L24: 0 | M24: 0 | N24: 0 | O24: 0 | P24: 0 | Q24: 0 | R24: 0 | S24: 0 | T24: 0 | U24: 0 | V24: 0 | W24: 0 | X24: 0 | Y24: 0
A25: 南総地区 | B25: 1 | C25: 1 | D25: 0 | E25: 1 | F25: 0 | G25: 0 | H25: 4 | I25: 4 | J25: 2 | K25: 2 | L25: 0 | M25: 0 | N25: 0 | O25: 0 | P25: 0 | Q25: 0 | R25: 0 | S25: 0 | T25: 0 | U25: 0 | V25: 0 | W25: 0 | X25: 0 | Y25: 0
A26: 加茂地区 | B26: 0 | C26: 0 | D26: 0 | E26: 0 | F26: 0 | G26: 0 | H26: 1 | I26: 2 | J26: 1 | K26: 1 | L26: 0 | M26: 0 | N26: 0 | O26: 0 | P26: 0 | Q26: 0 | R26: 0 | S26: 0 | T26: 0 | U26: 0 | V26: 0 | W26: 0 | X26: 0 | Y26: 0
A27: 辰巳台地区 | B27: 1 | C27: 1 | D27: 0 | E27: 0 | F27: 0 | G27: 1 | H27: 0 | I27: 0 | J27: 0 | K27: 0 | L27: 0 | M27: 0 | N27: 0 | O27: 0 | P27: 0 | Q27: 0 | R27: 0 | S27: 0 | T27: 0 | U27: 0 | V27: 0 | W27: 0 | X27: 0 | Y27: 0
A28: 有秋地区 | B28: 0 | C28: 0 | D28: 0 | E28: 0 | F28: 0 | G28: 0 | H28: 2 | I28: 3 | J28: 1 | K28: 2 | L28: 0 | M28: 0 | N28: 0 | O28: 0 | P28: 0 | Q28: 0 | R28: 0 | S28: 0 | T28: 0 | U28: 0 | V28: 0 | W28: 0 | X28: 0 | Y28: 0
A29: ちはら台地区 | B29: 2 | C29: 2 | D29: 0 | E29: 2 | F29: 0 | G29: 0 | H29: 2 | I29: 2 | J29: 0 | K29: 2 | L29: 0 | M29: 0 | N29: 0 | O29: 0 | P29: 0 | Q29: 0 | R29: 0 | S29: 0 | T29: 0 | U29: 0 | V29: 0 | W29: 0 | X29: 0 | Y29: 0
A30: 計 | B30: 18 | C30: 21 | D30: 2 | E30: 17 | F30: 0 | G30: 2 | H30: 37 | I30: 47 | J30: 19 | K30: 27 | L30: 0 | M30: 1 | N30: 0 | O30: 0 | P30: 0 | Q30: 0 | R30: 0 | S30: 0 | T30: 0 | U30: 0 | V30: 0 | W30: 0 | X30: 0 | Y30: 0
B32: 出生 | H32: 死亡 | N32: 総合計
B33: 世帯数 | C33: 計 | D33: 日本人 | F33: 外国人 | H33: 世帯数 | I33: 計 | J33: 日本人 | L33: 外国人 | N33: 世帯数 | O33: 計 | P33: 日本人 | R33: 外国人
D34: 男 | E34: 女 | F34: 男 | G34: 女 | J34: 男 | K34: 女 | L34: 男 | M34: 女 | P34: 男 | Q34: 女 | R34: 男 | S34: 女
A35: 五井地区 | B35: 0 | C35: 62 | D35: 37 | E35: 24 | F35: 1 | G35: 0 | H35: 27 | I35: 54 | J35: 33 | K35: 21 | L35: 0 | M35: 0 | N35: 15 | O35: 11 | P35: -11 | Q35: 10 | R35: 3 | S35: 9
A36: 市原地区 | B36: 0 | C36: 32 | D36: 14 | E36: 18 | F36: 0 | G36: 0 | H36: 26 | I36: 53 | J36: 37 | K36: 14 | L36: 1 | M36: 1 | N36: 13 | O36: 1 | P36: -8 | Q36: 1 | R36: 20 | S36: -12
A37: 姉崎地区 | B37: 0 | C37: 13 | D37: 7 | E37: 6 | F37: 0 | G37: 0 | H37: 15 | I37: 25 | J37: 17 | K37: 8 | L37: 0 | M37: 0 | N37: -32 | O37: -48 | P37: -41 | Q37: -10 | R37: 3 | S37: 0
A38: 三和地区 | B38: 0 | C38: 1 | D38: 1 | E38: 0 | F38: 0 | G38: 0 | H38: 5 | I38: 16 | J38: 11 | K38: 5 | L38: 0 | M38: 0 | N38: -4 | O38: -32 | P38: -21 | Q38: -14 | R38: 4 | S38: -1
A39: 市津地区 | B39: 0 | C39: 8 | D39: 3 | E39: 4 | F39: 1 | G39: 0 | H39: 6 | I39: 13 | J39: 7 | K39: 6 | L39: 0 | M39: 0 | N39: -6 | O39: -13 | P39: 2 | Q39: -10 | R39: 2 | S39: -7
A40: 南総地区 | B40: 0 | C40: 3 | D40: 2 | E40: 1 | F40: 0 | G40: 0 | H40: 12 | I40: 36 | J40: 23 | K40: 13 | L40: 0 | M40: 0 | N40: -18 | O40: -71 | P40: -40 | Q40: -37 | R40: 11 | S40: -5
A41: 加茂地区 | B41: 0 | C41: 0 | D41: 0 | E41: 0 | F41: 0 | G41: 0 | H41: 2 | I41: 4 | J41: 0 | K41: 4 | L41: 0 | M41: 0 | N41: 1 | O41: 1 | P41: 2 | Q41: -3 | R41: 2 | S41: 0
A42: 辰巳台地区 | B42: 0 | C42: 6 | D42: 3 | E42: 0 | F42: 2 | G42: 1 | H42: 6 | I42: 13 | J42: 6 | K42: 7 | L42: 0 | M42: 0 | N42: -5 | O42: -7 | P42: -11 | Q42: -9 | R42: 7 | S42: 6
A43: 有秋地区 | B43: 0 | C43: 4 | D43: 2 | E43: 2 | F43: 0 | G43: 0 | H43: 2 | I43: 8 | J43: 5 | K43: 3 | L43: 0 | M43: 0 | N43: 17 | O43: 1 | P43: -15 | Q43: -13 | R43: 26 | S43: 3
A44: ちはら台地区 | B44: 0 | C44: 22 | D44: 10 | E44: 12 | F44: 0 | G44: 0 | H44: 3 | I44: 9 | J44: 2 | K44: 6 | L44: 1 | M44: 0 | N44: 32 | O44: 50 | P44: 23 | Q44: 23 | R44: 0 | S44: 4
A45: 計 | B45: 0 | C45: 151 | D45: 79 | E45: 67 | F45: 4 | G45: 1 | H45: 104 | I45: 231 | J45: 141 | K45: 87 | L45: 2 | M45: 1 | N45: 13 | O45: -107 | P45: -120 | Q45: -62 | R45: 78 | S45: -3

Sheet 11月分
A1: 令和元年１１月分
D2: 転入 | H2: 転出 | N2: 転居（＋） | T2: 転居（－）
B3: 世帯数 | C3: 計 | D3: 日本人 | F3: 外国人 | H3: 世帯数 | I3: 計 | J3: 日本人 | L3: 外国人 | N3: 世帯数 | O3: 計 | P3: 日本人 | R3: 外国人 | T3: 世帯数 | U3: 計 | V3: 日本人 | X3: 外国人
D4: 男 | E4: 女 | F4: 男 | G4: 女 | J4: 男 | K4: 女 | L4: 男 | M4: 女 | P4: 男 | Q4: 女 | R4: 男 | S4: 女 | V4: 男 | W4: 女 | X4: 男 | Y4: 女
A5: 五井地区 | B5: 180 | C5: 276 | D5: 132 | E5: 93 | F5: 38 | G5: 13 | H5: 128 | I5: 232 | J5: 109 | K5: 95 | L5: 17 | M5: 11 | N5: 167 | O5: 280 | P5: 142 | Q5: 119 | R5: 11 | S5: 8 | T5: 145 | U5: 297 | V5: 144 | W5: 132 | X5: 9 | Y5: 12
A6: 市原地区 | B6: 95 | C6: 127 | D6: 64 | E6: 49 | F6: 8 | G6: 6 | H6: 79 | I6: 140 | J6: 64 | K6: 50 | L6: 23 | M6: 3 | N6: 112 | O6: 182 | P6: 91 | Q6: 77 | R6: 6 | S6: 8 | T6: 81 | U6: 146 | V6: 82 | W6: 55 | X6: 3 | Y6: 6
A7: 姉崎地区 | B7: 50 | C7: 69 | D7: 40 | E7: 22 | F7: 5 | G7: 2 | H7: 55 | I7: 99 | J7: 45 | K7: 37 | L7: 12 | M7: 5 | N7: 42 | O7: 91 | P7: 41 | Q7: 41 | R7: 4 | S7: 5 | T7: 40 | U7: 74 | V7: 37 | W7: 28 | X7: 6 | Y7: 3
A8: 三和地区 | B8: 5 | C8: 14 | D8: 3 | E8: 8 | F8: 0 | G8: 3 | H8: 10 | I8: 24 | J8: 10 | K8: 11 | L8: 3 | M8: 0 | N8: 11 | O8: 21 | P8: 9 | Q8: 12 | R8: 0 | S8: 0 | T8: 14 | U8: 29 | V8: 7 | W8: 22 | X8: 0 | Y8: 0
A9: 市津地区 | B9: 17 | C9: 25 | D9: 8 | E9: 9 | F9: 7 | G9: 1 | H9: 14 | I9: 20 | J9: 8 | K9: 7 | L9: 3 | M9: 2 | N9: 6 | O9: 8 | P9: 4 | Q9: 4 | R9: 0 | S9: 0 | T9: 6 | U9: 14 | V9: 8 | W9: 6 | X9: 0 | Y9: 0
A10: 南総地区 | B10: 38 | C10: 49 | D10: 12 | E10: 6 | F10: 15 | G10: 16 | H10: 43 | I10: 67 | J10: 19 | K10: 15 | L10: 29 | M10: 4 | N10: 16 | O10: 27 | P10: 9 | Q10: 13 | R10: 4 | S10: 1 | T10: 22 | U10: 44 | V10: 14 | W10: 23 | X10: 7 | Y10: 0
A11: 加茂地区 | B11: 2 | C11: 5 | D11: 4 | E11: 1 | F11: 0 | G11: 0 | H11: 0 | I11: 4 | J11: 2 | K11: 2 | L11: 0 | M11: 0 | N11: 2 | O11: 2 | P11: 0 | Q11: 2 | R11: 0 | S11: 0 | T11: 1 | U11: 3 | V11: 1 | W11: 2 | X11: 0 | Y11: 0
A12: 辰巳台地区 | B12: 31 | C12: 42 | D12: 11 | E12: 8 | F12: 20 | G12: 3 | H12: 29 | I12: 41 | J12: 15 | K12: 8 | L12: 12 | M12: 6 | N12: 10 | O12: 21 | P12: 10 | Q12: 10 | R12: 0 | S12: 1 | T12: 13 | U12: 29 | V12: 15 | W12: 12 | X12: 0 | Y12: 2
A13: 有秋地区 | B13: 10 | C13: 17 | D13: 7 | E13: 6 | F13: 3 | G13: 1 | H13: 12 | I13: 23 | J13: 16 | K13: 7 | L13: 0 | M13: 0 | N13: 12 | O13: 21 | P13: 11 | Q13: 10 | R13: 0 | S13: 0 | T13: 13 | U13: 30 | V13: 17 | W13: 13 | X13: 0 | Y13: 0
A14: ちはら台地区 | B14: 26 | C14: 54 | D14: 31 | E14: 22 | F14: 1 | G14: 0 | H14: 16 | I14: 53 | J14: 25 | K14: 26 | L14: 1 | M14: 1 | N14: 16 | O14: 37 | P14: 19 | Q14: 18 | R14: 0 | S14: 0 | T14: 8 | U14: 24 | V14: 11 | W14: 13 | X14: 0 | Y14: 0
A15: 計 | B15: 454 | C15: 678 | D15: 312 | E15: 224 | F15: 97 | G15: 45 | H15: 386 | I15: 703 | J15: 313 | K15: 258 | L15: 100 | M15: 32 | N15: 394 | O15: 690 | P15: 336 | Q15: 306 | R15: 25 | S15: 23 | T15: 343 | U15: 690 | V15: 336 | W15: 306 | X15: 25 | Y15: 23
B17: 世帯合併 | H17: 世帯分離 | N17: 帰化（＋） | T17: 帰化（－）
B18: 世帯数 | C18: 計 | D18: 日本人 | F18: 外国人 | H18: 世帯数 | I18: 計 | J18: 日本人 | L18: 外国人 | N18: 世帯数 | O18: 計 | P18: 日本人 | R18: 外国人 | T18: 世帯数 | U18: 計 | V18: 日本人 | X18: 外国人
D19: 男 | E19: 女 | F19: 男 | G19: 女 | J19: 男 | K19: 女 | L19: 男 | M19: 女 | P19: 男 | Q19: 女 | R19: 男 | S19: 女 | V19: 男 | W19: 女 | X19: 男 | Y19: 女
A20: 五井地区 | B20: 12 | C20: 15 | D20: 1 | E20: 14 | F20: 0 | G20: 0 | H20: 13 | I20: 20 | J20: 5 | K20: 14 | L20: 1 | M20: 0 | N20: 0 | O20: 0 | P20: 0 | Q20: 0 | R20: 0 | S20: 0 | T20: 0 | U20: 0 | V20: 0 | W20: 0 | X20: 0 | Y20: 0
A21: 市原地区 | B21: 10 | C21: 13 | D21: 3 | E21: 10 | F21: 0 | G21: 0 | H21: 5 | I21: 7 | J21: 2 | K21: 5 | L21: 0 | M21: 0 | N21: 0 | O21: 0 | P21: 0 | Q21: 0 | R21: 0 | S21: 0 | T21: 0 | U21: 0 | V21: 0 | W21: 0 | X21: 0 | Y21: 0
A22: 姉崎地区 | B22: 3 | C22: 3 | D22: 0 | E22: 3 | F22: 0 | G22: 0 | H22: 5 | I22: 5 | J22: 1 | K22: 4 | L22: 0 | M22: 0 | N22: 0 | O22: 0 | P22: 0 | Q22: 0 | R22: 0 | S22: 0 | T22: 0 | U22: 0 | V22: 0 | W22: 0 | X22: 0 | Y22: 0
A23: 三和地区 | B23: 0 | C23: 0 | D23: 0 | E23: 0 | F23: 0 | G23: 0 | H23: 2 | I23: 5 | J23: 2 | K23: 3 | L23: 0 | M23: 0 | N23: 0 | O23: 0 | P23: 0 | Q23: 0 | R23: 0 | S23: 0 | T23: 0 | U23: 0 | V23: 0 | W23: 0 | X23: 0 | Y23: 0
A24: 市津地区 | B24: 2 | C24: 2 | D24: 1 | E24: 1 | F24: 0 | G24: 0 | H24: 2 | I24: 2 | J24: 0 | K24: 2 | L24: 0 | M24: 0 | N24: 0 | O24: 0 | P24: 0 | Q24: 0 | R24: 0 | S24: 0 | T24: 0 | U24: 0 | V24: 0 | W24: 0 | X24: 0 | Y24: 0
A25: 南総地区 | B25: 3 | C25: 3 | D25: 0 | E25: 3 | F25: 0 | G25: 0 | H25: 5 | I25: 10 | J25: 5 | K25: 5 | L25: 0 | M25: 0 | N25: 0 | O25: 0 | P25: 0 | Q25: 0 | R25: 0 | S25: 0 | T25: 0 | U25: 0 | V25: 0 | W25: 0 | X25: 0 | Y25: 0
A26: 加茂地区 | B26: 0 | C26: 0 | D26: 0 | E26: 0 | F26: 0 | G26: 0 | H26: 1 | I26: 1 | J26: 1 | K26: 0 | L26: 0 | M26: 0 | N26: 0 | O26: 0 | P26: 0 | Q26: 0 | R26: 0 | S26: 0 | T26: 0 | U26: 0 | V26: 0 | W26: 0 | X26: 0 | Y26: 0
A27: 辰巳台地区 | B27: 1 | C27: 1 | D27: 0 | E27: 1 | F27: 0 | G27: 0 | H27: 2 | I27: 2 | J27: 1 | K27: 1 | L27: 0 | M27: 0 | N27: 0 | O27: 0 | P27: 0 | Q27: 0 | R27: 0 | S27: 0 | T27: 0 | U27: 0 | V27: 0 | W27: 0 | X27: 0 | Y27: 0
A28: 有秋地区 | B28: 0 | C28: 0 | D28: 0 | E28: 0 | F28: 0 | G28: 0 | H28: 2 | I28: 4 | J28: 2 | K28: 2 | L28: 0 | M28: 0 | N28: 0 | O28: 0 | P28: 0 | Q28: 0 | R28: 0 | S28: 0 | T28: 0 | U28: 0 | V28: 0 | W28: 0 | X28: 0 | Y28: 0
A29: ちはら台地区 | B29: 2 | C29: 2 | D29: 0 | E29: 2 | F29: 0 | G29: 0 | H29: 0 | I29: 0 | J29: 0 | K29: 0 | L29: 0 | M29: 0 | N29: 0 | O29: 0 | P29: 0 | Q29: 0 | R29: 0 | S29: 0 | T29: 0 | U29: 0 | V29: 0 | W29: 0 | X29: 0 | Y29: 0
A30: 計 | B30: 33 | C30: 39 | D30: 5 | E30: 34 | F30: 0 | G30: 0 | H30: 37 | I30: 56 | J30: 19 | K30: 36 | L30: 1 | M30: 0 | N30: 0 | O30: 0 | P30: 0 | Q30: 0 | R30: 0 | S30: 0 | T30: 0 | U30: 0 | V30: 0 | W30: 0 | X30: 0 | Y30: 0
B32: 出生 | H32: 死亡 | N32: 総合計
B33: 世帯数 | C33: 計 | D33: 日本人 | F33: 外国人 | H33: 世帯数 | I33: 計 | J33: 日本人 | L33: 外国人 | N33: 世帯数 | O33: 計 | P33: 日本人 | R33: 外国人
D34: 男 | E34: 女 | F34: 男 | G34: 女 | J34: 男 | K34: 女 | L34: 男 | M34: 女 | P34: 男 | Q34: 女 | R34: 男 | S34: 女
A35: 五井地区 | B35: 0 | C35: 49 | D35: 26 | E35: 20 | F35: 3 | G35: 0 | H35: 20 | I35: 61 | J35: 36 | K35: 24 | L35: 0 | M35: 1 | N35: 55 | O35: 15 | P35: 11 | Q35: -19 | R35: 26 | S35: -3
A36: 市原地区 | B36: 0 | C36: 31 | D36: 16 | E36: 15 | F36: 0 | G36: 0 | H36: 20 | I36: 53 | J36: 28 | K36: 24 | L36: 1 | M36: 0 | N36: 22 | O36: 1 | P36: -3 | Q36: 12 | R36: -13 | S36: 5
A37: 姉崎地区 | B37: 0 | C37: 17 | D37: 10 | E37: 6 | F37: 1 | G37: 0 | H37: 8 | I37: 35 | J37: 23 | K37: 12 | L37: 0 | M37: 0 | N37: -9 | O37: -31 | P37: -14 | Q37: -8 | R37: -8 | S37: -1
A38: 三和地区 | B38: 0 | C38: 1 | D38: 0 | E38: 1 | F38: 0 | G38: 0 | H38: 4 | I38: 10 | J38: 3 | K38: 7 | L38: 0 | M38: 0 | N38: -10 | O38: -27 | P38: -8 | Q38: -19 | R38: -3 | S38: 3
A39: 市津地区 | B39: 0 | C39: 4 | D39: 2 | E39: 2 | F39: 0 | G39: 0 | H39: 6 | I39: 17 | J39: 5 | K39: 12 | L39: 0 | M39: 0 | N39: -3 | O39: -14 | P39: -7 | Q39: -10 | R39: 4 | S39: -1
A40: 南総地区 | B40: 0 | C40: 8 | D40: 3 | E40: 5 | F40: 0 | G40: 0 | H40: 10 | I40: 28 | J40: 15 | K40: 13 | L40: 0 | M40: 0 | N40: -19 | O40: -55 | P40: -24 | Q40: -27 | R40: -17 | S40: 13
A41: 加茂地区 | B41: 0 | C41: 1 | D41: 1 | E41: 0 | F41: 0 | G41: 0 | H41: 7 | I41: 14 | J41: 4 | K41: 10 | L41: 0 | M41: 0 | N41: -3 | O41: -13 | P41: -2 | Q41: -11 | R41: 0 | S41: 0
A42: 辰巳台地区 | B42: 0 | C42: 4 | D42: 1 | E42: 3 | F42: 0 | G42: 0 | H42: 5 | I42: 10 | J42: 6 | K42: 4 | L42: 0 | M42: 0 | N42: -5 | O42: -13 | P42: -14 | Q42: -3 | R42: 8 | S42: -4
A43: 有秋地区 | B43: 0 | C43: 7 | D43: 5 | E43: 2 | F43: 0 | G43: 0 | H43: 4 | I43: 12 | J43: 7 | K43: 5 | L43: 0 | M43: 0 | N43: -5 | O43: -20 | P43: -17 | Q43: -7 | R43: 3 | S43: 1
A44: ちはら台地区 | B44: 0 | C44: 22 | D44: 13 | E44: 9 | F44: 0 | G44: 0 | H44: 5 | I44: 7 | J44: 4 | K44: 3 | L44: 0 | M44: 0 | N44: 11 | O44: 29 | P44: 23 | Q44: 7 | R44: 0 | S44: -1
A45: 計 | B45: 0 | C45: 144 | D45: 77 | E45: 63 | F45: 4 | G45: 0 | H45: 89 | I45: 247 | J45: 131 | K45: 114 | L45: 1 | M45: 1 | N45: 34 | O45: -128 | P45: -55 | Q45: -85 | R45: 0 | S45: 12

Sheet 12月分
A1: 令和元年１２月分
D2: 転入 | H2: 転出 | N2: 転居（＋） | T2: 転居（－）
B3: 世帯数 | C3: 計 | D3: 日本人 | F3: 外国人 | H3: 世帯数 | I3: 計 | J3: 日本人 | L3: 外国人 | N3: 世帯数 | O3: 計 | P3: 日本人 | R3: 外国人 | T3: 世帯数 | U3: 計 | V3: 日本人 | X3: 外国人
D4: 男 | E4: 女 | F4: 男 | G4: 女 | J4: 男 | K4: 女 | L4: 男 | M4: 女 | P4: 男 | Q4: 女 | R4: 男 | S4: 女 | V4: 男 | W4: 女 | X4: 男 | Y4: 女
A5: 五井地区 | B5: 118 | C5: 176 | D5: 105 | E5: 53 | F5: 13 | G5: 5 | H5: 130 | I5: 230 | J5: 135 | K5: 81 | L5: 10 | M5: 4 | N5: 205 | O5: 367 | P5: 189 | Q5: 151 | R5: 12 | S5: 15 | T5: 162 | U5: 343 | V5: 170 | W5: 151 | X5: 10 | Y5: 12
A6: 市原地区 | B6: 86 | C6: 124 | D6: 51 | E6: 34 | F6: 29 | G6: 10 | H6: 74 | I6: 122 | J6: 65 | K6: 40 | L6: 12 | M6: 5 | N6: 111 | O6: 189 | P6: 94 | Q6: 80 | R6: 6 | S6: 9 | T6: 110 | U6: 188 | V6: 88 | W6: 70 | X6: 15 | Y6: 15
A7: 姉崎地区 | B7: 52 | C7: 76 | D7: 38 | E7: 30 | F7: 6 | G7: 2 | H7: 62 | I7: 89 | J7: 51 | K7: 28 | L7: 7 | M7: 3 | N7: 49 | O7: 87 | P7: 42 | Q7: 39 | R7: 3 | S7: 3 | T7: 43 | U7: 84 | V7: 45 | W7: 35 | X7: 1 | Y7: 3
A8: 三和地区 | B8: 9 | C8: 19 | D8: 12 | E8: 6 | F8: 1 | G8: 0 | H8: 12 | I8: 23 | J8: 8 | K8: 10 | L8: 4 | M8: 1 | N8: 4 | O8: 4 | P8: 0 | Q8: 4 | R8: 0 | S8: 0 | T8: 10 | U8: 27 | V8: 13 | W8: 14 | X8: 0 | Y8: 0
A9: 市津地区 | B9: 20 | C9: 35 | D9: 15 | E9: 11 | F9: 4 | G9: 5 | H9: 12 | I9: 27 | J9: 15 | K9: 10 | L9: 2 | M9: 0 | N9: 9 | O9: 17 | P9: 10 | Q9: 7 | R9: 0 | S9: 0 | T9: 8 | U9: 22 | V9: 8 | W9: 14 | X9: 0 | Y9: 0
A10: 南総地区 | B10: 55 | C10: 65 | D10: 11 | E10: 12 | F10: 39 | G10: 3 | H10: 39 | I10: 53 | J10: 16 | K10: 12 | L10: 12 | M10: 13 | N10: 9 | O10: 18 | P10: 9 | Q10: 8 | R10: 0 | S10: 1 | T10: 12 | U10: 20 | V10: 13 | W10: 7 | X10: 0 | Y10: 0
A11: 加茂地区 | B11: 3 | C11: 12 | D11: 5 | E11: 4 | F11: 2 | G11: 1 | H11: 3 | I11: 5 | J11: 2 | K11: 1 | L11: 2 | M11: 0 | N11: 3 | O11: 5 | P11: 3 | Q11: 2 | R11: 0 | S11: 0 | T11: 1 | U11: 3 | V11: 2 | W11: 1 | X11: 0 | Y11: 0
A12: 辰巳台地区 | B12: 22 | C12: 28 | D12: 5 | E12: 9 | F12: 13 | G12: 1 | H12: 46 | I12: 67 | J12: 26 | K12: 17 | L12: 24 | M12: 0 | N12: 16 | O12: 32 | P12: 10 | Q12: 14 | R12: 6 | S12: 2 | T12: 19 | U12: 33 | V12: 19 | W12: 13 | X12: 1 | Y12: 0
A13: 有秋地区 | B13: 11 | C13: 22 | D13: 11 | E13: 8 | F13: 2 | G13: 1 | H13: 23 | I13: 44 | J13: 25 | K13: 14 | L13: 5 | M13: 0 | N13: 8 | O13: 18 | P13: 11 | Q13: 6 | R13: 0 | S13: 1 | T13: 18 | U13: 35 | V13: 17 | W13: 17 | X13: 0 | Y13: 1
A14: ちはら台地区 | B14: 38 | C14: 86 | D14: 36 | E14: 47 | F14: 1 | G14: 2 | H14: 18 | I14: 56 | J14: 24 | K14: 31 | L14: 1 | M14: 0 | N14: 23 | O14: 43 | P14: 19 | Q14: 24 | R14: 0 | S14: 0 | T14: 12 | U14: 25 | V14: 12 | W14: 13 | X14: 0 | Y14: 0
A15: 計 | B15: 414 | C15: 643 | D15: 289 | E15: 214 | F15: 110 | G15: 30 | H15: 419 | I15: 716 | J15: 367 | K15: 244 | L15: 79 | M15: 26 | N15: 437 | O15: 780 | P15: 387 | Q15: 335 | R15: 27 | S15: 31 | T15: 395 | U15: 780 | V15: 387 | W15: 335 | X15: 27 | Y15: 31
B17: 世帯合併 | H17: 世帯分離 | N17: 帰化（＋） | T17: 帰化（－）
B18: 世帯数 | C18: 計 | D18: 日本人 | F18: 外国人 | H18: 世帯数 | I18: 計 | J18: 日本人 | L18: 外国人 | N18: 世帯数 | O18: 計 | P18: 日本人 | R18: 外国人 | T18: 世帯数 | U18: 計 | V18: 日本人 | X18: 外国人
D19: 男 | E19: 女 | F19: 男 | G19: 女 | J19: 男 | K19: 女 | L19: 男 | M19: 女 | P19: 男 | Q19: 女 | R19: 男 | S19: 女 | V19: 男 | W19: 女 | X19: 男 | Y19: 女
A20: 五井地区 | B20: 18 | C20: 23 | D20: 4 | E20: 19 | F20: 0 | G20: 0 | H20: 10 | I20: 15 | J20: 6 | K20: 9 | L20: 0 | M20: 0 | N20: 0 | O20: 0 | P20: 0 | Q20: 0 | R20: 0 | S20: 0 | T20: 0 | U20: 0 | V20: 0 | W20: 0 | X20: 0 | Y20: 0
A21: 市原地区 | B21: 2 | C21: 3 | D21: 1 | E21: 2 | F21: 0 | G21: 0 | H21: 9 | I21: 11 | J21: 4 | K21: 7 | L21: 0 | M21: 0 | N21: 0 | O21: 0 | P21: 0 | Q21: 0 | R21: 0 | S21: 0 | T21: 0 | U21: 0 | V21: 0 | W21: 0 | X21: 0 | Y21: 0
A22: 姉崎地区 | B22: 4 | C22: 4 | D22: 0 | E22: 4 | F22: 0 | G22: 0 | H22: 2 | I22: 2 | J22: 0 | K22: 1 | L22: 0 | M22: 1 | N22: 0 | O22: 0 | P22: 0 | Q22: 0 | R22: 0 | S22: 0 | T22: 0 | U22: 0 | V22: 0 | W22: 0 | X22: 0 | Y22: 0
A23: 三和地区 | B23: 0 | C23: 0 | D23: 0 | E23: 0 | F23: 0 | G23: 0 | H23: 6 | I23: 10 | J23: 2 | K23: 8 | L23: 0 | M23: 0 | N23: 0 | O23: 0 | P23: 0 | Q23: 0 | R23: 0 | S23: 0 | T23: 0 | U23: 0 | V23: 0 | W23: 0 | X23: 0 | Y23: 0
A24: 市津地区 | B24: 1 | C24: 1 | D24: 0 | E24: 1 | F24: 0 | G24: 0 | H24: 7 | I24: 7 | J24: 2 | K24: 5 | L24: 0 | M24: 0 | N24: 0 | O24: 0 | P24: 0 | Q24: 0 | R24: 0 | S24: 0 | T24: 0 | U24: 0 | V24: 0 | W24: 0 | X24: 0 | Y24: 0
A25: 南総地区 | B25: 0 | C25: 0 | D25: 0 | E25: 0 | F25: 0 | G25: 0 | H25: 5 | I25: 5 | J25: 1 | K25: 4 | L25: 0 | M25: 0 | N25: 0 | O25: 0 | P25: 0 | Q25: 0 | R25: 0 | S25: 0 | T25: 0 | U25: 0 | V25: 0 | W25: 0 | X25: 0 | Y25: 0
A26: 加茂地区 | B26: 0 | C26: 0 | D26: 0 | E26: 0 | F26: 0 | G26: 0 | H26: 3 | I26: 8 | J26: 5 | K26: 3 | L26: 0 | M26: 0 | N26: 0 | O26: 0 | P26: 0 | Q26: 0 | R26: 0 | S26: 0 | T26: 0 | U26: 0 | V26: 0 | W26: 0 | X26: 0 | Y26: 0
A27: 辰巳台地区 | B27: 0 | C27: 0 | D27: 0 | E27: 0 | F27: 0 | G27: 0 | H27: 0 | I27: 0 | J27: 0 | K27: 0 | L27: 0 | M27: 0 | N27: 0 | O27: 0 | P27: 0 | Q27: 0 | R27: 0 | S27: 0 | T27: 0 | U27: 0 | V27: 0 | W27: 0 | X27: 0 | Y27: 0
A28: 有秋地区 | B28: 0 | C28: 0 | D28: 0 | E28: 0 | F28: 0 | G28: 0 | H28: 0 | I28: 0 | J28: 0 | K28: 0 | L28: 0 | M28: 0 | N28: 0 | O28: 0 | P28: 0 | Q28: 0 | R28: 0 | S28: 0 | T28: 0 | U28: 0 | V28: 0 | W28: 0 | X28: 0 | Y28: 0
A29: ちはら台地区 | B29: 1 | C29: 1 | D29: 0 | E29: 1 | F29: 0 | G29: 0 | H29: 7 | I29: 9 | J29: 4 | K29: 5 | L29: 0 | M29: 0 | N29: 0 | O29: 0 | P29: 0 | Q29: 0 | R29: 0 | S29: 0 | T29: 0 | U29: 0 | V29: 0 | W29: 0 | X29: 0 | Y29: 0
A30: 計 | B30: 26 | C30: 32 | D30: 5 | E30: 27 | F30: 0 | G30: 0 | H30: 49 | I30: 67 | J30: 24 | K30: 42 | L30: 0 | M30: 1 | N30: 0 | O30: 0 | P30: 0 | Q30: 0 | R30: 0 | S30: 0 | T30: 0 | U30: 0 | V30: 0 | W30: 0 | X30: 0 | Y30: 0
B32: 出生 | H32: 死亡 | N32: 総合計
B33: 世帯数 | C33: 計 | D33: 日本人 | F33: 外国人 | H33: 世帯数 | I33: 計 | J33: 日本人 | L33: 外国人 | N33: 世帯数 | O33: 計 | P33: 日本人 | R33: 外国人
D34: 男 | E34: 女 | F34: 男 | G34: 女 | J34: 男 | K34: 女 | L34: 男 | M34: 女 | P34: 男 | Q34: 女 | R34: 男 | S34: 女
A35: 五井地区 | B35: 0 | C35: 56 | D35: 25 | E35: 29 | F35: 1 | G35: 1 | H35: 35 | I35: 80 | J35: 51 | K35: 29 | L35: 0 | M35: 0 | N35: -12 | O35: -54 | P35: -37 | Q35: -28 | R35: 6 | S35: 5
A36: 市原地区 | B36: 0 | C36: 27 | D36: 14 | E36: 13 | F36: 0 | G36: 0 | H36: 32 | I36: 71 | J36: 43 | K36: 28 | L36: 0 | M36: 0 | N36: -12 | O36: -41 | P36: -37 | Q36: -11 | R36: 8 | S36: -1
A37: 姉崎地区 | B37: 0 | C37: 13 | D37: 4 | E37: 9 | F37: 0 | G37: 0 | H37: 12 | I37: 40 | J37: 26 | K37: 14 | L37: 0 | M37: 0 | N37: -18 | O37: -37 | P37: -38 | Q37: 1 | R37: 1 | S37: -1
A38: 三和地区 | B38: 0 | C38: 3 | D38: 2 | E38: 1 | F38: 0 | G38: 0 | H38: 3 | I38: 16 | J38: 9 | K38: 7 | L38: 0 | M38: 0 | N38: -6 | O38: -40 | P38: -16 | Q38: -20 | R38: -3 | S38: -1
A39: 市津地区 | B39: 0 | C39: 13 | D39: 7 | E39: 6 | F39: 0 | G39: 0 | H39: 12 | I39: 21 | J39: 9 | K39: 12 | L39: 0 | M39: 0 | N39: 3 | O39: -5 | P39: 0 | Q39: -12 | R39: 2 | S39: 5
A40: 南総地区 | B40: 0 | C40: 6 | D40: 2 | E40: 4 | F40: 0 | G40: 0 | H40: 15 | I40: 40 | J40: 18 | K40: 22 | L40: 0 | M40: 0 | N40: 3 | O40: -24 | P40: -25 | Q40: -17 | R40: 27 | S40: -9
A41: 加茂地区 | B41: 0 | C41: 1 | D41: 1 | E41: 0 | F41: 0 | G41: 0 | H41: 5 | I41: 12 | J41: 7 | K41: 5 | L41: 0 | M41: 0 | N41: 0 | O41: -2 | P41: -2 | Q41: -1 | R41: 0 | S41: 1
A42: 辰巳台地区 | B42: 0 | C42: 7 | D42: 4 | E42: 3 | F42: 0 | G42: 0 | H42: 1 | I42: 6 | J42: 4 | K42: 2 | L42: 0 | M42: 0 | N42: -28 | O42: -39 | P42: -30 | Q42: -6 | R42: -6 | S42: 3
A43: 有秋地区 | B43: 0 | C43: 6 | D43: 3 | E43: 2 | F43: 1 | G43: 0 | H43: 4 | I43: 8 | J43: 2 | K43: 6 | L43: 0 | M43: 0 | N43: -26 | O43: -41 | P43: -19 | Q43: -21 | R43: -2 | S43: 1
A44: ちはら台地区 | B44: 0 | C44: 15 | D44: 8 | E44: 7 | F44: 0 | G44: 0 | H44: 4 | I44: 12 | J44: 5 | K44: 7 | L44: 0 | M44: 0 | N44: 33 | O44: 51 | P44: 22 | Q44: 27 | R44: 0 | S44: 2
A45: 計 | B45: 0 | C45: 147 | D45: 70 | E45: 74 | F45: 2 | G45: 1 | H45: 123 | I45: 306 | J45: 174 | K45: 132 | L45: 0 | M45: 0 | N45: -63 | O45: -232 | P45: -182 | Q45: -88 | R45: 33 | S45: 5

Sheet 合計
A1: 平成３１年・令和元年分
B2: 転入 | H2: 転出 | N2: 転居（＋） | T2: 転居（－）
B3: 世帯数 | C3: 計 | D3: 日本人 | F3: 外国人 | H3: 世帯数 | I3: 計 | J3: 日本人 | L3: 外国人 | N3: 世帯数 | O3: 計 | P3: 日本人 | R3: 外国人 | T3: 世帯数 | U3: 計 | V3: 日本人 | X3: 外国人
D4: 男 | E4: 女 | F4: 男 | G4: 女 | J4: 男 | K4: 女 | L4: 男 | M4: 女 | P4: 男 | Q4: 女 | R4: 男 | S4: 女 | V4: 男 | W4: 女 | X4: 男 | Y4: 女
A5: 五井地区 | B5: =SUM('1月分:12月分'!B5) -> 2248 | C5: =SUM('1月分:12月分'!C5) -> 3342 | D5: =SUM('1月分:12月分'!D5) -> 1763 | E5: =SUM('1月分:12月分'!E5) -> 1110 | F5: =SUM('1月分:12月分'!F5) -> 315 | G5: =SUM('1月分:12月分'!G5) -> 154 | H5: =SUM('1月分:12月分'!H5) -> 1797 | I5: =SUM('1月分:12月分'!I5) -> 3426 | ... Y5: =SUM('1月分:12月分'!Y5) -> 146
A6: 市原地区 | B6: =SUM('1月分:12月分'!B6) -> 1274 | C6: =SUM('1月分:12月分'!C6) -> 1907 | D6: =SUM('1月分:12月分'!D6) -> 938 | E6: =SUM('1月分:12月分'!E6) -> 647 | F6: =SUM('1月分:12月分'!F6) -> 213 | G6: =SUM('1月分:12月分'!G6) -> 109 | H6: =SUM('1月分:12月分'!H6) -> 951 | I6: =SUM('1月分:12月分'!I6) -> 1791 | ... Y6: =SUM('1月分:12月分'!Y6) -> 78
A7: 姉崎地区 | B7: =SUM('1月分:12月分'!B7) -> 756 | C7: =SUM('1月分:12月分'!C7) -> 1104 | D7: =SUM('1月分:12月分'!D7) -> 595 | E7: =SUM('1月分:12月分'!E7) -> 322 | F7: =SUM('1月分:12月分'!F7) -> 121 | G7: =SUM('1月分:12月分'!G7) -> 66 | H7: =SUM('1月分:12月分'!H7) -> 744 | I7: =SUM('1月分:12月分'!I7) -> 1286 | ... Y7: =SUM('1月分:12月分'!Y7) -> 45
A8: 三和地区 | B8: =SUM('1月分:12月分'!B8) -> 134 | C8: =SUM('1月分:12月分'!C8) -> 235 | D8: =SUM('1月分:12月分'!D8) -> 108 | E8: =SUM('1月分:12月分'!E8) -> 91 | F8: =SUM('1月分:12月分'!F8) -> 28 | G8: =SUM('1月分:12月分'!G8) -> 8 | H8: =SUM('1月分:12月分'!H8) -> 113 | I8: =SUM('1月分:12月分'!I8) -> 310 | ... Y8: =SUM('1月分:12月分'!Y8) -> 1
A9: 市津地区 | B9: =SUM('1月分:12月分'!B9) -> 239 | C9: =SUM('1月分:12月分'!C9) -> 421 | D9: =SUM('1月分:12月分'!D9) -> 199 | E9: =SUM('1月分:12月分'!E9) -> 156 | F9: =SUM('1月分:12月分'!F9) -> 47 | G9: =SUM('1月分:12月分'!G9) -> 19 | H9: =SUM('1月分:12月分'!H9) -> 162 | I9: =SUM('1月分:12月分'!I9) -> 369 | ... Y9: =SUM('1月分:12月分'!Y9) -> 4
A10: 南総地区 | B10: =SUM('1月分:12月分'!B10) -> 451 | C10: =SUM('1月分:12月分'!C10) -> 586 | D10: =SUM('1月分:12月分'!D10) -> 138 | E10: =SUM('1月分:12月分'!E10) -> 143 | F10: =SUM('1月分:12月分'!F10) -> 226 | G10: =SUM('1月分:12月分'!G10) -> 79 | H10: =SUM('1月分:12月分'!H10) -> 407 | I10: =SUM('1月分:12月分'!I10) -> 706 | ... Y10: =SUM('1月分:12月分'!Y10) -> 2
A11: 加茂地区 | B11: =SUM('1月分:12月分'!B11) -> 39 | C11: =SUM('1月分:12月分'!C11) -> 78 | D11: =SUM('1月分:12月分'!D11) -> 30 | E11: =SUM('1月分:12月分'!E11) -> 36 | F11: =SUM('1月分:12月分'!F11) -> 11 | G11: =SUM('1月分:12月分'!G11) -> 1 | H11: =SUM('1月分:12月分'!H11) -> 21 | I11: =SUM('1月分:12月分'!I11) -> 62 | ... Y11: =SUM('1月分:12月分'!Y11) -> 0
A12: 辰巳台地区 | B12: =SUM('1月分:12月分'!B12) -> 316 | C12: =SUM('1月分:12月分'!C12) -> 420 | D12: =SUM('1月分:12月分'!D12) -> 186 | E12: =SUM('1月分:12月分'!E12) -> 127 | F12: =SUM('1月分:12月分'!F12) -> 89 | G12: =SUM('1月分:12月分'!G12) -> 18 | H12: =SUM('1月分:12月分'!H12) -> 271 | I12: =SUM('1月分:12月分'!I12) -> 467 | ... Y12: =SUM('1月分:12月分'!Y12) -> 10
A13: 有秋地区 | B13: =SUM('1月分:12月分'!B13) -> 322 | C13: =SUM('1月分:12月分'!C13) -> 495 | D13: =SUM('1月分:12月分'!D13) -> 295 | E13: =SUM('1月分:12月分'!E13) -> 143 | F13: =SUM('1月分:12月分'!F13) -> 44 | G13: =SUM('1月分:12月分'!G13) -> 13 | H13: =SUM('1月分:12月分'!H13) -> 226 | I13: =SUM('1月分:12月分'!I13) -> 514 | ... Y13: =SUM('1月分:12月分'!Y13) -> 6
A14: ちはら台地区 | B14: =SUM('1月分:12月分'!B14) -> 481 | C14: =SUM('1月分:12月分'!C14) -> 1079 | D14: =SUM('1月分:12月分'!D14) -> 487 | E14: =SUM('1月分:12月分'!E14) -> 537 | F14: =SUM('1月分:12月分'!F14) -> 25 | G14: =SUM('1月分:12月分'!G14) -> 30 | H14: =SUM('1月分:12月分'!H14) -> 268 | I14: =SUM('1月分:12月分'!I14) -> 906 | ... Y14: =SUM('1月分:12月分'!Y14) -> 2
A15: 計 | B15: =SUM('1月分:12月分'!B15) -> 6260 | C15: =SUM('1月分:12月分'!C15) -> 9667 | D15: =SUM('1月分:12月分'!D15) -> 4739 | E15: =SUM('1月分:12月分'!E15) -> 3312 | F15: =SUM('1月分:12月分'!F15) -> 1119 | G15: =SUM('1月分:12月分'!G15) -> 497 | H15: =SUM('1月分:12月分'!H15) -> 4960 | I15: =SUM('1月分:12月分'!I15) -> 9837 | ... Y15: =SUM('1月分:12月分'!Y15) -> 294
B17: 世帯合併 | H17: 世帯分離 | N17: 帰化（＋） | T17: 帰化（－）
B18: 世帯数 | C18: 計 | D18: 日本人 | F18: 外国人 | H18: 世帯数 | I18: 計 | J18: 日本人 | L18: 外国人 | N18: 世帯数 | O18: 計 | P18: 日本人 | R18: 外国人 | T18: 世帯数 | U18: 計 | V18: 日本人 | X18: 外国人
D19: 男 | E19: 女 | F19: 男 | G19: 女 | J19: 男 | K19: 女 | L19: 男 | M19: 女 | P19: 男 | Q19: 女 | R19: 男 | S19: 女 | V19: 男 | W19: 女 | X19: 男 | Y19: 女
A20: 五井地区 | B20: =SUM('1月分:12月分'!B20) -> 129 | C20: =SUM('1月分:12月分'!C20) -> 161 | D20: =SUM('1月分:12月分'!D20) -> 31 | E20: =SUM('1月分:12月分'!E20) -> 125 | F20: =SUM('1月分:12月分'!F20) -> 2 | G20: =SUM('1月分:12月分'!G20) -> 3 | H20: =SUM('1月分:12月分'!H20) -> 161 | I20: =SUM('1月分:12月分'!I20) -> 214 | ... Y20: =SUM('1月分:12月分'!Y20) -> 2
A21: 市原地区 | B21: =SUM('1月分:12月分'!B21) -> 72 | C21: =SUM('1月分:12月分'!C21) -> 89 | D21: =SUM('1月分:12月分'!D21) -> 18 | E21: =SUM('1月分:12月分'!E21) -> 61 | F21: =SUM('1月分:12月分'!F21) -> 1 | G21: =SUM('1月分:12月分'!G21) -> 9 | H21: =SUM('1月分:12月分'!H21) -> 92 | I21: =SUM('1月分:12月分'!I21) -> 122 | ... Y21: =SUM('1月分:12月分'!Y21) -> 5
A22: 姉崎地区 | B22: =SUM('1月分:12月分'!B22) -> 29 | C22: =SUM('1月分:12月分'!C22) -> 35 | D22: =SUM('1月分:12月分'!D22) -> 7 | E22: =SUM('1月分:12月分'!E22) -> 23 | F22: =SUM('1月分:12月分'!F22) -> 1 | G22: =SUM('1月分:12月分'!G22) -> 4 | H22: =SUM('1月分:12月分'!H22) -> 51 | I22: =SUM('1月分:12月分'!I22) -> 73 | ... Y22: =SUM('1月分:12月分'!Y22) -> 0
A23: 三和地区 | B23: =SUM('1月分:12月分'!B23) -> 5 | C23: =SUM('1月分:12月分'!C23) -> 5 | D23: =SUM('1月分:12月分'!D23) -> 0 | E23: =SUM('1月分:12月分'!E23) -> 5 | F23: =SUM('1月分:12月分'!F23) -> 0 | G23: =SUM('1月分:12月分'!G23) -> 0 | H23: =SUM('1月分:12月分'!H23) -> 35 | I23: =SUM('1月分:12月分'!I23) -> 53 | ... Y23: =SUM('1月分:12月分'!Y23) -> 0
A24: 市津地区 | B24: =SUM('1月分:12月分'!B24) -> 15 | C24: =SUM('1月分:12月分'!C24) -> 17 | D24: =SUM('1月分:12月分'!D24) -> 5 | E24: =SUM('1月分:12月分'!E24) -> 12 | F24: =SUM('1月分:12月分'!F24) -> 0 | G24: =SUM('1月分:12月分'!G24) -> 0 | H24: =SUM('1月分:12月分'!H24) -> 40 | I24: =SUM('1月分:12月分'!I24) -> 52 | ... Y24: =SUM('1月分:12月分'!Y24) -> 0
A25: 南総地区 | B25: =SUM('1月分:12月分'!B25) -> 13 | C25: =SUM('1月分:12月分'!C25) -> 17 | D25: =SUM('1月分:12月分'!D25) -> 4 | E25: =SUM('1月分:12月分'!E25) -> 12 | F25: =SUM('1月分:12月分'!F25) -> 0 | G25: =SUM('1月分:12月分'!G25) -> 1 | H25: =SUM('1月分:12月分'!H25) -> 61 | I25: =SUM('1月分:12月分'!I25) -> 84 | ... Y25: =SUM('1月分:12月分'!Y25) -> 0
A26: 加茂地区 | B26: =SUM('1月分:12月分'!B26) -> 1 | C26: =SUM('1月分:12月分'!C26) -> 1 | D26: =SUM('1月分:12月分'!D26) -> 0 | E26: =SUM('1月分:12月分'!E26) -> 1 | F26: =SUM('1月分:12月分'!F26) -> 0 | G26: =SUM('1月分:12月分'!G26) -> 0 | H26: =SUM('1月分:12月分'!H26) -> 30 | I26: =SUM('1月分:12月分'!I26) -> 47 | ... Y26: =SUM('1月分:12月分'!Y26) -> 0
A27: 辰巳台地区 | B27: =SUM('1月分:12月分'!B27) -> 10 | C27: =SUM('1月分:12月分'!C27) -> 19 | D27: =SUM('1月分:12月分'!D27) -> 9 | E27: =SUM('1月分:12月分'!E27) -> 9 | F27: =SUM('1月分:12月分'!F27) -> 0 | G27: =SUM('1月分:12月分'!G27) -> 1 | H27: =SUM('1月分:12月分'!H27) -> 16 | I27: =SUM('1月分:12月分'!I27) -> 22 | ... Y27: =SUM('1月分:12月分'!Y27) -> 0
A28: 有秋地区 | B28: =SUM('1月分:12月分'!B28) -> 4 | C28: =SUM('1月分:12月分'!C28) -> 5 | D28: =SUM('1月分:12月分'!D28) -> 2 | E28: =SUM('1月分:12月分'!E28) -> 3 | F28: =SUM('1月分:12月分'!F28) -> 0 | G28: =SUM('1月分:12月分'!G28) -> 0 | H28: =SUM('1月分:12月分'!H28) -> 26 | I28: =SUM('1月分:12月分'!I28) -> 46 | ... Y28: =SUM('1月分:12月分'!Y28) -> 0
A29: ちはら台地区 | B29: =SUM('1月分:12月分'!B29) -> 33 | C29: =SUM('1月分:12月分'!C29) -> 41 | D29: =SUM('1月分:12月分'!D29) -> 5 | E29: =SUM('1月分:12月分'!E29) -> 36 | F29: =SUM('1月分:12月分'!F29) -> 0 | G29: =SUM('1月分:12月分'!G29) -> 0 | H29: =SUM('1月分:12月分'!H29) -> 33 | I29: =SUM('1月分:12月分'!I29) -> 53 | ... Y29: =SUM('1月分:12月分'!Y29) -> 0
A30: 計 | B30: =SUM('1月分:12月分'!B30) -> 311 | C30: =SUM('1月分:12月分'!C30) -> 390 | D30: =SUM('1月分:12月分'!D30) -> 81 | E30: =SUM('1月分:12月分'!E30) -> 287 | F30: =SUM('1月分:12月分'!F30) -> 4 | G30: =SUM('1月分:12月分'!G30) -> 18 | H30: =SUM('1月分:12月分'!H30) -> 545 | I30: =SUM('1月分:12月分'!I30) -> 766 | ... Y30: =SUM('1月分:12月分'!Y30) -> 7
B32: 出生 | H32: 死亡 | N32: 総合計
B33: 世帯数 | C33: 計 | D33: 日本人 | F33: 外国人 | H33: 世帯数 | I33: 計 | J33: 日本人 | L33: 外国人 | N33: 世帯数 | O33: 計 | P33: 日本人 | R33: 外国人
D34: 男 | E34: 女 | F34: 男 | G34: 女 | J34: 男 | K34: 女 | L34: 男 | M34: 女 | P34: 男 | Q34: 女 | R34: 男 | S34: 女
A35: 五井地区 | B35: =SUM('1月分:12月分'!B35) -> 1 | C35: =SUM('1月分:12月分'!C35) -> 697 | D35: =SUM('1月分:12月分'!D35) -> 320 | E35: =SUM('1月分:12月分'!E35) -> 354 | F35: =SUM('1月分:12月分'!F35) -> 11 | G35: =SUM('1月分:12月分'!G35) -> 12 | H35: =SUM('1月分:12月分'!H35) -> 320 | I35: =SUM('1月分:12月分'!I35) -> 750 | ... S35: =SUM('1月分:12月分'!S35) -> 21
A36: 市原地区 | B36: =SUM('1月分:12月分'!B36) -> 0 | C36: =SUM('1月分:12月分'!C36) -> 292 | D36: =SUM('1月分:12月分'!D36) -> 151 | E36: =SUM('1月分:12月分'!E36) -> 131 | F36: =SUM('1月分:12月分'!F36) -> 7 | G36: =SUM('1月分:12月分'!G36) -> 3 | H36: =SUM('1月分:12月分'!H36) -> 261 | I36: =SUM('1月分:12月分'!I36) -> 638 | ... S36: =SUM('1月分:12月分'!S36) -> 31
A37: 姉崎地区 | B37: =SUM('1月分:12月分'!B37) -> 0 | C37: =SUM('1月分:12月分'!C37) -> 157 | D37: =SUM('1月分:12月分'!D37) -> 66 | E37: =SUM('1月分:12月分'!E37) -> 87 | F37: =SUM('1月分:12月分'!F37) -> 2 | G37: =SUM('1月分:12月分'!G37) -> 2 | H37: =SUM('1月分:12月分'!H37) -> 125 | I37: =SUM('1月分:12月分'!I37) -> 333 | ... S37: =SUM('1月分:12月分'!S37) -> 8
A38: 三和地区 | B38: =SUM('1月分:12月分'!B38) -> 0 | C38: =SUM('1月分:12月分'!C38) -> 31 | D38: =SUM('1月分:12月分'!D38) -> 17 | E38: =SUM('1月分:12月分'!E38) -> 14 | F38: =SUM('1月分:12月分'!F38) -> 0 | G38: =SUM('1月分:12月分'!G38) -> 0 | H38: =SUM('1月分:12月分'!H38) -> 65 | I38: =SUM('1月分:12月分'!I38) -> 174 | ... S38: =SUM('1月分:12月分'!S38) -> 4
A39: 市津地区 | B39: =SUM('1月分:12月分'!B39) -> 0 | C39: =SUM('1月分:12月分'!C39) -> 90 | D39: =SUM('1月分:12月分'!D39) -> 44 | E39: =SUM('1月分:12月分'!E39) -> 45 | F39: =SUM('1月分:12月分'!F39) -> 1 | G39: =SUM('1月分:12月分'!G39) -> 0 | H39: =SUM('1月分:12月分'!H39) -> 96 | I39: =SUM('1月分:12月分'!I39) -> 213 | ... S39: =SUM('1月分:12月分'!S39) -> 1
A40: 南総地区 | B40: =SUM('1月分:12月分'!B40) -> 0 | C40: =SUM('1月分:12月分'!C40) -> 66 | D40: =SUM('1月分:12月分'!D40) -> 27 | E40: =SUM('1月分:12月分'!E40) -> 38 | F40: =SUM('1月分:12月分'!F40) -> 1 | G40: =SUM('1月分:12月分'!G40) -> 0 | H40: =SUM('1月分:12月分'!H40) -> 142 | I40: =SUM('1月分:12月分'!I40) -> 357 | ... S40: =SUM('1月分:12月分'!S40) -> 11
A41: 加茂地区 | B41: =SUM('1月分:12月分'!B41) -> 0 | C41: =SUM('1月分:12月分'!C41) -> 6 | D41: =SUM('1月分:12月分'!D41) -> 4 | E41: =SUM('1月分:12月分'!E41) -> 2 | F41: =SUM('1月分:12月分'!F41) -> 0 | G41: =SUM('1月分:12月分'!G41) -> 0 | H41: =SUM('1月分:12月分'!H41) -> 52 | I41: =SUM('1月分:12月分'!I41) -> 119 | ... S41: =SUM('1月分:12月分'!S41) -> 1
A42: 辰巳台地区 | B42: =SUM('1月分:12月分'!B42) -> 0 | C42: =SUM('1月分:12月分'!C42) -> 59 | D42: =SUM('1月分:12月分'!D42) -> 30 | E42: =SUM('1月分:12月分'!E42) -> 26 | F42: =SUM('1月分:12月分'!F42) -> 2 | G42: =SUM('1月分:12月分'!G42) -> 1 | H42: =SUM('1月分:12月分'!H42) -> 39 | I42: =SUM('1月分:12月分'!I42) -> 97 | ... S42: =SUM('1月分:12月分'!S42) -> 6
A43: 有秋地区 | B43: =SUM('1月分:12月分'!B43) -> 0 | C43: =SUM('1月分:12月分'!C43) -> 82 | D43: =SUM('1月分:12月分'!D43) -> 45 | E43: =SUM('1月分:12月分'!E43) -> 36 | F43: =SUM('1月分:12月分'!F43) -> 1 | G43: =SUM('1月分:12月分'!G43) -> 0 | H43: =SUM('1月分:12月分'!H43) -> 47 | I43: =SUM('1月分:12月分'!I43) -> 131 | ... S43: =SUM('1月分:12月分'!S43) -> 7
A44: ちはら台地区 | B44: =SUM('1月分:12月分'!B44) -> 0 | C44: =SUM('1月分:12月分'!C44) -> 248 | D44: =SUM('1月分:12月分'!D44) -> 118 | E44: =SUM('1月分:12月分'!E44) -> 128 | F44: =SUM('1月分:12月分'!F44) -> 0 | G44: =SUM('1月分:12月分'!G44) -> 2 | H44: =SUM('1月分:12月分'!H44) -> 40 | I44: =SUM('1月分:12月分'!I44) -> 100 | ... S44: =SUM('1月分:12月分'!S44) -> 26
A45: 計 | B45: =SUM('1月分:12月分'!B45) -> 1 | C45: =SUM('1月分:12月分'!C45) -> 1728 | D45: =SUM('1月分:12月分'!D45) -> 822 | E45: =SUM('1月分:12月分'!E45) -> 861 | F45: =SUM('1月分:12月分'!F45) -> 25 | G45: =SUM('1月分:12月分'!G45) -> 20 | H45: =SUM('1月分:12月分'!H45) -> 1187 | I45: =SUM('1月分:12月分'!I45) -> 2912 | ... S45: =SUM('1月分:12月分'!S45) -> 116
